{"text_format":"1","workbook":"xlsx","n_sheets":3,"sheets":["Hoja1","REGISTRO_PQRS","Control de cambios "],"not_rendered":{"charts":0,"images":1,"macros":1,"external_links":5,"defined_names":19,"comments":1,"pivot_tables":0},"unopened":[],"bounds":{"document_bytes":16777216,"sheet_cells":100000,"rows_first":2000,"rows_last":500,"rows_between":2000,"halvings":0,"cell_chars":16384,"cell_head_chars":4096},"cells_cut":0,"cells_raw":0,"read":"whole","date_system":"1900"}

{"sheet":"Hoja1","index":0,"n_rows":119,"n_cols":6,"rows_kept":119,"cut":false,"hidden":true,"merged":[]}
[]
["TIPO DE ENTIDAD O USUARIO",null,null,null,null,"DÍAS NO  LABORABLES "]
["CIUDADANO",null,null,null,null,"2022-01-01"]
["ACADEMIA ",null,null,null,null,"2022-01-02"]
["EMPRESA PRIVADA",null,null,null,null,"2022-01-08"]
["ENTIDAD PÚBLICA",null,null,null,null,"2022-01-09"]
["EXTRANJERO",null,null,null,null,"2022-01-10"]
["FUNCIONARIO IDEAM",null,null,null,null,"2022-01-15"]
["ONG/ORG",null,null,null,null,"2022-01-16"]
[null,null,null,null,null,"2022-01-22"]
["GÉNERO",null,null,null,null,"2022-01-23"]
["FEMENINO",null,null,null,null,"2022-01-29"]
["MASCULINO",null,null,null,null,"2022-01-30"]
["PERSONA JURÍDICA",null,null,null,null,"2022-02-05"]
[null,null,null,null,null,"2022-02-06"]
["DEPENDENCIA QUE DA RESPUESTA O LA QUE SE DIRECCIONA",null,null,null,null,"2022-02-12"]
["AREA OPERATIVA No. 1",null,null,null,null,"2022-02-13"]
["AREA OPERATIVA No. 2",null,null,null,null,"2022-02-19"]
["AREA OPERATIVA No. 3",null,null,null,null,"2022-01-20"]
["AREA OPERATIVA No. 4",null,null,null,null,"2022-02-26"]
["AREA OPERATIVA No. 5",null,null,null,null,"2022-02-27"]
["AREA OPERATIVA No. 6",null,null,null,null,"2022-03-05"]
["AREA OPERATIVA No. 7",null,null,null,null,"2022-03-06"]
["AREA OPERATIVA No. 8",null,null,null,null,"2022-03-12"]
["AREA OPERATIVA No. 9",null,null,null,null,"2022-03-13"]
["AREA OPERATIVA No. 10",null,null,null,null,"2022-03-19"]
["AREA OPERATIVA No. 11",null,null,null,null,"2022-03-20"]
["DIRECCIÓN GENERAL",null,null,null,null,"2022-03-21"]
["GRUPO DE ADMINISTRACIÓN Y DESARROLLO DEL TALENTO HUMANO",null,null,null,null,"2022-03-26"]
["GRUPO DE COMUNICACIONES",null,null,null,null,"2022-03-27"]
["GRUPO DE CONTABILIDAD",null,null,null,null,"2022-04-02"]
["GRUPO DE CONTROL DISCIPLINARIO INTERNO",null,null,null,null,"2022-04-09"]
["GRUPO DE GESTIÓN DOCUMENTAL Y CENTRO DE DOCUMENTACIÓN",null,null,null,null,"2022-04-10"]
["GRUPO DE PRESUPUESTO",null,null,null,null,"2022-04-14"]
["GRUPO DE SERVICIO AL CIUDADANO",null,null,null,null,"2022-04-15"]
["GRUPO DE SERVICIOS ADMINISTRATIVOS",null,null,null,null,"2022-04-16"]
["GRUPO DE TESORERÍA",null,null,null,null,"2022-04-17"]
["OFICINA ASESORA DE PLANEACIÓN",null,null,null,null,"2022-04-23"]
["OFICINA ASESORA JURÍDICA",null,null,null,null,"2022-04-24"]
["OFICINA DE CONTROL INTERNO",null,null,null,null,"2022-04-30"]
["OFICINA DE INFORMÁTICA",null,null,null,null,"2022-05-01"]
["OFICINA DEL SERVICIO DE PRONÓSTICOS Y ALERTAS",null,null,null,null,"2021-05-01"]
["SECRETARÍA GENERAL",null,null,null,null,"2022-05-07"]
["SUBDIRECCIÓN DE ECOSISTEMAS E INFORMACIÓN AMBIENTAL",null,null,null,null,"2022-05-08"]
["SUBDIRECCIÓN DE ESTUDIOS AMBIENTALES",null,null,null,null,"2022-05-14"]
["SUBDIRECCIÓN DE HIDROLOGÍA",null,null,null,null,"2022-05-15"]
["SUBDIRECCIÓN DE METEOROLOGÍA",null,null,null,null,"2022-05-21"]
[null,null,null,null,null,"2022-05-22"]
["TIPO DE REQUERIMIENTO","Término ","Prorroga",null,null,"2022-05-28"]
["AGRADECIMIENTO/FELICITACION",15,15,null,null,"2022-05-29"]
["CERTIFICACIONES DE TIEMPO, CLIMA Y EVENTOS HIDROLÓGICOS",30,30,null,null,"2022-05-30"]
["CONSULTA",30,30,null,null,"2022-06-04"]
["DENUNCIA",15,15,null,null,"2022-06-05"]
["PETICIÓN",15,15,null,null,"2022-06-11"]
["PETICIÓN ENTRE AUTORIDADES",10,10,null,null,"2022-06-12"]
["PETICION VERBAL",15,15,null,null,"2022-06-18"]
["QUEJA",15,15,null,null,"2022-06-19"]
["RECLAMO",15,15,null,null,"2022-06-20"]
["REMISIÓN POR COMPETENCIA",5,null,null,null,"2022-06-25"]
["SOLICITUD CONGRESITAS",5,5,null,null,"2022-06-26"]
["SOLICITUD DE INFORMACIÓN Y DOCUMENTOS",10,10,null,null,"2022-06-27"]
["SOLICITUD JUDICIAL",5,5,null,null,"2022-07-02"]
["SUGERENCIA",15,15,null,null,"2022-07-03"]
[null,null,null,null,null,"2022-07-09"]
["PRODUCTO O SERVICIO",null,null,null,null,"2022-07-10"]
["ACREDITACIÓN DE LABORATORIOS",null,null,null,null,"2022-07-16"]
["ADMINISTRATIVA",null,null,null,null,"2022-07-17"]
["AGUAS SUBTERRANEAS",null,null,null,null,"2022-07-20"]
["ASESORÍAS Y CHARLAS",null,null,null,null,"2022-07-23"]
["BOSQUES",null,null,null,null,"2022-07-24"]
["CAMBIO CLIMÁTICO",null,null,null,null,"2022-07-30"]
["CERTIFICACIONES DE TIEMPO Y CLIMA",null,null,null,null,"2022-07-31"]
["CERTIFICACIONES HIDROLOGICAS",null,null,null,null,"2022-08-06"]
["CLIMATOLOGÍA",null,null,null,null,"2022-08-07"]
["ERA","EVALUACIÓN REGIONAL DEL AGUA",null,null,null,"2022-08-13"]
["ESTUDIO NACIONAL DEL AGUA",null,null,null,null,"2024-08-14"]
["INFORMES AMBIENTALES",null,null,null,null,"2022-08-15"]
["JURIDICO",null,null,null,null,"2022-08-20"]
["LABORATORIO DE CALIDAD AMBIENTAL",null,null,null,null,"2022-08-21"]
["MEDIOS DE COMUNICACIÓN",null,null,null,null,"2022-08-27"]
["METEOROLOGÍA AERONAÚTICA",null,null,null,null,"2022-08-28"]
["MODELACIÓN HIDROLÓGICA",null,null,null,null,"2022-09-03"]
["MODELAMIENTO METEOROLÓGICO",null,null,null,null,"2022-09-04"]
["OPERACIÓN DE REDES",null,null,null,null,"2022-09-10"]
["PRONÓSTICOS Y ALERTAS",null,null,null,null,"2022-09-11"]
["REGISTROS AMBIENTALES",null,null,null,null,"2022-09-17"]
["SEDIMENTOS",null,null,null,null,"2022-09-18"]
["SIA","SISTEMA DE INFORMACIÓN AMBIENTAL",null,null,null,"2022-09-24"]
["SIRH","SISTEMA DE INFORMACIÓN DEL RECURDO HÍDRICO",null,null,null,"2022-09-25"]
["SOLICITUD DE INFORMACIÓN HIDROMETEOROLÓGICA",null,null,null,null,"2022-10-01"]
["SUELOS Y TIERRAS",null,null,null,null,"2022-10-02"]
["VISITAS ACADÉMICAS",null,null,null,null,"2022-10-08"]
["WEB Y CORREO",null,null,null,null,"2022-10-09"]
["ZONIFICACIÓN HIDROGRÁFICA",null,null,null,null,"2022-10-15"]
[null,null,null,null,null,"2022-10-16"]
["MEDIO DE RECEPCIÓN",null,null,null,null,"2022-10-17"]
["ATENCIÓN PRESENCIAL",null,null,null,null,"2022-10-22"]
["ATENCIÓN TELEFÓNICA",null,null,null,null,"2022-10-23"]
["BUZÓN DE SUGERENCIAS",null,null,null,null,"2022-10-29"]
["CHAT",null,null,null,null,"2022-10-30"]
["CORREO CERTIFICADO",null,null,null,null,"2022-11-05"]
["CORREO ELECTRÓNICO",null,null,null,null,"2022-11-06"]
["FAX",null,null,null,null,"2022-11-07"]
["INTERNO",null,null,null,null,"2022-11-12"]
["MODULO CONTACTENOS",null,null,null,null,"2022-11-13"]
["WEB (MÓDULO DE SOLICITUD DE INFORMACIÓN HIDROMETEOROLÓGICA)",null,null,null,null,"2022-11-14"]
[null,null,null,null,null,"2022-11-19"]
["¿REQUERIMIENTO FUE ESCALADO?",null,null,null,null,"2022-11-20"]
["SI",null,null,null,null,"2022-11-26"]
["NO",null,null,null,null,"2022-11-27"]
[null,null,null,null,null,"2022-12-03"]
["CANAL POR EL CUAL FUE RESUELTO EL REQUERIMIENTO",null,null,null,null,"2022-12-04"]
["CORREO ELECTRÓNICO",null,null,null,null,"2022-12-08"]
["CORREO CERTIFICADO",null,null,null,null,"2022-12-10"]
[null,null,null,null,null,"2022-12-11"]
[null,null,null,null,null,"2022-12-17"]
[null,null,null,null,null,"2022-12-24"]
[null,null,null,null,null,"2022-12-25"]
[null,null,null,null,null,"2022-12-31"]

{"sheet":"REGISTRO_PQRS","index":1,"n_rows":2711,"n_cols":25,"rows_kept":2711,"cut":false,"hidden":false,"merged":[[0,0,2,2],[0,3,2,18],[0,19,0,20],[1,19,1,20],[2,19,2,20],[8,11,8,20],[8,4,8,6],[8,7,8,10],[8,0,8,2],[4,1,4,5],[6,1,6,5]]}
[null,null,null,null,null,null,null,null,null,null,null,null,null,null,null,null,null,null,null,"Código: GSC-F012"]
[null,null,null,null,null,null,null,null,null,null,null,null,null,null,null,null,null,null,null,"Versión: 04"]
[null,null,null,null,null,null,null,null,null,null,null,null,null,null,null,null,null,null,null,"Fecha: 12/09/2024"]
[]
[null,"Dependencia: Grupo de Servicio al Ciudadano"]
[]
[null,"Período de Reporte: Primer trimestre 2025"]
[]
["DATOS DEL REQUERIMIENTO",null,null,"DATOS USUARIO","POSTURA DE REQUERIMIENTO",null,null,"RESOLUCION DEL REQUERIMIENTO",null,null,null,"ANÁLISIS DE RESPUESTAS"]
["No.","No.  DE REQUERIMIENTO","FECHA DE REQUERIMIENTO\n(dd/mm/aaaa)","TIPO DE ENTIDAD O USUARIO","MEDIO RECEPCIÓN","TIPO DE REQUERIMIENTO","PRODUCTO O SERVICIO AL CUAL SE REFIERE EL REQUERIMIENTO","¿ EL REQUERIMIENTO FUE ESCALADO?","DEPENDENCIA QUE DA RESPUESTA O A LA QUE SE DIRECCIONA","FECHA DE RESOLUCIÓN DEL REQUERIMIENTO\n(dd/mm/aaaa)","CANAL POR EL CUAL FUE RESUELTO EL REQUERIMIENTO","FECHA OPORTUNA DE RESPUESTA","PRORROGA","FECHA INICIO DE PRORROGA","FECHA RESOLUCIÓN PRORROGA","FECHA RESPUESTA DE PRORROGA","ESTADO DE RESPUESTA DE LA PRORROGA","OBSERVACIONES","ESTADO (A TIEMPO, FUERA DE TIEMPO, SIN RESPUESTA)","TIEMPO QUE TARDÓ EN  DAR RESPUESTA","DÍAS VENCIDOS CON RESPECTO A FECHA OPORTUNA DE RESPUESTA"]
[{"$f":"IF(B11<>\"\",1,\"\")","v":1},20259050001124,"2025-01-04","Persona natural","Virtual - Formulario PQRSDF","Certificación de contrato","Administrativa",null,"Oficina Asesora Jurídica","2025-01-23","Correo electrónico","2025-01-20",null,"",null,{"$f":"IFERROR(WORKDAY(N11,Y11,Hoja1!F3:F119),\"\")","v":""},{"$f":"+IF(N11=\"\",\"\",IF(O11=\"\",\"SIN RESPUESTA\",(IF(O11<=P11,\"A TIEMPO\",\"FUERA DE TIEMPO\"))))","v":""},null,{"$f":"+IF(C11=\"\",\"\",IF(J11=\"\",\"SIN RESPUESTA\",(IF(J11<=L11,\"A TIEMPO\",\"FUERA DE TIEMPO\"))))","v":"FUERA DE TIEMPO"},12,3,null,null,{"$f":"IFERROR(VLOOKUP(F11,Hoja1!$A$50:$C$63,2),\"\")","v":15},{"$f":"IFERROR(VLOOKUP(F11,Hoja1!$A$50:$C$63,3),\"\")","v":15}]
[{"$f":"IF(B12<>\"\",A11+1,\"\")","v":2},20259050001554,"2025-01-07","Persona jurídica","Virtual - Formulario PQRSDF","Solicitud de documentos o información","Registros ambientales",null,"Subdirección de Estudios Ambientales","2025-01-08","Correo electrónico","2025-01-21",null,"",null,{"$f":"IFERROR(WORKDAY(N12,Y12,Hoja1!F4:F120),\"\")","v":""},{"$f":"+IF(N12=\"\",\"\",IF(O12=\"\",\"SIN RESPUESTA\",(IF(O12<=P12,\"A TIEMPO\",\"FUERA DE TIEMPO\"))))","v":""},null,"A TIEMPO",1,0,null,null,{"$f":"IFERROR(VLOOKUP(F12,Hoja1!$A$50:$C$63,2),\"\")","v":5},{"$f":"IFERROR(VLOOKUP(F12,Hoja1!$A$50:$C$63,3),\"\")","v":5}]
[{"$f":"IF(B13<>\"\",A12+1,\"\")","v":3},20259050001614,"2025-01-07","Persona natural","Virtual - Formulario PQRSDF","Certificación de ingresos y retenciones","Administrativa",null,"Grupo de Tesorería","2025-01-08","Correo electrónico","2025-01-21",null,"",null,{"$f":"IFERROR(WORKDAY(N13,Y13,Hoja1!F5:F121),\"\")","v":""},"",null,"A TIEMPO",1,0,null,null,{"$f":"IFERROR(VLOOKUP(F13,Hoja1!$A$50:$C$63,2),\"\")","v":15},{"$f":"IFERROR(VLOOKUP(F13,Hoja1!$A$50:$C$63,3),\"\")","v":15}]
[4,20259050002474,"2025-01-09","Persona natural","Virtual - Formulario PQRSDF","Certificación de contrato","Administrativa",null,"Oficina Asesora Jurídica","2025-01-23","Correo electrónico","2025-01-23",null,"",null,{"$f":"IFERROR(WORKDAY(N14,Y14,Hoja1!F6:F122),\"\")","v":""},"",null,"A TIEMPO",10,0,null,null,{"$f":"IFERROR(VLOOKUP(F14,Hoja1!$A$50:$C$63,2),\"\")","v":15},{"$f":"IFERROR(VLOOKUP(F14,Hoja1!$A$50:$C$63,3),\"\")","v":15}]
[5,20259050002974,"2025-01-10","Persona natural","Virtual - Formulario PQRSDF","Solicitud de documentos o información","Administrativa",null,"Grupo de Administración y Desarrollo del Talento Humano","2025-01-11","No aplica","2025-01-24",null,"",null,{"$f":"IFERROR(WORKDAY(N15,Y15,Hoja1!F7:F123),\"\")","v":""},"",null,"A TIEMPO",0,0,null,null,{"$f":"IFERROR(VLOOKUP(F15,Hoja1!$A$50:$C$63,2),\"\")","v":5},{"$f":"IFERROR(VLOOKUP(F15,Hoja1!$A$50:$C$63,3),\"\")","v":5}]
[6,20259050004564,"2025-01-14","Persona natural","Virtual - Formulario PQRSDF","Solicitud de documentos o información","Solicitud de información hidrometeorológica",null,"Grupo de Servicio al Ciudadano","2025-01-21","Correo electrónico","2025-01-28",null,"",null,{"$f":"IFERROR(WORKDAY(N16,Y16,Hoja1!F8:F124),\"\")","v":""},"",null,"A TIEMPO",5,0,null,null,{"$f":"IFERROR(VLOOKUP(F16,Hoja1!$A$50:$C$63,2),\"\")","v":5},{"$f":"IFERROR(VLOOKUP(F16,Hoja1!$A$50:$C$63,3),\"\")","v":5}]
[7,20259050004994,"2025-01-15","Persona natural","Virtual - Formulario PQRSDF","Solicitud de documentos o información","Solicitud de información hidrometeorológica",null,"Área Operativa No. 9 - Cali","2025-01-20","Correo electrónico","2025-01-29",null,"",null,{"$f":"IFERROR(WORKDAY(N17,Y17,Hoja1!F9:F125),\"\")","v":""},"",null,"A TIEMPO",3,0,null,null,{"$f":"IFERROR(VLOOKUP(F17,Hoja1!$A$50:$C$63,2),\"\")","v":5},{"$f":"IFERROR(VLOOKUP(F17,Hoja1!$A$50:$C$63,3),\"\")","v":5}]
[8,20259050005344,"2025-01-15","Persona jurídica","Virtual - Formulario PQRSDF","Solicitud de documentos o información","Informes ambientales",null,"Subdirección de Estudios Ambientales","2025-01-17","Correo electrónico","2025-01-29",null,"",null,{"$f":"IFERROR(WORKDAY(N18,Y18,Hoja1!F10:F126),\"\")","v":""},"",null,"A TIEMPO",2,0,null,null,{"$f":"IFERROR(VLOOKUP(F18,Hoja1!$A$50:$C$63,2),\"\")","v":5},{"$f":"IFERROR(VLOOKUP(F18,Hoja1!$A$50:$C$63,3),\"\")","v":5}]
[9,20259050006184,"2025-01-17","Persona jurídica","Virtual - Formulario PQRSDF","Solicitud de bienes y/o servicios","Acreditación de laboratorios",null,"Grupo de Contabilidad","2025-01-22","Correo electrónico","2025-02-07",null,"",null,{"$f":"IFERROR(WORKDAY(N19,Y19,Hoja1!F11:F127),\"\")","v":""},"",null,"A TIEMPO",3,0,null,null,{"$f":"IFERROR(VLOOKUP(F19,Hoja1!$A$50:$C$63,2),\"\")","v":5},{"$f":"IFERROR(VLOOKUP(F19,Hoja1!$A$50:$C$63,3),\"\")","v":5}]
[10,20259050008804,"2025-01-22","Persona natural","Virtual - Formulario PQRSDF","Solicitud de documentos o información","Solicitud de información hidrometeorológica",null,"Grupo de Servicio al Ciudadano","2025-02-04","Correo electrónico","2025-02-05",null,"",null,{"$f":"IFERROR(WORKDAY(N20,Y20,Hoja1!F12:F128),\"\")","v":""},"",null,"A TIEMPO",9,0,null,null,{"$f":"IFERROR(VLOOKUP(F20,Hoja1!$A$50:$C$63,2),\"\")","v":5},{"$f":"IFERROR(VLOOKUP(F20,Hoja1!$A$50:$C$63,3),\"\")","v":5}]
[11,20259050009164,"2025-01-23","Persona natural","Virtual - Formulario PQRSDF","Certificación de contrato","Administrativa",null,"Oficina Asesora Jurídica","2025-02-10","Correo electrónico","2025-02-06",null,"",null,{"$f":"IFERROR(WORKDAY(N21,Y21,Hoja1!F13:F129),\"\")","v":""},"",null,{"$f":"+IF(C21=\"\",\"\",IF(J21=\"\",\"SIN RESPUESTA\",(IF(J21<=L21,\"A TIEMPO\",\"FUERA DE TIEMPO\"))))","v":"FUERA DE TIEMPO"},12,2,null,null,{"$f":"IFERROR(VLOOKUP(F21,Hoja1!$A$50:$C$63,2),\"\")","v":15},{"$f":"IFERROR(VLOOKUP(F21,Hoja1!$A$50:$C$63,3),\"\")","v":15}]
[12,20259050010404,"2025-01-26","Persona natural","Virtual - Formulario PQRSDF","Solicitud de documentos o información","Solicitud de información hidrometeorológica",null,"Subdirección de Hidrología","2025-02-07","Correo electrónico","2025-02-07",null,"",null,{"$f":"IFERROR(WORKDAY(N22,Y22,Hoja1!F14:F130),\"\")","v":""},"",null,"A TIEMPO",9,0,null,null,{"$f":"IFERROR(VLOOKUP(F22,Hoja1!$A$50:$C$63,2),\"\")","v":5},{"$f":"IFERROR(VLOOKUP(F22,Hoja1!$A$50:$C$63,3),\"\")","v":5}]
[13,20259050011904,"2025-01-28","Persona natural","Virtual - Formulario PQRSDF","Solicitud de documentos o información","Sistema de información del recurso hídrico",null,"Subdirección de Hidrología","2025-01-31","Correo electrónico","2025-02-11",null,"",null,{"$f":"IFERROR(WORKDAY(N23,Y23,Hoja1!F15:F131),\"\")","v":""},"",null,"A TIEMPO",3,0,null,null,{"$f":"IFERROR(VLOOKUP(F23,Hoja1!$A$50:$C$63,2),\"\")","v":5},{"$f":"IFERROR(VLOOKUP(F23,Hoja1!$A$50:$C$63,3),\"\")","v":5}]
[14,20259050012814,"2025-01-30","Persona natural","Virtual - Formulario PQRSDF","Solicitud de documentos o información","Solicitud de información hidrometeorológica",null,"Grupo de Servicio al Ciudadano","2025-02-05","Correo electrónico","2025-02-13",null,"",null,{"$f":"IFERROR(WORKDAY(N24,Y24,Hoja1!F16:F132),\"\")","v":""},"",null,"A TIEMPO",4,0,null,null,{"$f":"IFERROR(VLOOKUP(F24,Hoja1!$A$50:$C$63,2),\"\")","v":5},{"$f":"IFERROR(VLOOKUP(F24,Hoja1!$A$50:$C$63,3),\"\")","v":5}]
[15,20259050013304,"2025-01-31","Persona natural","Virtual - Formulario PQRSDF","Certificación laboral o pasantía","Administrativa",null,"Grupo de Administración y Desarrollo del Talento Humano","2025-02-11","Correo electrónico","2025-02-14",null,"",null,{"$f":"IFERROR(WORKDAY(N25,Y25,Hoja1!F17:F133),\"\")","v":""},"",null,"A TIEMPO",7,0,null,null,{"$f":"IFERROR(VLOOKUP(F25,Hoja1!$A$50:$C$63,2),\"\")","v":15},{"$f":"IFERROR(VLOOKUP(F25,Hoja1!$A$50:$C$63,3),\"\")","v":15}]
[16,20259050016184,"2025-02-05","Persona natural","Virtual - Formulario PQRSDF","Solicitud de documentos o información","Solicitud de información hidrometeorológica",null,"Grupo de Servicio al Ciudadano","2025-02-11","Correo electrónico","2025-02-19",null,"",null,{"$f":"IFERROR(WORKDAY(N26,Y26,Hoja1!F18:F134),\"\")","v":""},"",null,"A TIEMPO",4,0,null,null,{"$f":"IFERROR(VLOOKUP(F26,Hoja1!$A$50:$C$63,2),\"\")","v":5},{"$f":"IFERROR(VLOOKUP(F26,Hoja1!$A$50:$C$63,3),\"\")","v":5}]
[17,20259050017234,"2025-02-06","Persona natural","Virtual - Formulario PQRSDF","Solicitud de documentos o información","Solicitud de información hidrometeorológica",null,"Subdirección de Meteorología","2025-02-12","Correo electrónico","2025-02-20",null,"",null,{"$f":"IFERROR(WORKDAY(N27,Y27,Hoja1!F19:F135),\"\")","v":""},"",null,"A TIEMPO",4,0,null,null,{"$f":"IFERROR(VLOOKUP(F27,Hoja1!$A$50:$C$63,2),\"\")","v":5},{"$f":"IFERROR(VLOOKUP(F27,Hoja1!$A$50:$C$63,3),\"\")","v":5}]
[18,20259050017854,"2025-02-07","Persona jurídica","Virtual - Formulario PQRSDF","Solicitud de documentos o información","Acreditación de laboratorios",null,"Subdirección de Estudios Ambientales","2025-02-12","Correo electrónico","2025-02-21",null,"",null,{"$f":"IFERROR(WORKDAY(N28,Y28,Hoja1!F20:F136),\"\")","v":""},"",null,"A TIEMPO",3,0,null,null,{"$f":"IFERROR(VLOOKUP(F28,Hoja1!$A$50:$C$63,2),\"\")","v":5},{"$f":"IFERROR(VLOOKUP(F28,Hoja1!$A$50:$C$63,3),\"\")","v":5}]
[19,20259050018554,"2025-02-10","Persona jurídica","Virtual - Formulario PQRSDF","Solicitud de documentos o información","Administrativa",null,"Subdirección de Estudios Ambientales","2025-02-11","Correo electrónico","2025-02-24",null,"",null,{"$f":"IFERROR(WORKDAY(N29,Y29,Hoja1!F21:F137),\"\")","v":""},"",null,"A TIEMPO",1,0,null,null,{"$f":"IFERROR(VLOOKUP(F29,Hoja1!$A$50:$C$63,2),\"\")","v":5},{"$f":"IFERROR(VLOOKUP(F29,Hoja1!$A$50:$C$63,3),\"\")","v":5}]
[20,20259050018754,"2025-02-10","Persona jurídica","Virtual - Formulario PQRSDF","Solicitud de documentos o información","Solicitud de información hidrometeorológica",null,"Subdirección de Meteorología","2025-02-14","Correo electrónico","2025-02-24",null,"",null,{"$f":"IFERROR(WORKDAY(N30,Y30,Hoja1!F22:F138),\"\")","v":""},"",null,"A TIEMPO",4,0,null,null,{"$f":"IFERROR(VLOOKUP(F30,Hoja1!$A$50:$C$63,2),\"\")","v":5},{"$f":"IFERROR(VLOOKUP(F30,Hoja1!$A$50:$C$63,3),\"\")","v":5}]
[21,20259050018784,"2025-02-10","Persona natural","Virtual - Formulario PQRSDF","Solicitud de documentos o información","Bosques",null,"Subdirección de Ecosistemas e Información Ambiental","2025-02-11","Correo electrónico","2025-02-24",null,"",null,{"$f":"IFERROR(WORKDAY(N31,Y31,Hoja1!F23:F139),\"\")","v":""},"",null,"A TIEMPO",1,0,null,null,{"$f":"IFERROR(VLOOKUP(F31,Hoja1!$A$50:$C$63,2),\"\")","v":5},{"$f":"IFERROR(VLOOKUP(F31,Hoja1!$A$50:$C$63,3),\"\")","v":5}]
[22,20259050019214,"2025-02-11","Persona jurídica","Virtual - Formulario PQRSDF","Solicitud de documentos o información","Solicitud de información hidrometeorológica",null,"Subdirección de Meteorología","2025-02-19","Correo electrónico","2025-02-25",null,"",null,{"$f":"IFERROR(WORKDAY(N32,Y32,Hoja1!F24:F140),\"\")","v":""},"",null,"A TIEMPO",6,0,null,null,{"$f":"IFERROR(VLOOKUP(F32,Hoja1!$A$50:$C$63,2),\"\")","v":5},{"$f":"IFERROR(VLOOKUP(F32,Hoja1!$A$50:$C$63,3),\"\")","v":5}]
[23,20259050021984,"2025-02-13","Persona jurídica","Virtual - Formulario PQRSDF","Consulta (Información técnica)","Sistema de información ambiental",null,"Subdirección de Estudios Ambientales",null,null,"2025-03-31",null,"",null,{"$f":"IFERROR(WORKDAY(N33,Y33,Hoja1!F25:F141),\"\")","v":""},"",null,{"$f":"+IF(C33=\"\",\"\",IF(J33=\"\",\"SIN RESPUESTA\",(IF(J33<=L33,\"A TIEMPO\",\"FUERA DE TIEMPO\"))))","v":"SIN RESPUESTA"},0,0,null,null,{"$f":"IFERROR(VLOOKUP(F33,Hoja1!$A$50:$C$63,2),\"\")","v":30},{"$f":"IFERROR(VLOOKUP(F33,Hoja1!$A$50:$C$63,3),\"\")","v":30}]
[24,20259050022444,"2025-02-14","Persona natural","Virtual - Formulario PQRSDF","Solicitud de documentos o información","Sistema de información del recurso hídrico",null,"Grupo de Servicio al Ciudadano","2025-02-19","Correo electrónico","2025-02-28",null,"",null,{"$f":"IFERROR(WORKDAY(N34,Y34,Hoja1!F26:F142),\"\")","v":""},"",null,"A TIEMPO",3,0,null,null,{"$f":"IFERROR(VLOOKUP(F34,Hoja1!$A$50:$C$63,2),\"\")","v":5},{"$f":"IFERROR(VLOOKUP(F34,Hoja1!$A$50:$C$63,3),\"\")","v":5}]
[25,20259050022604,"2025-02-14","Persona natural","Virtual - Formulario PQRSDF","Certificación laboral o pasantía","Administrativa",null,"Grupo de Administración y Desarrollo del Talento Humano","2025-02-27","Correo electrónico","2025-02-28",null,"",null,{"$f":"IFERROR(WORKDAY(N35,Y35,Hoja1!F27:F143),\"\")","v":""},"",null,"A TIEMPO",9,0,null,null,{"$f":"IFERROR(VLOOKUP(F35,Hoja1!$A$50:$C$63,2),\"\")","v":15},{"$f":"IFERROR(VLOOKUP(F35,Hoja1!$A$50:$C$63,3),\"\")","v":15}]
[26,20259050023444,"2025-02-17","Persona jurídica","Virtual - Formulario PQRSDF","Solicitud de documentos o información","Registros ambientales",null,"Subdirección de Estudios Ambientales","2025-02-19","Correo electrónico","2025-03-03",null,"",null,{"$f":"IFERROR(WORKDAY(N36,Y36,Hoja1!F28:F144),\"\")","v":""},"",null,"A TIEMPO",2,0,null,null,{"$f":"IFERROR(VLOOKUP(F36,Hoja1!$A$50:$C$63,2),\"\")","v":5},{"$f":"IFERROR(VLOOKUP(F36,Hoja1!$A$50:$C$63,3),\"\")","v":5}]
[27,20259050025504,"2025-02-19","Persona jurídica","Virtual - Formulario PQRSDF","Solicitud de documentos o información","Solicitud de información hidrometeorológica",null,"Grupo de Servicio al Ciudadano","2025-03-04","Correo electrónico","2025-03-05",null,"",null,{"$f":"IFERROR(WORKDAY(N37,Y37,Hoja1!F29:F145),\"\")","v":""},"",null,"A TIEMPO",9,0,null,null,{"$f":"IFERROR(VLOOKUP(F37,Hoja1!$A$50:$C$63,2),\"\")","v":5},{"$f":"IFERROR(VLOOKUP(F37,Hoja1!$A$50:$C$63,3),\"\")","v":5}]
[28,20259050025544,"2025-02-19","Persona natural","Virtual - Formulario PQRSDF","Solicitud de documentos o información","Solicitud de información hidrometeorológica",null,"Grupo de Servicio al Ciudadano","2025-03-03","Correo electrónico","2025-03-05",null,"",null,{"$f":"IFERROR(WORKDAY(N38,Y38,Hoja1!F30:F146),\"\")","v":""},"",null,"A TIEMPO",8,0,null,null,{"$f":"IFERROR(VLOOKUP(F38,Hoja1!$A$50:$C$63,2),\"\")","v":5},{"$f":"IFERROR(VLOOKUP(F38,Hoja1!$A$50:$C$63,3),\"\")","v":5}]
[29,20259050026694,"2025-02-20","Persona jurídica","Virtual - Formulario PQRSDF","Solicitud de documentos o información","Informes ambientales",null,"Subdirección de Estudios Ambientales","2025-03-03","Correo electrónico","2025-03-06",null,"",null,{"$f":"IFERROR(WORKDAY(N39,Y39,Hoja1!F31:F147),\"\")","v":""},"",null,"A TIEMPO",7,0,null,null,{"$f":"IFERROR(VLOOKUP(F39,Hoja1!$A$50:$C$63,2),\"\")","v":5},{"$f":"IFERROR(VLOOKUP(F39,Hoja1!$A$50:$C$63,3),\"\")","v":5}]
[30,20259050026784,"2025-02-20","Persona natural","Virtual - Formulario PQRSDF","Solicitud de documentos o información","Solicitud de información hidrometeorológica",null,"Grupo de Servicio al Ciudadano","2025-03-06","Correo electrónico","2025-03-06",null,"",null,{"$f":"IFERROR(WORKDAY(N40,Y40,Hoja1!F32:F148),\"\")","v":""},"",null,"A TIEMPO",10,0,null,null,{"$f":"IFERROR(VLOOKUP(F40,Hoja1!$A$50:$C$63,2),\"\")","v":5},{"$f":"IFERROR(VLOOKUP(F40,Hoja1!$A$50:$C$63,3),\"\")","v":5}]
[31,20259050028334,"2025-02-24","Persona natural","Virtual - Formulario PQRSDF","Solicitud de documentos o información","Solicitud de información hidrometeorológica",null,"Grupo de Servicio al Ciudadano","2025-03-07","Correo electrónico","2025-03-10",null,"",null,{"$f":"IFERROR(WORKDAY(N41,Y41,Hoja1!F33:F149),\"\")","v":""},"",null,"A TIEMPO",9,0,null,null,{"$f":"IFERROR(VLOOKUP(F41,Hoja1!$A$50:$C$63,2),\"\")","v":5},{"$f":"IFERROR(VLOOKUP(F41,Hoja1!$A$50:$C$63,3),\"\")","v":5}]
[32,20259050032454,"2025-03-02","Persona natural","Virtual - Formulario PQRSDF","Solicitud de documentos o información","Solicitud de información hidrometeorológica",null,"Grupo de Servicio al Ciudadano","2025-03-14","Correo electrónico","2025-03-14",null,"",null,{"$f":"IFERROR(WORKDAY(N42,Y42,Hoja1!F34:F150),\"\")","v":""},"",null,"A TIEMPO",9,0,null,null,{"$f":"IFERROR(VLOOKUP(F42,Hoja1!$A$50:$C$63,2),\"\")","v":5},{"$f":"IFERROR(VLOOKUP(F42,Hoja1!$A$50:$C$63,3),\"\")","v":5}]
[33,20259050032814,"2025-03-03","Persona natural","Virtual - Formulario PQRSDF","Certificación de contrato","Administrativa",null,"Oficina Asesora Jurídica","2025-03-19","Correo electrónico","2025-03-17",null,"",null,{"$f":"IFERROR(WORKDAY(N43,Y43,Hoja1!F35:F151),\"\")","v":""},"",null,{"$f":"+IF(C43=\"\",\"\",IF(J43=\"\",\"SIN RESPUESTA\",(IF(J43<=L43,\"A TIEMPO\",\"FUERA DE TIEMPO\"))))","v":"FUERA DE TIEMPO"},11,1,null,null,{"$f":"IFERROR(VLOOKUP(F43,Hoja1!$A$50:$C$63,2),\"\")","v":15},{"$f":"IFERROR(VLOOKUP(F43,Hoja1!$A$50:$C$63,3),\"\")","v":15}]
[34,20259050033784,"2025-03-04","Persona natural","Virtual - Formulario PQRSDF","Solicitud de documentos o información","Solicitud de información hidrometeorológica",null,"Subdirección de Meteorología","2025-03-14","Correo electrónico","2025-03-19",null,"",null,{"$f":"IFERROR(WORKDAY(N44,Y44,Hoja1!F36:F152),\"\")","v":""},"",null,"A TIEMPO",8,0,null,null,{"$f":"IFERROR(VLOOKUP(F44,Hoja1!$A$50:$C$63,2),\"\")","v":5},{"$f":"IFERROR(VLOOKUP(F44,Hoja1!$A$50:$C$63,3),\"\")","v":5}]
[35,20259910036474,"2025-03-07","Persona jurídica","Virtual - Correo electrónico","Solicitud de documentos o información","Informes ambientales",null,"Subdirección de Estudios Ambientales","2025-03-19","Correo electrónico","2025-03-25",null,"",null,{"$f":"IFERROR(WORKDAY(N45,Y45,Hoja1!F37:F153),\"\")","v":""},"",null,"A TIEMPO",7,0,null,null,{"$f":"IFERROR(VLOOKUP(F45,Hoja1!$A$50:$C$63,2),\"\")","v":5},{"$f":"IFERROR(VLOOKUP(F45,Hoja1!$A$50:$C$63,3),\"\")","v":5}]
[36,20259050038134,"2025-03-10","Persona jurídica","Virtual - Formulario PQRSDF","Solicitud de documentos o información","Solicitud de información hidrometeorológica",null,"Grupo de Servicio al Ciudadano","2025-03-25","Correo electrónico","2025-03-26",null,"",null,{"$f":"IFERROR(WORKDAY(N46,Y46,Hoja1!F38:F154),\"\")","v":""},"",null,"A TIEMPO",9,0,null,null,{"$f":"IFERROR(VLOOKUP(F46,Hoja1!$A$50:$C$63,2),\"\")","v":5},{"$f":"IFERROR(VLOOKUP(F46,Hoja1!$A$50:$C$63,3),\"\")","v":5}]
[37,20259050039274,"2025-03-11","Persona jurídica","Virtual - Formulario PQRSDF","Solicitud de documentos o información","Registros ambientales",null,"Subdirección de Estudios Ambientales","2025-03-28","Correo electrónico","2025-03-27",null,"",null,{"$f":"IFERROR(WORKDAY(N47,Y47,Hoja1!F39:F155),\"\")","v":""},"",null,{"$f":"+IF(C47=\"\",\"\",IF(J47=\"\",\"SIN RESPUESTA\",(IF(J47<=L47,\"A TIEMPO\",\"FUERA DE TIEMPO\"))))","v":"FUERA DE TIEMPO"},11,1,null,null,{"$f":"IFERROR(VLOOKUP(F47,Hoja1!$A$50:$C$63,2),\"\")","v":5},{"$f":"IFERROR(VLOOKUP(F47,Hoja1!$A$50:$C$63,3),\"\")","v":5}]
[38,20259050042424,"2025-03-14","Persona natural","Virtual - Formulario PQRSDF","Solicitud de documentos o información","Administrativa",null,"Grupo de Administración y Desarrollo del Talento Humano","2025-03-26","Correo electrónico","2025-04-01",null,"",null,{"$f":"IFERROR(WORKDAY(N48,Y48,Hoja1!F40:F156),\"\")","v":""},"",null,"A TIEMPO",6,0,null,null,{"$f":"IFERROR(VLOOKUP(F48,Hoja1!$A$50:$C$63,2),\"\")","v":5},{"$f":"IFERROR(VLOOKUP(F48,Hoja1!$A$50:$C$63,3),\"\")","v":5}]
[{"$f":"IF(B49<>\"\",A48+1,\"\")","v":39},20259050042504,"2025-03-14","Persona jurídica","Virtual - Formulario PQRSDF","Solicitud de documentos o información","Registros ambientales",null,"Subdirección de Estudios Ambientales",null,null,"2025-04-01",null,"",null,{"$f":"IFERROR(WORKDAY(N49,Y49,Hoja1!F41:F157),\"\")","v":""},"",null,{"$f":"+IF(C49=\"\",\"\",IF(J49=\"\",\"SIN RESPUESTA\",(IF(J49<=L49,\"A TIEMPO\",\"FUERA DE TIEMPO\"))))","v":"SIN RESPUESTA"},0,0,null,null,{"$f":"IFERROR(VLOOKUP(F49,Hoja1!$A$50:$C$63,2),\"\")","v":5},{"$f":"IFERROR(VLOOKUP(F49,Hoja1!$A$50:$C$63,3),\"\")","v":5}]
[40,20259050044694,"2025-03-19","Persona jurídica","Virtual - Formulario PQRSDF","Solicitud de documentos o información","Pronósticos y alertas",null,"Subdirección de Hidrología","2025-03-20","Correo electrónico","2025-04-03",null,"",null,{"$f":"IFERROR(WORKDAY(N50,Y50,Hoja1!F42:F158),\"\")","v":""},"",null,"A TIEMPO",1,0,null,null,{"$f":"IFERROR(VLOOKUP(F50,Hoja1!$A$50:$C$63,2),\"\")","v":5},{"$f":"IFERROR(VLOOKUP(F50,Hoja1!$A$50:$C$63,3),\"\")","v":5}]
[41,20259050044784,"2025-03-19","Persona natural","Virtual - Formulario PQRSDF","Solicitud de documentos o información","Sistema de información del recurso hídrico",null,"Grupo de Servicio al Ciudadano","2025-04-01","Correo electrónico","2025-04-03",null,"",null,{"$f":"IFERROR(WORKDAY(N51,Y51,Hoja1!F43:F159),\"\")","v":""},"",null,"A TIEMPO",8,0,null,null,{"$f":"IFERROR(VLOOKUP(F51,Hoja1!$A$50:$C$63,2),\"\")","v":5},{"$f":"IFERROR(VLOOKUP(F51,Hoja1!$A$50:$C$63,3),\"\")","v":5}]
[42,20259050044914,"2025-03-19","Persona jurídica","Virtual - Formulario PQRSDF","Solicitud de documentos o información","Solicitud de información hidrometeorológica",null,"Grupo de Servicio al Ciudadano","2025-03-25","Correo electrónico","2025-04-03",null,"",null,{"$f":"IFERROR(WORKDAY(N52,Y52,Hoja1!F44:F160),\"\")","v":""},"",null,"A TIEMPO",3,0,null,null,{"$f":"IFERROR(VLOOKUP(F52,Hoja1!$A$50:$C$63,2),\"\")","v":5},{"$f":"IFERROR(VLOOKUP(F52,Hoja1!$A$50:$C$63,3),\"\")","v":5}]
[43,20259050045164,"2025-03-19","Persona jurídica","Virtual - Formulario PQRSDF","Solicitud de documentos o información","Registros ambientales",null,"Subdirección de Estudios Ambientales","2025-04-02","Correo electrónico","2025-04-03",null,"",null,{"$f":"IFERROR(WORKDAY(N53,Y53,Hoja1!F45:F161),\"\")","v":""},"",null,"A TIEMPO",9,0,null,null,{"$f":"IFERROR(VLOOKUP(F53,Hoja1!$A$50:$C$63,2),\"\")","v":5},{"$f":"IFERROR(VLOOKUP(F53,Hoja1!$A$50:$C$63,3),\"\")","v":5}]
[44,20259910046764,"2025-03-20","Persona jurídica","Virtual - Correo electrónico","Petición de interés general o particular","Registros ambientales",null,"Subdirección de Estudios Ambientales","2025-04-09","Correo electrónico","2025-04-11",null,"",null,{"$f":"IFERROR(WORKDAY(N54,Y54,Hoja1!F46:F162),\"\")","v":""},"",null,"A TIEMPO",13,0,null,null,{"$f":"IFERROR(VLOOKUP(F54,Hoja1!$A$50:$C$63,2),\"\")","v":15},{"$f":"IFERROR(VLOOKUP(F54,Hoja1!$A$50:$C$63,3),\"\")","v":15}]
[45,20259910048174,"2025-03-25","Persona jurídica","Virtual - Correo electrónico","Solicitud de documentos o información","Registros ambientales",null,"Subdirección de Estudios Ambientales","2025-04-04","Correo electrónico","2025-04-08",null,"",null,{"$f":"IFERROR(WORKDAY(N55,Y55,Hoja1!F47:F163),\"\")","v":""},"",null,"A TIEMPO",8,0,null,null,{"$f":"IFERROR(VLOOKUP(F55,Hoja1!$A$50:$C$63,2),\"\")","v":5},{"$f":"IFERROR(VLOOKUP(F55,Hoja1!$A$50:$C$63,3),\"\")","v":5}]
[46,20259050051934,"2025-03-30","Persona natural","Virtual - Formulario PQRSDF","Solicitud de documentos o información","Solicitud de información hidrometeorológica",null,"Grupo de Servicio al Ciudadano","2025-04-08","Correo electrónico","2025-04-11",null,"",null,{"$f":"IFERROR(WORKDAY(N56,Y56,Hoja1!F48:F164),\"\")","v":""},"",null,"A TIEMPO",6,0,null,null,{"$f":"IFERROR(VLOOKUP(F56,Hoja1!$A$50:$C$63,2),\"\")","v":5},{"$f":"IFERROR(VLOOKUP(F56,Hoja1!$A$50:$C$63,3),\"\")","v":5}]
[47,20259050000014,"2025-01-01","Persona natural","Virtual - Formulario PQRSDF","Certificación de contrato","Administrativa",null,"Grupo de Tesorería","2025-01-08","Correo electrónico","2025-01-16",null,"",null,{"$f":"IFERROR(WORKDAY(N57,Y57,Hoja1!F49:F165),\"\")","v":""},"",null,"A TIEMPO",3,0,null,null,{"$f":"IFERROR(VLOOKUP(F57,Hoja1!$A$50:$C$63,2),\"\")","v":15},{"$f":"IFERROR(VLOOKUP(F57,Hoja1!$A$50:$C$63,3),\"\")","v":15}]
[48,20259050000024,"2025-01-01","Persona natural","Virtual - Formulario PQRSDF","Certificación de contrato","Administrativa",null,"Oficina Asesora Jurídica","2025-01-17","Correo electrónico","2025-01-16",null,"",null,{"$f":"IFERROR(WORKDAY(N58,Y58,Hoja1!F50:F166),\"\")","v":""},"",null,{"$f":"+IF(C58=\"\",\"\",IF(J58=\"\",\"SIN RESPUESTA\",(IF(J58<=L58,\"A TIEMPO\",\"FUERA DE TIEMPO\"))))","v":"FUERA DE TIEMPO"},10,1,null,null,{"$f":"IFERROR(VLOOKUP(F58,Hoja1!$A$50:$C$63,2),\"\")","v":15},{"$f":"IFERROR(VLOOKUP(F58,Hoja1!$A$50:$C$63,3),\"\")","v":15}]
[49,20259050000034,"2025-01-02","Persona natural","Virtual - Formulario PQRSDF","Solicitud de documentos o información","Solicitud de información hidrometeorológica",null,"Grupo de Servicio al Ciudadano","2025-01-03","Correo electrónico","2025-01-17",null,"",null,{"$f":"IFERROR(WORKDAY(N59,Y59,Hoja1!F51:F167),\"\")","v":""},"",null,"A TIEMPO",1,0,null,null,{"$f":"IFERROR(VLOOKUP(F59,Hoja1!$A$50:$C$63,2),\"\")","v":5},{"$f":"IFERROR(VLOOKUP(F59,Hoja1!$A$50:$C$63,3),\"\")","v":5}]
[50,20259910000054,"2025-01-02","Persona natural","Virtual - Correo electrónico","Certificación de contrato","Administrativa",null,"Oficina Asesora Jurídica","2025-01-17","Correo certificado","2025-01-17",null,"",null,{"$f":"IFERROR(WORKDAY(N60,Y60,Hoja1!F52:F168),\"\")","v":""},"",null,"A TIEMPO",10,0,null,null,{"$f":"IFERROR(VLOOKUP(F60,Hoja1!$A$50:$C$63,2),\"\")","v":15},{"$f":"IFERROR(VLOOKUP(F60,Hoja1!$A$50:$C$63,3),\"\")","v":15}]
[51,20259910000084,"2025-01-02","Persona natural","Virtual - Correo electrónico","Certificación de contrato","Administrativa",null,"Oficina Asesora Jurídica","2025-01-17","Correo electrónico","2025-01-17",null,"",null,{"$f":"IFERROR(WORKDAY(N61,Y61,Hoja1!F53:F169),\"\")","v":""},"",null,"A TIEMPO",10,0,null,null,{"$f":"IFERROR(VLOOKUP(F61,Hoja1!$A$50:$C$63,2),\"\")","v":15},{"$f":"IFERROR(VLOOKUP(F61,Hoja1!$A$50:$C$63,3),\"\")","v":15}]
[52,20259050000094,"2025-01-02","Persona natural","Virtual - Formulario PQRSDF","Certificación de contrato","Administrativa",null,"Oficina Asesora Jurídica","2025-01-17","Correo electrónico","2025-01-17",null,"",null,{"$f":"IFERROR(WORKDAY(N62,Y62,Hoja1!F54:F170),\"\")","v":""},"",null,"A TIEMPO",10,0,null,null,{"$f":"IFERROR(VLOOKUP(F62,Hoja1!$A$50:$C$63,2),\"\")","v":15},{"$f":"IFERROR(VLOOKUP(F62,Hoja1!$A$50:$C$63,3),\"\")","v":15}]
[53,20259910000104,"2025-01-02","Persona natural","Virtual - Correo electrónico","Certificación de contrato","Administrativa",null,"Oficina Asesora Jurídica","2025-01-17","Correo electrónico","2025-01-17",null,"",null,{"$f":"IFERROR(WORKDAY(N63,Y63,Hoja1!F55:F171),\"\")","v":""},"",null,"A TIEMPO",10,0,null,null,{"$f":"IFERROR(VLOOKUP(F63,Hoja1!$A$50:$C$63,2),\"\")","v":15},{"$f":"IFERROR(VLOOKUP(F63,Hoja1!$A$50:$C$63,3),\"\")","v":15}]
[54,20259910000114,"2025-01-02","Persona natural","Virtual - Correo electrónico","Certificación de contrato","Administrativa",null,"Oficina Asesora Jurídica","2025-01-17","Correo electrónico","2025-01-17",null,"",null,{"$f":"IFERROR(WORKDAY(N64,Y64,Hoja1!F56:F172),\"\")","v":""},"",null,"A TIEMPO",10,0,null,null,{"$f":"IFERROR(VLOOKUP(F64,Hoja1!$A$50:$C$63,2),\"\")","v":15},{"$f":"IFERROR(VLOOKUP(F64,Hoja1!$A$50:$C$63,3),\"\")","v":15}]
[55,20259910000144,"2025-01-02","Persona natural","Virtual - Correo electrónico","Certificación de ingresos y retenciones","Administrativa",null,"Grupo de Tesorería","2025-01-07","Correo electrónico","2025-01-17",null,"",null,{"$f":"IFERROR(WORKDAY(N65,Y65,Hoja1!F57:F173),\"\")","v":""},"",null,"A TIEMPO",2,0,null,null,{"$f":"IFERROR(VLOOKUP(F65,Hoja1!$A$50:$C$63,2),\"\")","v":15},{"$f":"IFERROR(VLOOKUP(F65,Hoja1!$A$50:$C$63,3),\"\")","v":15}]
[56,20259910000154,"2025-01-02","Persona natural","Virtual - Correo electrónico","Certificación de contrato","Administrativa",null,"Oficina Asesora Jurídica","2025-01-17","Correo electrónico","2025-01-17",null,"",null,{"$f":"IFERROR(WORKDAY(N66,Y66,Hoja1!F58:F174),\"\")","v":""},"",null,"A TIEMPO",10,0,null,null,{"$f":"IFERROR(VLOOKUP(F66,Hoja1!$A$50:$C$63,2),\"\")","v":15},{"$f":"IFERROR(VLOOKUP(F66,Hoja1!$A$50:$C$63,3),\"\")","v":15}]
[57,20259910000164,"2025-01-02","Persona natural","Virtual - Correo electrónico","Certificación de contrato","Administrativa",null,"Grupo de Tesorería","2025-01-08","Correo electrónico","2025-01-17",null,"",null,{"$f":"IFERROR(WORKDAY(N67,Y67,Hoja1!F59:F175),\"\")","v":""},"",null,"A TIEMPO",3,0,null,null,{"$f":"IFERROR(VLOOKUP(F67,Hoja1!$A$50:$C$63,2),\"\")","v":15},{"$f":"IFERROR(VLOOKUP(F67,Hoja1!$A$50:$C$63,3),\"\")","v":15}]
[58,20259910000184,"2025-01-02","Persona natural","Virtual - Correo electrónico","Certificación de contrato","Administrativa",null,"Oficina Asesora Jurídica","2025-01-17","Correo electrónico","2025-01-17",null,"",null,{"$f":"IFERROR(WORKDAY(N68,Y68,Hoja1!F60:F176),\"\")","v":""},"",null,"A TIEMPO",10,0,null,null,{"$f":"IFERROR(VLOOKUP(F68,Hoja1!$A$50:$C$63,2),\"\")","v":15},{"$f":"IFERROR(VLOOKUP(F68,Hoja1!$A$50:$C$63,3),\"\")","v":15}]
[59,20259910000204,"2025-01-02","Persona natural","Virtual - Correo electrónico","Certificación de contrato","Administrativa",null,"Oficina Asesora Jurídica","2025-01-17","Correo electrónico","2025-01-17",null,"",null,{"$f":"IFERROR(WORKDAY(N69,Y69,Hoja1!F61:F177),\"\")","v":""},"",null,"A TIEMPO",10,0,null,null,{"$f":"IFERROR(VLOOKUP(F69,Hoja1!$A$50:$C$63,2),\"\")","v":15},{"$f":"IFERROR(VLOOKUP(F69,Hoja1!$A$50:$C$63,3),\"\")","v":15}]
[60,20259910000194,"2025-01-02","Persona jurídica","Virtual - Correo electrónico","Solicitud de documentos o información","Solicitud de información hidrometeorológica",null,"Grupo de Servicio al Ciudadano","2025-01-03","Correo electrónico","2025-01-17",null,"",null,{"$f":"IFERROR(WORKDAY(N70,Y70,Hoja1!F62:F178),\"\")","v":""},"",null,"A TIEMPO",1,0,null,null,{"$f":"IFERROR(VLOOKUP(F70,Hoja1!$A$50:$C$63,2),\"\")","v":5},{"$f":"IFERROR(VLOOKUP(F70,Hoja1!$A$50:$C$63,3),\"\")","v":5}]
[61,20259910000214,"2025-01-02","Persona natural","Virtual - Correo electrónico","Certificación de contrato","Administrativa",null,"Oficina Asesora Jurídica","2025-01-17","Correo electrónico","2025-01-17",null,"",null,{"$f":"IFERROR(WORKDAY(N71,Y71,Hoja1!F63:F179),\"\")","v":""},"",null,"A TIEMPO",10,0,null,null,{"$f":"IFERROR(VLOOKUP(F71,Hoja1!$A$50:$C$63,2),\"\")","v":15},{"$f":"IFERROR(VLOOKUP(F71,Hoja1!$A$50:$C$63,3),\"\")","v":15}]
[62,20259910000224,"2025-01-02","Persona natural","Virtual - Correo electrónico","Certificación de contrato","Administrativa",null,"Oficina Asesora Jurídica","2025-01-17","Correo electrónico","2025-01-17",null,"",null,{"$f":"IFERROR(WORKDAY(N72,Y72,Hoja1!F64:F180),\"\")","v":""},"",null,"A TIEMPO",10,0,null,null,{"$f":"IFERROR(VLOOKUP(F72,Hoja1!$A$50:$C$63,2),\"\")","v":15},{"$f":"IFERROR(VLOOKUP(F72,Hoja1!$A$50:$C$63,3),\"\")","v":15}]
[63,20259050000234,"2025-01-02","Persona natural","Virtual - Formulario PQRSDF","Certificación de contrato","Administrativa",null,"Oficina Asesora Jurídica","2025-01-17","Correo electrónico","2025-01-17",null,"",null,{"$f":"IFERROR(WORKDAY(N73,Y73,Hoja1!F65:F181),\"\")","v":""},"",null,"A TIEMPO",10,0,null,null,{"$f":"IFERROR(VLOOKUP(F73,Hoja1!$A$50:$C$63,2),\"\")","v":15},{"$f":"IFERROR(VLOOKUP(F73,Hoja1!$A$50:$C$63,3),\"\")","v":15}]
[64,20259050000254,"2025-01-02","Persona natural","Virtual - Formulario PQRSDF","Certificación de ingresos y retenciones","Administrativa",null,"Grupo de Tesorería","2025-01-07","Correo electrónico","2025-01-17",null,"",null,{"$f":"IFERROR(WORKDAY(N74,Y74,Hoja1!F66:F182),\"\")","v":""},"",null,"A TIEMPO",2,0,null,null,{"$f":"IFERROR(VLOOKUP(F74,Hoja1!$A$50:$C$63,2),\"\")","v":15},{"$f":"IFERROR(VLOOKUP(F74,Hoja1!$A$50:$C$63,3),\"\")","v":15}]
[65,20259910000274,"2025-01-02","Persona natural","Virtual - Correo electrónico","Solicitud de documentos o información","Solicitud de información hidrometeorológica",null,"Grupo de Servicio al Ciudadano","2025-01-03","Correo electrónico","2025-01-17",null,"",null,{"$f":"IFERROR(WORKDAY(N75,Y75,Hoja1!F67:F183),\"\")","v":""},"",null,"A TIEMPO",1,0,null,null,{"$f":"IFERROR(VLOOKUP(F75,Hoja1!$A$50:$C$63,2),\"\")","v":5},{"$f":"IFERROR(VLOOKUP(F75,Hoja1!$A$50:$C$63,3),\"\")","v":5}]
[66,20259910000294,"2025-01-02","Persona natural","Virtual - Correo electrónico","Certificación de contrato","Administrativa",null,"Oficina Asesora Jurídica","2025-01-17","Correo electrónico","2025-01-17",null,"",null,{"$f":"IFERROR(WORKDAY(N76,Y76,Hoja1!F68:F184),\"\")","v":""},{"$f":"+IF(N76=\"\",\"\",IF(O76=\"\",\"SIN RESPUESTA\",(IF(O76<=P76,\"A TIEMPO\",\"FUERA DE TIEMPO\"))))","v":""},null,"A TIEMPO",10,0,null,null,{"$f":"IFERROR(VLOOKUP(F76,Hoja1!$A$50:$C$63,2),\"\")","v":15},{"$f":"IFERROR(VLOOKUP(F76,Hoja1!$A$50:$C$63,3),\"\")","v":15}]
[67,20259910000304,"2025-01-02","Persona jurídica","Virtual - Correo electrónico","Solicitud de documentos o información","Sistema de información ambiental",null,"Subdirección de Ecosistemas e Información Ambiental","2025-01-31","Correo electrónico","2025-01-17",null,"",null,{"$f":"IFERROR(WORKDAY(N77,Y77,Hoja1!F69:F185),\"\")","v":""},"",null,{"$f":"+IF(C77=\"\",\"\",IF(J77=\"\",\"SIN RESPUESTA\",(IF(J77<=L77,\"A TIEMPO\",\"FUERA DE TIEMPO\"))))","v":"FUERA DE TIEMPO"},20,10,null,null,{"$f":"IFERROR(VLOOKUP(F77,Hoja1!$A$50:$C$63,2),\"\")","v":5},{"$f":"IFERROR(VLOOKUP(F77,Hoja1!$A$50:$C$63,3),\"\")","v":5}]
[68,20259910000314,"2025-01-02","Persona natural","Virtual - Correo electrónico","Certificación de contrato","Administrativa",null,"Oficina Asesora Jurídica","2025-01-17","Correo electrónico","2025-01-17",null,"",null,{"$f":"IFERROR(WORKDAY(N78,Y78,Hoja1!F70:F186),\"\")","v":""},"",null,"A TIEMPO",10,0,null,null,{"$f":"IFERROR(VLOOKUP(F78,Hoja1!$A$50:$C$63,2),\"\")","v":15},{"$f":"IFERROR(VLOOKUP(F78,Hoja1!$A$50:$C$63,3),\"\")","v":15}]
[69,20259910000324,"2025-01-02","Persona natural","Virtual - Correo electrónico","Certificación de contrato","Administrativa",null,"Oficina Asesora Jurídica","2025-01-17","Correo electrónico","2025-01-17",null,"",null,{"$f":"IFERROR(WORKDAY(N79,Y79,Hoja1!F71:F187),\"\")","v":""},"",null,"A TIEMPO",10,0,null,null,{"$f":"IFERROR(VLOOKUP(F79,Hoja1!$A$50:$C$63,2),\"\")","v":15},{"$f":"IFERROR(VLOOKUP(F79,Hoja1!$A$50:$C$63,3),\"\")","v":15}]
[70,20259910000344,"2025-01-02","Persona natural","Virtual - Correo electrónico","Solicitud de documentos o información","Registros ambientales",null,"Subdirección de Estudios Ambientales","2025-01-08","Correo electrónico","2025-01-17",null,"",null,{"$f":"IFERROR(WORKDAY(N80,Y80,Hoja1!F72:F188),\"\")","v":""},"",null,"A TIEMPO",3,0,null,null,{"$f":"IFERROR(VLOOKUP(F80,Hoja1!$A$50:$C$63,2),\"\")","v":5},{"$f":"IFERROR(VLOOKUP(F80,Hoja1!$A$50:$C$63,3),\"\")","v":5}]
[{"$f":"IF(B81<>\"\",A80+1,\"\")","v":71},20259910000354,"2025-01-02","Persona natural","Virtual - Correo electrónico","Certificación de contrato","Administrativa",null,"Oficina Asesora Jurídica","2025-01-17","Correo electrónico","2025-01-17",null,"",null,{"$f":"IFERROR(WORKDAY(N81,Y81,Hoja1!F73:F189),\"\")","v":""},"",null,"A TIEMPO",10,0,null,null,{"$f":"IFERROR(VLOOKUP(F81,Hoja1!$A$50:$C$63,2),\"\")","v":15},{"$f":"IFERROR(VLOOKUP(F81,Hoja1!$A$50:$C$63,3),\"\")","v":15}]
[72,20259050000364,"2025-01-02","Persona natural","Virtual - Formulario PQRSDF","Certificación de contrato","Administrativa",null,"Grupo de Tesorería","2025-01-08","Correo electrónico","2025-01-17",null,"",null,{"$f":"IFERROR(WORKDAY(N82,Y82,Hoja1!F74:F190),\"\")","v":""},"",null,"A TIEMPO",3,0,null,null,{"$f":"IFERROR(VLOOKUP(F82,Hoja1!$A$50:$C$63,2),\"\")","v":15},{"$f":"IFERROR(VLOOKUP(F82,Hoja1!$A$50:$C$63,3),\"\")","v":15}]
[73,20259050000374,"2025-01-02","Persona natural","Virtual - Formulario PQRSDF","Certificación de contrato","Administrativa",null,"Oficina Asesora Jurídica","2025-01-17","Correo electrónico","2025-01-17",null,"",null,{"$f":"IFERROR(WORKDAY(N83,Y83,Hoja1!F75:F191),\"\")","v":""},"",null,"A TIEMPO",10,0,null,null,{"$f":"IFERROR(VLOOKUP(F83,Hoja1!$A$50:$C$63,2),\"\")","v":15},{"$f":"IFERROR(VLOOKUP(F83,Hoja1!$A$50:$C$63,3),\"\")","v":15}]
[74,20259050000384,"2025-01-02","Persona natural","Virtual - Formulario PQRSDF","Certificación de ingresos y retenciones","Administrativa",null,"Grupo de Tesorería","2025-01-07","Correo electrónico","2025-01-17",null,"",null,{"$f":"IFERROR(WORKDAY(N84,Y84,Hoja1!F76:F192),\"\")","v":""},"",null,"A TIEMPO",2,0,null,null,{"$f":"IFERROR(VLOOKUP(F84,Hoja1!$A$50:$C$63,2),\"\")","v":15},{"$f":"IFERROR(VLOOKUP(F84,Hoja1!$A$50:$C$63,3),\"\")","v":15}]
[75,20259050000394,"2025-01-02","Persona natural","Virtual - Formulario PQRSDF","Certificación de contrato","Administrativa",null,"Oficina Asesora Jurídica","2025-01-17","Correo electrónico","2025-01-17",null,"",null,{"$f":"IFERROR(WORKDAY(N85,Y85,Hoja1!F77:F193),\"\")","v":""},"",null,"A TIEMPO",10,0,null,null,{"$f":"IFERROR(VLOOKUP(F85,Hoja1!$A$50:$C$63,2),\"\")","v":15},{"$f":"IFERROR(VLOOKUP(F85,Hoja1!$A$50:$C$63,3),\"\")","v":15}]
[76,20259050000404,"2025-01-02","Persona natural","Virtual - Formulario PQRSDF","Certificación de contrato","Administrativa",null,"Oficina Asesora Jurídica","2025-01-17","Correo electrónico","2025-01-17",null,"",null,{"$f":"IFERROR(WORKDAY(N86,Y86,Hoja1!F78:F194),\"\")","v":""},"",null,"A TIEMPO",10,0,null,null,{"$f":"IFERROR(VLOOKUP(F86,Hoja1!$A$50:$C$63,2),\"\")","v":15},{"$f":"IFERROR(VLOOKUP(F86,Hoja1!$A$50:$C$63,3),\"\")","v":15}]
[77,20259910000434,"2025-01-02","Persona jurídica","Virtual - Correo electrónico","Solicitud de documentos o información","Registros ambientales",null,"Subdirección de Estudios Ambientales","2025-01-08","Correo electrónico","2025-01-17",null,"",null,{"$f":"IFERROR(WORKDAY(N87,Y87,Hoja1!F79:F195),\"\")","v":""},"",null,"A TIEMPO",3,0,null,null,{"$f":"IFERROR(VLOOKUP(F87,Hoja1!$A$50:$C$63,2),\"\")","v":5},{"$f":"IFERROR(VLOOKUP(F87,Hoja1!$A$50:$C$63,3),\"\")","v":5}]
[78,20259910000444,"2025-01-02","Persona jurídica","Virtual - Correo electrónico","Certificación de tiempo, clima y eventos hidrológicos","Certificaciones del tiempo y clima",null,"Subdirección de Meteorología","2025-01-24","Correo electrónico","2025-02-14",null,"",null,{"$f":"IFERROR(WORKDAY(N88,Y88,Hoja1!F80:F196),\"\")","v":""},"",null,"A TIEMPO",15,0,null,null,{"$f":"IFERROR(VLOOKUP(F88,Hoja1!$A$50:$C$63,2),\"\")","v":15},{"$f":"IFERROR(VLOOKUP(F88,Hoja1!$A$50:$C$63,3),\"\")","v":15}]
[79,20259910000454,"2025-01-02","Persona jurídica","Virtual - Correo electrónico","Petición entre autoridades","Solicitud de información hidrometeorológica",null,"Oficina del Servicio de Pronósticos y Alertas","2025-01-03","Correo electrónico","2025-01-17",null,"",null,{"$f":"IFERROR(WORKDAY(N89,Y89,Hoja1!F81:F197),\"\")","v":""},"",null,"A TIEMPO",1,0,null,null,{"$f":"IFERROR(VLOOKUP(F89,Hoja1!$A$50:$C$63,2),\"\")","v":10},{"$f":"IFERROR(VLOOKUP(F89,Hoja1!$A$50:$C$63,3),\"\")","v":10}]
[80,20259910000464,"2025-01-02","Persona natural","Virtual - Correo electrónico","Certificación de contrato","Administrativa",null,"Oficina Asesora Jurídica","2025-01-17","Correo electrónico","2025-01-17",null,"",null,{"$f":"IFERROR(WORKDAY(N90,Y90,Hoja1!F82:F198),\"\")","v":""},"",null,"A TIEMPO",10,0,null,null,{"$f":"IFERROR(VLOOKUP(F90,Hoja1!$A$50:$C$63,2),\"\")","v":15},{"$f":"IFERROR(VLOOKUP(F90,Hoja1!$A$50:$C$63,3),\"\")","v":15}]
[81,20259910000484,"2025-01-02","Persona natural","Virtual - Correo electrónico","Certificación de contrato","Administrativa",null,"Oficina Asesora Jurídica","2025-01-17","Correo electrónico","2025-01-17",null,"",null,{"$f":"IFERROR(WORKDAY(N91,Y91,Hoja1!F83:F199),\"\")","v":""},"",null,"A TIEMPO",10,0,null,null,{"$f":"IFERROR(VLOOKUP(F91,Hoja1!$A$50:$C$63,2),\"\")","v":15},{"$f":"IFERROR(VLOOKUP(F91,Hoja1!$A$50:$C$63,3),\"\")","v":15}]
[82,20259910000494,"2025-01-02","Persona natural","Virtual - Correo electrónico","Certificación de contrato","Administrativa",null,"Oficina Asesora Jurídica","2025-01-17","Correo electrónico","2025-01-17",null,"",null,{"$f":"IFERROR(WORKDAY(N92,Y92,Hoja1!F84:F200),\"\")","v":""},"",null,"A TIEMPO",10,0,null,null,{"$f":"IFERROR(VLOOKUP(F92,Hoja1!$A$50:$C$63,2),\"\")","v":15},{"$f":"IFERROR(VLOOKUP(F92,Hoja1!$A$50:$C$63,3),\"\")","v":15}]
[83,20259910000504,"2025-01-02","Persona natural","Virtual - Correo electrónico","Certificación laboral o pasantía","Administrativa",null,"Grupo de Administración y Desarrollo del Talento Humano","2025-01-03","Correo electrónico","2025-01-17",null,"",null,{"$f":"IFERROR(WORKDAY(N93,Y93,Hoja1!F85:F201),\"\")","v":""},"",null,"A TIEMPO",1,0,null,null,{"$f":"IFERROR(VLOOKUP(F93,Hoja1!$A$50:$C$63,2),\"\")","v":15},{"$f":"IFERROR(VLOOKUP(F93,Hoja1!$A$50:$C$63,3),\"\")","v":15}]
[84,20259910000514,"2025-01-02","Persona natural","Virtual - Correo electrónico","Certificación de ingresos y retenciones","Administrativa",null,"Grupo de Tesorería","2025-01-07","Correo electrónico","2025-01-17",null,"",null,{"$f":"IFERROR(WORKDAY(N94,Y94,Hoja1!F86:F202),\"\")","v":""},"",null,"A TIEMPO",2,0,null,null,{"$f":"IFERROR(VLOOKUP(F94,Hoja1!$A$50:$C$63,2),\"\")","v":15},{"$f":"IFERROR(VLOOKUP(F94,Hoja1!$A$50:$C$63,3),\"\")","v":15}]
[85,20259910000524,"2025-01-02","Persona natural","Virtual - Correo electrónico","Certificación de contrato","Administrativa",null,"Oficina Asesora Jurídica","2025-01-17","Correo electrónico","2025-01-17",null,"",null,{"$f":"IFERROR(WORKDAY(N95,Y95,Hoja1!F87:F203),\"\")","v":""},"",null,"A TIEMPO",10,0,null,null,{"$f":"IFERROR(VLOOKUP(F95,Hoja1!$A$50:$C$63,2),\"\")","v":15},{"$f":"IFERROR(VLOOKUP(F95,Hoja1!$A$50:$C$63,3),\"\")","v":15}]
[86,20259050000534,"2025-01-02","Persona natural","Virtual - Formulario PQRSDF","Certificación de contrato","Administrativa",null,"Oficina Asesora Jurídica","2025-01-17","Correo electrónico","2025-01-17",null,"",null,{"$f":"IFERROR(WORKDAY(N96,Y96,Hoja1!F88:F204),\"\")","v":""},"",null,"A TIEMPO",10,0,null,null,{"$f":"IFERROR(VLOOKUP(F96,Hoja1!$A$50:$C$63,2),\"\")","v":15},{"$f":"IFERROR(VLOOKUP(F96,Hoja1!$A$50:$C$63,3),\"\")","v":15}]
[87,20259050000544,"2025-01-02","Persona natural","Virtual - Formulario PQRSDF","Solicitud de documentos o información","Sistema de información ambiental",null,"Subdirección de Estudios Ambientales","2025-01-16","Correo electrónico","2025-01-17",null,"",null,{"$f":"IFERROR(WORKDAY(N97,Y97,Hoja1!F89:F205),\"\")","v":""},"",null,"A TIEMPO",9,0,null,null,{"$f":"IFERROR(VLOOKUP(F97,Hoja1!$A$50:$C$63,2),\"\")","v":5},{"$f":"IFERROR(VLOOKUP(F97,Hoja1!$A$50:$C$63,3),\"\")","v":5}]
[88,20259910000554,"2025-01-03","Persona natural","Virtual - Correo electrónico","Certificación de contrato","Administrativa",null,"Oficina Asesora Jurídica","2025-01-20","Correo electrónico","2025-01-20",null,"",null,{"$f":"IFERROR(WORKDAY(N98,Y98,Hoja1!F90:F206),\"\")","v":""},"",null,"A TIEMPO",10,0,null,null,{"$f":"IFERROR(VLOOKUP(F98,Hoja1!$A$50:$C$63,2),\"\")","v":15},{"$f":"IFERROR(VLOOKUP(F98,Hoja1!$A$50:$C$63,3),\"\")","v":15}]
[89,20259910000564,"2025-01-03","Persona natural","Virtual - Correo electrónico","Certificación de contrato","Administrativa",null,"Oficina Asesora Jurídica","2025-01-20","Correo electrónico","2025-01-20",null,"",null,{"$f":"IFERROR(WORKDAY(N99,Y99,Hoja1!F91:F207),\"\")","v":""},"",null,"A TIEMPO",10,0,null,null,{"$f":"IFERROR(VLOOKUP(F99,Hoja1!$A$50:$C$63,2),\"\")","v":15},{"$f":"IFERROR(VLOOKUP(F99,Hoja1!$A$50:$C$63,3),\"\")","v":15}]
[90,20259910000604,"2025-01-03","Persona natural","Virtual - Correo electrónico","Certificación de contrato","Administrativa",null,"Oficina Asesora Jurídica","2025-01-20","Correo electrónico","2025-01-20",null,"",null,{"$f":"IFERROR(WORKDAY(N100,Y100,Hoja1!F92:F208),\"\")","v":""},"",null,"A TIEMPO",10,0,null,null,{"$f":"IFERROR(VLOOKUP(F100,Hoja1!$A$50:$C$63,2),\"\")","v":15},{"$f":"IFERROR(VLOOKUP(F100,Hoja1!$A$50:$C$63,3),\"\")","v":15}]
[91,20259910000624,"2025-01-03","Persona natural","Virtual - Correo electrónico","Certificación de contrato","Administrativa",null,"Oficina Asesora Jurídica","2025-01-20","Correo electrónico","2025-01-20",null,"",null,{"$f":"IFERROR(WORKDAY(N101,Y101,Hoja1!F93:F209),\"\")","v":""},"",null,"A TIEMPO",10,0,null,null,{"$f":"IFERROR(VLOOKUP(F101,Hoja1!$A$50:$C$63,2),\"\")","v":15},{"$f":"IFERROR(VLOOKUP(F101,Hoja1!$A$50:$C$63,3),\"\")","v":15}]
[92,20259910000634,"2025-01-03","Persona natural","Virtual - Correo electrónico","Certificación de ingresos y retenciones","Administrativa",null,"Grupo de Tesorería","2025-01-07","Correo electrónico","2025-01-20",null,"",null,{"$f":"IFERROR(WORKDAY(N102,Y102,Hoja1!F94:F210),\"\")","v":""},"",null,"A TIEMPO",1,0,null,null,{"$f":"IFERROR(VLOOKUP(F102,Hoja1!$A$50:$C$63,2),\"\")","v":15},{"$f":"IFERROR(VLOOKUP(F102,Hoja1!$A$50:$C$63,3),\"\")","v":15}]
[93,20259910000674,"2025-01-03","Persona natural","Virtual - Correo electrónico","Solicitud de documentos o información","Sistema de información del recurso hídrico",null,"Subdirección de Hidrología","2025-01-13","Correo electrónico","2025-01-20",null,"",null,{"$f":"IFERROR(WORKDAY(N103,Y103,Hoja1!F95:F211),\"\")","v":""},"",null,"A TIEMPO",5,0,null,null,{"$f":"IFERROR(VLOOKUP(F103,Hoja1!$A$50:$C$63,2),\"\")","v":5},{"$f":"IFERROR(VLOOKUP(F103,Hoja1!$A$50:$C$63,3),\"\")","v":5}]
[94,20259910000684,"2025-01-03","Persona jurídica","Virtual - Correo electrónico","Solicitud de documentos o información","Registros ambientales",null,"Subdirección de Estudios Ambientales","2025-01-14","Correo electrónico","2025-01-20",null,"",null,{"$f":"IFERROR(WORKDAY(N104,Y104,Hoja1!F96:F212),\"\")","v":""},"",null,"A TIEMPO",6,0,null,null,{"$f":"IFERROR(VLOOKUP(F104,Hoja1!$A$50:$C$63,2),\"\")","v":5},{"$f":"IFERROR(VLOOKUP(F104,Hoja1!$A$50:$C$63,3),\"\")","v":5}]
[95,20259910000694,"2025-01-03","Persona natural","Virtual - Correo electrónico","Certificación laboral o pasantía","Administrativa",null,"Grupo de Administración y Desarrollo del Talento Humano","2025-01-03","Correo electrónico","2025-01-20",null,"",null,{"$f":"IFERROR(WORKDAY(N105,Y105,Hoja1!F97:F213),\"\")","v":""},"",null,"A TIEMPO",0,0,null,null,{"$f":"IFERROR(VLOOKUP(F105,Hoja1!$A$50:$C$63,2),\"\")","v":15},{"$f":"IFERROR(VLOOKUP(F105,Hoja1!$A$50:$C$63,3),\"\")","v":15}]
[96,20259910000704,"2025-01-03","Persona natural","Virtual - Correo electrónico","Certificación de contrato","Administrativa",null,"Oficina Asesora Jurídica","2025-01-27","Correo electrónico","2025-01-20",null,"",null,{"$f":"IFERROR(WORKDAY(N106,Y106,Hoja1!F98:F214),\"\")","v":""},"",null,{"$f":"+IF(C106=\"\",\"\",IF(J106=\"\",\"SIN RESPUESTA\",(IF(J106<=L106,\"A TIEMPO\",\"FUERA DE TIEMPO\"))))","v":"FUERA DE TIEMPO"},15,5,null,null,{"$f":"IFERROR(VLOOKUP(F106,Hoja1!$A$50:$C$63,2),\"\")","v":15},{"$f":"IFERROR(VLOOKUP(F106,Hoja1!$A$50:$C$63,3),\"\")","v":15}]
[97,20259050000714,"2025-01-03","Persona natural","Virtual - Formulario PQRSDF","Solicitud de documentos o información","Administrativa",null,"Grupo de Administración y Desarrollo del Talento Humano","2025-01-21","Correo electrónico","2025-01-20",null,"",null,{"$f":"IFERROR(WORKDAY(N107,Y107,Hoja1!F99:F215),\"\")","v":""},"",null,{"$f":"+IF(C107=\"\",\"\",IF(J107=\"\",\"SIN RESPUESTA\",(IF(J107<=L107,\"A TIEMPO\",\"FUERA DE TIEMPO\"))))","v":"FUERA DE TIEMPO"},11,1,null,null,{"$f":"IFERROR(VLOOKUP(F107,Hoja1!$A$50:$C$63,2),\"\")","v":5},{"$f":"IFERROR(VLOOKUP(F107,Hoja1!$A$50:$C$63,3),\"\")","v":5}]
[98,20259910000764,"2025-01-03","Persona jurídica","Virtual - Correo electrónico","Solicitud de documentos o información","Registros ambientales",null,"Subdirección de Estudios Ambientales","2025-01-08","Correo electrónico","2025-01-20",null,"",null,{"$f":"IFERROR(WORKDAY(N108,Y108,Hoja1!F100:F216),\"\")","v":""},"",null,"A TIEMPO",2,0,null,null,{"$f":"IFERROR(VLOOKUP(F108,Hoja1!$A$50:$C$63,2),\"\")","v":5},{"$f":"IFERROR(VLOOKUP(F108,Hoja1!$A$50:$C$63,3),\"\")","v":5}]
[99,20259910000774,"2025-01-03","Persona natural","Virtual - Correo electrónico","Certificación de contrato","Administrativa",null,"Oficina Asesora Jurídica","2025-01-20","Correo electrónico","2025-01-20",null,"",null,{"$f":"IFERROR(WORKDAY(N109,Y109,Hoja1!F101:F217),\"\")","v":""},"",null,"A TIEMPO",10,0,null,null,{"$f":"IFERROR(VLOOKUP(F109,Hoja1!$A$50:$C$63,2),\"\")","v":15},{"$f":"IFERROR(VLOOKUP(F109,Hoja1!$A$50:$C$63,3),\"\")","v":15}]
[100,20259910000784,"2025-01-03","Persona jurídica","Virtual - Correo electrónico","Consulta (Información técnica)","Bosques",null,"Subdirección de Ecosistemas e Información Ambiental","2025-02-10","Correo electrónico","2025-02-17",null,"",null,{"$f":"IFERROR(WORKDAY(N110,Y110,Hoja1!F102:F218),\"\")","v":""},"",null,"A TIEMPO",25,0,null,null,{"$f":"IFERROR(VLOOKUP(F110,Hoja1!$A$50:$C$63,2),\"\")","v":30},{"$f":"IFERROR(VLOOKUP(F110,Hoja1!$A$50:$C$63,3),\"\")","v":30}]
[101,20259050000794,"2025-01-03","Persona natural","Virtual - Formulario PQRSDF","Certificación de contrato","Administrativa",null,"Oficina Asesora Jurídica","2025-01-20","Correo electrónico","2025-01-20",null,"",null,{"$f":"IFERROR(WORKDAY(N111,Y111,Hoja1!F103:F219),\"\")","v":""},"",null,"A TIEMPO",10,0,null,null,{"$f":"IFERROR(VLOOKUP(F111,Hoja1!$A$50:$C$63,2),\"\")","v":15},{"$f":"IFERROR(VLOOKUP(F111,Hoja1!$A$50:$C$63,3),\"\")","v":15}]
[102,20259050000804,"2025-01-03","Persona natural","Virtual - Formulario PQRSDF","Certificación de ingresos y retenciones","Administrativa",null,"Grupo de Tesorería","2025-01-07","Correo electrónico","2025-01-20",null,"",null,{"$f":"IFERROR(WORKDAY(N112,Y112,Hoja1!F104:F220),\"\")","v":""},"",null,"A TIEMPO",1,0,null,null,{"$f":"IFERROR(VLOOKUP(F112,Hoja1!$A$50:$C$63,2),\"\")","v":15},{"$f":"IFERROR(VLOOKUP(F112,Hoja1!$A$50:$C$63,3),\"\")","v":15}]
[103,20259910000824,"2025-01-03","Persona jurídica","Virtual - Correo electrónico","Solicitud de documentos o información","Registros ambientales",null,"Subdirección de Estudios Ambientales","2025-01-09","Correo electrónico","2025-01-20",null,"",null,{"$f":"IFERROR(WORKDAY(N113,Y113,Hoja1!F105:F221),\"\")","v":""},"",null,"A TIEMPO",3,0,null,null,{"$f":"IFERROR(VLOOKUP(F113,Hoja1!$A$50:$C$63,2),\"\")","v":5},{"$f":"IFERROR(VLOOKUP(F113,Hoja1!$A$50:$C$63,3),\"\")","v":5}]
[104,20259910000834,"2025-01-03","Persona jurídica","Virtual - Correo electrónico","Solicitud de documentos o información","Solicitud de información hidrometeorológica",null,"Subdirección de Meteorología","2025-01-08","Correo electrónico","2025-01-20",null,"",null,{"$f":"IFERROR(WORKDAY(N114,Y114,Hoja1!F106:F222),\"\")","v":""},"",null,"A TIEMPO",2,0,null,null,{"$f":"IFERROR(VLOOKUP(F114,Hoja1!$A$50:$C$63,2),\"\")","v":5},{"$f":"IFERROR(VLOOKUP(F114,Hoja1!$A$50:$C$63,3),\"\")","v":5}]
[105,20259910000844,"2025-01-03","Persona natural","Virtual - Correo electrónico","Certificación de contrato","Administrativa",null,"Oficina Asesora Jurídica","2025-01-20","Correo electrónico","2025-01-20",null,"",null,{"$f":"IFERROR(WORKDAY(N115,Y115,Hoja1!F107:F223),\"\")","v":""},"",null,"A TIEMPO",10,0,null,null,{"$f":"IFERROR(VLOOKUP(F115,Hoja1!$A$50:$C$63,2),\"\")","v":15},{"$f":"IFERROR(VLOOKUP(F115,Hoja1!$A$50:$C$63,3),\"\")","v":15}]
[106,20259910000854,"2025-01-03","Persona jurídica","Virtual - Correo electrónico","Certificación de tiempo, clima y eventos hidrológicos","Certificaciones del tiempo y clima",null,"Subdirección de Meteorología","2025-01-27","Correo electrónico","2025-02-17",null,"",null,{"$f":"IFERROR(WORKDAY(N116,Y116,Hoja1!F108:F224),\"\")","v":""},"",null,"A TIEMPO",15,0,null,null,{"$f":"IFERROR(VLOOKUP(F116,Hoja1!$A$50:$C$63,2),\"\")","v":15},{"$f":"IFERROR(VLOOKUP(F116,Hoja1!$A$50:$C$63,3),\"\")","v":15}]
[107,20259910000874,"2025-01-03","Persona natural","Virtual - Correo electrónico","Certificación de contrato","Administrativa",null,"Oficina Asesora Jurídica","2025-01-20","Correo electrónico","2025-01-20",null,"",null,{"$f":"IFERROR(WORKDAY(N117,Y117,Hoja1!F109:F225),\"\")","v":""},"",null,"A TIEMPO",10,0,null,null,{"$f":"IFERROR(VLOOKUP(F117,Hoja1!$A$50:$C$63,2),\"\")","v":15},{"$f":"IFERROR(VLOOKUP(F117,Hoja1!$A$50:$C$63,3),\"\")","v":15}]
[108,20259050000914,"2025-01-03","Persona natural","Virtual - Formulario PQRSDF","Certificación de contrato","Administrativa",null,"Oficina Asesora Jurídica","2025-01-20","Correo electrónico","2025-01-20",null,"",null,{"$f":"IFERROR(WORKDAY(N118,Y118,Hoja1!F110:F226),\"\")","v":""},"",null,"A TIEMPO",10,0,null,null,{"$f":"IFERROR(VLOOKUP(F118,Hoja1!$A$50:$C$63,2),\"\")","v":15},{"$f":"IFERROR(VLOOKUP(F118,Hoja1!$A$50:$C$63,3),\"\")","v":15}]
[109,20259050000974,"2025-01-03","Persona natural","Virtual - Formulario PQRSDF","Certificación de contrato","Administrativa",null,"Oficina Asesora Jurídica","2025-01-24","Correo electrónico","2025-01-20",null,"",null,{"$f":"IFERROR(WORKDAY(N119,Y119,Hoja1!F111:F227),\"\")","v":""},"",null,{"$f":"+IF(C119=\"\",\"\",IF(J119=\"\",\"SIN RESPUESTA\",(IF(J119<=L119,\"A TIEMPO\",\"FUERA DE TIEMPO\"))))","v":"FUERA DE TIEMPO"},14,4,null,null,{"$f":"IFERROR(VLOOKUP(F119,Hoja1!$A$50:$C$63,2),\"\")","v":15},{"$f":"IFERROR(VLOOKUP(F119,Hoja1!$A$50:$C$63,3),\"\")","v":15}]
[110,20259910000984,"2025-01-03","Persona natural","Virtual - Correo electrónico","Certificación de contrato","Administrativa",null,"Oficina Asesora Jurídica","2025-01-20","Correo electrónico","2025-01-20",null,"",null,{"$f":"IFERROR(WORKDAY(N120,Y120,Hoja1!F112:F228),\"\")","v":""},"",null,"A TIEMPO",10,0,null,null,{"$f":"IFERROR(VLOOKUP(F120,Hoja1!$A$50:$C$63,2),\"\")","v":15},{"$f":"IFERROR(VLOOKUP(F120,Hoja1!$A$50:$C$63,3),\"\")","v":15}]
[111,20259910000994,"2025-01-03","Persona jurídica","Virtual - Correo electrónico","Petición entre autoridades","Registros ambientales",null,"Subdirección de Estudios Ambientales","2025-01-08","Correo electrónico","2025-01-20",null,"",null,{"$f":"IFERROR(WORKDAY(N121,Y121,Hoja1!F113:F229),\"\")","v":""},"",null,"A TIEMPO",2,0,null,null,{"$f":"IFERROR(VLOOKUP(F121,Hoja1!$A$50:$C$63,2),\"\")","v":10},{"$f":"IFERROR(VLOOKUP(F121,Hoja1!$A$50:$C$63,3),\"\")","v":10}]
[112,20259050001004,"2025-01-03","Persona natural","Virtual - Formulario PQRSDF","Certificación de contrato","Administrativa",null,"Oficina Asesora Jurídica","2025-01-20","Correo electrónico","2025-01-20",null,"",null,{"$f":"IFERROR(WORKDAY(N122,Y122,Hoja1!F114:F230),\"\")","v":""},"",null,"A TIEMPO",10,0,null,null,{"$f":"IFERROR(VLOOKUP(F122,Hoja1!$A$50:$C$63,2),\"\")","v":15},{"$f":"IFERROR(VLOOKUP(F122,Hoja1!$A$50:$C$63,3),\"\")","v":15}]
[113,20259910001024,"2025-01-03","Persona natural","Virtual - Correo electrónico","Solicitud de documentos o información","Sistema de información del recurso hídrico",null,"Subdirección de Hidrología","2025-01-13","Correo electrónico","2025-01-20",null,"",null,{"$f":"IFERROR(WORKDAY(N123,Y123,Hoja1!F115:F231),\"\")","v":""},"",null,"A TIEMPO",5,0,null,null,{"$f":"IFERROR(VLOOKUP(F123,Hoja1!$A$50:$C$63,2),\"\")","v":5},{"$f":"IFERROR(VLOOKUP(F123,Hoja1!$A$50:$C$63,3),\"\")","v":5}]
[114,20259910001064,"2025-01-03","Persona natural","Virtual - Correo electrónico","Certificación de contrato","Administrativa",null,"Oficina Asesora Jurídica","2025-01-20","Correo electrónico","2025-01-20",null,"",null,{"$f":"IFERROR(WORKDAY(N124,Y124,Hoja1!F116:F232),\"\")","v":""},"",null,"A TIEMPO",10,0,null,null,{"$f":"IFERROR(VLOOKUP(F124,Hoja1!$A$50:$C$63,2),\"\")","v":15},{"$f":"IFERROR(VLOOKUP(F124,Hoja1!$A$50:$C$63,3),\"\")","v":15}]
[115,20259050001104,"2025-01-03","Persona natural","Virtual - Formulario PQRSDF","Certificación laboral o pasantía","Administrativa",null,"Grupo de Administración y Desarrollo del Talento Humano","2025-01-17","Correo electrónico","2025-01-20",null,"",null,{"$f":"IFERROR(WORKDAY(N125,Y125,Hoja1!F117:F233),\"\")","v":""},"",null,"A TIEMPO",9,0,null,null,{"$f":"IFERROR(VLOOKUP(F125,Hoja1!$A$50:$C$63,2),\"\")","v":15},{"$f":"IFERROR(VLOOKUP(F125,Hoja1!$A$50:$C$63,3),\"\")","v":15}]
[116,20259050001164,"2025-01-06","Persona natural","Virtual - Formulario PQRSDF","Certificación de contrato","Administrativa",null,"Oficina Asesora Jurídica","2025-01-22","Correo electrónico","2025-01-20",null,"",null,{"$f":"IFERROR(WORKDAY(N126,Y126,Hoja1!F118:F234),\"\")","v":""},"",null,{"$f":"+IF(C126=\"\",\"\",IF(J126=\"\",\"SIN RESPUESTA\",(IF(J126<=L126,\"A TIEMPO\",\"FUERA DE TIEMPO\"))))","v":"FUERA DE TIEMPO"},11,2,null,null,{"$f":"IFERROR(VLOOKUP(F126,Hoja1!$A$50:$C$63,2),\"\")","v":15},{"$f":"IFERROR(VLOOKUP(F126,Hoja1!$A$50:$C$63,3),\"\")","v":15}]
[117,20259050001114,"2025-01-03","Persona natural","Virtual - Formulario PQRSDF","Certificación de ingresos y retenciones","Administrativa",null,"Grupo de Tesorería","2025-01-08","Correo certificado","2025-01-20",null,"",null,{"$f":"IFERROR(WORKDAY(N127,Y127,Hoja1!F119:F235),\"\")","v":""},"",null,"A TIEMPO",2,0,null,null,{"$f":"IFERROR(VLOOKUP(F127,Hoja1!$A$50:$C$63,2),\"\")","v":15},{"$f":"IFERROR(VLOOKUP(F127,Hoja1!$A$50:$C$63,3),\"\")","v":15}]
[118,20259050001184,"2025-01-06","Persona natural","Virtual - Formulario PQRSDF","Certificación de contrato","Administrativa",null,"Oficina Asesora Jurídica","2025-01-22","Correo electrónico","2025-01-20",null,"",null,{"$f":"IFERROR(WORKDAY(N128,Y128,Hoja1!F120:F236),\"\")","v":""},"",null,{"$f":"+IF(C128=\"\",\"\",IF(J128=\"\",\"SIN RESPUESTA\",(IF(J128<=L128,\"A TIEMPO\",\"FUERA DE TIEMPO\"))))","v":"FUERA DE TIEMPO"},11,2,null,null,{"$f":"IFERROR(VLOOKUP(F128,Hoja1!$A$50:$C$63,2),\"\")","v":15},{"$f":"IFERROR(VLOOKUP(F128,Hoja1!$A$50:$C$63,3),\"\")","v":15}]
[119,20259910001044,"2025-01-03","Persona jurídica","Virtual - Correo electrónico","Solicitud de documentos o información","Administrativa",null,"Oficina Asesora de Planeación","2025-01-20","Correo electrónico","2025-01-20",null,"",null,{"$f":"IFERROR(WORKDAY(N129,Y129,Hoja1!F121:F237),\"\")","v":""},"",null,"A TIEMPO",10,0,null,null,{"$f":"IFERROR(VLOOKUP(F129,Hoja1!$A$50:$C$63,2),\"\")","v":5},{"$f":"IFERROR(VLOOKUP(F129,Hoja1!$A$50:$C$63,3),\"\")","v":5}]
[120,20259910001054,"2025-01-03","Persona jurídica","Virtual - Correo electrónico","Solicitud de documentos o información","Registros ambientales",null,"Subdirección de Estudios Ambientales","2025-01-08","Correo electrónico","2025-01-20",null,"",null,{"$f":"IFERROR(WORKDAY(N130,Y130,Hoja1!F122:F238),\"\")","v":""},"",null,"A TIEMPO",2,0,null,null,{"$f":"IFERROR(VLOOKUP(F130,Hoja1!$A$50:$C$63,2),\"\")","v":5},{"$f":"IFERROR(VLOOKUP(F130,Hoja1!$A$50:$C$63,3),\"\")","v":5}]
[121,20259050001134,"2025-01-04","Persona natural","Virtual - Formulario PQRSDF","Solicitud de documentos o información","Solicitud de información hidrometeorológica",null,"Grupo de Servicio al Ciudadano","2025-01-09","Correo electrónico","2025-01-20",null,"",null,{"$f":"IFERROR(WORKDAY(N131,Y131,Hoja1!F123:F239),\"\")","v":""},"",null,"A TIEMPO",2,0,null,null,{"$f":"IFERROR(VLOOKUP(F131,Hoja1!$A$50:$C$63,2),\"\")","v":5},{"$f":"IFERROR(VLOOKUP(F131,Hoja1!$A$50:$C$63,3),\"\")","v":5}]
[122,20259050001144,"2025-01-05","Persona natural","Virtual - Formulario PQRSDF","Solicitud de documentos o información","Administrativa",null,"Subdirección de Meteorología","2025-01-08","Correo electrónico","2025-01-20",null,"",null,{"$f":"IFERROR(WORKDAY(N132,Y132,Hoja1!F124:F240),\"\")","v":""},"",null,"A TIEMPO",1,0,null,null,{"$f":"IFERROR(VLOOKUP(F132,Hoja1!$A$50:$C$63,2),\"\")","v":5},{"$f":"IFERROR(VLOOKUP(F132,Hoja1!$A$50:$C$63,3),\"\")","v":5}]
[123,20259050001174,"2025-01-06","Persona natural","Virtual - Formulario PQRSDF","Solicitud de documentos o información","Solicitud de información hidrometeorológica",null,"Grupo de Servicio al Ciudadano","2025-01-09","Correo electrónico","2025-01-20",null,"",null,{"$f":"IFERROR(WORKDAY(N133,Y133,Hoja1!F125:F241),\"\")","v":""},"",null,"A TIEMPO",2,0,null,null,{"$f":"IFERROR(VLOOKUP(F133,Hoja1!$A$50:$C$63,2),\"\")","v":5},{"$f":"IFERROR(VLOOKUP(F133,Hoja1!$A$50:$C$63,3),\"\")","v":5}]
[124,20259050001194,"2025-01-06","Persona natural","Virtual - Formulario PQRSDF","Solicitud de documentos o información","Sistema de información del recurso hídrico",null,"Grupo de Servicio al Ciudadano","2025-01-09","Correo electrónico","2025-01-20",null,"",null,{"$f":"IFERROR(WORKDAY(N134,Y134,Hoja1!F126:F242),\"\")","v":""},"",null,"A TIEMPO",2,0,null,null,{"$f":"IFERROR(VLOOKUP(F134,Hoja1!$A$50:$C$63,2),\"\")","v":5},{"$f":"IFERROR(VLOOKUP(F134,Hoja1!$A$50:$C$63,3),\"\")","v":5}]
[125,20259910001074,"2025-01-03","Persona jurídica","Virtual - Correo electrónico","Solicitud de documentos o información","Administrativa",null,"Oficina Asesora Jurídica","2025-01-31","Correo electrónico","2025-01-20",null,"",null,{"$f":"IFERROR(WORKDAY(N135,Y135,Hoja1!F127:F243),\"\")","v":""},"",null,{"$f":"+IF(C135=\"\",\"\",IF(J135=\"\",\"SIN RESPUESTA\",(IF(J135<=L135,\"A TIEMPO\",\"FUERA DE TIEMPO\"))))","v":"FUERA DE TIEMPO"},19,9,null,null,{"$f":"IFERROR(VLOOKUP(F135,Hoja1!$A$50:$C$63,2),\"\")","v":5},{"$f":"IFERROR(VLOOKUP(F135,Hoja1!$A$50:$C$63,3),\"\")","v":5}]
[126,20259050001154,"2025-01-05","Persona natural","Virtual - Formulario PQRSDF","Solicitud de documentos o información","Administrativa",null,"Subdirección de Ecosistemas e Información Ambiental","2025-01-20","Correo electrónico","2025-01-20",null,"",null,{"$f":"IFERROR(WORKDAY(N136,Y136,Hoja1!F128:F244),\"\")","v":""},"",null,"A TIEMPO",9,0,null,null,{"$f":"IFERROR(VLOOKUP(F136,Hoja1!$A$50:$C$63,2),\"\")","v":5},{"$f":"IFERROR(VLOOKUP(F136,Hoja1!$A$50:$C$63,3),\"\")","v":5}]
[127,20259910001204,"2025-01-07","Persona natural","Virtual - Correo electrónico","Certificación de contrato","Administrativa",null,"Oficina Asesora Jurídica","2025-01-22","Correo electrónico","2025-01-21",null,"",null,{"$f":"IFERROR(WORKDAY(N137,Y137,Hoja1!F129:F245),\"\")","v":""},"",null,{"$f":"+IF(C137=\"\",\"\",IF(J137=\"\",\"SIN RESPUESTA\",(IF(J137<=L137,\"A TIEMPO\",\"FUERA DE TIEMPO\"))))","v":"FUERA DE TIEMPO"},11,1,null,null,{"$f":"IFERROR(VLOOKUP(F137,Hoja1!$A$50:$C$63,2),\"\")","v":15},{"$f":"IFERROR(VLOOKUP(F137,Hoja1!$A$50:$C$63,3),\"\")","v":15}]
[128,20259910001214,"2025-01-07","Persona jurídica","Virtual - Correo electrónico","Petición entre autoridades","Registros ambientales",null,"Subdirección de Estudios Ambientales","2025-01-09","Correo electrónico","2025-01-21",null,"",null,{"$f":"IFERROR(WORKDAY(N138,Y138,Hoja1!F130:F246),\"\")","v":""},"",null,"A TIEMPO",2,0,null,null,{"$f":"IFERROR(VLOOKUP(F138,Hoja1!$A$50:$C$63,2),\"\")","v":10},{"$f":"IFERROR(VLOOKUP(F138,Hoja1!$A$50:$C$63,3),\"\")","v":10}]
[129,20259910001224,"2025-01-07","Persona natural","Virtual - Correo electrónico","Solicitud de documentos o información","Administrativa",null,"Grupo de Administración y Desarrollo del Talento Humano","2025-01-21","Correo electrónico","2025-01-21",null,"",null,{"$f":"IFERROR(WORKDAY(N139,Y139,Hoja1!F131:F247),\"\")","v":""},"",null,"A TIEMPO",10,0,null,null,{"$f":"IFERROR(VLOOKUP(F139,Hoja1!$A$50:$C$63,2),\"\")","v":5},{"$f":"IFERROR(VLOOKUP(F139,Hoja1!$A$50:$C$63,3),\"\")","v":5}]
[130,20259910001234,"2025-01-07","Persona natural","Virtual - Correo electrónico","Certificación de contrato","Administrativa",null,"Oficina Asesora Jurídica","2025-01-22","Correo electrónico","2025-01-21",null,"",null,{"$f":"IFERROR(WORKDAY(N140,Y140,Hoja1!F132:F248),\"\")","v":""},{"$f":"+IF(N140=\"\",\"\",IF(O140=\"\",\"SIN RESPUESTA\",(IF(O140<=P140,\"A TIEMPO\",\"FUERA DE TIEMPO\"))))","v":""},null,{"$f":"+IF(C140=\"\",\"\",IF(J140=\"\",\"SIN RESPUESTA\",(IF(J140<=L140,\"A TIEMPO\",\"FUERA DE TIEMPO\"))))","v":"FUERA DE TIEMPO"},11,1,null,null,{"$f":"IFERROR(VLOOKUP(F140,Hoja1!$A$50:$C$63,2),\"\")","v":15},{"$f":"IFERROR(VLOOKUP(F140,Hoja1!$A$50:$C$63,3),\"\")","v":15}]
[131,20259910001244,"2025-01-07","Persona natural","Virtual - Correo electrónico","Certificación de contrato","Administrativa",null,"Oficina Asesora Jurídica","2025-01-22","Correo electrónico","2025-01-21",null,"",null,{"$f":"IFERROR(WORKDAY(N141,Y141,Hoja1!F133:F249),\"\")","v":""},"",null,{"$f":"+IF(C141=\"\",\"\",IF(J141=\"\",\"SIN RESPUESTA\",(IF(J141<=L141,\"A TIEMPO\",\"FUERA DE TIEMPO\"))))","v":"FUERA DE TIEMPO"},11,1,null,null,{"$f":"IFERROR(VLOOKUP(F141,Hoja1!$A$50:$C$63,2),\"\")","v":15},{"$f":"IFERROR(VLOOKUP(F141,Hoja1!$A$50:$C$63,3),\"\")","v":15}]
[132,20259910001254,"2025-01-07","Persona jurídica","Virtual - Correo electrónico","Petición entre autoridades","Bosques",null,"Subdirección de Ecosistemas e Información Ambiental","2025-01-10","Correo electrónico","2025-01-21",null,"",null,{"$f":"IFERROR(WORKDAY(N142,Y142,Hoja1!F134:F250),\"\")","v":""},"",null,"A TIEMPO",3,0,null,null,{"$f":"IFERROR(VLOOKUP(F142,Hoja1!$A$50:$C$63,2),\"\")","v":10},{"$f":"IFERROR(VLOOKUP(F142,Hoja1!$A$50:$C$63,3),\"\")","v":10}]
[133,20259910001274,"2025-01-07","Persona jurídica","Virtual - Correo electrónico","Certificación de ingresos y retenciones","Administrativa",null,"Grupo de Contabilidad","2025-01-20","Correo electrónico","2025-01-21",null,"",null,{"$f":"IFERROR(WORKDAY(N143,Y143,Hoja1!F135:F251),\"\")","v":""},"",null,"A TIEMPO",9,0,null,null,{"$f":"IFERROR(VLOOKUP(F143,Hoja1!$A$50:$C$63,2),\"\")","v":15},{"$f":"IFERROR(VLOOKUP(F143,Hoja1!$A$50:$C$63,3),\"\")","v":15}]
[134,20259910001284,"2025-01-07","Persona natural","Virtual - Correo electrónico","Certificación de contrato","Administrativa",null,"Oficina Asesora Jurídica","2025-01-22","Correo electrónico","2025-01-21",null,"",null,{"$f":"IFERROR(WORKDAY(N144,Y144,Hoja1!F136:F252),\"\")","v":""},"",null,{"$f":"+IF(C144=\"\",\"\",IF(J144=\"\",\"SIN RESPUESTA\",(IF(J144<=L144,\"A TIEMPO\",\"FUERA DE TIEMPO\"))))","v":"FUERA DE TIEMPO"},11,1,null,null,{"$f":"IFERROR(VLOOKUP(F144,Hoja1!$A$50:$C$63,2),\"\")","v":15},{"$f":"IFERROR(VLOOKUP(F144,Hoja1!$A$50:$C$63,3),\"\")","v":15}]
[{"$f":"IF(B145<>\"\",A144+1,\"\")","v":135},20259910001294,"2025-01-07","Persona natural","Virtual - Correo electrónico","Certificación laboral o pasantía","Administrativa",null,"Grupo de Administración y Desarrollo del Talento Humano","2025-01-17","Correo electrónico","2025-01-21",null,"",null,{"$f":"IFERROR(WORKDAY(N145,Y145,Hoja1!F137:F253),\"\")","v":""},"",null,"A TIEMPO",8,0,null,null,{"$f":"IFERROR(VLOOKUP(F145,Hoja1!$A$50:$C$63,2),\"\")","v":15},{"$f":"IFERROR(VLOOKUP(F145,Hoja1!$A$50:$C$63,3),\"\")","v":15}]
[136,20259910001304,"2025-01-07","Persona jurídica","Virtual - Correo electrónico","Solicitud de documentos o información","Registros ambientales",null,"Subdirección de Estudios Ambientales","2025-01-09","Correo electrónico","2025-01-21",null,"",null,{"$f":"IFERROR(WORKDAY(N146,Y146,Hoja1!F138:F254),\"\")","v":""},"",null,"A TIEMPO",2,0,null,null,{"$f":"IFERROR(VLOOKUP(F146,Hoja1!$A$50:$C$63,2),\"\")","v":5},{"$f":"IFERROR(VLOOKUP(F146,Hoja1!$A$50:$C$63,3),\"\")","v":5}]
[137,20259910001324,"2025-01-07","Persona jurídica","Virtual - Correo electrónico","Solicitud de documentos o información","Administrativa",null,"Oficina Asesora Jurídica","2025-01-14","Correo electrónico","2025-01-21",null,"",null,{"$f":"IFERROR(WORKDAY(N147,Y147,Hoja1!F139:F255),\"\")","v":""},"",null,"A TIEMPO",5,0,null,null,{"$f":"IFERROR(VLOOKUP(F147,Hoja1!$A$50:$C$63,2),\"\")","v":5},{"$f":"IFERROR(VLOOKUP(F147,Hoja1!$A$50:$C$63,3),\"\")","v":5}]
[138,20259910001344,"2025-01-07","Persona jurídica","Virtual - Correo electrónico","Solicitud de documentos o información","Administrativa",null,"Oficina Asesora Jurídica","2025-01-21","Correo electrónico","2025-01-21",null,"",null,{"$f":"IFERROR(WORKDAY(N148,Y148,Hoja1!F140:F256),\"\")","v":""},"",null,"A TIEMPO",10,0,null,null,{"$f":"IFERROR(VLOOKUP(F148,Hoja1!$A$50:$C$63,2),\"\")","v":5},{"$f":"IFERROR(VLOOKUP(F148,Hoja1!$A$50:$C$63,3),\"\")","v":5}]
[139,20259910001364,"2025-01-07","Persona jurídica","Virtual - Correo electrónico","Certificación de contrato","Administrativa",null,"Oficina Asesora Jurídica","2025-01-22","Correo electrónico","2025-01-21",null,"",null,{"$f":"IFERROR(WORKDAY(N149,Y149,Hoja1!F141:F257),\"\")","v":""},"",null,{"$f":"+IF(C149=\"\",\"\",IF(J149=\"\",\"SIN RESPUESTA\",(IF(J149<=L149,\"A TIEMPO\",\"FUERA DE TIEMPO\"))))","v":"FUERA DE TIEMPO"},11,1,null,null,{"$f":"IFERROR(VLOOKUP(F149,Hoja1!$A$50:$C$63,2),\"\")","v":15},{"$f":"IFERROR(VLOOKUP(F149,Hoja1!$A$50:$C$63,3),\"\")","v":15}]
[140,20259050001404,"2025-01-07","Persona natural","Virtual - Formulario PQRSDF","Certificación de contrato","Administrativa",null,"Oficina Asesora Jurídica","2025-01-22","Correo electrónico","2025-01-21",null,"",null,{"$f":"IFERROR(WORKDAY(N150,Y150,Hoja1!F142:F258),\"\")","v":""},"",null,{"$f":"+IF(C150=\"\",\"\",IF(J150=\"\",\"SIN RESPUESTA\",(IF(J150<=L150,\"A TIEMPO\",\"FUERA DE TIEMPO\"))))","v":"FUERA DE TIEMPO"},11,1,null,null,{"$f":"IFERROR(VLOOKUP(F150,Hoja1!$A$50:$C$63,2),\"\")","v":15},{"$f":"IFERROR(VLOOKUP(F150,Hoja1!$A$50:$C$63,3),\"\")","v":15}]
[141,20259050001394,"2025-01-07","Persona natural","Virtual - Formulario PQRSDF","Certificación de contrato","Administrativa",null,"Oficina Asesora Jurídica","2025-01-22","Correo electrónico","2025-01-21",null,"",null,{"$f":"IFERROR(WORKDAY(N151,Y151,Hoja1!F143:F259),\"\")","v":""},"",null,{"$f":"+IF(C151=\"\",\"\",IF(J151=\"\",\"SIN RESPUESTA\",(IF(J151<=L151,\"A TIEMPO\",\"FUERA DE TIEMPO\"))))","v":"FUERA DE TIEMPO"},11,1,null,null,{"$f":"IFERROR(VLOOKUP(F151,Hoja1!$A$50:$C$63,2),\"\")","v":15},{"$f":"IFERROR(VLOOKUP(F151,Hoja1!$A$50:$C$63,3),\"\")","v":15}]
[142,20259050001414,"2025-01-07","Persona natural","Virtual - Formulario PQRSDF","Certificación de contrato","Administrativa",null,"Oficina Asesora Jurídica","2025-01-22","Correo electrónico","2025-01-21",null,"",null,{"$f":"IFERROR(WORKDAY(N152,Y152,Hoja1!F144:F260),\"\")","v":""},"",null,{"$f":"+IF(C152=\"\",\"\",IF(J152=\"\",\"SIN RESPUESTA\",(IF(J152<=L152,\"A TIEMPO\",\"FUERA DE TIEMPO\"))))","v":"FUERA DE TIEMPO"},11,1,null,null,{"$f":"IFERROR(VLOOKUP(F152,Hoja1!$A$50:$C$63,2),\"\")","v":15},{"$f":"IFERROR(VLOOKUP(F152,Hoja1!$A$50:$C$63,3),\"\")","v":15}]
[143,20259910001434,"2025-01-07","Persona jurídica","Virtual - Correo electrónico","Solicitud judicial","Administrativa",null,"Grupo de Administración y Desarrollo del Talento Humano","2025-01-20","Correo electrónico","2025-01-14",null,"",null,{"$f":"IFERROR(WORKDAY(N153,Y153,Hoja1!F145:F261),\"\")","v":""},"",null,{"$f":"+IF(C153=\"\",\"\",IF(J153=\"\",\"SIN RESPUESTA\",(IF(J153<=L153,\"A TIEMPO\",\"FUERA DE TIEMPO\"))))","v":"FUERA DE TIEMPO"},9,4,null,null,{"$f":"IFERROR(VLOOKUP(F153,Hoja1!$A$50:$C$63,2),\"\")","v":5},{"$f":"IFERROR(VLOOKUP(F153,Hoja1!$A$50:$C$63,3),\"\")","v":5}]
[144,20259910001424,"2025-01-07","Persona jurídica","Virtual - Correo electrónico","Solicitud de documentos o información","Administrativa",null,"Grupo de Administración y Desarrollo del Talento Humano","2025-01-28","Correo electrónico","2025-01-21",null,"",null,{"$f":"IFERROR(WORKDAY(N154,Y154,Hoja1!F146:F262),\"\")","v":""},"",null,{"$f":"+IF(C154=\"\",\"\",IF(J154=\"\",\"SIN RESPUESTA\",(IF(J154<=L154,\"A TIEMPO\",\"FUERA DE TIEMPO\"))))","v":"FUERA DE TIEMPO"},15,5,null,null,{"$f":"IFERROR(VLOOKUP(F154,Hoja1!$A$50:$C$63,2),\"\")","v":5},{"$f":"IFERROR(VLOOKUP(F154,Hoja1!$A$50:$C$63,3),\"\")","v":5}]
[145,20259050001464,"2025-01-07","Persona natural","Virtual - Formulario PQRSDF","Certificación de contrato","Administrativa",null,"Oficina Asesora Jurídica","2025-01-22","Correo electrónico","2025-01-21",null,"",null,{"$f":"IFERROR(WORKDAY(N155,Y155,Hoja1!F147:F263),\"\")","v":""},"",null,{"$f":"+IF(C155=\"\",\"\",IF(J155=\"\",\"SIN RESPUESTA\",(IF(J155<=L155,\"A TIEMPO\",\"FUERA DE TIEMPO\"))))","v":"FUERA DE TIEMPO"},11,1,null,null,{"$f":"IFERROR(VLOOKUP(F155,Hoja1!$A$50:$C$63,2),\"\")","v":15},{"$f":"IFERROR(VLOOKUP(F155,Hoja1!$A$50:$C$63,3),\"\")","v":15}]
[146,20259050001474,"2025-01-07","Persona natural","Virtual - Formulario PQRSDF","Certificación de contrato","Administrativa",null,"Oficina Asesora Jurídica","2025-01-22","Correo electrónico","2025-01-21",null,"",null,{"$f":"IFERROR(WORKDAY(N156,Y156,Hoja1!F148:F264),\"\")","v":""},"",null,{"$f":"+IF(C156=\"\",\"\",IF(J156=\"\",\"SIN RESPUESTA\",(IF(J156<=L156,\"A TIEMPO\",\"FUERA DE TIEMPO\"))))","v":"FUERA DE TIEMPO"},11,1,null,null,{"$f":"IFERROR(VLOOKUP(F156,Hoja1!$A$50:$C$63,2),\"\")","v":15},{"$f":"IFERROR(VLOOKUP(F156,Hoja1!$A$50:$C$63,3),\"\")","v":15}]
[147,20259050001524,"2025-01-07","Persona natural","Virtual - Formulario PQRSDF","Certificación de contrato","Administrativa",null,"Oficina Asesora Jurídica","2025-01-22","Correo electrónico","2025-01-21",null,"",null,{"$f":"IFERROR(WORKDAY(N157,Y157,Hoja1!F149:F265),\"\")","v":""},"",null,{"$f":"+IF(C157=\"\",\"\",IF(J157=\"\",\"SIN RESPUESTA\",(IF(J157<=L157,\"A TIEMPO\",\"FUERA DE TIEMPO\"))))","v":"FUERA DE TIEMPO"},11,1,null,null,{"$f":"IFERROR(VLOOKUP(F157,Hoja1!$A$50:$C$63,2),\"\")","v":15},{"$f":"IFERROR(VLOOKUP(F157,Hoja1!$A$50:$C$63,3),\"\")","v":15}]
[148,20259910001564,"2025-01-07","Persona natural","Virtual - Correo electrónico","Certificación de contrato","Administrativa",null,"Oficina Asesora Jurídica","2025-01-22","Correo electrónico","2025-01-21",null,"",null,{"$f":"IFERROR(WORKDAY(N158,Y158,Hoja1!F150:F266),\"\")","v":""},"",null,{"$f":"+IF(C158=\"\",\"\",IF(J158=\"\",\"SIN RESPUESTA\",(IF(J158<=L158,\"A TIEMPO\",\"FUERA DE TIEMPO\"))))","v":"FUERA DE TIEMPO"},11,1,null,null,{"$f":"IFERROR(VLOOKUP(F158,Hoja1!$A$50:$C$63,2),\"\")","v":15},{"$f":"IFERROR(VLOOKUP(F158,Hoja1!$A$50:$C$63,3),\"\")","v":15}]
[149,20259910001584,"2025-01-07","Persona jurídica","Virtual - Correo electrónico","Certificación de tiempo, clima y eventos hidrológicos","Certificaciones del tiempo y clima",null,"Subdirección de Meteorología","2025-01-24","Correo electrónico","2025-02-18",null,"",null,{"$f":"IFERROR(WORKDAY(N159,Y159,Hoja1!F151:F267),\"\")","v":""},"",null,"A TIEMPO",13,0,null,null,{"$f":"IFERROR(VLOOKUP(F159,Hoja1!$A$50:$C$63,2),\"\")","v":15},{"$f":"IFERROR(VLOOKUP(F159,Hoja1!$A$50:$C$63,3),\"\")","v":15}]
[150,20259910001594,"2025-01-07","Persona natural","Virtual - Correo electrónico","Certificación laboral o pasantía","Administrativa",null,"Grupo de Administración y Desarrollo del Talento Humano","2025-01-17","Correo electrónico","2025-01-21",null,"",null,{"$f":"IFERROR(WORKDAY(N160,Y160,Hoja1!F152:F268),\"\")","v":""},"",null,"A TIEMPO",8,0,null,null,{"$f":"IFERROR(VLOOKUP(F160,Hoja1!$A$50:$C$63,2),\"\")","v":15},{"$f":"IFERROR(VLOOKUP(F160,Hoja1!$A$50:$C$63,3),\"\")","v":15}]
[151,20259910001624,"2025-01-07","Persona natural","Virtual - Correo electrónico","Certificación de contrato","Administrativa",null,"Oficina Asesora Jurídica","2025-01-22","Correo electrónico","2025-01-21",null,"",null,{"$f":"IFERROR(WORKDAY(N161,Y161,Hoja1!F153:F269),\"\")","v":""},"",null,{"$f":"+IF(C161=\"\",\"\",IF(J161=\"\",\"SIN RESPUESTA\",(IF(J161<=L161,\"A TIEMPO\",\"FUERA DE TIEMPO\"))))","v":"FUERA DE TIEMPO"},11,1,null,null,{"$f":"IFERROR(VLOOKUP(F161,Hoja1!$A$50:$C$63,2),\"\")","v":15},{"$f":"IFERROR(VLOOKUP(F161,Hoja1!$A$50:$C$63,3),\"\")","v":15}]
[152,20259910001644,"2025-01-07","Persona natural","Virtual - Correo electrónico","Certificación de contrato","Administrativa",null,"Oficina Asesora Jurídica","2025-01-22","Correo electrónico","2025-01-21",null,"",null,{"$f":"IFERROR(WORKDAY(N162,Y162,Hoja1!F154:F270),\"\")","v":""},"",null,{"$f":"+IF(C162=\"\",\"\",IF(J162=\"\",\"SIN RESPUESTA\",(IF(J162<=L162,\"A TIEMPO\",\"FUERA DE TIEMPO\"))))","v":"FUERA DE TIEMPO"},11,1,null,null,{"$f":"IFERROR(VLOOKUP(F162,Hoja1!$A$50:$C$63,2),\"\")","v":15},{"$f":"IFERROR(VLOOKUP(F162,Hoja1!$A$50:$C$63,3),\"\")","v":15}]
[153,20259910001674,"2025-01-07","Persona natural","Virtual - Correo electrónico","Solicitud de documentos o información","Sistema de información del recurso hídrico",null,"Subdirección de Meteorología","2025-01-15","Correo electrónico","2025-01-21",null,"",null,{"$f":"IFERROR(WORKDAY(N163,Y163,Hoja1!F155:F271),\"\")","v":""},"",null,"A TIEMPO",6,0,null,null,{"$f":"IFERROR(VLOOKUP(F163,Hoja1!$A$50:$C$63,2),\"\")","v":5},{"$f":"IFERROR(VLOOKUP(F163,Hoja1!$A$50:$C$63,3),\"\")","v":5}]
[154,20259050001714,"2025-01-07","Persona natural","Virtual - Formulario PQRSDF","Certificación de contrato","Administrativa",null,"Oficina Asesora Jurídica","2025-01-22","Correo electrónico","2025-01-21",null,"",null,{"$f":"IFERROR(WORKDAY(N164,Y164,Hoja1!F156:F272),\"\")","v":""},"",null,{"$f":"+IF(C164=\"\",\"\",IF(J164=\"\",\"SIN RESPUESTA\",(IF(J164<=L164,\"A TIEMPO\",\"FUERA DE TIEMPO\"))))","v":"FUERA DE TIEMPO"},11,1,null,null,{"$f":"IFERROR(VLOOKUP(F164,Hoja1!$A$50:$C$63,2),\"\")","v":15},{"$f":"IFERROR(VLOOKUP(F164,Hoja1!$A$50:$C$63,3),\"\")","v":15}]
[155,20259910001724,"2025-01-07","Persona natural","Virtual - Correo electrónico","Certificación de contrato","Administrativa",null,"Oficina Asesora Jurídica","2025-01-22","Correo electrónico","2025-01-21",null,"",null,{"$f":"IFERROR(WORKDAY(N165,Y165,Hoja1!F157:F273),\"\")","v":""},"",null,{"$f":"+IF(C165=\"\",\"\",IF(J165=\"\",\"SIN RESPUESTA\",(IF(J165<=L165,\"A TIEMPO\",\"FUERA DE TIEMPO\"))))","v":"FUERA DE TIEMPO"},11,1,null,null,{"$f":"IFERROR(VLOOKUP(F165,Hoja1!$A$50:$C$63,2),\"\")","v":15},{"$f":"IFERROR(VLOOKUP(F165,Hoja1!$A$50:$C$63,3),\"\")","v":15}]
[156,20259050001734,"2025-01-07","Persona natural","Virtual - Formulario PQRSDF","Certificación de ingresos y retenciones","Administrativa",null,"Grupo de Tesorería","2025-01-08","Correo electrónico","2025-01-21",null,"",null,{"$f":"IFERROR(WORKDAY(N166,Y166,Hoja1!F158:F274),\"\")","v":""},"",null,"A TIEMPO",1,0,null,null,{"$f":"IFERROR(VLOOKUP(F166,Hoja1!$A$50:$C$63,2),\"\")","v":15},{"$f":"IFERROR(VLOOKUP(F166,Hoja1!$A$50:$C$63,3),\"\")","v":15}]
[157,20259050001754,"2025-01-07","Persona natural","Virtual - Formulario PQRSDF","Certificación de contrato","Administrativa",null,"Oficina Asesora Jurídica","2025-01-14","Correo electrónico","2025-01-21",null,"",null,{"$f":"IFERROR(WORKDAY(N167,Y167,Hoja1!F159:F275),\"\")","v":""},"",null,"A TIEMPO",5,0,null,null,{"$f":"IFERROR(VLOOKUP(F167,Hoja1!$A$50:$C$63,2),\"\")","v":15},{"$f":"IFERROR(VLOOKUP(F167,Hoja1!$A$50:$C$63,3),\"\")","v":15}]
[158,20259050001764,"2025-01-07","Persona natural","Virtual - Formulario PQRSDF","Certificación de contrato","Administrativa",null,"Oficina Asesora Jurídica","2025-01-22","Correo electrónico","2025-01-21",null,"",null,{"$f":"IFERROR(WORKDAY(N168,Y168,Hoja1!F160:F276),\"\")","v":""},"",null,{"$f":"+IF(C168=\"\",\"\",IF(J168=\"\",\"SIN RESPUESTA\",(IF(J168<=L168,\"A TIEMPO\",\"FUERA DE TIEMPO\"))))","v":"FUERA DE TIEMPO"},11,1,null,null,{"$f":"IFERROR(VLOOKUP(F168,Hoja1!$A$50:$C$63,2),\"\")","v":15},{"$f":"IFERROR(VLOOKUP(F168,Hoja1!$A$50:$C$63,3),\"\")","v":15}]
[159,20259910001774,"2025-01-07","Persona jurídica","Virtual - Correo electrónico","Solicitud de documentos o información","Registros ambientales",null,"Subdirección de Estudios Ambientales","2025-01-08","Correo electrónico","2025-01-21",null,"",null,{"$f":"IFERROR(WORKDAY(N169,Y169,Hoja1!F161:F277),\"\")","v":""},"",null,"A TIEMPO",1,0,null,null,{"$f":"IFERROR(VLOOKUP(F169,Hoja1!$A$50:$C$63,2),\"\")","v":5},{"$f":"IFERROR(VLOOKUP(F169,Hoja1!$A$50:$C$63,3),\"\")","v":5}]
[160,20259910001794,"2025-01-07","Persona jurídica","Virtual - Correo electrónico","Solicitud de documentos o información","Registros ambientales",null,"Subdirección de Estudios Ambientales","2025-01-10","Correo electrónico","2025-01-21",null,"",null,{"$f":"IFERROR(WORKDAY(N170,Y170,Hoja1!F162:F278),\"\")","v":""},"",null,"A TIEMPO",3,0,null,null,{"$f":"IFERROR(VLOOKUP(F170,Hoja1!$A$50:$C$63,2),\"\")","v":5},{"$f":"IFERROR(VLOOKUP(F170,Hoja1!$A$50:$C$63,3),\"\")","v":5}]
[161,20259910001804,"2025-01-07","Persona jurídica","Virtual - Correo electrónico","Solicitud judicial","Bosques",null,"Subdirección de Ecosistemas e Información Ambiental","2025-01-16","Correo electrónico","2025-01-14",null,"",null,{"$f":"IFERROR(WORKDAY(N171,Y171,Hoja1!F163:F279),\"\")","v":""},"",null,{"$f":"+IF(C171=\"\",\"\",IF(J171=\"\",\"SIN RESPUESTA\",(IF(J171<=L171,\"A TIEMPO\",\"FUERA DE TIEMPO\"))))","v":"FUERA DE TIEMPO"},7,2,null,null,{"$f":"IFERROR(VLOOKUP(F171,Hoja1!$A$50:$C$63,2),\"\")","v":5},{"$f":"IFERROR(VLOOKUP(F171,Hoja1!$A$50:$C$63,3),\"\")","v":5}]
[162,20259910001814,"2025-01-07","Persona jurídica","Virtual - Correo electrónico","Solicitud de documentos o información","Registros ambientales",null,"Subdirección de Estudios Ambientales","2025-01-09","Correo electrónico","2025-01-21",null,"",null,{"$f":"IFERROR(WORKDAY(N172,Y172,Hoja1!F164:F280),\"\")","v":""},"",null,"A TIEMPO",2,0,null,null,{"$f":"IFERROR(VLOOKUP(F172,Hoja1!$A$50:$C$63,2),\"\")","v":5},{"$f":"IFERROR(VLOOKUP(F172,Hoja1!$A$50:$C$63,3),\"\")","v":5}]
[163,20259910001824,"2025-01-07","Persona natural","Virtual - Correo electrónico","Certificación de contrato","Administrativa",null,"Oficina Asesora Jurídica","2025-01-22","Correo electrónico","2025-01-21",null,"",null,{"$f":"IFERROR(WORKDAY(N173,Y173,Hoja1!F165:F281),\"\")","v":""},"",null,{"$f":"+IF(C173=\"\",\"\",IF(J173=\"\",\"SIN RESPUESTA\",(IF(J173<=L173,\"A TIEMPO\",\"FUERA DE TIEMPO\"))))","v":"FUERA DE TIEMPO"},11,1,null,null,{"$f":"IFERROR(VLOOKUP(F173,Hoja1!$A$50:$C$63,2),\"\")","v":15},{"$f":"IFERROR(VLOOKUP(F173,Hoja1!$A$50:$C$63,3),\"\")","v":15}]
[164,20259910001834,"2025-01-07","Persona natural","Virtual - Correo electrónico","Solicitud de documentos o información","Solicitud de información hidrometeorológica",null,"Grupo de Servicio al Ciudadano","2025-01-15","Correo electrónico","2025-01-21",null,"",null,{"$f":"IFERROR(WORKDAY(N174,Y174,Hoja1!F166:F282),\"\")","v":""},"",null,"A TIEMPO",6,0,null,null,{"$f":"IFERROR(VLOOKUP(F174,Hoja1!$A$50:$C$63,2),\"\")","v":5},{"$f":"IFERROR(VLOOKUP(F174,Hoja1!$A$50:$C$63,3),\"\")","v":5}]
[165,20259050001854,"2025-01-07","Persona natural","Virtual - Formulario PQRSDF","Certificación de contrato","Administrativa",null,"Oficina Asesora Jurídica","2025-01-22","Correo electrónico","2025-01-21",null,"",null,{"$f":"IFERROR(WORKDAY(N175,Y175,Hoja1!F167:F283),\"\")","v":""},"",null,{"$f":"+IF(C175=\"\",\"\",IF(J175=\"\",\"SIN RESPUESTA\",(IF(J175<=L175,\"A TIEMPO\",\"FUERA DE TIEMPO\"))))","v":"FUERA DE TIEMPO"},11,1,null,null,{"$f":"IFERROR(VLOOKUP(F175,Hoja1!$A$50:$C$63,2),\"\")","v":15},{"$f":"IFERROR(VLOOKUP(F175,Hoja1!$A$50:$C$63,3),\"\")","v":15}]
[166,20259910004414,"2025-01-14","Persona jurídica","Virtual - Correo electrónico","Solicitud de documentos o información","Registros ambientales",null,"Subdirección de Estudios Ambientales","2025-02-07","Correo electrónico","2025-01-28",null,"",null,{"$f":"IFERROR(WORKDAY(N176,Y176,Hoja1!F168:F284),\"\")","v":""},"",null,{"$f":"+IF(C176=\"\",\"\",IF(J176=\"\",\"SIN RESPUESTA\",(IF(J176<=L176,\"A TIEMPO\",\"FUERA DE TIEMPO\"))))","v":"FUERA DE TIEMPO"},-7,0,null,null,{"$f":"IFERROR(VLOOKUP(F176,Hoja1!$A$50:$C$63,2),\"\")","v":5},{"$f":"IFERROR(VLOOKUP(F176,Hoja1!$A$50:$C$63,3),\"\")","v":5}]
[167,20259050001884,"2025-01-08","Persona jurídica","Virtual - Formulario PQRSDF","Solicitud de documentos o información","Registros ambientales",null,"Subdirección de Estudios Ambientales","2025-01-09","Correo electrónico","2025-01-22",null,"",null,{"$f":"IFERROR(WORKDAY(N177,Y177,Hoja1!F169:F285),\"\")","v":""},"",null,"A TIEMPO",1,0,null,null,{"$f":"IFERROR(VLOOKUP(F177,Hoja1!$A$50:$C$63,2),\"\")","v":5},{"$f":"IFERROR(VLOOKUP(F177,Hoja1!$A$50:$C$63,3),\"\")","v":5}]
[168,20259910001904,"2025-01-08","Persona natural","Virtual - Correo electrónico","Certificación de contrato","Administrativa",null,"Oficina Asesora Jurídica","2025-01-22","Correo electrónico","2025-01-22",null,"",null,{"$f":"IFERROR(WORKDAY(N178,Y178,Hoja1!F170:F286),\"\")","v":""},"",null,"A TIEMPO",10,0,null,null,{"$f":"IFERROR(VLOOKUP(F178,Hoja1!$A$50:$C$63,2),\"\")","v":15},{"$f":"IFERROR(VLOOKUP(F178,Hoja1!$A$50:$C$63,3),\"\")","v":15}]
[169,20259910001924,"2025-01-08","Persona natural","Virtual - Correo electrónico","Certificación de tiempo, clima y eventos hidrológicos","Certificaciones del tiempo y clima",null,"Subdirección de Meteorología","2025-02-03","Correo electrónico","2025-02-19",null,"",null,{"$f":"IFERROR(WORKDAY(N179,Y179,Hoja1!F171:F287),\"\")","v":""},"",null,"A TIEMPO",18,0,null,null,{"$f":"IFERROR(VLOOKUP(F179,Hoja1!$A$50:$C$63,2),\"\")","v":15},{"$f":"IFERROR(VLOOKUP(F179,Hoja1!$A$50:$C$63,3),\"\")","v":15}]
[170,20259910001934,"2025-01-08","Persona natural","Virtual - Correo electrónico","Certificación de contrato","Administrativa",null,"Oficina Asesora Jurídica","2025-01-22","Correo electrónico","2025-01-22",null,"",null,{"$f":"IFERROR(WORKDAY(N180,Y180,Hoja1!F172:F288),\"\")","v":""},"",null,"A TIEMPO",10,0,null,null,{"$f":"IFERROR(VLOOKUP(F180,Hoja1!$A$50:$C$63,2),\"\")","v":15},{"$f":"IFERROR(VLOOKUP(F180,Hoja1!$A$50:$C$63,3),\"\")","v":15}]
[171,20259910001944,"2025-01-08","Persona natural","Virtual - Correo electrónico","Solicitud de documentos o información","Administrativa",null,"Subdirección de Estudios Ambientales","2025-01-08","Correo electrónico","2025-01-22",null,"",null,{"$f":"IFERROR(WORKDAY(N181,Y181,Hoja1!F173:F289),\"\")","v":""},"",null,"A TIEMPO",0,0,null,null,{"$f":"IFERROR(VLOOKUP(F181,Hoja1!$A$50:$C$63,2),\"\")","v":5},{"$f":"IFERROR(VLOOKUP(F181,Hoja1!$A$50:$C$63,3),\"\")","v":5}]
[172,20259910001954,"2025-01-08","Persona natural","Virtual - Correo electrónico","Solicitud de documentos o información","Administrativa",null,"Subdirección de Estudios Ambientales","2025-01-09","Correo electrónico","2025-01-22",null,"",null,{"$f":"IFERROR(WORKDAY(N182,Y182,Hoja1!F174:F290),\"\")","v":""},"",null,"A TIEMPO",1,0,null,null,{"$f":"IFERROR(VLOOKUP(F182,Hoja1!$A$50:$C$63,2),\"\")","v":5},{"$f":"IFERROR(VLOOKUP(F182,Hoja1!$A$50:$C$63,3),\"\")","v":5}]
[173,20259910001974,"2025-01-08","Persona natural","Virtual - Correo electrónico","Certificación de ingresos y retenciones","Administrativa",null,"Grupo de Tesorería","2025-01-09","Correo electrónico","2025-01-22",null,"",null,{"$f":"IFERROR(WORKDAY(N183,Y183,Hoja1!F175:F291),\"\")","v":""},"",null,"A TIEMPO",1,0,null,null,{"$f":"IFERROR(VLOOKUP(F183,Hoja1!$A$50:$C$63,2),\"\")","v":15},{"$f":"IFERROR(VLOOKUP(F183,Hoja1!$A$50:$C$63,3),\"\")","v":15}]
[174,20259910001984,"2025-01-08","Persona natural","Virtual - Correo electrónico","Solicitud de documentos o información","Bosques",null,"Subdirección de Ecosistemas e Información Ambiental","2025-01-20","Correo electrónico","2025-01-22",null,"",null,{"$f":"IFERROR(WORKDAY(N184,Y184,Hoja1!F176:F292),\"\")","v":""},"",null,"A TIEMPO",8,0,null,null,{"$f":"IFERROR(VLOOKUP(F184,Hoja1!$A$50:$C$63,2),\"\")","v":5},{"$f":"IFERROR(VLOOKUP(F184,Hoja1!$A$50:$C$63,3),\"\")","v":5}]
[175,20259910002004,"2025-01-08","Persona jurídica","Virtual - Correo electrónico","Petición entre autoridades","Sistema de información ambiental",null,"Subdirección de Estudios Ambientales","2025-01-16","Correo electrónico","2025-01-22",null,"",null,{"$f":"IFERROR(WORKDAY(N185,Y185,Hoja1!F177:F293),\"\")","v":""},"",null,"A TIEMPO",6,0,null,null,{"$f":"IFERROR(VLOOKUP(F185,Hoja1!$A$50:$C$63,2),\"\")","v":10},{"$f":"IFERROR(VLOOKUP(F185,Hoja1!$A$50:$C$63,3),\"\")","v":10}]
[176,20259910002034,"2025-01-08","Persona natural","Virtual - Correo electrónico","Certificación de contrato","Administrativa",null,"Oficina Asesora Jurídica","2025-01-22","Correo electrónico","2025-01-22",null,"",null,{"$f":"IFERROR(WORKDAY(N186,Y186,Hoja1!F178:F294),\"\")","v":""},"",null,"A TIEMPO",10,0,null,null,{"$f":"IFERROR(VLOOKUP(F186,Hoja1!$A$50:$C$63,2),\"\")","v":15},{"$f":"IFERROR(VLOOKUP(F186,Hoja1!$A$50:$C$63,3),\"\")","v":15}]
[177,20259050002054,"2025-01-08","Persona jurídica","Virtual - Formulario PQRSDF","Solicitud de documentos o información","Sistema de información ambiental",null,"Subdirección de Meteorología","2025-01-15","Correo electrónico","2025-01-22",null,"",null,{"$f":"IFERROR(WORKDAY(N187,Y187,Hoja1!F179:F295),\"\")","v":""},"",null,"A TIEMPO",5,0,null,null,{"$f":"IFERROR(VLOOKUP(F187,Hoja1!$A$50:$C$63,2),\"\")","v":5},{"$f":"IFERROR(VLOOKUP(F187,Hoja1!$A$50:$C$63,3),\"\")","v":5}]
[178,20259910002064,"2025-01-08","Persona jurídica","Virtual - Correo electrónico","Solicitud de documentos o información","Bosques",null,"Subdirección de Ecosistemas e Información Ambiental","2025-01-15","Correo electrónico","2025-01-22",null,"",null,{"$f":"IFERROR(WORKDAY(N188,Y188,Hoja1!F180:F296),\"\")","v":""},"",null,"A TIEMPO",5,0,null,null,{"$f":"IFERROR(VLOOKUP(F188,Hoja1!$A$50:$C$63,2),\"\")","v":5},{"$f":"IFERROR(VLOOKUP(F188,Hoja1!$A$50:$C$63,3),\"\")","v":5}]
[179,20259910002074,"2025-01-08","Persona natural","Virtual - Correo electrónico","Certificación de ingresos y retenciones","Administrativa",null,"Grupo de Tesorería","2025-01-09","Correo electrónico","2025-01-22",null,"",null,{"$f":"IFERROR(WORKDAY(N189,Y189,Hoja1!F181:F297),\"\")","v":""},"",null,"A TIEMPO",1,0,null,null,{"$f":"IFERROR(VLOOKUP(F189,Hoja1!$A$50:$C$63,2),\"\")","v":15},{"$f":"IFERROR(VLOOKUP(F189,Hoja1!$A$50:$C$63,3),\"\")","v":15}]
[180,20259910002084,"2025-01-08","Persona natural","Virtual - Correo electrónico","Certificación de contrato","Administrativa",null,"Oficina Asesora Jurídica","2025-01-22","Correo electrónico","2025-01-22",null,"",null,{"$f":"IFERROR(WORKDAY(N190,Y190,Hoja1!F182:F298),\"\")","v":""},"",null,"A TIEMPO",10,0,null,null,{"$f":"IFERROR(VLOOKUP(F190,Hoja1!$A$50:$C$63,2),\"\")","v":15},{"$f":"IFERROR(VLOOKUP(F190,Hoja1!$A$50:$C$63,3),\"\")","v":15}]
[181,20259910002094,"2025-01-08","Persona natural","Virtual - Correo electrónico","Certificación de contrato","Administrativa",null,"Oficina Asesora Jurídica","2025-01-22","Correo electrónico","2025-01-22",null,"",null,{"$f":"IFERROR(WORKDAY(N191,Y191,Hoja1!F183:F299),\"\")","v":""},"",null,"A TIEMPO",10,0,null,null,{"$f":"IFERROR(VLOOKUP(F191,Hoja1!$A$50:$C$63,2),\"\")","v":15},{"$f":"IFERROR(VLOOKUP(F191,Hoja1!$A$50:$C$63,3),\"\")","v":15}]
[182,20259050002114,"2025-01-08","Persona natural","Virtual - Formulario PQRSDF","Solicitud de documentos o información","Solicitud de información hidrometeorológica",null,"Subdirección de Meteorología","2025-01-15","Correo electrónico","2025-01-22",null,"",null,{"$f":"IFERROR(WORKDAY(N192,Y192,Hoja1!F184:F300),\"\")","v":""},"",null,"A TIEMPO",5,0,null,null,{"$f":"IFERROR(VLOOKUP(F192,Hoja1!$A$50:$C$63,2),\"\")","v":5},{"$f":"IFERROR(VLOOKUP(F192,Hoja1!$A$50:$C$63,3),\"\")","v":5}]
[183,20259050002124,"2025-01-08","Persona natural","Virtual - Formulario PQRSDF","Certificación de contrato","Administrativa",null,"Oficina Asesora Jurídica","2025-01-22","Correo electrónico","2025-01-22",null,"",null,{"$f":"IFERROR(WORKDAY(N193,Y193,Hoja1!F185:F301),\"\")","v":""},"",null,"A TIEMPO",10,0,null,null,{"$f":"IFERROR(VLOOKUP(F193,Hoja1!$A$50:$C$63,2),\"\")","v":15},{"$f":"IFERROR(VLOOKUP(F193,Hoja1!$A$50:$C$63,3),\"\")","v":15}]
[184,20259910002154,"2025-01-08","Persona natural","Virtual - Correo electrónico","Certificación laboral o pasantía","Administrativa",null,"Grupo de Administración y Desarrollo del Talento Humano","2025-01-27","Correo electrónico","2025-01-22",null,"",null,{"$f":"IFERROR(WORKDAY(N194,Y194,Hoja1!F186:F302),\"\")","v":""},"",null,{"$f":"+IF(C194=\"\",\"\",IF(J194=\"\",\"SIN RESPUESTA\",(IF(J194<=L194,\"A TIEMPO\",\"FUERA DE TIEMPO\"))))","v":"FUERA DE TIEMPO"},13,3,null,null,{"$f":"IFERROR(VLOOKUP(F194,Hoja1!$A$50:$C$63,2),\"\")","v":15},{"$f":"IFERROR(VLOOKUP(F194,Hoja1!$A$50:$C$63,3),\"\")","v":15}]
[185,20259910002164,"2025-01-08","Persona natural","Virtual - Correo electrónico","Certificación de contrato","Administrativa",null,"Oficina Asesora Jurídica","2025-01-22","Correo electrónico","2025-01-22",null,"",null,{"$f":"IFERROR(WORKDAY(N195,Y195,Hoja1!F187:F303),\"\")","v":""},"",null,"A TIEMPO",10,0,null,null,{"$f":"IFERROR(VLOOKUP(F195,Hoja1!$A$50:$C$63,2),\"\")","v":15},{"$f":"IFERROR(VLOOKUP(F195,Hoja1!$A$50:$C$63,3),\"\")","v":15}]
[186,20259910002174,"2025-01-08","Persona jurídica","Virtual - Correo electrónico","Solicitud de documentos o información","Registros ambientales",null,"Subdirección de Estudios Ambientales","2025-01-10","Correo electrónico","2025-01-22",null,"",null,{"$f":"IFERROR(WORKDAY(N196,Y196,Hoja1!F188:F304),\"\")","v":""},"",null,"A TIEMPO",2,0,null,null,{"$f":"IFERROR(VLOOKUP(F196,Hoja1!$A$50:$C$63,2),\"\")","v":5},{"$f":"IFERROR(VLOOKUP(F196,Hoja1!$A$50:$C$63,3),\"\")","v":5}]
[187,20259910002184,"2025-01-08","Persona jurídica","Virtual - Correo electrónico","Solicitud de documentos o información","Registros ambientales",null,"Subdirección de Estudios Ambientales","2025-01-09","Correo electrónico","2025-01-22",null,"",null,{"$f":"IFERROR(WORKDAY(N197,Y197,Hoja1!F189:F305),\"\")","v":""},"",null,"A TIEMPO",1,0,null,null,{"$f":"IFERROR(VLOOKUP(F197,Hoja1!$A$50:$C$63,2),\"\")","v":5},{"$f":"IFERROR(VLOOKUP(F197,Hoja1!$A$50:$C$63,3),\"\")","v":5}]
[188,20259910002194,"2025-01-08","Persona jurídica","Virtual - Correo electrónico","Solicitud de documentos o información","Bosques",null,"Dirección General","2025-01-21","Correo electrónico","2025-01-22",null,"",null,{"$f":"IFERROR(WORKDAY(N198,Y198,Hoja1!F190:F306),\"\")","v":""},"",null,"A TIEMPO",9,0,null,null,{"$f":"IFERROR(VLOOKUP(F198,Hoja1!$A$50:$C$63,2),\"\")","v":5},{"$f":"IFERROR(VLOOKUP(F198,Hoja1!$A$50:$C$63,3),\"\")","v":5}]
[189,20259910002204,"2025-01-08","Persona jurídica","Virtual - Correo electrónico","Petición entre autoridades","Cambio climático",null,"Subdirección de Meteorología","2025-01-14","Correo electrónico","2025-01-22",null,"",null,{"$f":"IFERROR(WORKDAY(N199,Y199,Hoja1!F191:F307),\"\")","v":""},"",null,"A TIEMPO",4,0,null,null,{"$f":"IFERROR(VLOOKUP(F199,Hoja1!$A$50:$C$63,2),\"\")","v":10},{"$f":"IFERROR(VLOOKUP(F199,Hoja1!$A$50:$C$63,3),\"\")","v":10}]
[190,20259910002224,"2025-01-08","Persona jurídica","Virtual - Correo electrónico","Solicitud de documentos o información","Solicitud de información hidrometeorológica",null,"Subdirección de Hidrología","2025-01-14","Correo electrónico","2025-01-22",null,"",null,{"$f":"IFERROR(WORKDAY(N200,Y200,Hoja1!F192:F308),\"\")","v":""},"",null,"A TIEMPO",4,0,null,null,{"$f":"IFERROR(VLOOKUP(F200,Hoja1!$A$50:$C$63,2),\"\")","v":5},{"$f":"IFERROR(VLOOKUP(F200,Hoja1!$A$50:$C$63,3),\"\")","v":5}]
[191,20259050002254,"2025-01-08","Persona natural","Virtual - Formulario PQRSDF","Certificación de contrato","Administrativa",null,"Oficina Asesora Jurídica","2025-01-22","Correo electrónico","2025-01-22",null,"",null,{"$f":"IFERROR(WORKDAY(N201,Y201,Hoja1!F193:F309),\"\")","v":""},"",null,"A TIEMPO",10,0,null,null,{"$f":"IFERROR(VLOOKUP(F201,Hoja1!$A$50:$C$63,2),\"\")","v":15},{"$f":"IFERROR(VLOOKUP(F201,Hoja1!$A$50:$C$63,3),\"\")","v":15}]
[192,20259050002264,"2025-01-08","Persona jurídica","Virtual - Formulario PQRSDF","Solicitud de documentos o información","Registros ambientales",null,"Subdirección de Estudios Ambientales","2025-01-09","Correo electrónico","2025-01-22",null,"",null,{"$f":"IFERROR(WORKDAY(N202,Y202,Hoja1!F194:F310),\"\")","v":""},"",null,"A TIEMPO",1,0,null,null,{"$f":"IFERROR(VLOOKUP(F202,Hoja1!$A$50:$C$63,2),\"\")","v":5},{"$f":"IFERROR(VLOOKUP(F202,Hoja1!$A$50:$C$63,3),\"\")","v":5}]
[193,20259050002274,"2025-01-09","Persona natural","Virtual - Formulario PQRSDF","Solicitud de documentos o información","Administrativa",null,"Grupo de Administración y Desarrollo del Talento Humano","2025-01-22","Correo electrónico","2025-01-23",null,"",null,{"$f":"IFERROR(WORKDAY(N203,Y203,Hoja1!F195:F311),\"\")","v":""},"",null,"A TIEMPO",9,0,null,null,{"$f":"IFERROR(VLOOKUP(F203,Hoja1!$A$50:$C$63,2),\"\")","v":5},{"$f":"IFERROR(VLOOKUP(F203,Hoja1!$A$50:$C$63,3),\"\")","v":5}]
[194,20259050002284,"2025-01-09","Persona natural","Virtual - Formulario PQRSDF","Certificación de contrato","Administrativa",null,"Oficina Asesora Jurídica","2025-01-23","Correo electrónico","2025-01-23",null,"",null,{"$f":"IFERROR(WORKDAY(N204,Y204,Hoja1!F196:F312),\"\")","v":""},{"$f":"+IF(N204=\"\",\"\",IF(O204=\"\",\"SIN RESPUESTA\",(IF(O204<=P204,\"A TIEMPO\",\"FUERA DE TIEMPO\"))))","v":""},null,"A TIEMPO",10,0,null,null,{"$f":"IFERROR(VLOOKUP(F204,Hoja1!$A$50:$C$63,2),\"\")","v":15},{"$f":"IFERROR(VLOOKUP(F204,Hoja1!$A$50:$C$63,3),\"\")","v":15}]
[195,20259910002334,"2025-01-09","Persona jurídica","Virtual - Correo electrónico","Petición entre autoridades","Registros ambientales",null,"Subdirección de Estudios Ambientales","2025-01-21","Correo electrónico","2025-01-23",null,"",null,{"$f":"IFERROR(WORKDAY(N205,Y205,Hoja1!F197:F313),\"\")","v":""},"",null,"A TIEMPO",8,0,null,null,{"$f":"IFERROR(VLOOKUP(F205,Hoja1!$A$50:$C$63,2),\"\")","v":10},{"$f":"IFERROR(VLOOKUP(F205,Hoja1!$A$50:$C$63,3),\"\")","v":10}]
[196,20259910002344,"2025-01-09","Persona natural","Virtual - Correo electrónico","Solicitud de documentos o información","Administrativa",null,"Subdirección de Estudios Ambientales","2025-01-09","Correo electrónico","2025-01-23",null,"",null,{"$f":"IFERROR(WORKDAY(N206,Y206,Hoja1!F198:F314),\"\")","v":""},"",null,"A TIEMPO",0,0,null,null,{"$f":"IFERROR(VLOOKUP(F206,Hoja1!$A$50:$C$63,2),\"\")","v":5},{"$f":"IFERROR(VLOOKUP(F206,Hoja1!$A$50:$C$63,3),\"\")","v":5}]
[197,20259910002354,"2025-01-09","Persona jurídica","Virtual - Correo electrónico","Solicitud de documentos o información","Acreditación de laboratorios",null,"Subdirección de Estudios Ambientales","2025-01-10","No aplica","2025-01-23",null,"",null,{"$f":"IFERROR(WORKDAY(N207,Y207,Hoja1!F199:F315),\"\")","v":""},"",null,"A TIEMPO",1,0,null,null,{"$f":"IFERROR(VLOOKUP(F207,Hoja1!$A$50:$C$63,2),\"\")","v":5},{"$f":"IFERROR(VLOOKUP(F207,Hoja1!$A$50:$C$63,3),\"\")","v":5}]
[198,20259910002364,"2025-01-09","Persona natural","Virtual - Correo electrónico","Solicitud de documentos o información","Sistema de información del recurso hídrico",null,"Subdirección de Hidrología","2025-01-15","Correo electrónico","2025-01-23",null,"",null,{"$f":"IFERROR(WORKDAY(N208,Y208,Hoja1!F200:F316),\"\")","v":""},"",null,"A TIEMPO",4,0,null,null,{"$f":"IFERROR(VLOOKUP(F208,Hoja1!$A$50:$C$63,2),\"\")","v":5},{"$f":"IFERROR(VLOOKUP(F208,Hoja1!$A$50:$C$63,3),\"\")","v":5}]
[{"$f":"IF(B209<>\"\",A208+1,\"\")","v":199},20259910002444,"2025-01-09","Persona natural","Virtual - Correo electrónico","Certificación de contrato","Administrativa",null,"Oficina Asesora Jurídica","2025-01-23","Correo electrónico","2025-01-23",null,"",null,{"$f":"IFERROR(WORKDAY(N209,Y209,Hoja1!F201:F317),\"\")","v":""},"",null,"A TIEMPO",10,0,null,null,{"$f":"IFERROR(VLOOKUP(F209,Hoja1!$A$50:$C$63,2),\"\")","v":15},{"$f":"IFERROR(VLOOKUP(F209,Hoja1!$A$50:$C$63,3),\"\")","v":15}]
[200,20259910002454,"2025-01-09","Persona jurídica","Virtual - Correo electrónico","Certificación de tiempo, clima y eventos hidrológicos","Certificaciones del tiempo y clima",null,"Subdirección de Meteorología","2025-01-30","Correo electrónico","2025-02-20",null,"",null,{"$f":"IFERROR(WORKDAY(N210,Y210,Hoja1!F202:F318),\"\")","v":""},"",null,"A TIEMPO",15,0,null,null,{"$f":"IFERROR(VLOOKUP(F210,Hoja1!$A$50:$C$63,2),\"\")","v":15},{"$f":"IFERROR(VLOOKUP(F210,Hoja1!$A$50:$C$63,3),\"\")","v":15}]
[201,20259910002464,"2025-01-09","Persona natural","Virtual - Correo electrónico","Certificación de contrato","Administrativa",null,"Oficina Asesora Jurídica","2025-01-23","Correo electrónico","2025-01-23",null,"",null,{"$f":"IFERROR(WORKDAY(N211,Y211,Hoja1!F203:F319),\"\")","v":""},"",null,"A TIEMPO",10,0,null,null,{"$f":"IFERROR(VLOOKUP(F211,Hoja1!$A$50:$C$63,2),\"\")","v":15},{"$f":"IFERROR(VLOOKUP(F211,Hoja1!$A$50:$C$63,3),\"\")","v":15}]
[202,20259910002484,"2025-01-09","Persona natural","Virtual - Correo electrónico","Certificación de contrato","Administrativa",null,"Oficina Asesora Jurídica","2025-01-23","Correo electrónico","2025-01-23",null,"",null,{"$f":"IFERROR(WORKDAY(N212,Y212,Hoja1!F204:F320),\"\")","v":""},"",null,"A TIEMPO",10,0,null,null,{"$f":"IFERROR(VLOOKUP(F212,Hoja1!$A$50:$C$63,2),\"\")","v":15},{"$f":"IFERROR(VLOOKUP(F212,Hoja1!$A$50:$C$63,3),\"\")","v":15}]
[203,20259910002494,"2025-01-09","Persona natural","Virtual - Correo electrónico","Solicitud de documentos o información","Administrativa",null,"Subdirección de Estudios Ambientales","2025-01-09","Correo electrónico","2025-01-23",null,"",null,{"$f":"IFERROR(WORKDAY(N213,Y213,Hoja1!F205:F321),\"\")","v":""},"",null,"A TIEMPO",0,0,null,null,{"$f":"IFERROR(VLOOKUP(F213,Hoja1!$A$50:$C$63,2),\"\")","v":5},{"$f":"IFERROR(VLOOKUP(F213,Hoja1!$A$50:$C$63,3),\"\")","v":5}]
[204,20259910002504,"2025-01-09","Persona natural","Virtual - Correo electrónico","Certificación de contrato","Administrativa",null,"Oficina Asesora Jurídica","2025-01-23","Correo electrónico","2025-01-23",null,"",null,{"$f":"IFERROR(WORKDAY(N214,Y214,Hoja1!F206:F322),\"\")","v":""},"",null,"A TIEMPO",10,0,null,null,{"$f":"IFERROR(VLOOKUP(F214,Hoja1!$A$50:$C$63,2),\"\")","v":15},{"$f":"IFERROR(VLOOKUP(F214,Hoja1!$A$50:$C$63,3),\"\")","v":15}]
[205,20259910002514,"2025-01-09","Persona natural","Virtual - Correo electrónico","Certificación de contrato","Administrativa",null,"Oficina Asesora Jurídica","2025-01-23","Correo electrónico","2025-01-23",null,"",null,{"$f":"IFERROR(WORKDAY(N215,Y215,Hoja1!F207:F323),\"\")","v":""},"",null,"A TIEMPO",10,0,null,null,{"$f":"IFERROR(VLOOKUP(F215,Hoja1!$A$50:$C$63,2),\"\")","v":15},{"$f":"IFERROR(VLOOKUP(F215,Hoja1!$A$50:$C$63,3),\"\")","v":15}]
[206,20259910002524,"2025-01-09","Persona jurídica","Virtual - Correo electrónico","Petición entre autoridades","Registros ambientales",null,"Subdirección de Estudios Ambientales","2025-01-10","Correo electrónico","2025-01-23",null,"",null,{"$f":"IFERROR(WORKDAY(N216,Y216,Hoja1!F208:F324),\"\")","v":""},"",null,"A TIEMPO",1,0,null,null,{"$f":"IFERROR(VLOOKUP(F216,Hoja1!$A$50:$C$63,2),\"\")","v":10},{"$f":"IFERROR(VLOOKUP(F216,Hoja1!$A$50:$C$63,3),\"\")","v":10}]
[207,20259910002534,"2025-01-09","Persona jurídica","Virtual - Correo electrónico","Solicitud judicial","Jurídico",null,"Subdirección de Hidrología","2025-01-16","Correo electrónico","2025-01-16",null,"",null,{"$f":"IFERROR(WORKDAY(N217,Y217,Hoja1!F209:F325),\"\")","v":""},"",null,"A TIEMPO",5,0,null,null,{"$f":"IFERROR(VLOOKUP(F217,Hoja1!$A$50:$C$63,2),\"\")","v":5},{"$f":"IFERROR(VLOOKUP(F217,Hoja1!$A$50:$C$63,3),\"\")","v":5}]
[208,20259050002544,"2025-01-09","Persona natural","Virtual - Formulario PQRSDF","Solicitud de documentos o información","Solicitud de información hidrometeorológica",null,"Grupo de Servicio al Ciudadano","2025-01-15","Correo electrónico","2025-01-23",null,"",null,{"$f":"IFERROR(WORKDAY(N218,Y218,Hoja1!F210:F326),\"\")","v":""},"",null,"A TIEMPO",4,0,null,null,{"$f":"IFERROR(VLOOKUP(F218,Hoja1!$A$50:$C$63,2),\"\")","v":5},{"$f":"IFERROR(VLOOKUP(F218,Hoja1!$A$50:$C$63,3),\"\")","v":5}]
[209,20259910002554,"2025-01-09","Persona natural","Virtual - Correo electrónico","Certificación laboral o pasantía","Administrativa",null,"Grupo de Administración y Desarrollo del Talento Humano","2025-01-20","Correo electrónico","2025-01-23",null,"",null,{"$f":"IFERROR(WORKDAY(N219,Y219,Hoja1!F211:F327),\"\")","v":""},"",null,"A TIEMPO",7,0,null,null,{"$f":"IFERROR(VLOOKUP(F219,Hoja1!$A$50:$C$63,2),\"\")","v":15},{"$f":"IFERROR(VLOOKUP(F219,Hoja1!$A$50:$C$63,3),\"\")","v":15}]
[210,20259910002584,"2025-01-09","Persona jurídica","Virtual - Correo electrónico","Solicitud de documentos o información","Registros ambientales",null,"Subdirección de Estudios Ambientales","2025-01-10","Correo electrónico","2025-01-23",null,"",null,{"$f":"IFERROR(WORKDAY(N220,Y220,Hoja1!F212:F328),\"\")","v":""},"",null,"A TIEMPO",1,0,null,null,{"$f":"IFERROR(VLOOKUP(F220,Hoja1!$A$50:$C$63,2),\"\")","v":5},{"$f":"IFERROR(VLOOKUP(F220,Hoja1!$A$50:$C$63,3),\"\")","v":5}]
[211,20259910002594,"2025-01-09","Persona jurídica","Virtual - Correo electrónico","Petición entre autoridades","Registros ambientales",null,"Subdirección de Estudios Ambientales","2025-01-10","Correo electrónico","2025-01-23",null,"",null,{"$f":"IFERROR(WORKDAY(N221,Y221,Hoja1!F213:F329),\"\")","v":""},"",null,"A TIEMPO",1,0,null,null,{"$f":"IFERROR(VLOOKUP(F221,Hoja1!$A$50:$C$63,2),\"\")","v":10},{"$f":"IFERROR(VLOOKUP(F221,Hoja1!$A$50:$C$63,3),\"\")","v":10}]
[212,20259910002604,"2025-01-09","Persona natural","Virtual - Correo electrónico","Solicitud de documentos o información","Solicitud de información hidrometeorológica",null,"Subdirección de Hidrología","2025-01-14","Correo electrónico","2025-01-23",null,"",null,{"$f":"IFERROR(WORKDAY(N222,Y222,Hoja1!F214:F330),\"\")","v":""},"",null,"A TIEMPO",3,0,null,null,{"$f":"IFERROR(VLOOKUP(F222,Hoja1!$A$50:$C$63,2),\"\")","v":5},{"$f":"IFERROR(VLOOKUP(F222,Hoja1!$A$50:$C$63,3),\"\")","v":5}]
[213,20259910002614,"2025-01-09","Persona natural","Virtual - Correo electrónico","Petición de interés general o particular","Administrativa",null,"Grupo de Administración y Desarrollo del Talento Humano","2025-01-27","Correo electrónico","2025-01-30","SI","2025-02-20","2025-01-27",{"$f":"IFERROR(WORKDAY(N223,Y223,Hoja1!F215:F331),\"\")","v":"2025-03-13"},{"$f":"+IF(N223=\"\",\"\",IF(O223=\"\",\"SIN RESPUESTA\",(IF(O223<=P223,\"A TIEMPO\",\"FUERA DE TIEMPO\"))))","v":"A TIEMPO"},null,"A TIEMPO",12,0,null,null,{"$f":"IFERROR(VLOOKUP(F223,Hoja1!$A$50:$C$63,2),\"\")","v":15},{"$f":"IFERROR(VLOOKUP(F223,Hoja1!$A$50:$C$63,3),\"\")","v":15}]
[214,20259910002624,"2025-01-09","Persona natural","Virtual - Correo electrónico","Solicitud de documentos o información","Solicitud de información hidrometeorológica",null,"Grupo de Servicio al Ciudadano","2025-01-15","Correo electrónico","2025-01-23",null,"",null,{"$f":"IFERROR(WORKDAY(N224,Y224,Hoja1!F216:F332),\"\")","v":""},{"$f":"+IF(N224=\"\",\"\",IF(O224=\"\",\"SIN RESPUESTA\",(IF(O224<=P224,\"A TIEMPO\",\"FUERA DE TIEMPO\"))))","v":""},null,"A TIEMPO",4,0,null,null,{"$f":"IFERROR(VLOOKUP(F224,Hoja1!$A$50:$C$63,2),\"\")","v":5},{"$f":"IFERROR(VLOOKUP(F224,Hoja1!$A$50:$C$63,3),\"\")","v":5}]
[215,20259050002634,"2025-01-09","Persona natural","Virtual - Formulario PQRSDF","Solicitud de documentos o información","Administrativa",null,"Oficina Asesora Jurídica","2025-01-23","Correo electrónico","2025-01-23",null,"",null,{"$f":"IFERROR(WORKDAY(N225,Y225,Hoja1!F217:F333),\"\")","v":""},{"$f":"+IF(N225=\"\",\"\",IF(O225=\"\",\"SIN RESPUESTA\",(IF(O225<=P225,\"A TIEMPO\",\"FUERA DE TIEMPO\"))))","v":""},null,"A TIEMPO",10,0,null,null,{"$f":"IFERROR(VLOOKUP(F225,Hoja1!$A$50:$C$63,2),\"\")","v":5},{"$f":"IFERROR(VLOOKUP(F225,Hoja1!$A$50:$C$63,3),\"\")","v":5}]
[216,20259910002654,"2025-01-09","Persona jurídica","Virtual - Correo electrónico","Solicitud de documentos o información","Informes ambientales",null,"Subdirección de Estudios Ambientales","2025-01-10","Correo electrónico","2025-01-23",null,"",null,{"$f":"IFERROR(WORKDAY(N226,Y226,Hoja1!F218:F334),\"\")","v":""},{"$f":"+IF(N226=\"\",\"\",IF(O226=\"\",\"SIN RESPUESTA\",(IF(O226<=P226,\"A TIEMPO\",\"FUERA DE TIEMPO\"))))","v":""},null,"A TIEMPO",1,0,null,null,{"$f":"IFERROR(VLOOKUP(F226,Hoja1!$A$50:$C$63,2),\"\")","v":5},{"$f":"IFERROR(VLOOKUP(F226,Hoja1!$A$50:$C$63,3),\"\")","v":5}]
[217,20259050002674,"2025-01-09","Persona natural","Virtual - Formulario PQRSDF","Solicitud de documentos o información","Solicitud de información hidrometeorológica",null,"Grupo de Servicio al Ciudadano","2025-01-15","Correo electrónico","2025-01-23",null,"",null,{"$f":"IFERROR(WORKDAY(N227,Y227,Hoja1!F219:F335),\"\")","v":""},{"$f":"+IF(N227=\"\",\"\",IF(O227=\"\",\"SIN RESPUESTA\",(IF(O227<=P227,\"A TIEMPO\",\"FUERA DE TIEMPO\"))))","v":""},null,"A TIEMPO",4,0,null,null,{"$f":"IFERROR(VLOOKUP(F227,Hoja1!$A$50:$C$63,2),\"\")","v":5},{"$f":"IFERROR(VLOOKUP(F227,Hoja1!$A$50:$C$63,3),\"\")","v":5}]
[218,20259910002684,"2025-01-09","Persona natural","Virtual - Correo electrónico","Consulta (Información técnica)","Acreditación de laboratorios",null,"Subdirección de Estudios Ambientales","2025-02-18","Correo electrónico","2025-02-20",null,"",null,{"$f":"IFERROR(WORKDAY(N228,Y228,Hoja1!F220:F336),\"\")","v":""},{"$f":"+IF(N228=\"\",\"\",IF(O228=\"\",\"SIN RESPUESTA\",(IF(O228<=P228,\"A TIEMPO\",\"FUERA DE TIEMPO\"))))","v":""},null,"A TIEMPO",28,0,null,null,{"$f":"IFERROR(VLOOKUP(F228,Hoja1!$A$50:$C$63,2),\"\")","v":30},{"$f":"IFERROR(VLOOKUP(F228,Hoja1!$A$50:$C$63,3),\"\")","v":30}]
[219,20259910002694,"2025-01-09","Persona natural","Virtual - Correo electrónico","Certificación de contrato","Administrativa",null,"Oficina Asesora Jurídica","2025-01-23","Correo electrónico","2025-01-23",null,"",null,{"$f":"IFERROR(WORKDAY(N229,Y229,Hoja1!F221:F337),\"\")","v":""},{"$f":"+IF(N229=\"\",\"\",IF(O229=\"\",\"SIN RESPUESTA\",(IF(O229<=P229,\"A TIEMPO\",\"FUERA DE TIEMPO\"))))","v":""},null,"A TIEMPO",10,0,null,null,{"$f":"IFERROR(VLOOKUP(F229,Hoja1!$A$50:$C$63,2),\"\")","v":15},{"$f":"IFERROR(VLOOKUP(F229,Hoja1!$A$50:$C$63,3),\"\")","v":15}]
[220,20259910002704,"2025-01-09","Persona natural","Virtual - Correo electrónico","Solicitud de documentos o información","Administrativa",null,"Grupo de Tesorería","2025-01-10","Correo electrónico","2025-01-23",null,"",null,{"$f":"IFERROR(WORKDAY(N230,Y230,Hoja1!F222:F338),\"\")","v":""},{"$f":"+IF(N230=\"\",\"\",IF(O230=\"\",\"SIN RESPUESTA\",(IF(O230<=P230,\"A TIEMPO\",\"FUERA DE TIEMPO\"))))","v":""},null,"A TIEMPO",1,0,null,null,{"$f":"IFERROR(VLOOKUP(F230,Hoja1!$A$50:$C$63,2),\"\")","v":5},{"$f":"IFERROR(VLOOKUP(F230,Hoja1!$A$50:$C$63,3),\"\")","v":5}]
[221,20259050002724,"2025-01-09","Persona natural","Virtual - Formulario PQRSDF","Solicitud de documentos o información","Cambio climático",null,"Subdirección de Estudios Ambientales","2025-01-24","Correo electrónico","2025-01-23",null,"",null,{"$f":"IFERROR(WORKDAY(N231,Y231,Hoja1!F223:F339),\"\")","v":""},{"$f":"+IF(N231=\"\",\"\",IF(O231=\"\",\"SIN RESPUESTA\",(IF(O231<=P231,\"A TIEMPO\",\"FUERA DE TIEMPO\"))))","v":""},null,"A TIEMPO",11,1,null,null,{"$f":"IFERROR(VLOOKUP(F231,Hoja1!$A$50:$C$63,2),\"\")","v":5},{"$f":"IFERROR(VLOOKUP(F231,Hoja1!$A$50:$C$63,3),\"\")","v":5}]
[222,20259910002764,"2025-01-09","Persona natural","Virtual - Correo electrónico","Solicitud de documentos o información","Solicitud de información hidrometeorológica",null,"Grupo de Servicio al Ciudadano","2025-01-15","Correo electrónico","2025-01-23",null,"",null,{"$f":"IFERROR(WORKDAY(N232,Y232,Hoja1!F224:F340),\"\")","v":""},{"$f":"+IF(N232=\"\",\"\",IF(O232=\"\",\"SIN RESPUESTA\",(IF(O232<=P232,\"A TIEMPO\",\"FUERA DE TIEMPO\"))))","v":""},null,"SIN RESPUESTA",4,0,null,null,{"$f":"IFERROR(VLOOKUP(F232,Hoja1!$A$50:$C$63,2),\"\")","v":5},{"$f":"IFERROR(VLOOKUP(F232,Hoja1!$A$50:$C$63,3),\"\")","v":5}]
[223,20259050002774,"2025-01-09","Persona natural","Virtual - Formulario PQRSDF","Certificación de contrato","Administrativa",null,"Oficina Asesora Jurídica","2025-01-23","Correo electrónico","2025-01-23",null,"",null,{"$f":"IFERROR(WORKDAY(N233,Y233,Hoja1!F225:F341),\"\")","v":""},{"$f":"+IF(N233=\"\",\"\",IF(O233=\"\",\"SIN RESPUESTA\",(IF(O233<=P233,\"A TIEMPO\",\"FUERA DE TIEMPO\"))))","v":""},null,"FUERA DE TIEMPO",10,0,null,null,{"$f":"IFERROR(VLOOKUP(F233,Hoja1!$A$50:$C$63,2),\"\")","v":15},{"$f":"IFERROR(VLOOKUP(F233,Hoja1!$A$50:$C$63,3),\"\")","v":15}]
[224,20259050002784,"2025-01-09","Persona natural","Virtual - Formulario PQRSDF","Certificación de contrato","Administrativa",null,"Oficina Asesora Jurídica","2025-01-23","Correo electrónico","2025-01-23",null,"",null,{"$f":"IFERROR(WORKDAY(N234,Y234,Hoja1!F226:F342),\"\")","v":""},{"$f":"+IF(N234=\"\",\"\",IF(O234=\"\",\"SIN RESPUESTA\",(IF(O234<=P234,\"A TIEMPO\",\"FUERA DE TIEMPO\"))))","v":""},null,"A TIEMPO",10,0,null,null,{"$f":"IFERROR(VLOOKUP(F234,Hoja1!$A$50:$C$63,2),\"\")","v":15},{"$f":"IFERROR(VLOOKUP(F234,Hoja1!$A$50:$C$63,3),\"\")","v":15}]
[225,20259050002794,"2025-01-09","Persona natural","Virtual - Formulario PQRSDF","Certificación de contrato","Administrativa",null,"Oficina Asesora Jurídica","2025-01-23","Correo electrónico","2025-01-23",null,"",null,{"$f":"IFERROR(WORKDAY(N235,Y235,Hoja1!F227:F343),\"\")","v":""},{"$f":"+IF(N235=\"\",\"\",IF(O235=\"\",\"SIN RESPUESTA\",(IF(O235<=P235,\"A TIEMPO\",\"FUERA DE TIEMPO\"))))","v":""},null,"A TIEMPO",10,0,null,null,{"$f":"IFERROR(VLOOKUP(F235,Hoja1!$A$50:$C$63,2),\"\")","v":15},{"$f":"IFERROR(VLOOKUP(F235,Hoja1!$A$50:$C$63,3),\"\")","v":15}]
[226,20259910002804,"2025-01-10","Persona jurídica","Virtual - Correo electrónico","Solicitud de documentos o información","Sistema de información ambiental",null,"Subdirección de Estudios Ambientales","2025-01-24","Correo electrónico","2025-01-24",null,"",null,{"$f":"IFERROR(WORKDAY(N236,Y236,Hoja1!F228:F344),\"\")","v":""},{"$f":"+IF(N236=\"\",\"\",IF(O236=\"\",\"SIN RESPUESTA\",(IF(O236<=P236,\"A TIEMPO\",\"FUERA DE TIEMPO\"))))","v":""},null,"A TIEMPO",10,0,null,null,{"$f":"IFERROR(VLOOKUP(F236,Hoja1!$A$50:$C$63,2),\"\")","v":5},{"$f":"IFERROR(VLOOKUP(F236,Hoja1!$A$50:$C$63,3),\"\")","v":5}]
[227,20259910002814,"2025-01-10","Persona jurídica","Virtual - Correo electrónico","Solicitud de documentos o información","Administrativa",null,"Grupo de Administración y Desarrollo del Talento Humano","2025-01-20","Correo electrónico","2025-01-24",null,"",null,{"$f":"IFERROR(WORKDAY(N237,Y237,Hoja1!F229:F345),\"\")","v":""},{"$f":"+IF(N237=\"\",\"\",IF(O237=\"\",\"SIN RESPUESTA\",(IF(O237<=P237,\"A TIEMPO\",\"FUERA DE TIEMPO\"))))","v":""},null,"A TIEMPO",6,0,null,null,{"$f":"IFERROR(VLOOKUP(F237,Hoja1!$A$50:$C$63,2),\"\")","v":5},{"$f":"IFERROR(VLOOKUP(F237,Hoja1!$A$50:$C$63,3),\"\")","v":5}]
[228,20259910002834,"2025-01-10","Persona natural","Virtual - Correo electrónico","Solicitud de documentos o información","Solicitud de información hidrometeorológica",null,"Subdirección de Hidrología","2025-01-14","Correo electrónico","2025-01-24",null,"",null,{"$f":"IFERROR(WORKDAY(N238,Y238,Hoja1!F230:F346),\"\")","v":""},{"$f":"+IF(N238=\"\",\"\",IF(O238=\"\",\"SIN RESPUESTA\",(IF(O238<=P238,\"A TIEMPO\",\"FUERA DE TIEMPO\"))))","v":""},null,"SIN RESPUESTA",2,0,null,null,{"$f":"IFERROR(VLOOKUP(F238,Hoja1!$A$50:$C$63,2),\"\")","v":5},{"$f":"IFERROR(VLOOKUP(F238,Hoja1!$A$50:$C$63,3),\"\")","v":5}]
[229,20259050002824,"2025-01-10","Persona natural","Virtual - Formulario PQRSDF","Certificación laboral o pasantía","Administrativa",null,"Grupo de Administración y Desarrollo del Talento Humano","2025-01-20","Correo electrónico","2025-01-24",null,"",null,{"$f":"IFERROR(WORKDAY(N239,Y239,Hoja1!F231:F347),\"\")","v":""},{"$f":"+IF(N239=\"\",\"\",IF(O239=\"\",\"SIN RESPUESTA\",(IF(O239<=P239,\"A TIEMPO\",\"FUERA DE TIEMPO\"))))","v":""},null,"A TIEMPO",6,0,null,null,{"$f":"IFERROR(VLOOKUP(F239,Hoja1!$A$50:$C$63,2),\"\")","v":15},{"$f":"IFERROR(VLOOKUP(F239,Hoja1!$A$50:$C$63,3),\"\")","v":15}]
[230,20259050002844,"2025-01-10","Persona natural","Virtual - Formulario PQRSDF","Certificación laboral o pasantía","Administrativa",null,"Grupo de Administración y Desarrollo del Talento Humano","2025-01-20","Correo electrónico","2025-01-24",null,"",null,{"$f":"IFERROR(WORKDAY(N240,Y240,Hoja1!F232:F348),\"\")","v":""},{"$f":"+IF(N240=\"\",\"\",IF(O240=\"\",\"SIN RESPUESTA\",(IF(O240<=P240,\"A TIEMPO\",\"FUERA DE TIEMPO\"))))","v":""},null,"A TIEMPO",6,0,null,null,{"$f":"IFERROR(VLOOKUP(F240,Hoja1!$A$50:$C$63,2),\"\")","v":15},{"$f":"IFERROR(VLOOKUP(F240,Hoja1!$A$50:$C$63,3),\"\")","v":15}]
[231,20259910002854,"2025-01-10","Persona jurídica","Virtual - Correo electrónico","Solicitud de documentos o información","Solicitud de información hidrometeorológica",null,"Grupo de Servicio al Ciudadano","2025-01-15","Correo electrónico","2025-01-24",null,"",null,{"$f":"IFERROR(WORKDAY(N241,Y241,Hoja1!F233:F349),\"\")","v":""},{"$f":"+IF(N241=\"\",\"\",IF(O241=\"\",\"SIN RESPUESTA\",(IF(O241<=P241,\"A TIEMPO\",\"FUERA DE TIEMPO\"))))","v":""},null,"A TIEMPO",3,0,null,null,{"$f":"IFERROR(VLOOKUP(F241,Hoja1!$A$50:$C$63,2),\"\")","v":5},{"$f":"IFERROR(VLOOKUP(F241,Hoja1!$A$50:$C$63,3),\"\")","v":5}]
[232,20259910002864,"2025-01-10","Persona natural","Virtual - Correo electrónico","Certificación de contrato","Administrativa",null,"Oficina Asesora Jurídica","2025-01-23","Correo electrónico","2025-01-24",null,"",null,{"$f":"IFERROR(WORKDAY(N242,Y242,Hoja1!F234:F350),\"\")","v":""},{"$f":"+IF(N242=\"\",\"\",IF(O242=\"\",\"SIN RESPUESTA\",(IF(O242<=P242,\"A TIEMPO\",\"FUERA DE TIEMPO\"))))","v":""},null,"FUERA DE TIEMPO",9,0,null,null,{"$f":"IFERROR(VLOOKUP(F242,Hoja1!$A$50:$C$63,2),\"\")","v":15},{"$f":"IFERROR(VLOOKUP(F242,Hoja1!$A$50:$C$63,3),\"\")","v":15}]
[233,20259910002894,"2025-01-10","Persona jurídica","Virtual - Correo electrónico","Solicitud de documentos o información","Registros ambientales",null,"Subdirección de Estudios Ambientales","2025-01-16","Correo electrónico","2025-01-24",null,"",null,{"$f":"IFERROR(WORKDAY(N243,Y243,Hoja1!F235:F351),\"\")","v":""},{"$f":"+IF(N243=\"\",\"\",IF(O243=\"\",\"SIN RESPUESTA\",(IF(O243<=P243,\"A TIEMPO\",\"FUERA DE TIEMPO\"))))","v":""},null,"A TIEMPO",4,0,null,null,{"$f":"IFERROR(VLOOKUP(F243,Hoja1!$A$50:$C$63,2),\"\")","v":5},{"$f":"IFERROR(VLOOKUP(F243,Hoja1!$A$50:$C$63,3),\"\")","v":5}]
[234,20259910002924,"2025-01-10","Persona natural","Virtual - Correo electrónico","Certificación de contrato","Administrativa",null,"Oficina Asesora Jurídica","2025-01-24","Correo electrónico","2025-01-24",null,"",null,{"$f":"IFERROR(WORKDAY(N244,Y244,Hoja1!F236:F352),\"\")","v":""},{"$f":"+IF(N244=\"\",\"\",IF(O244=\"\",\"SIN RESPUESTA\",(IF(O244<=P244,\"A TIEMPO\",\"FUERA DE TIEMPO\"))))","v":""},null,"A TIEMPO",10,0,null,null,{"$f":"IFERROR(VLOOKUP(F244,Hoja1!$A$50:$C$63,2),\"\")","v":15},{"$f":"IFERROR(VLOOKUP(F244,Hoja1!$A$50:$C$63,3),\"\")","v":15}]
[235,20259050002944,"2025-01-10","Persona natural","Virtual - Formulario PQRSDF","Certificación de contrato","Administrativa",null,"Oficina Asesora Jurídica","2025-01-24","Correo electrónico","2025-01-24",null,"",null,{"$f":"IFERROR(WORKDAY(N245,Y245,Hoja1!F237:F353),\"\")","v":""},{"$f":"+IF(N245=\"\",\"\",IF(O245=\"\",\"SIN RESPUESTA\",(IF(O245<=P245,\"A TIEMPO\",\"FUERA DE TIEMPO\"))))","v":""},null,"SIN RESPUESTA",10,0,null,null,{"$f":"IFERROR(VLOOKUP(F245,Hoja1!$A$50:$C$63,2),\"\")","v":15},{"$f":"IFERROR(VLOOKUP(F245,Hoja1!$A$50:$C$63,3),\"\")","v":15}]
[236,20259910002964,"2025-01-10","Persona jurídica","Virtual - Correo electrónico","Solicitud de documentos o información","Registros ambientales",null,"Subdirección de Estudios Ambientales","2025-01-14","Correo electrónico","2025-01-24",null,"",null,{"$f":"IFERROR(WORKDAY(N246,Y246,Hoja1!F238:F354),\"\")","v":""},{"$f":"+IF(N246=\"\",\"\",IF(O246=\"\",\"SIN RESPUESTA\",(IF(O246<=P246,\"A TIEMPO\",\"FUERA DE TIEMPO\"))))","v":""},null,"SIN RESPUESTA",2,0,null,null,{"$f":"IFERROR(VLOOKUP(F246,Hoja1!$A$50:$C$63,2),\"\")","v":5},{"$f":"IFERROR(VLOOKUP(F246,Hoja1!$A$50:$C$63,3),\"\")","v":5}]
[237,20259910002994,"2025-01-10","Persona natural","Virtual - Correo electrónico","Certificación de contrato","Administrativa",null,"Oficina Asesora Jurídica","2025-01-24","Correo electrónico","2025-01-24",null,"",null,{"$f":"IFERROR(WORKDAY(N247,Y247,Hoja1!F239:F355),\"\")","v":""},{"$f":"+IF(N247=\"\",\"\",IF(O247=\"\",\"SIN RESPUESTA\",(IF(O247<=P247,\"A TIEMPO\",\"FUERA DE TIEMPO\"))))","v":""},null,"A TIEMPO",10,0,null,null,{"$f":"IFERROR(VLOOKUP(F247,Hoja1!$A$50:$C$63,2),\"\")","v":15},{"$f":"IFERROR(VLOOKUP(F247,Hoja1!$A$50:$C$63,3),\"\")","v":15}]
[238,20259910003004,"2025-01-10","Persona natural","Virtual - Correo electrónico","Certificación de contrato","Administrativa",null,"Oficina Asesora Jurídica","2025-01-24","Correo electrónico","2025-01-24",null,"",null,{"$f":"IFERROR(WORKDAY(N248,Y248,Hoja1!F240:F356),\"\")","v":""},{"$f":"+IF(N248=\"\",\"\",IF(O248=\"\",\"SIN RESPUESTA\",(IF(O248<=P248,\"A TIEMPO\",\"FUERA DE TIEMPO\"))))","v":""},null,"A TIEMPO",10,0,null,null,{"$f":"IFERROR(VLOOKUP(F248,Hoja1!$A$50:$C$63,2),\"\")","v":15},{"$f":"IFERROR(VLOOKUP(F248,Hoja1!$A$50:$C$63,3),\"\")","v":15}]
[239,20259910003034,"2025-01-10","Persona natural","Virtual - Correo electrónico","Certificación de contrato","Administrativa",null,"Oficina Asesora Jurídica","2025-01-24","Correo electrónico","2025-01-24",null,"",null,{"$f":"IFERROR(WORKDAY(N249,Y249,Hoja1!F241:F357),\"\")","v":""},{"$f":"+IF(N249=\"\",\"\",IF(O249=\"\",\"SIN RESPUESTA\",(IF(O249<=P249,\"A TIEMPO\",\"FUERA DE TIEMPO\"))))","v":""},null,"A TIEMPO",10,0,null,null,{"$f":"IFERROR(VLOOKUP(F249,Hoja1!$A$50:$C$63,2),\"\")","v":15},{"$f":"IFERROR(VLOOKUP(F249,Hoja1!$A$50:$C$63,3),\"\")","v":15}]
[240,20259050003014,"2025-01-10","Persona natural","Virtual - Formulario PQRSDF","Certificación de contrato","Administrativa",null,"Oficina Asesora Jurídica","2025-01-24","Correo electrónico","2025-01-24",null,"",null,{"$f":"IFERROR(WORKDAY(N250,Y250,Hoja1!F242:F358),\"\")","v":""},{"$f":"+IF(N250=\"\",\"\",IF(O250=\"\",\"SIN RESPUESTA\",(IF(O250<=P250,\"A TIEMPO\",\"FUERA DE TIEMPO\"))))","v":""},null,"A TIEMPO",10,0,null,null,{"$f":"IFERROR(VLOOKUP(F250,Hoja1!$A$50:$C$63,2),\"\")","v":15},{"$f":"IFERROR(VLOOKUP(F250,Hoja1!$A$50:$C$63,3),\"\")","v":15}]
[241,20259050003044,"2025-01-10","Persona natural","Virtual - Formulario PQRSDF","Certificación de contrato","Administrativa",null,"Oficina Asesora Jurídica","2025-01-24","Correo electrónico","2025-01-24",null,"",null,{"$f":"IFERROR(WORKDAY(N251,Y251,Hoja1!F243:F359),\"\")","v":""},{"$f":"+IF(N251=\"\",\"\",IF(O251=\"\",\"SIN RESPUESTA\",(IF(O251<=P251,\"A TIEMPO\",\"FUERA DE TIEMPO\"))))","v":""},null,"A TIEMPO",10,0,null,null,{"$f":"IFERROR(VLOOKUP(F251,Hoja1!$A$50:$C$63,2),\"\")","v":15},{"$f":"IFERROR(VLOOKUP(F251,Hoja1!$A$50:$C$63,3),\"\")","v":15}]
[242,20259910003054,"2025-01-10","Persona jurídica","Virtual - Correo electrónico","Petición entre autoridades","Solicitud de información hidrometeorológica",null,"Subdirección de Hidrología","2025-01-22","Correo electrónico","2025-01-24",null,"",null,{"$f":"IFERROR(WORKDAY(N252,Y252,Hoja1!F244:F360),\"\")","v":""},{"$f":"+IF(N252=\"\",\"\",IF(O252=\"\",\"SIN RESPUESTA\",(IF(O252<=P252,\"A TIEMPO\",\"FUERA DE TIEMPO\"))))","v":""},null,"A TIEMPO",8,0,null,null,{"$f":"IFERROR(VLOOKUP(F252,Hoja1!$A$50:$C$63,2),\"\")","v":10},{"$f":"IFERROR(VLOOKUP(F252,Hoja1!$A$50:$C$63,3),\"\")","v":10}]
[243,20259050003064,"2025-01-10","Persona jurídica","Virtual - Formulario PQRSDF","Solicitud de documentos o información","Acreditación de laboratorios",null,"Subdirección de Estudios Ambientales","2025-01-23","Correo electrónico","2025-01-24",null,"",null,{"$f":"IFERROR(WORKDAY(N253,Y253,Hoja1!F245:F361),\"\")","v":""},{"$f":"+IF(N253=\"\",\"\",IF(O253=\"\",\"SIN RESPUESTA\",(IF(O253<=P253,\"A TIEMPO\",\"FUERA DE TIEMPO\"))))","v":""},null,"A TIEMPO",9,0,null,null,{"$f":"IFERROR(VLOOKUP(F253,Hoja1!$A$50:$C$63,2),\"\")","v":5},{"$f":"IFERROR(VLOOKUP(F253,Hoja1!$A$50:$C$63,3),\"\")","v":5}]
[244,20259910003094,"2025-01-10","Persona jurídica","Virtual - Correo electrónico","Solicitud de documentos o información","Registros ambientales",null,"Subdirección de Estudios Ambientales","2025-01-16","Correo electrónico","2025-01-24",null,"",null,{"$f":"IFERROR(WORKDAY(N254,Y254,Hoja1!F246:F362),\"\")","v":""},{"$f":"+IF(N254=\"\",\"\",IF(O254=\"\",\"SIN RESPUESTA\",(IF(O254<=P254,\"A TIEMPO\",\"FUERA DE TIEMPO\"))))","v":""},null,"A TIEMPO",4,0,null,null,{"$f":"IFERROR(VLOOKUP(F254,Hoja1!$A$50:$C$63,2),\"\")","v":5},{"$f":"IFERROR(VLOOKUP(F254,Hoja1!$A$50:$C$63,3),\"\")","v":5}]
[245,20259050003104,"2025-01-10","Persona natural","Virtual - Formulario PQRSDF","Solicitud de documentos o información","Solicitud de información hidrometeorológica",null,"Grupo de Servicio al Ciudadano","2025-01-15","Correo electrónico","2025-01-24",null,"",null,{"$f":"IFERROR(WORKDAY(N255,Y255,Hoja1!F247:F363),\"\")","v":""},{"$f":"+IF(N255=\"\",\"\",IF(O255=\"\",\"SIN RESPUESTA\",(IF(O255<=P255,\"A TIEMPO\",\"FUERA DE TIEMPO\"))))","v":""},null,"A TIEMPO",3,0,null,null,{"$f":"IFERROR(VLOOKUP(F255,Hoja1!$A$50:$C$63,2),\"\")","v":5},{"$f":"IFERROR(VLOOKUP(F255,Hoja1!$A$50:$C$63,3),\"\")","v":5}]
[246,20259910003124,"2025-01-10","Persona jurídica","Virtual - Correo electrónico","Solicitud de documentos o información","Registros ambientales",null,"Subdirección de Estudios Ambientales","2025-01-21","Correo electrónico","2025-01-24",null,"",null,{"$f":"IFERROR(WORKDAY(N256,Y256,Hoja1!F248:F364),\"\")","v":""},{"$f":"+IF(N256=\"\",\"\",IF(O256=\"\",\"SIN RESPUESTA\",(IF(O256<=P256,\"A TIEMPO\",\"FUERA DE TIEMPO\"))))","v":""},null,"A TIEMPO",7,0,null,null,{"$f":"IFERROR(VLOOKUP(F256,Hoja1!$A$50:$C$63,2),\"\")","v":5},{"$f":"IFERROR(VLOOKUP(F256,Hoja1!$A$50:$C$63,3),\"\")","v":5}]
[247,20259910003134,"2025-01-10","Persona jurídica","Virtual - Correo electrónico","Solicitud de documentos o información","Registros ambientales",null,"Subdirección de Estudios Ambientales","2025-01-21","Correo electrónico","2025-01-24",null,"",null,{"$f":"IFERROR(WORKDAY(N257,Y257,Hoja1!F249:F365),\"\")","v":""},{"$f":"+IF(N257=\"\",\"\",IF(O257=\"\",\"SIN RESPUESTA\",(IF(O257<=P257,\"A TIEMPO\",\"FUERA DE TIEMPO\"))))","v":""},null,"A TIEMPO",7,0,null,null,{"$f":"IFERROR(VLOOKUP(F257,Hoja1!$A$50:$C$63,2),\"\")","v":5},{"$f":"IFERROR(VLOOKUP(F257,Hoja1!$A$50:$C$63,3),\"\")","v":5}]
[248,20259910005424,"2025-01-16","Persona jurídica","Virtual - Correo electrónico","Solicitud de documentos o información","Registros ambientales",null,"Subdirección de Estudios Ambientales","2025-01-20","Correo electrónico","2025-01-30",null,"",null,{"$f":"IFERROR(WORKDAY(N258,Y258,Hoja1!F250:F366),\"\")","v":""},{"$f":"+IF(N258=\"\",\"\",IF(O258=\"\",\"SIN RESPUESTA\",(IF(O258<=P258,\"A TIEMPO\",\"FUERA DE TIEMPO\"))))","v":""},null,"A TIEMPO",-242,0,null,null,{"$f":"IFERROR(VLOOKUP(F258,Hoja1!$A$50:$C$63,2),\"\")","v":5},{"$f":"IFERROR(VLOOKUP(F258,Hoja1!$A$50:$C$63,3),\"\")","v":5}]
[249,20259910003164,"2025-01-10","Persona natural","Virtual - Correo electrónico","Solicitud de documentos o información","Solicitud de información hidrometeorológica",null,"Subdirección de Meteorología","2025-01-16","Correo electrónico","2025-01-24",null,"",null,{"$f":"IFERROR(WORKDAY(N259,Y259,Hoja1!F251:F367),\"\")","v":""},{"$f":"+IF(N259=\"\",\"\",IF(O259=\"\",\"SIN RESPUESTA\",(IF(O259<=P259,\"A TIEMPO\",\"FUERA DE TIEMPO\"))))","v":""},null,"A TIEMPO",4,0,null,null,{"$f":"IFERROR(VLOOKUP(F259,Hoja1!$A$50:$C$63,2),\"\")","v":5},{"$f":"IFERROR(VLOOKUP(F259,Hoja1!$A$50:$C$63,3),\"\")","v":5}]
[250,20259910003174,"2025-01-10","Persona natural","Virtual - Correo electrónico","Certificación de contrato","Administrativa",null,"Oficina Asesora Jurídica","2025-01-24","Correo electrónico","2025-01-24",null,"",null,{"$f":"IFERROR(WORKDAY(N260,Y260,Hoja1!F252:F368),\"\")","v":""},{"$f":"+IF(N260=\"\",\"\",IF(O260=\"\",\"SIN RESPUESTA\",(IF(O260<=P260,\"A TIEMPO\",\"FUERA DE TIEMPO\"))))","v":""},null,"A TIEMPO",10,0,null,null,{"$f":"IFERROR(VLOOKUP(F260,Hoja1!$A$50:$C$63,2),\"\")","v":15},{"$f":"IFERROR(VLOOKUP(F260,Hoja1!$A$50:$C$63,3),\"\")","v":15}]
[251,20259910003234,"2025-01-10","Persona jurídica","Virtual - Correo electrónico","Solicitud de documentos o información","Registros ambientales",null,"Subdirección de Estudios Ambientales","2025-01-16","Correo electrónico","2025-01-24",null,"",null,{"$f":"IFERROR(WORKDAY(N261,Y261,Hoja1!F253:F369),\"\")","v":""},{"$f":"+IF(N261=\"\",\"\",IF(O261=\"\",\"SIN RESPUESTA\",(IF(O261<=P261,\"A TIEMPO\",\"FUERA DE TIEMPO\"))))","v":""},null,"A TIEMPO",4,0,null,null,{"$f":"IFERROR(VLOOKUP(F261,Hoja1!$A$50:$C$63,2),\"\")","v":5},{"$f":"IFERROR(VLOOKUP(F261,Hoja1!$A$50:$C$63,3),\"\")","v":5}]
[252,20259910003244,"2025-01-10","Persona jurídica","Virtual - Correo electrónico","Solicitud de documentos o información","Registros ambientales",null,"Subdirección de Estudios Ambientales","2025-01-16","Correo electrónico","2025-01-24",null,"",null,{"$f":"IFERROR(WORKDAY(N262,Y262,Hoja1!F254:F370),\"\")","v":""},{"$f":"+IF(N262=\"\",\"\",IF(O262=\"\",\"SIN RESPUESTA\",(IF(O262<=P262,\"A TIEMPO\",\"FUERA DE TIEMPO\"))))","v":""},null,"A TIEMPO",4,0,null,null,{"$f":"IFERROR(VLOOKUP(F262,Hoja1!$A$50:$C$63,2),\"\")","v":5},{"$f":"IFERROR(VLOOKUP(F262,Hoja1!$A$50:$C$63,3),\"\")","v":5}]
[253,20259050003254,"2025-01-10","Persona jurídica","Virtual - Formulario PQRSDF","Certificación de tiempo, clima y eventos hidrológicos","Certificaciones del tiempo y clima",null,"Subdirección de Meteorología","2025-02-05","Correo electrónico","2025-02-21",null,"",null,{"$f":"IFERROR(WORKDAY(N263,Y263,Hoja1!F255:F371),\"\")","v":""},{"$f":"+IF(N263=\"\",\"\",IF(O263=\"\",\"SIN RESPUESTA\",(IF(O263<=P263,\"A TIEMPO\",\"FUERA DE TIEMPO\"))))","v":""},null,"A TIEMPO",18,0,null,null,{"$f":"IFERROR(VLOOKUP(F263,Hoja1!$A$50:$C$63,2),\"\")","v":15},{"$f":"IFERROR(VLOOKUP(F263,Hoja1!$A$50:$C$63,3),\"\")","v":15}]
[254,20259050003264,"2025-01-10","Persona jurídica","Virtual - Formulario PQRSDF","Certificación de tiempo, clima y eventos hidrológicos","Certificaciones del tiempo y clima",null,"Subdirección de Meteorología","2025-02-17","Correo electrónico","2025-02-21",null,"",null,{"$f":"IFERROR(WORKDAY(N264,Y264,Hoja1!F256:F372),\"\")","v":""},{"$f":"+IF(N264=\"\",\"\",IF(O264=\"\",\"SIN RESPUESTA\",(IF(O264<=P264,\"A TIEMPO\",\"FUERA DE TIEMPO\"))))","v":""},null,"A TIEMPO",26,0,null,null,{"$f":"IFERROR(VLOOKUP(F264,Hoja1!$A$50:$C$63,2),\"\")","v":15},{"$f":"IFERROR(VLOOKUP(F264,Hoja1!$A$50:$C$63,3),\"\")","v":15}]
[255,20259050003274,"2025-01-11","Persona natural","Virtual - Formulario PQRSDF","Solicitud de documentos o información","Solicitud de información hidrometeorológica",null,"Grupo de Servicio al Ciudadano","2025-01-15","Correo electrónico","2025-01-24",null,"",null,{"$f":"IFERROR(WORKDAY(N265,Y265,Hoja1!F257:F373),\"\")","v":""},{"$f":"+IF(N265=\"\",\"\",IF(O265=\"\",\"SIN RESPUESTA\",(IF(O265<=P265,\"A TIEMPO\",\"FUERA DE TIEMPO\"))))","v":""},null,"A TIEMPO",2,0,null,null,{"$f":"IFERROR(VLOOKUP(F265,Hoja1!$A$50:$C$63,2),\"\")","v":5},{"$f":"IFERROR(VLOOKUP(F265,Hoja1!$A$50:$C$63,3),\"\")","v":5}]
[256,20259050003284,"2025-01-11","Persona jurídica","Virtual - Formulario PQRSDF","Solicitud de documentos o información","Registros ambientales",null,"Subdirección de Estudios Ambientales","2025-01-16","Correo electrónico","2025-01-24",null,"",null,{"$f":"IFERROR(WORKDAY(N266,Y266,Hoja1!F258:F374),\"\")","v":""},{"$f":"+IF(N266=\"\",\"\",IF(O266=\"\",\"SIN RESPUESTA\",(IF(O266<=P266,\"A TIEMPO\",\"FUERA DE TIEMPO\"))))","v":""},null,"A TIEMPO",3,0,null,null,{"$f":"IFERROR(VLOOKUP(F266,Hoja1!$A$50:$C$63,2),\"\")","v":5},{"$f":"IFERROR(VLOOKUP(F266,Hoja1!$A$50:$C$63,3),\"\")","v":5}]
[257,20259050003294,"2025-01-11","Persona natural","Virtual - Formulario PQRSDF","Certificación de contrato","Administrativa",null,"Oficina Asesora Jurídica","2025-01-27","Correo electrónico","2025-01-24",null,"",null,{"$f":"IFERROR(WORKDAY(N267,Y267,Hoja1!F259:F375),\"\")","v":""},{"$f":"+IF(N267=\"\",\"\",IF(O267=\"\",\"SIN RESPUESTA\",(IF(O267<=P267,\"A TIEMPO\",\"FUERA DE TIEMPO\"))))","v":""},null,{"$f":"+IF(C267=\"\",\"\",IF(J267=\"\",\"SIN RESPUESTA\",(IF(J267<=L267,\"A TIEMPO\",\"FUERA DE TIEMPO\"))))","v":"FUERA DE TIEMPO"},10,1,null,null,{"$f":"IFERROR(VLOOKUP(F267,Hoja1!$A$50:$C$63,2),\"\")","v":15},{"$f":"IFERROR(VLOOKUP(F267,Hoja1!$A$50:$C$63,3),\"\")","v":15}]
[258,20259050003304,"2025-01-12","Persona natural","Virtual - Formulario PQRSDF","Solicitud de documentos o información","Bosques",null,"Subdirección de Ecosistemas e Información Ambiental","2025-01-21","Correo electrónico","2025-01-24",null,"",null,{"$f":"IFERROR(WORKDAY(N268,Y268,Hoja1!F260:F376),\"\")","v":""},{"$f":"+IF(N268=\"\",\"\",IF(O268=\"\",\"SIN RESPUESTA\",(IF(O268<=P268,\"A TIEMPO\",\"FUERA DE TIEMPO\"))))","v":""},null,"A TIEMPO",6,0,null,null,{"$f":"IFERROR(VLOOKUP(F268,Hoja1!$A$50:$C$63,2),\"\")","v":5},{"$f":"IFERROR(VLOOKUP(F268,Hoja1!$A$50:$C$63,3),\"\")","v":5}]
[259,20259050003314,"2025-01-13","Persona natural","Virtual - Formulario PQRSDF","Certificación de contrato","Administrativa",null,"Oficina Asesora Jurídica","2025-01-27","Correo electrónico","2025-01-27",null,"",null,{"$f":"IFERROR(WORKDAY(N269,Y269,Hoja1!F261:F377),\"\")","v":""},{"$f":"+IF(N269=\"\",\"\",IF(O269=\"\",\"SIN RESPUESTA\",(IF(O269<=P269,\"A TIEMPO\",\"FUERA DE TIEMPO\"))))","v":""},null,"A TIEMPO",10,0,null,null,{"$f":"IFERROR(VLOOKUP(F269,Hoja1!$A$50:$C$63,2),\"\")","v":15},{"$f":"IFERROR(VLOOKUP(F269,Hoja1!$A$50:$C$63,3),\"\")","v":15}]
[260,20259050003334,"2025-01-13","Persona natural","Virtual - Formulario PQRSDF","Certificación de ingresos y retenciones","Administrativa",null,"Grupo de Tesorería","2025-01-14","Correo electrónico","2025-01-27",null,"",null,{"$f":"IFERROR(WORKDAY(N270,Y270,Hoja1!F262:F378),\"\")","v":""},{"$f":"+IF(N270=\"\",\"\",IF(O270=\"\",\"SIN RESPUESTA\",(IF(O270<=P270,\"A TIEMPO\",\"FUERA DE TIEMPO\"))))","v":""},null,"A TIEMPO",1,0,null,null,{"$f":"IFERROR(VLOOKUP(F270,Hoja1!$A$50:$C$63,2),\"\")","v":15},{"$f":"IFERROR(VLOOKUP(F270,Hoja1!$A$50:$C$63,3),\"\")","v":15}]
[261,20259910003344,"2025-01-13","Persona jurídica","Virtual - Correo electrónico","Certificación de tiempo, clima y eventos hidrológicos","Certificaciones del tiempo y clima",null,"Subdirección de Meteorología","2025-02-05","Correo electrónico","2025-02-24",null,"",null,{"$f":"IFERROR(WORKDAY(N271,Y271,Hoja1!F263:F379),\"\")","v":""},{"$f":"+IF(N271=\"\",\"\",IF(O271=\"\",\"SIN RESPUESTA\",(IF(O271<=P271,\"A TIEMPO\",\"FUERA DE TIEMPO\"))))","v":""},null,"A TIEMPO",17,0,null,null,{"$f":"IFERROR(VLOOKUP(F271,Hoja1!$A$50:$C$63,2),\"\")","v":15},{"$f":"IFERROR(VLOOKUP(F271,Hoja1!$A$50:$C$63,3),\"\")","v":15}]
[262,20259050003354,"2025-01-13","Persona natural","Virtual - Formulario PQRSDF","Certificación de contrato","Administrativa",null,"Oficina Asesora Jurídica","2025-01-27","Correo electrónico","2025-01-27",null,"",null,{"$f":"IFERROR(WORKDAY(N272,Y272,Hoja1!F264:F380),\"\")","v":""},{"$f":"+IF(N272=\"\",\"\",IF(O272=\"\",\"SIN RESPUESTA\",(IF(O272<=P272,\"A TIEMPO\",\"FUERA DE TIEMPO\"))))","v":""},null,"A TIEMPO",10,0,null,null,{"$f":"IFERROR(VLOOKUP(F272,Hoja1!$A$50:$C$63,2),\"\")","v":15},{"$f":"IFERROR(VLOOKUP(F272,Hoja1!$A$50:$C$63,3),\"\")","v":15}]
[{"$f":"IF(B273<>\"\",A272+1,\"\")","v":263},20259910003384,"2025-01-13","Persona jurídica","Virtual - Correo electrónico","Solicitud de documentos o información","Registros ambientales",null,"Subdirección de Hidrología","2025-01-23","Correo electrónico","2025-01-27",null,"",null,{"$f":"IFERROR(WORKDAY(N273,Y273,Hoja1!F265:F381),\"\")","v":""},{"$f":"+IF(N273=\"\",\"\",IF(O273=\"\",\"SIN RESPUESTA\",(IF(O273<=P273,\"A TIEMPO\",\"FUERA DE TIEMPO\"))))","v":""},null,"A TIEMPO",8,0,null,null,{"$f":"IFERROR(VLOOKUP(F273,Hoja1!$A$50:$C$63,2),\"\")","v":5},{"$f":"IFERROR(VLOOKUP(F273,Hoja1!$A$50:$C$63,3),\"\")","v":5}]
[264,20259910003414,"2025-01-13","Persona natural","Virtual - Correo electrónico","Certificación de contrato","Administrativa",null,"Oficina Asesora Jurídica","2025-01-27","Correo electrónico","2025-01-27",null,"",null,{"$f":"IFERROR(WORKDAY(N274,Y274,Hoja1!F266:F382),\"\")","v":""},{"$f":"+IF(N274=\"\",\"\",IF(O274=\"\",\"SIN RESPUESTA\",(IF(O274<=P274,\"A TIEMPO\",\"FUERA DE TIEMPO\"))))","v":""},null,"A TIEMPO",10,0,null,null,{"$f":"IFERROR(VLOOKUP(F274,Hoja1!$A$50:$C$63,2),\"\")","v":15},{"$f":"IFERROR(VLOOKUP(F274,Hoja1!$A$50:$C$63,3),\"\")","v":15}]
[265,20259910003424,"2025-01-13","Persona natural","Virtual - Correo electrónico","Solicitud de documentos o información","Bosques",null,"Subdirección de Ecosistemas e Información Ambiental","2025-01-22","Correo electrónico","2025-01-27",null,"",null,{"$f":"IFERROR(WORKDAY(N275,Y275,Hoja1!F267:F383),\"\")","v":""},{"$f":"+IF(N275=\"\",\"\",IF(O275=\"\",\"SIN RESPUESTA\",(IF(O275<=P275,\"A TIEMPO\",\"FUERA DE TIEMPO\"))))","v":""},null,"A TIEMPO",7,0,null,null,{"$f":"IFERROR(VLOOKUP(F275,Hoja1!$A$50:$C$63,2),\"\")","v":5},{"$f":"IFERROR(VLOOKUP(F275,Hoja1!$A$50:$C$63,3),\"\")","v":5}]
[266,20259910003434,"2025-01-13","Persona natural","Virtual - Correo electrónico","Solicitud de documentos o información","Solicitud de información hidrometeorológica",null,"Grupo de Servicio al Ciudadano","2025-01-15","Correo electrónico","2025-01-27",null,"",null,{"$f":"IFERROR(WORKDAY(N276,Y276,Hoja1!F268:F384),\"\")","v":""},{"$f":"+IF(N276=\"\",\"\",IF(O276=\"\",\"SIN RESPUESTA\",(IF(O276<=P276,\"A TIEMPO\",\"FUERA DE TIEMPO\"))))","v":""},null,"A TIEMPO",2,0,null,null,{"$f":"IFERROR(VLOOKUP(F276,Hoja1!$A$50:$C$63,2),\"\")","v":5},{"$f":"IFERROR(VLOOKUP(F276,Hoja1!$A$50:$C$63,3),\"\")","v":5}]
[267,20259910003454,"2025-01-13","Persona natural","Virtual - Correo electrónico","Certificación de contrato","Administrativa",null,"Oficina Asesora Jurídica","2025-01-27","Correo electrónico","2025-01-27",null,"",null,{"$f":"IFERROR(WORKDAY(N277,Y277,Hoja1!F269:F385),\"\")","v":""},{"$f":"+IF(N277=\"\",\"\",IF(O277=\"\",\"SIN RESPUESTA\",(IF(O277<=P277,\"A TIEMPO\",\"FUERA DE TIEMPO\"))))","v":""},null,"A TIEMPO",10,0,null,null,{"$f":"IFERROR(VLOOKUP(F277,Hoja1!$A$50:$C$63,2),\"\")","v":15},{"$f":"IFERROR(VLOOKUP(F277,Hoja1!$A$50:$C$63,3),\"\")","v":15}]
[268,20259910003474,"2025-01-13","Persona jurídica","Virtual - Correo electrónico","Certificación de tiempo, clima y eventos hidrológicos","Certificaciones del tiempo y clima",null,"Subdirección de Meteorología","2025-01-16","Correo electrónico","2025-02-24",null,"",null,{"$f":"IFERROR(WORKDAY(N278,Y278,Hoja1!F270:F386),\"\")","v":""},{"$f":"+IF(N278=\"\",\"\",IF(O278=\"\",\"SIN RESPUESTA\",(IF(O278<=P278,\"A TIEMPO\",\"FUERA DE TIEMPO\"))))","v":""},null,"A TIEMPO",3,0,null,null,{"$f":"IFERROR(VLOOKUP(F278,Hoja1!$A$50:$C$63,2),\"\")","v":15},{"$f":"IFERROR(VLOOKUP(F278,Hoja1!$A$50:$C$63,3),\"\")","v":15}]
[269,20259910003484,"2025-01-13","Persona jurídica","Virtual - Correo electrónico","Solicitud de documentos o información","Administrativa",null,"Grupo de Contabilidad","2025-01-22","Correo electrónico","2025-01-27",null,"",null,{"$f":"IFERROR(WORKDAY(N279,Y279,Hoja1!F271:F387),\"\")","v":""},{"$f":"+IF(N279=\"\",\"\",IF(O279=\"\",\"SIN RESPUESTA\",(IF(O279<=P279,\"A TIEMPO\",\"FUERA DE TIEMPO\"))))","v":""},null,"A TIEMPO",7,0,null,null,{"$f":"IFERROR(VLOOKUP(F279,Hoja1!$A$50:$C$63,2),\"\")","v":5},{"$f":"IFERROR(VLOOKUP(F279,Hoja1!$A$50:$C$63,3),\"\")","v":5}]
[270,20259910003494,"2025-01-13","Persona jurídica","Virtual - Correo electrónico","Solicitud de documentos o información","Bosques",null,"Subdirección de Ecosistemas e Información Ambiental","2025-01-29","Correo electrónico","2025-01-27",null,"",null,{"$f":"IFERROR(WORKDAY(N280,Y280,Hoja1!F272:F388),\"\")","v":""},{"$f":"+IF(N280=\"\",\"\",IF(O280=\"\",\"SIN RESPUESTA\",(IF(O280<=P280,\"A TIEMPO\",\"FUERA DE TIEMPO\"))))","v":""},null,{"$f":"+IF(C280=\"\",\"\",IF(J280=\"\",\"SIN RESPUESTA\",(IF(J280<=L280,\"A TIEMPO\",\"FUERA DE TIEMPO\"))))","v":"FUERA DE TIEMPO"},12,2,null,null,{"$f":"IFERROR(VLOOKUP(F280,Hoja1!$A$50:$C$63,2),\"\")","v":5},{"$f":"IFERROR(VLOOKUP(F280,Hoja1!$A$50:$C$63,3),\"\")","v":5}]
[271,20259910003524,"2025-01-13","Persona jurídica","Correo certificado","Petición entre autoridades","Bosques",null,"Subdirección de Ecosistemas e Información Ambiental","2025-02-03","No aplica","2025-01-27",null,"",null,{"$f":"IFERROR(WORKDAY(N281,Y281,Hoja1!F273:F389),\"\")","v":""},{"$f":"+IF(N281=\"\",\"\",IF(O281=\"\",\"SIN RESPUESTA\",(IF(O281<=P281,\"A TIEMPO\",\"FUERA DE TIEMPO\"))))","v":""},null,{"$f":"+IF(C281=\"\",\"\",IF(J281=\"\",\"SIN RESPUESTA\",(IF(J281<=L281,\"A TIEMPO\",\"FUERA DE TIEMPO\"))))","v":"FUERA DE TIEMPO"},15,5,null,null,{"$f":"IFERROR(VLOOKUP(F281,Hoja1!$A$50:$C$63,2),\"\")","v":10},{"$f":"IFERROR(VLOOKUP(F281,Hoja1!$A$50:$C$63,3),\"\")","v":10}]
[272,20259050003534,"2025-01-13","Persona jurídica","Virtual - Formulario PQRSDF","Solicitud de documentos o información","Registros ambientales",null,"Subdirección de Estudios Ambientales","2025-01-14","Correo electrónico","2025-01-27",null,"",null,{"$f":"IFERROR(WORKDAY(N282,Y282,Hoja1!F274:F390),\"\")","v":""},{"$f":"+IF(N282=\"\",\"\",IF(O282=\"\",\"SIN RESPUESTA\",(IF(O282<=P282,\"A TIEMPO\",\"FUERA DE TIEMPO\"))))","v":""},null,"A TIEMPO",1,0,null,null,{"$f":"IFERROR(VLOOKUP(F282,Hoja1!$A$50:$C$63,2),\"\")","v":5},{"$f":"IFERROR(VLOOKUP(F282,Hoja1!$A$50:$C$63,3),\"\")","v":5}]
[273,20259050003594,"2025-01-13","Persona natural","Virtual - Formulario PQRSDF","Solicitud de documentos o información","Solicitud de información hidrometeorológica",null,"Grupo de Servicio al Ciudadano","2025-01-17","Correo electrónico","2025-01-27",null,"",null,{"$f":"IFERROR(WORKDAY(N283,Y283,Hoja1!F275:F391),\"\")","v":""},{"$f":"+IF(N283=\"\",\"\",IF(O283=\"\",\"SIN RESPUESTA\",(IF(O283<=P283,\"A TIEMPO\",\"FUERA DE TIEMPO\"))))","v":""},null,"A TIEMPO",4,0,null,null,{"$f":"IFERROR(VLOOKUP(F283,Hoja1!$A$50:$C$63,2),\"\")","v":5},{"$f":"IFERROR(VLOOKUP(F283,Hoja1!$A$50:$C$63,3),\"\")","v":5}]
[274,20259050003674,"2025-01-13","Persona natural","Virtual - Formulario PQRSDF","Certificación de contrato","Administrativa",null,"Oficina Asesora Jurídica","2025-01-27","Correo electrónico","2025-01-27",null,"",null,{"$f":"IFERROR(WORKDAY(N284,Y284,Hoja1!F276:F392),\"\")","v":""},{"$f":"+IF(N284=\"\",\"\",IF(O284=\"\",\"SIN RESPUESTA\",(IF(O284<=P284,\"A TIEMPO\",\"FUERA DE TIEMPO\"))))","v":""},null,"A TIEMPO",10,0,null,null,{"$f":"IFERROR(VLOOKUP(F284,Hoja1!$A$50:$C$63,2),\"\")","v":15},{"$f":"IFERROR(VLOOKUP(F284,Hoja1!$A$50:$C$63,3),\"\")","v":15}]
[275,20259050003684,"2025-01-13","Persona jurídica","Virtual - Formulario PQRSDF","Solicitud de documentos o información","Sistema de información del recurso hídrico",null,"Subdirección de Hidrología","2025-01-20","Correo electrónico","2025-01-27",null,"",null,{"$f":"IFERROR(WORKDAY(N285,Y285,Hoja1!F277:F393),\"\")","v":""},{"$f":"+IF(N285=\"\",\"\",IF(O285=\"\",\"SIN RESPUESTA\",(IF(O285<=P285,\"A TIEMPO\",\"FUERA DE TIEMPO\"))))","v":""},null,"A TIEMPO",5,0,null,null,{"$f":"IFERROR(VLOOKUP(F285,Hoja1!$A$50:$C$63,2),\"\")","v":5},{"$f":"IFERROR(VLOOKUP(F285,Hoja1!$A$50:$C$63,3),\"\")","v":5}]
[276,20259910003694,"2025-01-13","Persona jurídica","Virtual - Correo electrónico","Solicitud de documentos o información","Sistema de información del recurso hídrico",null,"Subdirección de Hidrología","2025-01-14","No aplica","2025-01-27",null,"",null,{"$f":"IFERROR(WORKDAY(N286,Y286,Hoja1!F278:F394),\"\")","v":""},{"$f":"+IF(N286=\"\",\"\",IF(O286=\"\",\"SIN RESPUESTA\",(IF(O286<=P286,\"A TIEMPO\",\"FUERA DE TIEMPO\"))))","v":""},null,"A TIEMPO",1,0,null,null,{"$f":"IFERROR(VLOOKUP(F286,Hoja1!$A$50:$C$63,2),\"\")","v":5},{"$f":"IFERROR(VLOOKUP(F286,Hoja1!$A$50:$C$63,3),\"\")","v":5}]
[277,20259050003704,"2025-01-13","Persona jurídica","Virtual - Formulario PQRSDF","Petición de interés general o particular","Pronósticos y alertas",null,"Subdirección de Estudios Ambientales","2025-01-21","Correo electrónico","2025-02-03",null,"",null,{"$f":"IFERROR(WORKDAY(N287,Y287,Hoja1!F279:F395),\"\")","v":""},{"$f":"+IF(N287=\"\",\"\",IF(O287=\"\",\"SIN RESPUESTA\",(IF(O287<=P287,\"A TIEMPO\",\"FUERA DE TIEMPO\"))))","v":""},null,"A TIEMPO",6,0,null,null,{"$f":"IFERROR(VLOOKUP(F287,Hoja1!$A$50:$C$63,2),\"\")","v":15},{"$f":"IFERROR(VLOOKUP(F287,Hoja1!$A$50:$C$63,3),\"\")","v":15}]
[278,20259910003714,"2025-01-13","Persona jurídica","Virtual - Correo electrónico","Solicitud de documentos o información","Registros ambientales",null,"Subdirección de Estudios Ambientales","2025-01-14","Correo electrónico","2025-01-27",null,"",null,{"$f":"IFERROR(WORKDAY(N288,Y288,Hoja1!F280:F396),\"\")","v":""},{"$f":"+IF(N288=\"\",\"\",IF(O288=\"\",\"SIN RESPUESTA\",(IF(O288<=P288,\"A TIEMPO\",\"FUERA DE TIEMPO\"))))","v":""},null,"A TIEMPO",1,0,null,null,{"$f":"IFERROR(VLOOKUP(F288,Hoja1!$A$50:$C$63,2),\"\")","v":5},{"$f":"IFERROR(VLOOKUP(F288,Hoja1!$A$50:$C$63,3),\"\")","v":5}]
[279,20259910003724,"2025-01-13","Persona natural","Virtual - Correo electrónico","Certificación de contrato","Administrativa",null,"Oficina Asesora Jurídica","2025-01-27","Correo electrónico","2025-01-27",null,"",null,{"$f":"IFERROR(WORKDAY(N289,Y289,Hoja1!F281:F397),\"\")","v":""},{"$f":"+IF(N289=\"\",\"\",IF(O289=\"\",\"SIN RESPUESTA\",(IF(O289<=P289,\"A TIEMPO\",\"FUERA DE TIEMPO\"))))","v":""},null,"A TIEMPO",10,0,null,null,{"$f":"IFERROR(VLOOKUP(F289,Hoja1!$A$50:$C$63,2),\"\")","v":15},{"$f":"IFERROR(VLOOKUP(F289,Hoja1!$A$50:$C$63,3),\"\")","v":15}]
[280,20259910003734,"2025-01-13","Persona natural","Virtual - Correo electrónico","Certificación de contrato","Administrativa",null,"Oficina Asesora Jurídica","2025-01-27","Correo electrónico","2025-01-27",null,"",null,{"$f":"IFERROR(WORKDAY(N290,Y290,Hoja1!F282:F398),\"\")","v":""},{"$f":"+IF(N290=\"\",\"\",IF(O290=\"\",\"SIN RESPUESTA\",(IF(O290<=P290,\"A TIEMPO\",\"FUERA DE TIEMPO\"))))","v":""},null,"A TIEMPO",10,0,null,null,{"$f":"IFERROR(VLOOKUP(F290,Hoja1!$A$50:$C$63,2),\"\")","v":15},{"$f":"IFERROR(VLOOKUP(F290,Hoja1!$A$50:$C$63,3),\"\")","v":15}]
[281,20259050003744,"2025-01-13","Persona natural","Virtual - Formulario PQRSDF","Solicitud de documentos o información","Solicitud de información hidrometeorológica",null,"Grupo de Servicio al Ciudadano","2025-01-16","Correo electrónico","2025-01-27",null,"",null,{"$f":"IFERROR(WORKDAY(N291,Y291,Hoja1!F283:F399),\"\")","v":""},{"$f":"+IF(N291=\"\",\"\",IF(O291=\"\",\"SIN RESPUESTA\",(IF(O291<=P291,\"A TIEMPO\",\"FUERA DE TIEMPO\"))))","v":""},null,"A TIEMPO",3,0,null,null,{"$f":"IFERROR(VLOOKUP(F291,Hoja1!$A$50:$C$63,2),\"\")","v":5},{"$f":"IFERROR(VLOOKUP(F291,Hoja1!$A$50:$C$63,3),\"\")","v":5}]
[282,20259910003754,"2025-01-13","Persona natural","Virtual - Correo electrónico","Certificación de contrato","Administrativa",null,"Oficina Asesora Jurídica","2025-01-23","Correo electrónico","2025-01-27",null,"",null,{"$f":"IFERROR(WORKDAY(N292,Y292,Hoja1!F284:F400),\"\")","v":""},{"$f":"+IF(N292=\"\",\"\",IF(O292=\"\",\"SIN RESPUESTA\",(IF(O292<=P292,\"A TIEMPO\",\"FUERA DE TIEMPO\"))))","v":""},null,"A TIEMPO",8,0,null,null,{"$f":"IFERROR(VLOOKUP(F292,Hoja1!$A$50:$C$63,2),\"\")","v":15},{"$f":"IFERROR(VLOOKUP(F292,Hoja1!$A$50:$C$63,3),\"\")","v":15}]
[283,20259910003774,"2025-01-13","Persona jurídica","Virtual - Correo electrónico","Solicitud de documentos o información","Administrativa",null,"Grupo de Administración y Desarrollo del Talento Humano","2025-01-27","Correo electrónico","2025-01-27",null,"",null,{"$f":"IFERROR(WORKDAY(N293,Y293,Hoja1!F285:F401),\"\")","v":""},{"$f":"+IF(N293=\"\",\"\",IF(O293=\"\",\"SIN RESPUESTA\",(IF(O293<=P293,\"A TIEMPO\",\"FUERA DE TIEMPO\"))))","v":""},null,"A TIEMPO",10,0,null,null,{"$f":"IFERROR(VLOOKUP(F293,Hoja1!$A$50:$C$63,2),\"\")","v":5},{"$f":"IFERROR(VLOOKUP(F293,Hoja1!$A$50:$C$63,3),\"\")","v":5}]
[284,20259910003784,"2025-01-13","Persona jurídica","Virtual - Correo electrónico","Certificación de tiempo, clima y eventos hidrológicos","Certificaciones del tiempo y clima",null,"Subdirección de Meteorología","2025-01-30","Correo electrónico","2025-02-24",null,"",null,{"$f":"IFERROR(WORKDAY(N294,Y294,Hoja1!F286:F402),\"\")","v":""},{"$f":"+IF(N294=\"\",\"\",IF(O294=\"\",\"SIN RESPUESTA\",(IF(O294<=P294,\"A TIEMPO\",\"FUERA DE TIEMPO\"))))","v":""},null,"A TIEMPO",13,0,null,null,{"$f":"IFERROR(VLOOKUP(F294,Hoja1!$A$50:$C$63,2),\"\")","v":15},{"$f":"IFERROR(VLOOKUP(F294,Hoja1!$A$50:$C$63,3),\"\")","v":15}]
[285,20259910003804,"2025-01-13","Persona jurídica","Virtual - Correo electrónico","Solicitud de documentos o información","Registros ambientales",null,"Subdirección de Estudios Ambientales","2025-01-16","Correo electrónico","2025-01-27",null,"",null,{"$f":"IFERROR(WORKDAY(N295,Y295,Hoja1!F287:F403),\"\")","v":""},{"$f":"+IF(N295=\"\",\"\",IF(O295=\"\",\"SIN RESPUESTA\",(IF(O295<=P295,\"A TIEMPO\",\"FUERA DE TIEMPO\"))))","v":""},null,"A TIEMPO",3,0,null,null,{"$f":"IFERROR(VLOOKUP(F295,Hoja1!$A$50:$C$63,2),\"\")","v":5},{"$f":"IFERROR(VLOOKUP(F295,Hoja1!$A$50:$C$63,3),\"\")","v":5}]
[286,20259910003814,"2025-01-13","Persona natural","Virtual - Correo electrónico","Solicitud de documentos o información","Sistema de información del recurso hídrico",null,"Subdirección de Hidrología","2025-01-22","Correo electrónico","2025-01-27",null,"",null,{"$f":"IFERROR(WORKDAY(N296,Y296,Hoja1!F288:F404),\"\")","v":""},{"$f":"+IF(N296=\"\",\"\",IF(O296=\"\",\"SIN RESPUESTA\",(IF(O296<=P296,\"A TIEMPO\",\"FUERA DE TIEMPO\"))))","v":""},null,"A TIEMPO",7,0,null,null,{"$f":"IFERROR(VLOOKUP(F296,Hoja1!$A$50:$C$63,2),\"\")","v":5},{"$f":"IFERROR(VLOOKUP(F296,Hoja1!$A$50:$C$63,3),\"\")","v":5}]
[287,20259910003834,"2025-01-13","Persona jurídica","Virtual - Correo electrónico","Solicitud de documentos o información","Registros ambientales",null,"Subdirección de Estudios Ambientales","2025-01-15","Correo electrónico","2025-01-27",null,"",null,{"$f":"IFERROR(WORKDAY(N297,Y297,Hoja1!F289:F405),\"\")","v":""},{"$f":"+IF(N297=\"\",\"\",IF(O297=\"\",\"SIN RESPUESTA\",(IF(O297<=P297,\"A TIEMPO\",\"FUERA DE TIEMPO\"))))","v":""},null,"A TIEMPO",2,0,null,null,{"$f":"IFERROR(VLOOKUP(F297,Hoja1!$A$50:$C$63,2),\"\")","v":5},{"$f":"IFERROR(VLOOKUP(F297,Hoja1!$A$50:$C$63,3),\"\")","v":5}]
[288,20259910003854,"2025-01-13","Persona natural","Virtual - Correo electrónico","Solicitud de documentos o información","Solicitud de información hidrometeorológica",null,"Grupo de Servicio al Ciudadano","2025-01-16","Correo electrónico","2025-01-27",null,"",null,{"$f":"IFERROR(WORKDAY(N298,Y298,Hoja1!F290:F406),\"\")","v":""},{"$f":"+IF(N298=\"\",\"\",IF(O298=\"\",\"SIN RESPUESTA\",(IF(O298<=P298,\"A TIEMPO\",\"FUERA DE TIEMPO\"))))","v":""},null,"A TIEMPO",3,0,null,null,{"$f":"IFERROR(VLOOKUP(F298,Hoja1!$A$50:$C$63,2),\"\")","v":5},{"$f":"IFERROR(VLOOKUP(F298,Hoja1!$A$50:$C$63,3),\"\")","v":5}]
[289,20259910003874,"2025-01-13","Persona jurídica","Virtual - Correo electrónico","Certificación de contrato","Administrativa",null,"Oficina Asesora Jurídica","2025-01-27","Correo electrónico","2025-01-27",null,"",null,{"$f":"IFERROR(WORKDAY(N299,Y299,Hoja1!F291:F407),\"\")","v":""},{"$f":"+IF(N299=\"\",\"\",IF(O299=\"\",\"SIN RESPUESTA\",(IF(O299<=P299,\"A TIEMPO\",\"FUERA DE TIEMPO\"))))","v":""},null,"A TIEMPO",10,0,null,null,{"$f":"IFERROR(VLOOKUP(F299,Hoja1!$A$50:$C$63,2),\"\")","v":15},{"$f":"IFERROR(VLOOKUP(F299,Hoja1!$A$50:$C$63,3),\"\")","v":15}]
[290,20259910003904,"2025-01-13","Persona jurídica","Virtual - Correo electrónico","Petición de interés general o particular","Solicitud de información hidrometeorológica",null,"Subdirección de Meteorología","2025-01-23","Correo electrónico","2025-02-03",null,"",null,{"$f":"IFERROR(WORKDAY(N300,Y300,Hoja1!F292:F408),\"\")","v":""},{"$f":"+IF(N300=\"\",\"\",IF(O300=\"\",\"SIN RESPUESTA\",(IF(O300<=P300,\"A TIEMPO\",\"FUERA DE TIEMPO\"))))","v":""},null,"A TIEMPO",8,0,null,null,{"$f":"IFERROR(VLOOKUP(F300,Hoja1!$A$50:$C$63,2),\"\")","v":15},{"$f":"IFERROR(VLOOKUP(F300,Hoja1!$A$50:$C$63,3),\"\")","v":15}]
[291,20259910003914,"2025-01-13","Persona jurídica","Virtual - Correo electrónico","Solicitud de documentos o información","Solicitud de información hidrometeorológica",null,"Subdirección de Hidrología","2025-01-27","Correo electrónico","2025-01-27",null,"",null,{"$f":"IFERROR(WORKDAY(N301,Y301,Hoja1!F293:F409),\"\")","v":""},{"$f":"+IF(N301=\"\",\"\",IF(O301=\"\",\"SIN RESPUESTA\",(IF(O301<=P301,\"A TIEMPO\",\"FUERA DE TIEMPO\"))))","v":""},null,"A TIEMPO",10,0,null,null,{"$f":"IFERROR(VLOOKUP(F301,Hoja1!$A$50:$C$63,2),\"\")","v":5},{"$f":"IFERROR(VLOOKUP(F301,Hoja1!$A$50:$C$63,3),\"\")","v":5}]
[292,20259910003964,"2025-01-13","Persona jurídica","Virtual - Correo electrónico","Solicitud de documentos o información","Registros ambientales",null,"Subdirección de Estudios Ambientales","2025-01-20","Correo electrónico","2025-01-27",null,"",null,{"$f":"IFERROR(WORKDAY(N302,Y302,Hoja1!F294:F410),\"\")","v":""},{"$f":"+IF(N302=\"\",\"\",IF(O302=\"\",\"SIN RESPUESTA\",(IF(O302<=P302,\"A TIEMPO\",\"FUERA DE TIEMPO\"))))","v":""},null,"A TIEMPO",5,0,null,null,{"$f":"IFERROR(VLOOKUP(F302,Hoja1!$A$50:$C$63,2),\"\")","v":5},{"$f":"IFERROR(VLOOKUP(F302,Hoja1!$A$50:$C$63,3),\"\")","v":5}]
[293,20259910003994,"2025-01-13","Persona jurídica","Virtual - Correo electrónico","Solicitud de documentos o información","Registros ambientales",null,"Subdirección de Estudios Ambientales","2025-01-15","Correo electrónico","2025-01-27",null,"",null,{"$f":"IFERROR(WORKDAY(N303,Y303,Hoja1!F295:F411),\"\")","v":""},{"$f":"+IF(N303=\"\",\"\",IF(O303=\"\",\"SIN RESPUESTA\",(IF(O303<=P303,\"A TIEMPO\",\"FUERA DE TIEMPO\"))))","v":""},null,"A TIEMPO",2,0,null,null,{"$f":"IFERROR(VLOOKUP(F303,Hoja1!$A$50:$C$63,2),\"\")","v":5},{"$f":"IFERROR(VLOOKUP(F303,Hoja1!$A$50:$C$63,3),\"\")","v":5}]
[294,20259910004024,"2025-01-13","Persona jurídica","Virtual - Correo electrónico","Solicitud de documentos o información","Registros ambientales",null,"Subdirección de Estudios Ambientales","2025-01-16","Correo electrónico","2025-01-27",null,"",null,{"$f":"IFERROR(WORKDAY(N304,Y304,Hoja1!F296:F412),\"\")","v":""},{"$f":"+IF(N304=\"\",\"\",IF(O304=\"\",\"SIN RESPUESTA\",(IF(O304<=P304,\"A TIEMPO\",\"FUERA DE TIEMPO\"))))","v":""},null,"A TIEMPO",3,0,null,null,{"$f":"IFERROR(VLOOKUP(F304,Hoja1!$A$50:$C$63,2),\"\")","v":5},{"$f":"IFERROR(VLOOKUP(F304,Hoja1!$A$50:$C$63,3),\"\")","v":5}]
[295,20259910004044,"2025-01-13","Persona jurídica","Virtual - Correo electrónico","Solicitud de documentos o información","Registros ambientales",null,"Subdirección de Estudios Ambientales","2025-01-16","Correo electrónico","2025-01-27",null,"",null,{"$f":"IFERROR(WORKDAY(N305,Y305,Hoja1!F297:F413),\"\")","v":""},{"$f":"+IF(N305=\"\",\"\",IF(O305=\"\",\"SIN RESPUESTA\",(IF(O305<=P305,\"A TIEMPO\",\"FUERA DE TIEMPO\"))))","v":""},null,"A TIEMPO",3,0,null,null,{"$f":"IFERROR(VLOOKUP(F305,Hoja1!$A$50:$C$63,2),\"\")","v":5},{"$f":"IFERROR(VLOOKUP(F305,Hoja1!$A$50:$C$63,3),\"\")","v":5}]
[296,20259910004034,"2025-01-13","Persona jurídica","Virtual - Correo electrónico","Solicitud de documentos o información","Registros ambientales",null,"Subdirección de Estudios Ambientales","2025-01-16","Correo electrónico","2025-01-27",null,"",null,{"$f":"IFERROR(WORKDAY(N306,Y306,Hoja1!F298:F414),\"\")","v":""},{"$f":"+IF(N306=\"\",\"\",IF(O306=\"\",\"SIN RESPUESTA\",(IF(O306<=P306,\"A TIEMPO\",\"FUERA DE TIEMPO\"))))","v":""},null,"A TIEMPO",3,0,null,null,{"$f":"IFERROR(VLOOKUP(F306,Hoja1!$A$50:$C$63,2),\"\")","v":5},{"$f":"IFERROR(VLOOKUP(F306,Hoja1!$A$50:$C$63,3),\"\")","v":5}]
[297,20259910004054,"2025-01-13","Persona jurídica","Virtual - Correo electrónico","Petición entre autoridades","Registros ambientales",null,"Subdirección de Estudios Ambientales","2025-01-17","Correo electrónico","2025-01-27",null,"",null,{"$f":"IFERROR(WORKDAY(N307,Y307,Hoja1!F299:F415),\"\")","v":""},{"$f":"+IF(N307=\"\",\"\",IF(O307=\"\",\"SIN RESPUESTA\",(IF(O307<=P307,\"A TIEMPO\",\"FUERA DE TIEMPO\"))))","v":""},null,"A TIEMPO",4,0,null,null,{"$f":"IFERROR(VLOOKUP(F307,Hoja1!$A$50:$C$63,2),\"\")","v":10},{"$f":"IFERROR(VLOOKUP(F307,Hoja1!$A$50:$C$63,3),\"\")","v":10}]
[298,20259910004064,"2025-01-13","Persona natural","Virtual - Correo electrónico","Certificación laboral o pasantía","Administrativa",null,"Grupo de Administración y Desarrollo del Talento Humano","2025-01-21","Correo electrónico","2025-01-27",null,"",null,{"$f":"IFERROR(WORKDAY(N308,Y308,Hoja1!F300:F416),\"\")","v":""},{"$f":"+IF(N308=\"\",\"\",IF(O308=\"\",\"SIN RESPUESTA\",(IF(O308<=P308,\"A TIEMPO\",\"FUERA DE TIEMPO\"))))","v":""},null,"A TIEMPO",6,0,null,null,{"$f":"IFERROR(VLOOKUP(F308,Hoja1!$A$50:$C$63,2),\"\")","v":15},{"$f":"IFERROR(VLOOKUP(F308,Hoja1!$A$50:$C$63,3),\"\")","v":15}]
[299,20259050004104,"2025-01-13","Persona natural","Virtual - Formulario PQRSDF","Certificación de contrato","Administrativa",null,"Oficina Asesora Jurídica","2025-01-27","Correo electrónico","2025-01-27",null,"",null,{"$f":"IFERROR(WORKDAY(N309,Y309,Hoja1!F301:F417),\"\")","v":""},{"$f":"+IF(N309=\"\",\"\",IF(O309=\"\",\"SIN RESPUESTA\",(IF(O309<=P309,\"A TIEMPO\",\"FUERA DE TIEMPO\"))))","v":""},null,"A TIEMPO",10,0,null,null,{"$f":"IFERROR(VLOOKUP(F309,Hoja1!$A$50:$C$63,2),\"\")","v":15},{"$f":"IFERROR(VLOOKUP(F309,Hoja1!$A$50:$C$63,3),\"\")","v":15}]
[300,20259050004114,"2025-01-14","Persona jurídica","Virtual - Formulario PQRSDF","Solicitud de documentos o información","Registros ambientales",null,"Subdirección de Estudios Ambientales","2025-01-17","Correo electrónico","2025-01-28",null,"",null,{"$f":"IFERROR(WORKDAY(N310,Y310,Hoja1!F302:F418),\"\")","v":""},{"$f":"+IF(N310=\"\",\"\",IF(O310=\"\",\"SIN RESPUESTA\",(IF(O310<=P310,\"A TIEMPO\",\"FUERA DE TIEMPO\"))))","v":""},null,"A TIEMPO",3,0,null,null,{"$f":"IFERROR(VLOOKUP(F310,Hoja1!$A$50:$C$63,2),\"\")","v":5},{"$f":"IFERROR(VLOOKUP(F310,Hoja1!$A$50:$C$63,3),\"\")","v":5}]
[301,20259050004124,"2025-01-14","Persona jurídica","Virtual - Formulario PQRSDF","Certificación de ingresos y retenciones","Administrativa",null,"Grupo de Contabilidad","2025-01-15","Correo electrónico","2025-01-28",null,"",null,{"$f":"IFERROR(WORKDAY(N311,Y311,Hoja1!F303:F419),\"\")","v":""},{"$f":"+IF(N311=\"\",\"\",IF(O311=\"\",\"SIN RESPUESTA\",(IF(O311<=P311,\"A TIEMPO\",\"FUERA DE TIEMPO\"))))","v":""},null,"A TIEMPO",1,0,null,null,{"$f":"IFERROR(VLOOKUP(F311,Hoja1!$A$50:$C$63,2),\"\")","v":15},{"$f":"IFERROR(VLOOKUP(F311,Hoja1!$A$50:$C$63,3),\"\")","v":15}]
[302,20259050004134,"2025-01-14","Persona jurídica","Virtual - Formulario PQRSDF","Solicitud de documentos o información","Solicitud de información hidrometeorológica",null,"Grupo de Servicio al Ciudadano","2025-01-17","Correo electrónico","2025-01-28",null,"",null,{"$f":"IFERROR(WORKDAY(N312,Y312,Hoja1!F304:F420),\"\")","v":""},{"$f":"+IF(N312=\"\",\"\",IF(O312=\"\",\"SIN RESPUESTA\",(IF(O312<=P312,\"A TIEMPO\",\"FUERA DE TIEMPO\"))))","v":""},null,"A TIEMPO",3,0,null,null,{"$f":"IFERROR(VLOOKUP(F312,Hoja1!$A$50:$C$63,2),\"\")","v":5},{"$f":"IFERROR(VLOOKUP(F312,Hoja1!$A$50:$C$63,3),\"\")","v":5}]
[303,20259910004214,"2025-01-14","Persona jurídica","Virtual - Correo electrónico","Solicitud de documentos o información","Acreditación de laboratorios",null,"Subdirección de Estudios Ambientales","2025-01-14","Correo electrónico","2025-01-28",null,"",null,{"$f":"IFERROR(WORKDAY(N313,Y313,Hoja1!F305:F421),\"\")","v":""},{"$f":"+IF(N313=\"\",\"\",IF(O313=\"\",\"SIN RESPUESTA\",(IF(O313<=P313,\"A TIEMPO\",\"FUERA DE TIEMPO\"))))","v":""},null,"A TIEMPO",0,0,null,null,{"$f":"IFERROR(VLOOKUP(F313,Hoja1!$A$50:$C$63,2),\"\")","v":5},{"$f":"IFERROR(VLOOKUP(F313,Hoja1!$A$50:$C$63,3),\"\")","v":5}]
[304,20259050004224,"2025-01-14","Persona natural","Virtual - Formulario PQRSDF","Certificación de contrato","Administrativa",null,"Oficina Asesora Jurídica","2025-01-28","Correo electrónico","2025-01-28",null,"",null,{"$f":"IFERROR(WORKDAY(N314,Y314,Hoja1!F306:F422),\"\")","v":""},{"$f":"+IF(N314=\"\",\"\",IF(O314=\"\",\"SIN RESPUESTA\",(IF(O314<=P314,\"A TIEMPO\",\"FUERA DE TIEMPO\"))))","v":""},null,"A TIEMPO",10,0,null,null,{"$f":"IFERROR(VLOOKUP(F314,Hoja1!$A$50:$C$63,2),\"\")","v":15},{"$f":"IFERROR(VLOOKUP(F314,Hoja1!$A$50:$C$63,3),\"\")","v":15}]
[305,20259910004234,"2025-01-14","Persona natural","Virtual - Correo electrónico","Solicitud de documentos o información","Administrativa",null,"Grupo de Administración y Desarrollo del Talento Humano","2025-02-07","Correo electrónico","2025-01-28","NO","",null,{"$f":"IFERROR(WORKDAY(N315,Y315,Hoja1!F307:F423),\"\")","v":""},{"$f":"+IF(N315=\"\",\"\",IF(O315=\"\",\"SIN RESPUESTA\",(IF(O315<=P315,\"A TIEMPO\",\"FUERA DE TIEMPO\"))))","v":""},null,{"$f":"+IF(C315=\"\",\"\",IF(J315=\"\",\"SIN RESPUESTA\",(IF(J315<=L315,\"A TIEMPO\",\"FUERA DE TIEMPO\"))))","v":"FUERA DE TIEMPO"},18,8,null,null,{"$f":"IFERROR(VLOOKUP(F315,Hoja1!$A$50:$C$63,2),\"\")","v":5},{"$f":"IFERROR(VLOOKUP(F315,Hoja1!$A$50:$C$63,3),\"\")","v":5}]
[306,20259910004244,"2025-01-14","Persona natural","Virtual - Correo electrónico","Solicitud de documentos o información","Solicitud de información hidrometeorológica",null,"Grupo de Servicio al Ciudadano","2025-01-17","Correo electrónico","2025-01-28",null,"",null,{"$f":"IFERROR(WORKDAY(N316,Y316,Hoja1!F308:F424),\"\")","v":""},{"$f":"+IF(N316=\"\",\"\",IF(O316=\"\",\"SIN RESPUESTA\",(IF(O316<=P316,\"A TIEMPO\",\"FUERA DE TIEMPO\"))))","v":""},null,"A TIEMPO",3,0,null,null,{"$f":"IFERROR(VLOOKUP(F316,Hoja1!$A$50:$C$63,2),\"\")","v":5},{"$f":"IFERROR(VLOOKUP(F316,Hoja1!$A$50:$C$63,3),\"\")","v":5}]
[307,20259050004254,"2025-01-14","Persona natural","Virtual - Formulario PQRSDF","Solicitud de documentos o información","Solicitud de información hidrometeorológica",null,"Grupo de Servicio al Ciudadano","2025-01-17","Correo electrónico","2025-01-28",null,"",null,{"$f":"IFERROR(WORKDAY(N317,Y317,Hoja1!F309:F425),\"\")","v":""},{"$f":"+IF(N317=\"\",\"\",IF(O317=\"\",\"SIN RESPUESTA\",(IF(O317<=P317,\"A TIEMPO\",\"FUERA DE TIEMPO\"))))","v":""},null,"A TIEMPO",3,0,null,null,{"$f":"IFERROR(VLOOKUP(F317,Hoja1!$A$50:$C$63,2),\"\")","v":5},{"$f":"IFERROR(VLOOKUP(F317,Hoja1!$A$50:$C$63,3),\"\")","v":5}]
[308,20259910004264,"2025-01-14","Persona jurídica","Virtual - Correo electrónico","Solicitud de documentos o información","Registros ambientales",null,"Subdirección de Estudios Ambientales","2025-01-16","Correo electrónico","2025-01-28",null,"",null,{"$f":"IFERROR(WORKDAY(N318,Y318,Hoja1!F310:F426),\"\")","v":""},{"$f":"+IF(N318=\"\",\"\",IF(O318=\"\",\"SIN RESPUESTA\",(IF(O318<=P318,\"A TIEMPO\",\"FUERA DE TIEMPO\"))))","v":""},null,"A TIEMPO",2,0,null,null,{"$f":"IFERROR(VLOOKUP(F318,Hoja1!$A$50:$C$63,2),\"\")","v":5},{"$f":"IFERROR(VLOOKUP(F318,Hoja1!$A$50:$C$63,3),\"\")","v":5}]
[309,20259910004274,"2025-01-14","Persona natural","Virtual - Correo electrónico","Certificación laboral o pasantía","Administrativa",null,"Grupo de Administración y Desarrollo del Talento Humano","2025-01-24","Correo electrónico","2025-01-28",null,"",null,{"$f":"IFERROR(WORKDAY(N319,Y319,Hoja1!F311:F427),\"\")","v":""},{"$f":"+IF(N319=\"\",\"\",IF(O319=\"\",\"SIN RESPUESTA\",(IF(O319<=P319,\"A TIEMPO\",\"FUERA DE TIEMPO\"))))","v":""},null,"A TIEMPO",8,0,null,null,{"$f":"IFERROR(VLOOKUP(F319,Hoja1!$A$50:$C$63,2),\"\")","v":15},{"$f":"IFERROR(VLOOKUP(F319,Hoja1!$A$50:$C$63,3),\"\")","v":15}]
[310,20259910004284,"2025-01-14","Persona natural","Virtual - Correo electrónico","Solicitud de documentos o información","Sistema de información ambiental",null,"Subdirección de Estudios Ambientales","2025-01-23","Correo electrónico","2025-01-28",null,"",null,{"$f":"IFERROR(WORKDAY(N320,Y320,Hoja1!F312:F428),\"\")","v":""},{"$f":"+IF(N320=\"\",\"\",IF(O320=\"\",\"SIN RESPUESTA\",(IF(O320<=P320,\"A TIEMPO\",\"FUERA DE TIEMPO\"))))","v":""},null,"A TIEMPO",7,0,null,null,{"$f":"IFERROR(VLOOKUP(F320,Hoja1!$A$50:$C$63,2),\"\")","v":5},{"$f":"IFERROR(VLOOKUP(F320,Hoja1!$A$50:$C$63,3),\"\")","v":5}]
[311,20259910004294,"2025-01-14","Persona natural","Virtual - Correo electrónico","Certificación laboral o pasantía","Administrativa",null,"Grupo de Administración y Desarrollo del Talento Humano","2025-01-21","Correo electrónico","2025-01-28",null,"",null,{"$f":"IFERROR(WORKDAY(N321,Y321,Hoja1!F313:F429),\"\")","v":""},{"$f":"+IF(N321=\"\",\"\",IF(O321=\"\",\"SIN RESPUESTA\",(IF(O321<=P321,\"A TIEMPO\",\"FUERA DE TIEMPO\"))))","v":""},null,"A TIEMPO",5,0,null,null,{"$f":"IFERROR(VLOOKUP(F321,Hoja1!$A$50:$C$63,2),\"\")","v":15},{"$f":"IFERROR(VLOOKUP(F321,Hoja1!$A$50:$C$63,3),\"\")","v":15}]
[312,20259910004304,"2025-01-14","Persona jurídica","Virtual - Correo electrónico","Certificación de tiempo, clima y eventos hidrológicos","Certificaciones del tiempo y clima",null,"Subdirección de Meteorología","2025-02-05","Correo electrónico","2025-02-25",null,"",null,{"$f":"IFERROR(WORKDAY(N322,Y322,Hoja1!F314:F430),\"\")","v":""},{"$f":"+IF(N322=\"\",\"\",IF(O322=\"\",\"SIN RESPUESTA\",(IF(O322<=P322,\"A TIEMPO\",\"FUERA DE TIEMPO\"))))","v":""},null,"A TIEMPO",16,0,null,null,{"$f":"IFERROR(VLOOKUP(F322,Hoja1!$A$50:$C$63,2),\"\")","v":15},{"$f":"IFERROR(VLOOKUP(F322,Hoja1!$A$50:$C$63,3),\"\")","v":15}]
[313,20259910004314,"2025-01-14","Persona jurídica","Virtual - Correo electrónico","Petición entre autoridades","Acreditación de laboratorios",null,"Subdirección de Estudios Ambientales","2025-01-14","Correo electrónico","2025-01-28",null,"",null,{"$f":"IFERROR(WORKDAY(N323,Y323,Hoja1!F315:F431),\"\")","v":""},{"$f":"+IF(N323=\"\",\"\",IF(O323=\"\",\"SIN RESPUESTA\",(IF(O323<=P323,\"A TIEMPO\",\"FUERA DE TIEMPO\"))))","v":""},null,"A TIEMPO",0,0,null,null,{"$f":"IFERROR(VLOOKUP(F323,Hoja1!$A$50:$C$63,2),\"\")","v":10},{"$f":"IFERROR(VLOOKUP(F323,Hoja1!$A$50:$C$63,3),\"\")","v":10}]
[314,20259050004354,"2025-01-14","Persona natural","Virtual - Formulario PQRSDF","Solicitud de documentos o información","Sistema de información del recurso hídrico",null,"Grupo de Servicio al Ciudadano","2025-01-17","Correo electrónico","2025-01-28",null,"",null,{"$f":"IFERROR(WORKDAY(N324,Y324,Hoja1!F316:F432),\"\")","v":""},{"$f":"+IF(N324=\"\",\"\",IF(O324=\"\",\"SIN RESPUESTA\",(IF(O324<=P324,\"A TIEMPO\",\"FUERA DE TIEMPO\"))))","v":""},null,"A TIEMPO",3,0,null,null,{"$f":"IFERROR(VLOOKUP(F324,Hoja1!$A$50:$C$63,2),\"\")","v":5},{"$f":"IFERROR(VLOOKUP(F324,Hoja1!$A$50:$C$63,3),\"\")","v":5}]
[315,20259910004394,"2025-01-14","Persona jurídica","Virtual - Correo electrónico","Solicitud de documentos o información","Registros ambientales",null,"Subdirección de Estudios Ambientales","2025-01-16","Correo electrónico","2025-01-28",null,"",null,{"$f":"IFERROR(WORKDAY(N325,Y325,Hoja1!F317:F433),\"\")","v":""},{"$f":"+IF(N325=\"\",\"\",IF(O325=\"\",\"SIN RESPUESTA\",(IF(O325<=P325,\"A TIEMPO\",\"FUERA DE TIEMPO\"))))","v":""},null,"A TIEMPO",2,0,null,null,{"$f":"IFERROR(VLOOKUP(F325,Hoja1!$A$50:$C$63,2),\"\")","v":5},{"$f":"IFERROR(VLOOKUP(F325,Hoja1!$A$50:$C$63,3),\"\")","v":5}]
[316,20259910004404,"2025-01-14","Persona jurídica","Virtual - Correo electrónico","Solicitud de documentos o información","Registros ambientales",null,"Subdirección de Estudios Ambientales","2025-01-16","Correo electrónico","2025-01-28",null,"",null,{"$f":"IFERROR(WORKDAY(N326,Y326,Hoja1!F318:F434),\"\")","v":""},{"$f":"+IF(N326=\"\",\"\",IF(O326=\"\",\"SIN RESPUESTA\",(IF(O326<=P326,\"A TIEMPO\",\"FUERA DE TIEMPO\"))))","v":""},null,"A TIEMPO",2,0,null,null,{"$f":"IFERROR(VLOOKUP(F326,Hoja1!$A$50:$C$63,2),\"\")","v":5},{"$f":"IFERROR(VLOOKUP(F326,Hoja1!$A$50:$C$63,3),\"\")","v":5}]
[317,20259050013214,"2025-01-30","Persona natural","Virtual - Formulario PQRSDF","Certificación de ingresos y retenciones","Administrativa",null,"Grupo de Servicio al Ciudadano","2025-01-31","Correo electrónico","2025-02-13",null,"",null,{"$f":"IFERROR(WORKDAY(N327,Y327,Hoja1!F319:F435),\"\")","v":""},{"$f":"+IF(N327=\"\",\"\",IF(O327=\"\",\"SIN RESPUESTA\",(IF(O327<=P327,\"A TIEMPO\",\"FUERA DE TIEMPO\"))))","v":""},null,"A TIEMPO",-9,0,null,null,{"$f":"IFERROR(VLOOKUP(F327,Hoja1!$A$50:$C$63,2),\"\")","v":15},{"$f":"IFERROR(VLOOKUP(F327,Hoja1!$A$50:$C$63,3),\"\")","v":15}]
[318,20259910004424,"2025-01-14","Persona jurídica","Virtual - Correo electrónico","Solicitud de documentos o información","Registros ambientales",null,"Subdirección de Estudios Ambientales","2025-01-16","Correo electrónico","2025-01-28",null,"",null,{"$f":"IFERROR(WORKDAY(N328,Y328,Hoja1!F320:F436),\"\")","v":""},{"$f":"+IF(N328=\"\",\"\",IF(O328=\"\",\"SIN RESPUESTA\",(IF(O328<=P328,\"A TIEMPO\",\"FUERA DE TIEMPO\"))))","v":""},null,"A TIEMPO",2,0,null,null,{"$f":"IFERROR(VLOOKUP(F328,Hoja1!$A$50:$C$63,2),\"\")","v":5},{"$f":"IFERROR(VLOOKUP(F328,Hoja1!$A$50:$C$63,3),\"\")","v":5}]
[319,20259910004434,"2025-01-14","Persona jurídica","Virtual - Correo electrónico","Solicitud de documentos o información","Bosques",null,"Subdirección de Ecosistemas e Información Ambiental","2025-01-28","Correo electrónico","2025-01-28",null,"",null,{"$f":"IFERROR(WORKDAY(N329,Y329,Hoja1!F321:F437),\"\")","v":""},{"$f":"+IF(N329=\"\",\"\",IF(O329=\"\",\"SIN RESPUESTA\",(IF(O329<=P329,\"A TIEMPO\",\"FUERA DE TIEMPO\"))))","v":""},null,"A TIEMPO",10,0,null,null,{"$f":"IFERROR(VLOOKUP(F329,Hoja1!$A$50:$C$63,2),\"\")","v":5},{"$f":"IFERROR(VLOOKUP(F329,Hoja1!$A$50:$C$63,3),\"\")","v":5}]
[320,20259910004444,"2025-01-14","Persona natural","Virtual - Correo electrónico","Solicitud de documentos o información","Acreditación de laboratorios",null,"Subdirección de Estudios Ambientales","2025-01-14","Correo electrónico","2025-01-28",null,"",null,{"$f":"IFERROR(WORKDAY(N330,Y330,Hoja1!F322:F438),\"\")","v":""},{"$f":"+IF(N330=\"\",\"\",IF(O330=\"\",\"SIN RESPUESTA\",(IF(O330<=P330,\"A TIEMPO\",\"FUERA DE TIEMPO\"))))","v":""},null,"A TIEMPO",0,0,null,null,{"$f":"IFERROR(VLOOKUP(F330,Hoja1!$A$50:$C$63,2),\"\")","v":5},{"$f":"IFERROR(VLOOKUP(F330,Hoja1!$A$50:$C$63,3),\"\")","v":5}]
[321,20259910004454,"2025-01-14","Persona natural","Virtual - Correo electrónico","Solicitud de documentos o información","Solicitud de información hidrometeorológica",null,"Grupo de Servicio al Ciudadano","2025-01-17","Correo electrónico","2025-01-28",null,"",null,{"$f":"IFERROR(WORKDAY(N331,Y331,Hoja1!F323:F439),\"\")","v":""},{"$f":"+IF(N331=\"\",\"\",IF(O331=\"\",\"SIN RESPUESTA\",(IF(O331<=P331,\"A TIEMPO\",\"FUERA DE TIEMPO\"))))","v":""},null,"A TIEMPO",3,0,null,null,{"$f":"IFERROR(VLOOKUP(F331,Hoja1!$A$50:$C$63,2),\"\")","v":5},{"$f":"IFERROR(VLOOKUP(F331,Hoja1!$A$50:$C$63,3),\"\")","v":5}]
[322,20259050004464,"2025-01-14","Persona natural","Virtual - Formulario PQRSDF","Solicitud de documentos o información","Solicitud de información hidrometeorológica",null,"Subdirección de Meteorología","2025-01-17","Correo electrónico","2025-01-28",null,"",null,{"$f":"IFERROR(WORKDAY(N332,Y332,Hoja1!F324:F440),\"\")","v":""},{"$f":"+IF(N332=\"\",\"\",IF(O332=\"\",\"SIN RESPUESTA\",(IF(O332<=P332,\"A TIEMPO\",\"FUERA DE TIEMPO\"))))","v":""},null,"A TIEMPO",3,0,null,null,{"$f":"IFERROR(VLOOKUP(F332,Hoja1!$A$50:$C$63,2),\"\")","v":5},{"$f":"IFERROR(VLOOKUP(F332,Hoja1!$A$50:$C$63,3),\"\")","v":5}]
[323,20259910004474,"2025-01-14","Persona jurídica","Virtual - Correo electrónico","Solicitud de documentos o información","Solicitud de información hidrometeorológica",null,"Grupo de Servicio al Ciudadano","2025-01-21","Correo electrónico","2025-01-28",null,"",null,{"$f":"IFERROR(WORKDAY(N333,Y333,Hoja1!F325:F441),\"\")","v":""},{"$f":"+IF(N333=\"\",\"\",IF(O333=\"\",\"SIN RESPUESTA\",(IF(O333<=P333,\"A TIEMPO\",\"FUERA DE TIEMPO\"))))","v":""},null,"A TIEMPO",5,0,null,null,{"$f":"IFERROR(VLOOKUP(F333,Hoja1!$A$50:$C$63,2),\"\")","v":5},{"$f":"IFERROR(VLOOKUP(F333,Hoja1!$A$50:$C$63,3),\"\")","v":5}]
[324,20259910004484,"2025-01-14","Persona jurídica","Virtual - Correo electrónico","Solicitud de documentos o información","Administrativa",null,"Grupo de Contabilidad","2025-01-21","Correo electrónico","2025-01-28",null,"",null,{"$f":"IFERROR(WORKDAY(N334,Y334,Hoja1!F326:F442),\"\")","v":""},{"$f":"+IF(N334=\"\",\"\",IF(O334=\"\",\"SIN RESPUESTA\",(IF(O334<=P334,\"A TIEMPO\",\"FUERA DE TIEMPO\"))))","v":""},null,"A TIEMPO",5,0,null,null,{"$f":"IFERROR(VLOOKUP(F334,Hoja1!$A$50:$C$63,2),\"\")","v":5},{"$f":"IFERROR(VLOOKUP(F334,Hoja1!$A$50:$C$63,3),\"\")","v":5}]
[325,20259910004494,"2025-01-14","Persona natural","Virtual - Correo electrónico","Solicitud de documentos o información","Registros ambientales",null,"Subdirección de Estudios Ambientales","2025-01-16","Correo electrónico","2025-01-28",null,"",null,{"$f":"IFERROR(WORKDAY(N335,Y335,Hoja1!F327:F443),\"\")","v":""},{"$f":"+IF(N335=\"\",\"\",IF(O335=\"\",\"SIN RESPUESTA\",(IF(O335<=P335,\"A TIEMPO\",\"FUERA DE TIEMPO\"))))","v":""},null,"A TIEMPO",2,0,null,null,{"$f":"IFERROR(VLOOKUP(F335,Hoja1!$A$50:$C$63,2),\"\")","v":5},{"$f":"IFERROR(VLOOKUP(F335,Hoja1!$A$50:$C$63,3),\"\")","v":5}]
[326,20259910004514,"2025-01-14","Persona jurídica","Virtual - Correo electrónico","Solicitud de documentos o información","Registros ambientales",null,"Subdirección de Estudios Ambientales","2025-01-20","Correo electrónico","2025-01-28",null,"",null,{"$f":"IFERROR(WORKDAY(N336,Y336,Hoja1!F328:F444),\"\")","v":""},{"$f":"+IF(N336=\"\",\"\",IF(O336=\"\",\"SIN RESPUESTA\",(IF(O336<=P336,\"A TIEMPO\",\"FUERA DE TIEMPO\"))))","v":""},null,"A TIEMPO",4,0,null,null,{"$f":"IFERROR(VLOOKUP(F336,Hoja1!$A$50:$C$63,2),\"\")","v":5},{"$f":"IFERROR(VLOOKUP(F336,Hoja1!$A$50:$C$63,3),\"\")","v":5}]
[{"$f":"IF(B337<>\"\",A336+1,\"\")","v":327},20259910004524,"2025-01-14","Persona natural","Virtual - Correo electrónico","Certificación de contrato","Administrativa",null,"Oficina Asesora Jurídica","2025-01-28","Correo electrónico","2025-01-28",null,"",null,{"$f":"IFERROR(WORKDAY(N337,Y337,Hoja1!F329:F445),\"\")","v":""},{"$f":"+IF(N337=\"\",\"\",IF(O337=\"\",\"SIN RESPUESTA\",(IF(O337<=P337,\"A TIEMPO\",\"FUERA DE TIEMPO\"))))","v":""},null,"A TIEMPO",10,0,null,null,{"$f":"IFERROR(VLOOKUP(F337,Hoja1!$A$50:$C$63,2),\"\")","v":15},{"$f":"IFERROR(VLOOKUP(F337,Hoja1!$A$50:$C$63,3),\"\")","v":15}]
[328,20259910004534,"2025-01-14","Persona jurídica","Virtual - Correo electrónico","Solicitud de documentos o información","Administrativa",null,"Grupo de Administración y Desarrollo del Talento Humano","2025-01-21","Correo electrónico","2025-01-28",null,"",null,{"$f":"IFERROR(WORKDAY(N338,Y338,Hoja1!F330:F446),\"\")","v":""},{"$f":"+IF(N338=\"\",\"\",IF(O338=\"\",\"SIN RESPUESTA\",(IF(O338<=P338,\"A TIEMPO\",\"FUERA DE TIEMPO\"))))","v":""},null,"A TIEMPO",5,0,null,null,{"$f":"IFERROR(VLOOKUP(F338,Hoja1!$A$50:$C$63,2),\"\")","v":5},{"$f":"IFERROR(VLOOKUP(F338,Hoja1!$A$50:$C$63,3),\"\")","v":5}]
[329,20259050004554,"2025-01-14","Persona natural","Virtual - Formulario PQRSDF","Certificación de contrato","Administrativa",null,"Oficina Asesora Jurídica","2025-01-28","Correo electrónico","2025-01-28",null,"",null,{"$f":"IFERROR(WORKDAY(N339,Y339,Hoja1!F331:F447),\"\")","v":""},{"$f":"+IF(N339=\"\",\"\",IF(O339=\"\",\"SIN RESPUESTA\",(IF(O339<=P339,\"A TIEMPO\",\"FUERA DE TIEMPO\"))))","v":""},null,"A TIEMPO",10,0,null,null,{"$f":"IFERROR(VLOOKUP(F339,Hoja1!$A$50:$C$63,2),\"\")","v":15},{"$f":"IFERROR(VLOOKUP(F339,Hoja1!$A$50:$C$63,3),\"\")","v":15}]
[330,20259910004574,"2025-01-14","Persona natural","Virtual - Correo electrónico","Solicitud de documentos o información","Solicitud de información hidrometeorológica",null,"Grupo de Servicio al Ciudadano","2025-01-21","Correo electrónico","2025-01-28",null,"",null,{"$f":"IFERROR(WORKDAY(N340,Y340,Hoja1!F332:F448),\"\")","v":""},{"$f":"+IF(N340=\"\",\"\",IF(O340=\"\",\"SIN RESPUESTA\",(IF(O340<=P340,\"A TIEMPO\",\"FUERA DE TIEMPO\"))))","v":""},null,"A TIEMPO",5,0,null,null,{"$f":"IFERROR(VLOOKUP(F340,Hoja1!$A$50:$C$63,2),\"\")","v":5},{"$f":"IFERROR(VLOOKUP(F340,Hoja1!$A$50:$C$63,3),\"\")","v":5}]
[331,20259910004594,"2025-01-14","Persona jurídica","Virtual - Correo electrónico","Petición entre autoridades","Registros ambientales",null,"Subdirección de Estudios Ambientales","2025-01-23","Correo electrónico","2025-01-28",null,"",null,{"$f":"IFERROR(WORKDAY(N341,Y341,Hoja1!F333:F449),\"\")","v":""},{"$f":"+IF(N341=\"\",\"\",IF(O341=\"\",\"SIN RESPUESTA\",(IF(O341<=P341,\"A TIEMPO\",\"FUERA DE TIEMPO\"))))","v":""},null,"A TIEMPO",7,0,null,null,{"$f":"IFERROR(VLOOKUP(F341,Hoja1!$A$50:$C$63,2),\"\")","v":10},{"$f":"IFERROR(VLOOKUP(F341,Hoja1!$A$50:$C$63,3),\"\")","v":10}]
[332,20259910004614,"2025-01-14","Persona jurídica","Virtual - Correo electrónico","Solicitud judicial","Certificaciones del tiempo y clima",null,"Subdirección de Meteorología","2025-01-16","Correo electrónico","2025-01-21",null,"",null,{"$f":"IFERROR(WORKDAY(N342,Y342,Hoja1!F334:F450),\"\")","v":""},{"$f":"+IF(N342=\"\",\"\",IF(O342=\"\",\"SIN RESPUESTA\",(IF(O342<=P342,\"A TIEMPO\",\"FUERA DE TIEMPO\"))))","v":""},null,"A TIEMPO",2,0,null,null,{"$f":"IFERROR(VLOOKUP(F342,Hoja1!$A$50:$C$63,2),\"\")","v":5},{"$f":"IFERROR(VLOOKUP(F342,Hoja1!$A$50:$C$63,3),\"\")","v":5}]
[333,20259910004624,"2025-01-14","Persona natural","Virtual - Correo electrónico","Certificación de contrato","Administrativa",null,"Oficina Asesora Jurídica","2025-01-28","Correo electrónico","2025-01-28",null,"",null,{"$f":"IFERROR(WORKDAY(N343,Y343,Hoja1!F335:F451),\"\")","v":""},{"$f":"+IF(N343=\"\",\"\",IF(O343=\"\",\"SIN RESPUESTA\",(IF(O343<=P343,\"A TIEMPO\",\"FUERA DE TIEMPO\"))))","v":""},null,"A TIEMPO",10,0,null,null,{"$f":"IFERROR(VLOOKUP(F343,Hoja1!$A$50:$C$63,2),\"\")","v":15},{"$f":"IFERROR(VLOOKUP(F343,Hoja1!$A$50:$C$63,3),\"\")","v":15}]
[334,20259910004634,"2025-01-14","Persona jurídica","Virtual - Correo electrónico","Certificación de ingresos y retenciones","Administrativa",null,"Grupo de Contabilidad","2025-01-23","Correo electrónico","2025-01-28",null,"",null,{"$f":"IFERROR(WORKDAY(N344,Y344,Hoja1!F336:F452),\"\")","v":""},{"$f":"+IF(N344=\"\",\"\",IF(O344=\"\",\"SIN RESPUESTA\",(IF(O344<=P344,\"A TIEMPO\",\"FUERA DE TIEMPO\"))))","v":""},null,"A TIEMPO",7,0,null,null,{"$f":"IFERROR(VLOOKUP(F344,Hoja1!$A$50:$C$63,2),\"\")","v":15},{"$f":"IFERROR(VLOOKUP(F344,Hoja1!$A$50:$C$63,3),\"\")","v":15}]
[335,20259910004654,"2025-01-14","Persona jurídica","Virtual - Correo electrónico","Solicitud de documentos o información","Registros ambientales",null,"Subdirección de Estudios Ambientales","2025-01-17","Correo electrónico","2025-01-28",null,"",null,{"$f":"IFERROR(WORKDAY(N345,Y345,Hoja1!F337:F453),\"\")","v":""},{"$f":"+IF(N345=\"\",\"\",IF(O345=\"\",\"SIN RESPUESTA\",(IF(O345<=P345,\"A TIEMPO\",\"FUERA DE TIEMPO\"))))","v":""},null,"A TIEMPO",3,0,null,null,{"$f":"IFERROR(VLOOKUP(F345,Hoja1!$A$50:$C$63,2),\"\")","v":5},{"$f":"IFERROR(VLOOKUP(F345,Hoja1!$A$50:$C$63,3),\"\")","v":5}]
[336,20259910004674,"2025-01-14","Persona natural","Virtual - Correo electrónico","Certificación de contrato","Administrativa",null,"Oficina Asesora Jurídica","2025-01-28","Correo electrónico","2025-01-28",null,"",null,{"$f":"IFERROR(WORKDAY(N346,Y346,Hoja1!F338:F454),\"\")","v":""},{"$f":"+IF(N346=\"\",\"\",IF(O346=\"\",\"SIN RESPUESTA\",(IF(O346<=P346,\"A TIEMPO\",\"FUERA DE TIEMPO\"))))","v":""},null,"A TIEMPO",10,0,null,null,{"$f":"IFERROR(VLOOKUP(F346,Hoja1!$A$50:$C$63,2),\"\")","v":15},{"$f":"IFERROR(VLOOKUP(F346,Hoja1!$A$50:$C$63,3),\"\")","v":15}]
[337,20259910004684,"2025-01-14","Persona jurídica","Virtual - Correo electrónico","Solicitud de documentos o información","Registros ambientales",null,"Subdirección de Estudios Ambientales","2025-01-20","Correo electrónico","2025-01-28",null,"",null,{"$f":"IFERROR(WORKDAY(N347,Y347,Hoja1!F339:F455),\"\")","v":""},{"$f":"+IF(N347=\"\",\"\",IF(O347=\"\",\"SIN RESPUESTA\",(IF(O347<=P347,\"A TIEMPO\",\"FUERA DE TIEMPO\"))))","v":""},null,"A TIEMPO",4,0,null,null,{"$f":"IFERROR(VLOOKUP(F347,Hoja1!$A$50:$C$63,2),\"\")","v":5},{"$f":"IFERROR(VLOOKUP(F347,Hoja1!$A$50:$C$63,3),\"\")","v":5}]
[338,20259910004694,"2025-01-14","Persona jurídica","Virtual - Correo electrónico","Solicitud de documentos o información","Registros ambientales",null,"Subdirección de Estudios Ambientales","2025-01-17","Correo electrónico","2025-01-28",null,"",null,{"$f":"IFERROR(WORKDAY(N348,Y348,Hoja1!F340:F456),\"\")","v":""},{"$f":"+IF(N348=\"\",\"\",IF(O348=\"\",\"SIN RESPUESTA\",(IF(O348<=P348,\"A TIEMPO\",\"FUERA DE TIEMPO\"))))","v":""},null,"A TIEMPO",3,0,null,null,{"$f":"IFERROR(VLOOKUP(F348,Hoja1!$A$50:$C$63,2),\"\")","v":5},{"$f":"IFERROR(VLOOKUP(F348,Hoja1!$A$50:$C$63,3),\"\")","v":5}]
[339,20259910004704,"2025-01-14","Persona natural","Virtual - Correo electrónico","Solicitud de documentos o información","Sistema de información ambiental",null,"Subdirección de Estudios Ambientales","2025-01-28","Correo electrónico","2025-01-28",null,"",null,{"$f":"IFERROR(WORKDAY(N349,Y349,Hoja1!F341:F457),\"\")","v":""},{"$f":"+IF(N349=\"\",\"\",IF(O349=\"\",\"SIN RESPUESTA\",(IF(O349<=P349,\"A TIEMPO\",\"FUERA DE TIEMPO\"))))","v":""},null,"A TIEMPO",10,0,null,null,{"$f":"IFERROR(VLOOKUP(F349,Hoja1!$A$50:$C$63,2),\"\")","v":5},{"$f":"IFERROR(VLOOKUP(F349,Hoja1!$A$50:$C$63,3),\"\")","v":5}]
[340,20259910004714,"2025-01-14","Persona natural","Virtual - Correo electrónico","Certificación de contrato","Administrativa",null,"Oficina Asesora Jurídica","2025-01-28","Correo electrónico","2025-01-28",null,"",null,{"$f":"IFERROR(WORKDAY(N350,Y350,Hoja1!F342:F458),\"\")","v":""},{"$f":"+IF(N350=\"\",\"\",IF(O350=\"\",\"SIN RESPUESTA\",(IF(O350<=P350,\"A TIEMPO\",\"FUERA DE TIEMPO\"))))","v":""},null,"A TIEMPO",10,0,null,null,{"$f":"IFERROR(VLOOKUP(F350,Hoja1!$A$50:$C$63,2),\"\")","v":15},{"$f":"IFERROR(VLOOKUP(F350,Hoja1!$A$50:$C$63,3),\"\")","v":15}]
[341,20259910004724,"2025-01-14","Persona jurídica","Virtual - Correo electrónico","Solicitud de documentos o información","Sistema de información del recurso hídrico",null,"Subdirección de Hidrología","2025-01-20","Correo electrónico","2025-01-28",null,"",null,{"$f":"IFERROR(WORKDAY(N351,Y351,Hoja1!F343:F459),\"\")","v":""},{"$f":"+IF(N351=\"\",\"\",IF(O351=\"\",\"SIN RESPUESTA\",(IF(O351<=P351,\"A TIEMPO\",\"FUERA DE TIEMPO\"))))","v":""},null,"A TIEMPO",4,0,null,null,{"$f":"IFERROR(VLOOKUP(F351,Hoja1!$A$50:$C$63,2),\"\")","v":5},{"$f":"IFERROR(VLOOKUP(F351,Hoja1!$A$50:$C$63,3),\"\")","v":5}]
[342,20259050004754,"2025-01-14","Persona natural","Virtual - Formulario PQRSDF","Certificación de contrato","Administrativa",null,"Oficina Asesora Jurídica","2025-01-28","Correo electrónico","2025-01-28",null,"",null,{"$f":"IFERROR(WORKDAY(N352,Y352,Hoja1!F344:F460),\"\")","v":""},{"$f":"+IF(N352=\"\",\"\",IF(O352=\"\",\"SIN RESPUESTA\",(IF(O352<=P352,\"A TIEMPO\",\"FUERA DE TIEMPO\"))))","v":""},null,"A TIEMPO",10,0,null,null,{"$f":"IFERROR(VLOOKUP(F352,Hoja1!$A$50:$C$63,2),\"\")","v":15},{"$f":"IFERROR(VLOOKUP(F352,Hoja1!$A$50:$C$63,3),\"\")","v":15}]
[343,20259050004764,"2025-01-14","Persona natural","Virtual - Formulario PQRSDF","Certificación de contrato","Administrativa",null,"Oficina Asesora Jurídica","2025-01-28","Correo electrónico","2025-01-28",null,"",null,{"$f":"IFERROR(WORKDAY(N353,Y353,Hoja1!F345:F461),\"\")","v":""},{"$f":"+IF(N353=\"\",\"\",IF(O353=\"\",\"SIN RESPUESTA\",(IF(O353<=P353,\"A TIEMPO\",\"FUERA DE TIEMPO\"))))","v":""},null,"A TIEMPO",10,0,null,null,{"$f":"IFERROR(VLOOKUP(F353,Hoja1!$A$50:$C$63,2),\"\")","v":15},{"$f":"IFERROR(VLOOKUP(F353,Hoja1!$A$50:$C$63,3),\"\")","v":15}]
[344,20259050004774,"2025-01-14","Persona natural","Virtual - Formulario PQRSDF","Certificación de contrato","Administrativa",null,"Grupo de Tesorería","2025-01-15","Correo electrónico","2025-01-28",null,"",null,{"$f":"IFERROR(WORKDAY(N354,Y354,Hoja1!F346:F462),\"\")","v":""},{"$f":"+IF(N354=\"\",\"\",IF(O354=\"\",\"SIN RESPUESTA\",(IF(O354<=P354,\"A TIEMPO\",\"FUERA DE TIEMPO\"))))","v":""},null,"A TIEMPO",1,0,null,null,{"$f":"IFERROR(VLOOKUP(F354,Hoja1!$A$50:$C$63,2),\"\")","v":15},{"$f":"IFERROR(VLOOKUP(F354,Hoja1!$A$50:$C$63,3),\"\")","v":15}]
[345,20259050004824,"2025-01-15","Persona natural","Virtual - Formulario PQRSDF","Certificación de contrato","Administrativa",null,"Oficina Asesora Jurídica","2025-01-30","Correo electrónico","2025-01-29",null,"",null,{"$f":"IFERROR(WORKDAY(N355,Y355,Hoja1!F347:F463),\"\")","v":""},{"$f":"+IF(N355=\"\",\"\",IF(O355=\"\",\"SIN RESPUESTA\",(IF(O355<=P355,\"A TIEMPO\",\"FUERA DE TIEMPO\"))))","v":""},null,{"$f":"+IF(C355=\"\",\"\",IF(J355=\"\",\"SIN RESPUESTA\",(IF(J355<=L355,\"A TIEMPO\",\"FUERA DE TIEMPO\"))))","v":"FUERA DE TIEMPO"},11,1,null,null,{"$f":"IFERROR(VLOOKUP(F355,Hoja1!$A$50:$C$63,2),\"\")","v":15},{"$f":"IFERROR(VLOOKUP(F355,Hoja1!$A$50:$C$63,3),\"\")","v":15}]
[346,20259050004834,"2025-01-15","Persona natural","Virtual - Formulario PQRSDF","Certificación de ingresos y retenciones","Administrativa",null,"Grupo de Tesorería","2025-01-16","Correo electrónico","2025-01-29",null,"",null,{"$f":"IFERROR(WORKDAY(N356,Y356,Hoja1!F348:F464),\"\")","v":""},{"$f":"+IF(N356=\"\",\"\",IF(O356=\"\",\"SIN RESPUESTA\",(IF(O356<=P356,\"A TIEMPO\",\"FUERA DE TIEMPO\"))))","v":""},null,"A TIEMPO",1,0,null,null,{"$f":"IFERROR(VLOOKUP(F356,Hoja1!$A$50:$C$63,2),\"\")","v":15},{"$f":"IFERROR(VLOOKUP(F356,Hoja1!$A$50:$C$63,3),\"\")","v":15}]
[347,20259910004864,"2025-01-15","Persona jurídica","Virtual - Correo electrónico","Petición entre autoridades","Registros ambientales",null,"Subdirección de Estudios Ambientales","2025-01-16","Correo electrónico","2025-01-29",null,"",null,{"$f":"IFERROR(WORKDAY(N357,Y357,Hoja1!F349:F465),\"\")","v":""},{"$f":"+IF(N357=\"\",\"\",IF(O357=\"\",\"SIN RESPUESTA\",(IF(O357<=P357,\"A TIEMPO\",\"FUERA DE TIEMPO\"))))","v":""},null,"A TIEMPO",1,0,null,null,{"$f":"IFERROR(VLOOKUP(F357,Hoja1!$A$50:$C$63,2),\"\")","v":10},{"$f":"IFERROR(VLOOKUP(F357,Hoja1!$A$50:$C$63,3),\"\")","v":10}]
[348,20259050004874,"2025-01-15","Persona jurídica","Virtual - Formulario PQRSDF","Petición entre autoridades","Solicitud de información hidrometeorológica",null,"Grupo de Servicio al Ciudadano","2025-01-21","Correo electrónico","2025-01-29",null,"",null,{"$f":"IFERROR(WORKDAY(N358,Y358,Hoja1!F350:F466),\"\")","v":""},{"$f":"+IF(N358=\"\",\"\",IF(O358=\"\",\"SIN RESPUESTA\",(IF(O358<=P358,\"A TIEMPO\",\"FUERA DE TIEMPO\"))))","v":""},null,"A TIEMPO",4,0,null,null,{"$f":"IFERROR(VLOOKUP(F358,Hoja1!$A$50:$C$63,2),\"\")","v":10},{"$f":"IFERROR(VLOOKUP(F358,Hoja1!$A$50:$C$63,3),\"\")","v":10}]
[349,20259910004884,"2025-01-15","Persona jurídica","Virtual - Correo electrónico","Solicitud de documentos o información","Sistema de información ambiental",null,"Subdirección de Estudios Ambientales","2025-01-28","Correo electrónico","2025-01-29",null,"",null,{"$f":"IFERROR(WORKDAY(N359,Y359,Hoja1!F351:F467),\"\")","v":""},{"$f":"+IF(N359=\"\",\"\",IF(O359=\"\",\"SIN RESPUESTA\",(IF(O359<=P359,\"A TIEMPO\",\"FUERA DE TIEMPO\"))))","v":""},null,"A TIEMPO",9,0,null,null,{"$f":"IFERROR(VLOOKUP(F359,Hoja1!$A$50:$C$63,2),\"\")","v":5},{"$f":"IFERROR(VLOOKUP(F359,Hoja1!$A$50:$C$63,3),\"\")","v":5}]
[350,20259910004894,"2025-01-15","Persona jurídica","Virtual - Correo electrónico","Solicitud de documentos o información","Registros ambientales",null,"Subdirección de Estudios Ambientales","2025-01-17","Correo electrónico","2025-01-29",null,"",null,{"$f":"IFERROR(WORKDAY(N360,Y360,Hoja1!F352:F468),\"\")","v":""},{"$f":"+IF(N360=\"\",\"\",IF(O360=\"\",\"SIN RESPUESTA\",(IF(O360<=P360,\"A TIEMPO\",\"FUERA DE TIEMPO\"))))","v":""},null,"A TIEMPO",2,0,null,null,{"$f":"IFERROR(VLOOKUP(F360,Hoja1!$A$50:$C$63,2),\"\")","v":5},{"$f":"IFERROR(VLOOKUP(F360,Hoja1!$A$50:$C$63,3),\"\")","v":5}]
[351,20259910004914,"2025-01-15","Persona natural","Virtual - Correo electrónico","Certificación laboral o pasantía","Administrativa",null,"Grupo de Administración y Desarrollo del Talento Humano","2025-01-21","Correo electrónico","2025-01-29",null,"",null,{"$f":"IFERROR(WORKDAY(N361,Y361,Hoja1!F353:F469),\"\")","v":""},{"$f":"+IF(N361=\"\",\"\",IF(O361=\"\",\"SIN RESPUESTA\",(IF(O361<=P361,\"A TIEMPO\",\"FUERA DE TIEMPO\"))))","v":""},null,"A TIEMPO",4,0,null,null,{"$f":"IFERROR(VLOOKUP(F361,Hoja1!$A$50:$C$63,2),\"\")","v":15},{"$f":"IFERROR(VLOOKUP(F361,Hoja1!$A$50:$C$63,3),\"\")","v":15}]
[352,20259910004904,"2025-01-15","Persona jurídica","Virtual - Correo electrónico","Solicitud de documentos o información","Administrativa",null,"Grupo de Servicios Administrativos","2025-01-27","Correo electrónico","2025-01-29",null,"",null,{"$f":"IFERROR(WORKDAY(N362,Y362,Hoja1!F354:F470),\"\")","v":""},{"$f":"+IF(N362=\"\",\"\",IF(O362=\"\",\"SIN RESPUESTA\",(IF(O362<=P362,\"A TIEMPO\",\"FUERA DE TIEMPO\"))))","v":""},null,"A TIEMPO",8,0,null,null,{"$f":"IFERROR(VLOOKUP(F362,Hoja1!$A$50:$C$63,2),\"\")","v":5},{"$f":"IFERROR(VLOOKUP(F362,Hoja1!$A$50:$C$63,3),\"\")","v":5}]
[353,20259910004924,"2025-01-15","Persona natural","Virtual - Correo electrónico","Solicitud de documentos o información","Sistema de información ambiental",null,"Subdirección de Meteorología","2025-01-20","Correo electrónico","2025-01-29",null,"",null,{"$f":"IFERROR(WORKDAY(N363,Y363,Hoja1!F355:F471),\"\")","v":""},{"$f":"+IF(N363=\"\",\"\",IF(O363=\"\",\"SIN RESPUESTA\",(IF(O363<=P363,\"A TIEMPO\",\"FUERA DE TIEMPO\"))))","v":""},null,"A TIEMPO",3,0,null,null,{"$f":"IFERROR(VLOOKUP(F363,Hoja1!$A$50:$C$63,2),\"\")","v":5},{"$f":"IFERROR(VLOOKUP(F363,Hoja1!$A$50:$C$63,3),\"\")","v":5}]
[354,20259910040744,"2025-03-13","Persona natural","Virtual - Correo electrónico","Petición de interés general o particular","Administrativa",null,"Dirección General","2025-04-08","Correo electrónico","2025-04-07",null,"",null,{"$f":"IFERROR(WORKDAY(N364,Y364,Hoja1!F356:F472),\"\")","v":""},{"$f":"+IF(N364=\"\",\"\",IF(O364=\"\",\"SIN RESPUESTA\",(IF(O364<=P364,\"A TIEMPO\",\"FUERA DE TIEMPO\"))))","v":""},null,{"$f":"+IF(C364=\"\",\"\",IF(J364=\"\",\"SIN RESPUESTA\",(IF(J364<=L364,\"A TIEMPO\",\"FUERA DE TIEMPO\"))))","v":"FUERA DE TIEMPO"},-5,0,null,null,{"$f":"IFERROR(VLOOKUP(F364,Hoja1!$A$50:$C$63,2),\"\")","v":15},{"$f":"IFERROR(VLOOKUP(F364,Hoja1!$A$50:$C$63,3),\"\")","v":15}]
[355,20259050005004,"2025-01-15","Persona natural","Virtual - Formulario PQRSDF","Solicitud de documentos o información","Cambio climático",null,"Subdirección de Meteorología","2025-01-20","Correo electrónico","2025-01-29",null,"",null,{"$f":"IFERROR(WORKDAY(N365,Y365,Hoja1!F357:F473),\"\")","v":""},{"$f":"+IF(N365=\"\",\"\",IF(O365=\"\",\"SIN RESPUESTA\",(IF(O365<=P365,\"A TIEMPO\",\"FUERA DE TIEMPO\"))))","v":""},null,"A TIEMPO",3,0,null,null,{"$f":"IFERROR(VLOOKUP(F365,Hoja1!$A$50:$C$63,2),\"\")","v":5},{"$f":"IFERROR(VLOOKUP(F365,Hoja1!$A$50:$C$63,3),\"\")","v":5}]
[356,20259910005034,"2025-01-15","Persona jurídica","Virtual - Correo electrónico","Solicitud de documentos o información","Registros ambientales",null,"Subdirección de Estudios Ambientales","2025-01-17","Correo electrónico","2025-01-29",null,"",null,{"$f":"IFERROR(WORKDAY(N366,Y366,Hoja1!F358:F474),\"\")","v":""},{"$f":"+IF(N366=\"\",\"\",IF(O366=\"\",\"SIN RESPUESTA\",(IF(O366<=P366,\"A TIEMPO\",\"FUERA DE TIEMPO\"))))","v":""},null,"A TIEMPO",2,0,null,null,{"$f":"IFERROR(VLOOKUP(F366,Hoja1!$A$50:$C$63,2),\"\")","v":5},{"$f":"IFERROR(VLOOKUP(F366,Hoja1!$A$50:$C$63,3),\"\")","v":5}]
[357,20259910005044,"2025-01-15","Persona jurídica","Virtual - Correo electrónico","Consulta (Información técnica)","Bosques",null,"Subdirección de Ecosistemas e Información Ambiental","2025-02-26","Correo electrónico","2025-02-26",null,"",null,{"$f":"IFERROR(WORKDAY(N367,Y367,Hoja1!F359:F475),\"\")","v":""},{"$f":"+IF(N367=\"\",\"\",IF(O367=\"\",\"SIN RESPUESTA\",(IF(O367<=P367,\"A TIEMPO\",\"FUERA DE TIEMPO\"))))","v":""},null,"A TIEMPO",30,0,null,null,{"$f":"IFERROR(VLOOKUP(F367,Hoja1!$A$50:$C$63,2),\"\")","v":30},{"$f":"IFERROR(VLOOKUP(F367,Hoja1!$A$50:$C$63,3),\"\")","v":30}]
[358,20259910005054,"2025-01-15","Persona natural","Virtual - Correo electrónico","Solicitud de documentos o información","Solicitud de información hidrometeorológica",null,"Grupo de Servicio al Ciudadano","2025-01-17","Correo electrónico","2025-01-29",null,"",null,{"$f":"IFERROR(WORKDAY(N368,Y368,Hoja1!F360:F476),\"\")","v":""},{"$f":"+IF(N368=\"\",\"\",IF(O368=\"\",\"SIN RESPUESTA\",(IF(O368<=P368,\"A TIEMPO\",\"FUERA DE TIEMPO\"))))","v":""},null,"A TIEMPO",2,0,null,null,{"$f":"IFERROR(VLOOKUP(F368,Hoja1!$A$50:$C$63,2),\"\")","v":5},{"$f":"IFERROR(VLOOKUP(F368,Hoja1!$A$50:$C$63,3),\"\")","v":5}]
[359,20259910005064,"2025-01-15","Persona jurídica","Virtual - Correo electrónico","Solicitud de documentos o información","Registros ambientales",null,"Subdirección de Estudios Ambientales","2025-01-16","Correo electrónico","2025-01-29",null,"",null,{"$f":"IFERROR(WORKDAY(N369,Y369,Hoja1!F361:F477),\"\")","v":""},{"$f":"+IF(N369=\"\",\"\",IF(O369=\"\",\"SIN RESPUESTA\",(IF(O369<=P369,\"A TIEMPO\",\"FUERA DE TIEMPO\"))))","v":""},null,"A TIEMPO",1,0,null,null,{"$f":"IFERROR(VLOOKUP(F369,Hoja1!$A$50:$C$63,2),\"\")","v":5},{"$f":"IFERROR(VLOOKUP(F369,Hoja1!$A$50:$C$63,3),\"\")","v":5}]
[360,20259050005074,"2025-01-15","Persona natural","Virtual - Formulario PQRSDF","Certificación de contrato","Administrativa",null,"Oficina Asesora Jurídica","2025-01-30","Correo electrónico","2025-01-29",null,"",null,{"$f":"IFERROR(WORKDAY(N370,Y370,Hoja1!F362:F478),\"\")","v":""},{"$f":"+IF(N370=\"\",\"\",IF(O370=\"\",\"SIN RESPUESTA\",(IF(O370<=P370,\"A TIEMPO\",\"FUERA DE TIEMPO\"))))","v":""},null,{"$f":"+IF(C370=\"\",\"\",IF(J370=\"\",\"SIN RESPUESTA\",(IF(J370<=L370,\"A TIEMPO\",\"FUERA DE TIEMPO\"))))","v":"FUERA DE TIEMPO"},11,1,null,null,{"$f":"IFERROR(VLOOKUP(F370,Hoja1!$A$50:$C$63,2),\"\")","v":15},{"$f":"IFERROR(VLOOKUP(F370,Hoja1!$A$50:$C$63,3),\"\")","v":15}]
[361,20259050005084,"2025-01-15","Persona natural","Virtual - Formulario PQRSDF","Certificación de contrato","Administrativa",null,"Oficina Asesora Jurídica","2025-01-30","Correo electrónico","2025-01-29",null,"",null,{"$f":"IFERROR(WORKDAY(N371,Y371,Hoja1!F363:F479),\"\")","v":""},{"$f":"+IF(N371=\"\",\"\",IF(O371=\"\",\"SIN RESPUESTA\",(IF(O371<=P371,\"A TIEMPO\",\"FUERA DE TIEMPO\"))))","v":""},null,{"$f":"+IF(C371=\"\",\"\",IF(J371=\"\",\"SIN RESPUESTA\",(IF(J371<=L371,\"A TIEMPO\",\"FUERA DE TIEMPO\"))))","v":"FUERA DE TIEMPO"},11,1,null,null,{"$f":"IFERROR(VLOOKUP(F371,Hoja1!$A$50:$C$63,2),\"\")","v":15},{"$f":"IFERROR(VLOOKUP(F371,Hoja1!$A$50:$C$63,3),\"\")","v":15}]
[362,20259050005094,"2025-01-15","Persona natural","Virtual - Formulario PQRSDF","Certificación de contrato","Administrativa",null,"Oficina Asesora Jurídica","2025-01-30","Correo electrónico","2025-01-29",null,"",null,{"$f":"IFERROR(WORKDAY(N372,Y372,Hoja1!F364:F480),\"\")","v":""},{"$f":"+IF(N372=\"\",\"\",IF(O372=\"\",\"SIN RESPUESTA\",(IF(O372<=P372,\"A TIEMPO\",\"FUERA DE TIEMPO\"))))","v":""},null,{"$f":"+IF(C372=\"\",\"\",IF(J372=\"\",\"SIN RESPUESTA\",(IF(J372<=L372,\"A TIEMPO\",\"FUERA DE TIEMPO\"))))","v":"FUERA DE TIEMPO"},11,1,null,null,{"$f":"IFERROR(VLOOKUP(F372,Hoja1!$A$50:$C$63,2),\"\")","v":15},{"$f":"IFERROR(VLOOKUP(F372,Hoja1!$A$50:$C$63,3),\"\")","v":15}]
[363,20259910005114,"2025-01-15","Persona natural","Virtual - Correo electrónico","Certificación de contrato","Administrativa",null,"Oficina Asesora Jurídica","2025-01-30","Correo electrónico","2025-01-29",null,"",null,{"$f":"IFERROR(WORKDAY(N373,Y373,Hoja1!F365:F481),\"\")","v":""},{"$f":"+IF(N373=\"\",\"\",IF(O373=\"\",\"SIN RESPUESTA\",(IF(O373<=P373,\"A TIEMPO\",\"FUERA DE TIEMPO\"))))","v":""},null,{"$f":"+IF(C373=\"\",\"\",IF(J373=\"\",\"SIN RESPUESTA\",(IF(J373<=L373,\"A TIEMPO\",\"FUERA DE TIEMPO\"))))","v":"FUERA DE TIEMPO"},11,1,null,null,{"$f":"IFERROR(VLOOKUP(F373,Hoja1!$A$50:$C$63,2),\"\")","v":15},{"$f":"IFERROR(VLOOKUP(F373,Hoja1!$A$50:$C$63,3),\"\")","v":15}]
[364,20259050005124,"2025-01-15","Persona natural","Virtual - Formulario PQRSDF","Certificación de contrato","Administrativa",null,"Oficina Asesora Jurídica","2025-01-30","Correo electrónico","2025-01-29",null,"",null,{"$f":"IFERROR(WORKDAY(N374,Y374,Hoja1!F366:F482),\"\")","v":""},{"$f":"+IF(N374=\"\",\"\",IF(O374=\"\",\"SIN RESPUESTA\",(IF(O374<=P374,\"A TIEMPO\",\"FUERA DE TIEMPO\"))))","v":""},null,{"$f":"+IF(C374=\"\",\"\",IF(J374=\"\",\"SIN RESPUESTA\",(IF(J374<=L374,\"A TIEMPO\",\"FUERA DE TIEMPO\"))))","v":"FUERA DE TIEMPO"},11,1,null,null,{"$f":"IFERROR(VLOOKUP(F374,Hoja1!$A$50:$C$63,2),\"\")","v":15},{"$f":"IFERROR(VLOOKUP(F374,Hoja1!$A$50:$C$63,3),\"\")","v":15}]
[365,20259910005144,"2025-01-15","Persona natural","Virtual - Correo electrónico","Certificación de contrato","Administrativa",null,"Oficina Asesora Jurídica","2025-01-30","Correo electrónico","2025-01-29",null,"",null,{"$f":"IFERROR(WORKDAY(N375,Y375,Hoja1!F367:F483),\"\")","v":""},{"$f":"+IF(N375=\"\",\"\",IF(O375=\"\",\"SIN RESPUESTA\",(IF(O375<=P375,\"A TIEMPO\",\"FUERA DE TIEMPO\"))))","v":""},null,{"$f":"+IF(C375=\"\",\"\",IF(J375=\"\",\"SIN RESPUESTA\",(IF(J375<=L375,\"A TIEMPO\",\"FUERA DE TIEMPO\"))))","v":"FUERA DE TIEMPO"},11,1,null,null,{"$f":"IFERROR(VLOOKUP(F375,Hoja1!$A$50:$C$63,2),\"\")","v":15},{"$f":"IFERROR(VLOOKUP(F375,Hoja1!$A$50:$C$63,3),\"\")","v":15}]
[366,20259910005154,"2025-01-15","Persona natural","Virtual - Correo electrónico","Certificación de contrato","Administrativa",null,"Oficina Asesora Jurídica","2025-01-30","Correo electrónico","2025-01-29",null,"",null,{"$f":"IFERROR(WORKDAY(N376,Y376,Hoja1!F368:F484),\"\")","v":""},{"$f":"+IF(N376=\"\",\"\",IF(O376=\"\",\"SIN RESPUESTA\",(IF(O376<=P376,\"A TIEMPO\",\"FUERA DE TIEMPO\"))))","v":""},null,{"$f":"+IF(C376=\"\",\"\",IF(J376=\"\",\"SIN RESPUESTA\",(IF(J376<=L376,\"A TIEMPO\",\"FUERA DE TIEMPO\"))))","v":"FUERA DE TIEMPO"},11,1,null,null,{"$f":"IFERROR(VLOOKUP(F376,Hoja1!$A$50:$C$63,2),\"\")","v":15},{"$f":"IFERROR(VLOOKUP(F376,Hoja1!$A$50:$C$63,3),\"\")","v":15}]
[367,20259910005174,"2025-01-15","Persona jurídica","Virtual - Correo electrónico","Solicitud de documentos o información","Registros ambientales",null,"Subdirección de Estudios Ambientales","2025-01-17","Correo electrónico","2025-01-29",null,"",null,{"$f":"IFERROR(WORKDAY(N377,Y377,Hoja1!F369:F485),\"\")","v":""},{"$f":"+IF(N377=\"\",\"\",IF(O377=\"\",\"SIN RESPUESTA\",(IF(O377<=P377,\"A TIEMPO\",\"FUERA DE TIEMPO\"))))","v":""},null,"A TIEMPO",2,0,null,null,{"$f":"IFERROR(VLOOKUP(F377,Hoja1!$A$50:$C$63,2),\"\")","v":5},{"$f":"IFERROR(VLOOKUP(F377,Hoja1!$A$50:$C$63,3),\"\")","v":5}]
[368,20259910005184,"2025-01-15","Persona jurídica","Virtual - Correo electrónico","Petición entre autoridades","Registros ambientales",null,"Subdirección de Estudios Ambientales","2025-01-17","Correo electrónico","2025-01-29",null,"",null,{"$f":"IFERROR(WORKDAY(N378,Y378,Hoja1!F370:F486),\"\")","v":""},{"$f":"+IF(N378=\"\",\"\",IF(O378=\"\",\"SIN RESPUESTA\",(IF(O378<=P378,\"A TIEMPO\",\"FUERA DE TIEMPO\"))))","v":""},null,"A TIEMPO",2,0,null,null,{"$f":"IFERROR(VLOOKUP(F378,Hoja1!$A$50:$C$63,2),\"\")","v":10},{"$f":"IFERROR(VLOOKUP(F378,Hoja1!$A$50:$C$63,3),\"\")","v":10}]
[369,20259910005194,"2025-01-15","Persona jurídica","Virtual - Correo electrónico","Solicitud de documentos o información","Registros ambientales",null,"Subdirección de Estudios Ambientales","2025-01-17","Correo electrónico","2025-01-29",null,"",null,{"$f":"IFERROR(WORKDAY(N379,Y379,Hoja1!F371:F487),\"\")","v":""},{"$f":"+IF(N379=\"\",\"\",IF(O379=\"\",\"SIN RESPUESTA\",(IF(O379<=P379,\"A TIEMPO\",\"FUERA DE TIEMPO\"))))","v":""},null,"A TIEMPO",2,0,null,null,{"$f":"IFERROR(VLOOKUP(F379,Hoja1!$A$50:$C$63,2),\"\")","v":5},{"$f":"IFERROR(VLOOKUP(F379,Hoja1!$A$50:$C$63,3),\"\")","v":5}]
[370,20259910005204,"2025-01-15","Persona jurídica","Virtual - Correo electrónico","Solicitud de documentos o información","Registros ambientales",null,"Subdirección de Estudios Ambientales","2025-01-17","Correo electrónico","2025-01-29",null,"",null,{"$f":"IFERROR(WORKDAY(N380,Y380,Hoja1!F372:F488),\"\")","v":""},{"$f":"+IF(N380=\"\",\"\",IF(O380=\"\",\"SIN RESPUESTA\",(IF(O380<=P380,\"A TIEMPO\",\"FUERA DE TIEMPO\"))))","v":""},null,"A TIEMPO",2,0,null,null,{"$f":"IFERROR(VLOOKUP(F380,Hoja1!$A$50:$C$63,2),\"\")","v":5},{"$f":"IFERROR(VLOOKUP(F380,Hoja1!$A$50:$C$63,3),\"\")","v":5}]
[371,20259050005214,"2025-01-15","Persona natural","Virtual - Formulario PQRSDF","Solicitud de documentos o información","Administrativa",null,"Grupo de Administración y Desarrollo del Talento Humano","2025-01-30","Correo electrónico","2025-01-29",null,"",null,{"$f":"IFERROR(WORKDAY(N381,Y381,Hoja1!F373:F489),\"\")","v":""},{"$f":"+IF(N381=\"\",\"\",IF(O381=\"\",\"SIN RESPUESTA\",(IF(O381<=P381,\"A TIEMPO\",\"FUERA DE TIEMPO\"))))","v":""},null,{"$f":"+IF(C381=\"\",\"\",IF(J381=\"\",\"SIN RESPUESTA\",(IF(J381<=L381,\"A TIEMPO\",\"FUERA DE TIEMPO\"))))","v":"FUERA DE TIEMPO"},11,1,null,null,{"$f":"IFERROR(VLOOKUP(F381,Hoja1!$A$50:$C$63,2),\"\")","v":5},{"$f":"IFERROR(VLOOKUP(F381,Hoja1!$A$50:$C$63,3),\"\")","v":5}]
[372,20259910005224,"2025-01-15","Persona natural","Virtual - Correo electrónico","Certificación de contrato","Administrativa",null,"Oficina Asesora Jurídica","2025-01-30","Correo electrónico","2025-01-29",null,"",null,{"$f":"IFERROR(WORKDAY(N382,Y382,Hoja1!F374:F490),\"\")","v":""},{"$f":"+IF(N382=\"\",\"\",IF(O382=\"\",\"SIN RESPUESTA\",(IF(O382<=P382,\"A TIEMPO\",\"FUERA DE TIEMPO\"))))","v":""},null,{"$f":"+IF(C382=\"\",\"\",IF(J382=\"\",\"SIN RESPUESTA\",(IF(J382<=L382,\"A TIEMPO\",\"FUERA DE TIEMPO\"))))","v":"FUERA DE TIEMPO"},11,1,null,null,{"$f":"IFERROR(VLOOKUP(F382,Hoja1!$A$50:$C$63,2),\"\")","v":15},{"$f":"IFERROR(VLOOKUP(F382,Hoja1!$A$50:$C$63,3),\"\")","v":15}]
[373,20259050005284,"2025-01-15","Persona natural","Virtual - Formulario PQRSDF","Certificación de contrato","Administrativa",null,"Oficina Asesora Jurídica","2025-01-30","Correo electrónico","2025-01-29",null,"",null,{"$f":"IFERROR(WORKDAY(N383,Y383,Hoja1!F375:F491),\"\")","v":""},{"$f":"+IF(N383=\"\",\"\",IF(O383=\"\",\"SIN RESPUESTA\",(IF(O383<=P383,\"A TIEMPO\",\"FUERA DE TIEMPO\"))))","v":""},null,{"$f":"+IF(C383=\"\",\"\",IF(J383=\"\",\"SIN RESPUESTA\",(IF(J383<=L383,\"A TIEMPO\",\"FUERA DE TIEMPO\"))))","v":"FUERA DE TIEMPO"},11,1,null,null,{"$f":"IFERROR(VLOOKUP(F383,Hoja1!$A$50:$C$63,2),\"\")","v":15},{"$f":"IFERROR(VLOOKUP(F383,Hoja1!$A$50:$C$63,3),\"\")","v":15}]
[374,20259910005294,"2025-01-15","Persona jurídica","Virtual - Correo electrónico","Petición entre autoridades","Solicitud de información hidrometeorológica",null,"Grupo de Servicio al Ciudadano","2025-01-20","Correo electrónico","2025-01-29",null,"",null,{"$f":"IFERROR(WORKDAY(N384,Y384,Hoja1!F376:F492),\"\")","v":""},{"$f":"+IF(N384=\"\",\"\",IF(O384=\"\",\"SIN RESPUESTA\",(IF(O384<=P384,\"A TIEMPO\",\"FUERA DE TIEMPO\"))))","v":""},null,"A TIEMPO",3,0,null,null,{"$f":"IFERROR(VLOOKUP(F384,Hoja1!$A$50:$C$63,2),\"\")","v":10},{"$f":"IFERROR(VLOOKUP(F384,Hoja1!$A$50:$C$63,3),\"\")","v":10}]
[375,20259910005324,"2025-01-15","Persona natural","Virtual - Correo electrónico","Certificación de contrato","Administrativa",null,"Oficina Asesora Jurídica","2025-01-30","Correo electrónico","2025-01-29",null,"",null,{"$f":"IFERROR(WORKDAY(N385,Y385,Hoja1!F377:F493),\"\")","v":""},{"$f":"+IF(N385=\"\",\"\",IF(O385=\"\",\"SIN RESPUESTA\",(IF(O385<=P385,\"A TIEMPO\",\"FUERA DE TIEMPO\"))))","v":""},null,{"$f":"+IF(C385=\"\",\"\",IF(J385=\"\",\"SIN RESPUESTA\",(IF(J385<=L385,\"A TIEMPO\",\"FUERA DE TIEMPO\"))))","v":"FUERA DE TIEMPO"},11,1,null,null,{"$f":"IFERROR(VLOOKUP(F385,Hoja1!$A$50:$C$63,2),\"\")","v":15},{"$f":"IFERROR(VLOOKUP(F385,Hoja1!$A$50:$C$63,3),\"\")","v":15}]
[376,20259910005314,"2025-01-15","Persona jurídica","Virtual - Correo electrónico","Solicitud de documentos o información","Solicitud de información hidrometeorológica",null,"Grupo de Servicio al Ciudadano","2025-01-20","Correo electrónico","2025-01-29",null,"",null,{"$f":"IFERROR(WORKDAY(N386,Y386,Hoja1!F378:F494),\"\")","v":""},{"$f":"+IF(N386=\"\",\"\",IF(O386=\"\",\"SIN RESPUESTA\",(IF(O386<=P386,\"A TIEMPO\",\"FUERA DE TIEMPO\"))))","v":""},null,"A TIEMPO",3,0,null,null,{"$f":"IFERROR(VLOOKUP(F386,Hoja1!$A$50:$C$63,2),\"\")","v":5},{"$f":"IFERROR(VLOOKUP(F386,Hoja1!$A$50:$C$63,3),\"\")","v":5}]
[377,20259050005364,"2025-01-15","Persona jurídica","Virtual - Formulario PQRSDF","Solicitud de documentos o información","Informes ambientales",null,"Subdirección de Estudios Ambientales","2025-01-17","Correo electrónico","2025-01-29",null,"",null,{"$f":"IFERROR(WORKDAY(N387,Y387,Hoja1!F379:F495),\"\")","v":""},{"$f":"+IF(N387=\"\",\"\",IF(O387=\"\",\"SIN RESPUESTA\",(IF(O387<=P387,\"A TIEMPO\",\"FUERA DE TIEMPO\"))))","v":""},null,"A TIEMPO",2,0,null,null,{"$f":"IFERROR(VLOOKUP(F387,Hoja1!$A$50:$C$63,2),\"\")","v":5},{"$f":"IFERROR(VLOOKUP(F387,Hoja1!$A$50:$C$63,3),\"\")","v":5}]
[378,20259910005374,"2025-01-15","Persona jurídica","Virtual - Correo electrónico","Solicitud de documentos o información","Registros ambientales",null,"Subdirección de Estudios Ambientales","2025-01-28","Correo electrónico","2025-01-29",null,"",null,{"$f":"IFERROR(WORKDAY(N388,Y388,Hoja1!F380:F496),\"\")","v":""},{"$f":"+IF(N388=\"\",\"\",IF(O388=\"\",\"SIN RESPUESTA\",(IF(O388<=P388,\"A TIEMPO\",\"FUERA DE TIEMPO\"))))","v":""},null,"A TIEMPO",9,0,null,null,{"$f":"IFERROR(VLOOKUP(F388,Hoja1!$A$50:$C$63,2),\"\")","v":5},{"$f":"IFERROR(VLOOKUP(F388,Hoja1!$A$50:$C$63,3),\"\")","v":5}]
[379,20259050005414,"2025-01-16","Persona natural","Virtual - Formulario PQRSDF","Certificación laboral o pasantía","Administrativa",null,"Grupo de Administración y Desarrollo del Talento Humano","2025-01-21","Correo electrónico","2025-01-30",null,"",null,{"$f":"IFERROR(WORKDAY(N389,Y389,Hoja1!F381:F497),\"\")","v":""},{"$f":"+IF(N389=\"\",\"\",IF(O389=\"\",\"SIN RESPUESTA\",(IF(O389<=P389,\"A TIEMPO\",\"FUERA DE TIEMPO\"))))","v":""},null,"A TIEMPO",3,0,null,null,{"$f":"IFERROR(VLOOKUP(F389,Hoja1!$A$50:$C$63,2),\"\")","v":15},{"$f":"IFERROR(VLOOKUP(F389,Hoja1!$A$50:$C$63,3),\"\")","v":15}]
[380,20259910045034,"2025-03-19","Persona jurídica","Virtual - Correo electrónico","Solicitud de documentos o información","Climatología",null,"Oficina de Informática","2025-03-26","Correo electrónico","2025-04-03",null,"",null,{"$f":"IFERROR(WORKDAY(N390,Y390,Hoja1!F382:F498),\"\")","v":""},{"$f":"+IF(N390=\"\",\"\",IF(O390=\"\",\"SIN RESPUESTA\",(IF(O390<=P390,\"A TIEMPO\",\"FUERA DE TIEMPO\"))))","v":""},null,"A TIEMPO",-16,0,null,null,{"$f":"IFERROR(VLOOKUP(F390,Hoja1!$A$50:$C$63,2),\"\")","v":5},{"$f":"IFERROR(VLOOKUP(F390,Hoja1!$A$50:$C$63,3),\"\")","v":5}]
[381,20259910005454,"2025-01-16","Persona jurídica","Virtual - Correo electrónico","Solicitud de documentos o información","Registros ambientales",null,"Subdirección de Estudios Ambientales","2025-01-30","Correo electrónico","2025-01-30",null,"",null,{"$f":"IFERROR(WORKDAY(N391,Y391,Hoja1!F383:F499),\"\")","v":""},{"$f":"+IF(N391=\"\",\"\",IF(O391=\"\",\"SIN RESPUESTA\",(IF(O391<=P391,\"A TIEMPO\",\"FUERA DE TIEMPO\"))))","v":""},null,"A TIEMPO",10,0,null,null,{"$f":"IFERROR(VLOOKUP(F391,Hoja1!$A$50:$C$63,2),\"\")","v":5},{"$f":"IFERROR(VLOOKUP(F391,Hoja1!$A$50:$C$63,3),\"\")","v":5}]
[382,20259910005464,"2025-01-16","Persona jurídica","Virtual - Correo electrónico","Solicitud de documentos o información","Solicitud de información hidrometeorológica",null,"Subdirección de Meteorología","2025-01-23","Correo electrónico","2025-01-30",null,"",null,{"$f":"IFERROR(WORKDAY(N392,Y392,Hoja1!F384:F500),\"\")","v":""},{"$f":"+IF(N392=\"\",\"\",IF(O392=\"\",\"SIN RESPUESTA\",(IF(O392<=P392,\"A TIEMPO\",\"FUERA DE TIEMPO\"))))","v":""},null,"A TIEMPO",5,0,null,null,{"$f":"IFERROR(VLOOKUP(F392,Hoja1!$A$50:$C$63,2),\"\")","v":5},{"$f":"IFERROR(VLOOKUP(F392,Hoja1!$A$50:$C$63,3),\"\")","v":5}]
[383,20259910005474,"2025-01-16","Persona natural","Virtual - Correo electrónico","Solicitud de documentos o información","Visitas académicas",null,"Grupo de Servicio al Ciudadano","2025-01-28","Correo electrónico","2025-01-30",null,"",null,{"$f":"IFERROR(WORKDAY(N393,Y393,Hoja1!F385:F501),\"\")","v":""},{"$f":"+IF(N393=\"\",\"\",IF(O393=\"\",\"SIN RESPUESTA\",(IF(O393<=P393,\"A TIEMPO\",\"FUERA DE TIEMPO\"))))","v":""},null,"A TIEMPO",8,0,null,null,{"$f":"IFERROR(VLOOKUP(F393,Hoja1!$A$50:$C$63,2),\"\")","v":5},{"$f":"IFERROR(VLOOKUP(F393,Hoja1!$A$50:$C$63,3),\"\")","v":5}]
[384,20259910005484,"2025-01-16","Persona jurídica","Virtual - Correo electrónico","Solicitud de documentos o información","Administrativa",null,"Dirección General","2025-01-21","Correo electrónico","2025-01-30",null,"",null,{"$f":"IFERROR(WORKDAY(N394,Y394,Hoja1!F386:F502),\"\")","v":""},{"$f":"+IF(N394=\"\",\"\",IF(O394=\"\",\"SIN RESPUESTA\",(IF(O394<=P394,\"A TIEMPO\",\"FUERA DE TIEMPO\"))))","v":""},null,"A TIEMPO",3,0,null,null,{"$f":"IFERROR(VLOOKUP(F394,Hoja1!$A$50:$C$63,2),\"\")","v":5},{"$f":"IFERROR(VLOOKUP(F394,Hoja1!$A$50:$C$63,3),\"\")","v":5}]
[385,20259910005494,"2025-01-16","Persona natural","Virtual - Correo electrónico","Solicitud de documentos o información","Sistema de información ambiental",null,"Subdirección de Meteorología","2025-01-23","Correo electrónico","2025-01-30",null,"",null,{"$f":"IFERROR(WORKDAY(N395,Y395,Hoja1!F387:F503),\"\")","v":""},{"$f":"+IF(N395=\"\",\"\",IF(O395=\"\",\"SIN RESPUESTA\",(IF(O395<=P395,\"A TIEMPO\",\"FUERA DE TIEMPO\"))))","v":""},null,"A TIEMPO",5,0,null,null,{"$f":"IFERROR(VLOOKUP(F395,Hoja1!$A$50:$C$63,2),\"\")","v":5},{"$f":"IFERROR(VLOOKUP(F395,Hoja1!$A$50:$C$63,3),\"\")","v":5}]
[386,20259910005504,"2025-01-16","Persona natural","Virtual - Correo electrónico","Solicitud de documentos o información","Sistema de información del recurso hídrico",null,"Grupo de Servicio al Ciudadano","2025-01-28","Correo electrónico","2025-01-30",null,"",null,{"$f":"IFERROR(WORKDAY(N396,Y396,Hoja1!F388:F504),\"\")","v":""},{"$f":"+IF(N396=\"\",\"\",IF(O396=\"\",\"SIN RESPUESTA\",(IF(O396<=P396,\"A TIEMPO\",\"FUERA DE TIEMPO\"))))","v":""},null,"A TIEMPO",8,0,null,null,{"$f":"IFERROR(VLOOKUP(F396,Hoja1!$A$50:$C$63,2),\"\")","v":5},{"$f":"IFERROR(VLOOKUP(F396,Hoja1!$A$50:$C$63,3),\"\")","v":5}]
[387,20259910005514,"2025-01-16","Persona jurídica","Virtual - Correo electrónico","Petición entre autoridades","Registros ambientales",null,"Subdirección de Estudios Ambientales","2025-02-07","Correo electrónico","2025-01-30",null,"",null,{"$f":"IFERROR(WORKDAY(N397,Y397,Hoja1!F389:F505),\"\")","v":""},{"$f":"+IF(N397=\"\",\"\",IF(O397=\"\",\"SIN RESPUESTA\",(IF(O397<=P397,\"A TIEMPO\",\"FUERA DE TIEMPO\"))))","v":""},null,{"$f":"+IF(C397=\"\",\"\",IF(J397=\"\",\"SIN RESPUESTA\",(IF(J397<=L397,\"A TIEMPO\",\"FUERA DE TIEMPO\"))))","v":"FUERA DE TIEMPO"},16,6,null,null,{"$f":"IFERROR(VLOOKUP(F397,Hoja1!$A$50:$C$63,2),\"\")","v":10},{"$f":"IFERROR(VLOOKUP(F397,Hoja1!$A$50:$C$63,3),\"\")","v":10}]
[388,20259050005544,"2025-01-16","Persona natural","Virtual - Formulario PQRSDF","Solicitud de documentos o información","Solicitud de información hidrometeorológica",null,"Grupo de Servicio al Ciudadano","2025-01-20","Correo electrónico","2025-01-30",null,"",null,{"$f":"IFERROR(WORKDAY(N398,Y398,Hoja1!F390:F506),\"\")","v":""},{"$f":"+IF(N398=\"\",\"\",IF(O398=\"\",\"SIN RESPUESTA\",(IF(O398<=P398,\"A TIEMPO\",\"FUERA DE TIEMPO\"))))","v":""},null,"A TIEMPO",2,0,null,null,{"$f":"IFERROR(VLOOKUP(F398,Hoja1!$A$50:$C$63,2),\"\")","v":5},{"$f":"IFERROR(VLOOKUP(F398,Hoja1!$A$50:$C$63,3),\"\")","v":5}]
[389,20259050005594,"2025-01-16","Persona natural","Virtual - Formulario PQRSDF","Certificación de contrato","Administrativa",null,"Oficina Asesora Jurídica","2025-01-31","Correo electrónico","2025-01-30",null,"",null,{"$f":"IFERROR(WORKDAY(N399,Y399,Hoja1!F391:F507),\"\")","v":""},{"$f":"+IF(N399=\"\",\"\",IF(O399=\"\",\"SIN RESPUESTA\",(IF(O399<=P399,\"A TIEMPO\",\"FUERA DE TIEMPO\"))))","v":""},null,{"$f":"+IF(C399=\"\",\"\",IF(J399=\"\",\"SIN RESPUESTA\",(IF(J399<=L399,\"A TIEMPO\",\"FUERA DE TIEMPO\"))))","v":"FUERA DE TIEMPO"},11,1,null,null,{"$f":"IFERROR(VLOOKUP(F399,Hoja1!$A$50:$C$63,2),\"\")","v":15},{"$f":"IFERROR(VLOOKUP(F399,Hoja1!$A$50:$C$63,3),\"\")","v":15}]
[390,20259910005604,"2025-01-16","Persona jurídica","Virtual - Correo electrónico","Solicitud de documentos o información","Solicitud de información hidrometeorológica",null,"Subdirección de Meteorología","2025-01-22","Correo electrónico","2025-01-30",null,"",null,{"$f":"IFERROR(WORKDAY(N400,Y400,Hoja1!F392:F508),\"\")","v":""},{"$f":"+IF(N400=\"\",\"\",IF(O400=\"\",\"SIN RESPUESTA\",(IF(O400<=P400,\"A TIEMPO\",\"FUERA DE TIEMPO\"))))","v":""},null,"A TIEMPO",4,0,null,null,{"$f":"IFERROR(VLOOKUP(F400,Hoja1!$A$50:$C$63,2),\"\")","v":5},{"$f":"IFERROR(VLOOKUP(F400,Hoja1!$A$50:$C$63,3),\"\")","v":5}]
[{"$f":"IF(B401<>\"\",A400+1,\"\")","v":391},20259910005614,"2025-01-16","Persona jurídica","Virtual - Correo electrónico","Solicitud de documentos o información","Solicitud de información hidrometeorológica",null,"Subdirección de Meteorología","2025-01-21","Correo electrónico","2025-01-30",null,"",null,{"$f":"IFERROR(WORKDAY(N401,Y401,Hoja1!F393:F509),\"\")","v":""},{"$f":"+IF(N401=\"\",\"\",IF(O401=\"\",\"SIN RESPUESTA\",(IF(O401<=P401,\"A TIEMPO\",\"FUERA DE TIEMPO\"))))","v":""},null,"A TIEMPO",3,0,null,null,{"$f":"IFERROR(VLOOKUP(F401,Hoja1!$A$50:$C$63,2),\"\")","v":5},{"$f":"IFERROR(VLOOKUP(F401,Hoja1!$A$50:$C$63,3),\"\")","v":5}]
[392,20259910005624,"2025-01-16","Persona natural","Virtual - Correo electrónico","Solicitud de documentos o información","Sistema de información ambiental",null,"Subdirección de Ecosistemas e Información Ambiental","2025-02-04","Correo electrónico","2025-01-30",null,"",null,{"$f":"IFERROR(WORKDAY(N402,Y402,Hoja1!F394:F510),\"\")","v":""},{"$f":"+IF(N402=\"\",\"\",IF(O402=\"\",\"SIN RESPUESTA\",(IF(O402<=P402,\"A TIEMPO\",\"FUERA DE TIEMPO\"))))","v":""},null,{"$f":"+IF(C402=\"\",\"\",IF(J402=\"\",\"SIN RESPUESTA\",(IF(J402<=L402,\"A TIEMPO\",\"FUERA DE TIEMPO\"))))","v":"FUERA DE TIEMPO"},13,3,null,null,{"$f":"IFERROR(VLOOKUP(F402,Hoja1!$A$50:$C$63,2),\"\")","v":5},{"$f":"IFERROR(VLOOKUP(F402,Hoja1!$A$50:$C$63,3),\"\")","v":5}]
[393,20259910005634,"2025-01-16","Persona natural","Virtual - Correo electrónico","Certificación de contrato","Administrativa",null,"Oficina Asesora Jurídica","2025-01-31","Correo electrónico","2025-01-30",null,"",null,{"$f":"IFERROR(WORKDAY(N403,Y403,Hoja1!F395:F511),\"\")","v":""},{"$f":"+IF(N403=\"\",\"\",IF(O403=\"\",\"SIN RESPUESTA\",(IF(O403<=P403,\"A TIEMPO\",\"FUERA DE TIEMPO\"))))","v":""},null,{"$f":"+IF(C403=\"\",\"\",IF(J403=\"\",\"SIN RESPUESTA\",(IF(J403<=L403,\"A TIEMPO\",\"FUERA DE TIEMPO\"))))","v":"FUERA DE TIEMPO"},11,1,null,null,{"$f":"IFERROR(VLOOKUP(F403,Hoja1!$A$50:$C$63,2),\"\")","v":15},{"$f":"IFERROR(VLOOKUP(F403,Hoja1!$A$50:$C$63,3),\"\")","v":15}]
[394,20259910005644,"2025-01-16","Persona jurídica","Virtual - Correo electrónico","Solicitud judicial","Administrativa",null,"Grupo de Administración y Desarrollo del Talento Humano","2025-01-20","Correo electrónico","2025-01-23",null,"",null,{"$f":"IFERROR(WORKDAY(N404,Y404,Hoja1!F396:F512),\"\")","v":""},{"$f":"+IF(N404=\"\",\"\",IF(O404=\"\",\"SIN RESPUESTA\",(IF(O404<=P404,\"A TIEMPO\",\"FUERA DE TIEMPO\"))))","v":""},null,"A TIEMPO",2,0,null,null,{"$f":"IFERROR(VLOOKUP(F404,Hoja1!$A$50:$C$63,2),\"\")","v":5},{"$f":"IFERROR(VLOOKUP(F404,Hoja1!$A$50:$C$63,3),\"\")","v":5}]
[395,20259050005694,"2025-01-16","Persona natural","Virtual - Formulario PQRSDF","Solicitud de documentos o información","Solicitud de información hidrometeorológica",null,"Subdirección de Meteorología","2025-01-22","Correo electrónico","2025-01-30",null,"",null,{"$f":"IFERROR(WORKDAY(N405,Y405,Hoja1!F397:F513),\"\")","v":""},{"$f":"+IF(N405=\"\",\"\",IF(O405=\"\",\"SIN RESPUESTA\",(IF(O405<=P405,\"A TIEMPO\",\"FUERA DE TIEMPO\"))))","v":""},null,"A TIEMPO",4,0,null,null,{"$f":"IFERROR(VLOOKUP(F405,Hoja1!$A$50:$C$63,2),\"\")","v":5},{"$f":"IFERROR(VLOOKUP(F405,Hoja1!$A$50:$C$63,3),\"\")","v":5}]
[396,20259050005704,"2025-01-16","Persona natural","Virtual - Formulario PQRSDF","Solicitud de documentos o información","Registros ambientales",null,"Subdirección de Estudios Ambientales","2025-01-20","Correo electrónico","2025-01-30",null,"",null,{"$f":"IFERROR(WORKDAY(N406,Y406,Hoja1!F398:F514),\"\")","v":""},{"$f":"+IF(N406=\"\",\"\",IF(O406=\"\",\"SIN RESPUESTA\",(IF(O406<=P406,\"A TIEMPO\",\"FUERA DE TIEMPO\"))))","v":""},null,"A TIEMPO",2,0,null,null,{"$f":"IFERROR(VLOOKUP(F406,Hoja1!$A$50:$C$63,2),\"\")","v":5},{"$f":"IFERROR(VLOOKUP(F406,Hoja1!$A$50:$C$63,3),\"\")","v":5}]
[397,20259910005734,"2025-01-16","Persona jurídica","Virtual - Correo electrónico","Certificación de ingresos y retenciones","Administrativa",null,"Grupo de Contabilidad","2025-01-24","Correo electrónico","2025-01-30",null,"",null,{"$f":"IFERROR(WORKDAY(N407,Y407,Hoja1!F399:F515),\"\")","v":""},{"$f":"+IF(N407=\"\",\"\",IF(O407=\"\",\"SIN RESPUESTA\",(IF(O407<=P407,\"A TIEMPO\",\"FUERA DE TIEMPO\"))))","v":""},null,"A TIEMPO",6,0,null,null,{"$f":"IFERROR(VLOOKUP(F407,Hoja1!$A$50:$C$63,2),\"\")","v":15},{"$f":"IFERROR(VLOOKUP(F407,Hoja1!$A$50:$C$63,3),\"\")","v":15}]
[398,20259910005744,"2025-01-16","Persona natural","Virtual - Correo electrónico","Solicitud de documentos o información","Solicitud de información hidrometeorológica",null,"Grupo de Servicio al Ciudadano","2025-01-20","Correo electrónico","2025-01-30",null,"",null,{"$f":"IFERROR(WORKDAY(N408,Y408,Hoja1!F400:F516),\"\")","v":""},{"$f":"+IF(N408=\"\",\"\",IF(O408=\"\",\"SIN RESPUESTA\",(IF(O408<=P408,\"A TIEMPO\",\"FUERA DE TIEMPO\"))))","v":""},null,"A TIEMPO",2,0,null,null,{"$f":"IFERROR(VLOOKUP(F408,Hoja1!$A$50:$C$63,2),\"\")","v":5},{"$f":"IFERROR(VLOOKUP(F408,Hoja1!$A$50:$C$63,3),\"\")","v":5}]
[399,20259910005754,"2025-01-16","Persona natural","Virtual - Correo electrónico","Solicitud de documentos o información","Registros ambientales",null,"Subdirección de Estudios Ambientales","2025-01-20","Correo electrónico","2025-01-30",null,"",null,{"$f":"IFERROR(WORKDAY(N409,Y409,Hoja1!F401:F517),\"\")","v":""},{"$f":"+IF(N409=\"\",\"\",IF(O409=\"\",\"SIN RESPUESTA\",(IF(O409<=P409,\"A TIEMPO\",\"FUERA DE TIEMPO\"))))","v":""},null,"A TIEMPO",2,0,null,null,{"$f":"IFERROR(VLOOKUP(F409,Hoja1!$A$50:$C$63,2),\"\")","v":5},{"$f":"IFERROR(VLOOKUP(F409,Hoja1!$A$50:$C$63,3),\"\")","v":5}]
[400,20259910005764,"2025-01-16","Persona jurídica","Virtual - Correo electrónico","Solicitud de documentos o información","Registros ambientales",null,"Subdirección de Estudios Ambientales","2025-01-20","Correo electrónico","2025-01-30",null,"",null,{"$f":"IFERROR(WORKDAY(N410,Y410,Hoja1!F402:F518),\"\")","v":""},{"$f":"+IF(N410=\"\",\"\",IF(O410=\"\",\"SIN RESPUESTA\",(IF(O410<=P410,\"A TIEMPO\",\"FUERA DE TIEMPO\"))))","v":""},null,"A TIEMPO",2,0,null,null,{"$f":"IFERROR(VLOOKUP(F410,Hoja1!$A$50:$C$63,2),\"\")","v":5},{"$f":"IFERROR(VLOOKUP(F410,Hoja1!$A$50:$C$63,3),\"\")","v":5}]
[401,20259050005774,"2025-01-16","Persona jurídica","Virtual - Formulario PQRSDF","Solicitud de documentos o información","Solicitud de información hidrometeorológica",null,"Grupo de Servicio al Ciudadano","2025-01-20","Correo electrónico","2025-01-30",null,"",null,{"$f":"IFERROR(WORKDAY(N411,Y411,Hoja1!F403:F519),\"\")","v":""},{"$f":"+IF(N411=\"\",\"\",IF(O411=\"\",\"SIN RESPUESTA\",(IF(O411<=P411,\"A TIEMPO\",\"FUERA DE TIEMPO\"))))","v":""},null,"A TIEMPO",2,0,null,null,{"$f":"IFERROR(VLOOKUP(F411,Hoja1!$A$50:$C$63,2),\"\")","v":5},{"$f":"IFERROR(VLOOKUP(F411,Hoja1!$A$50:$C$63,3),\"\")","v":5}]
[402,20259050005784,"2025-01-16","Persona natural","Virtual - Formulario PQRSDF","Solicitud de documentos o información","Solicitud de información hidrometeorológica",null,"Grupo de Servicio al Ciudadano","2025-01-20","Correo electrónico","2025-01-30",null,"",null,{"$f":"IFERROR(WORKDAY(N412,Y412,Hoja1!F404:F520),\"\")","v":""},{"$f":"+IF(N412=\"\",\"\",IF(O412=\"\",\"SIN RESPUESTA\",(IF(O412<=P412,\"A TIEMPO\",\"FUERA DE TIEMPO\"))))","v":""},null,"A TIEMPO",2,0,null,null,{"$f":"IFERROR(VLOOKUP(F412,Hoja1!$A$50:$C$63,2),\"\")","v":5},{"$f":"IFERROR(VLOOKUP(F412,Hoja1!$A$50:$C$63,3),\"\")","v":5}]
[403,20259050005794,"2025-01-16","Persona natural","Virtual - Formulario PQRSDF","Solicitud de documentos o información","Administrativa",null,"Grupo de Administración y Desarrollo del Talento Humano","2025-01-29","Correo electrónico","2025-01-30",null,"",null,{"$f":"IFERROR(WORKDAY(N413,Y413,Hoja1!F405:F521),\"\")","v":""},{"$f":"+IF(N413=\"\",\"\",IF(O413=\"\",\"SIN RESPUESTA\",(IF(O413<=P413,\"A TIEMPO\",\"FUERA DE TIEMPO\"))))","v":""},null,"A TIEMPO",9,0,null,null,{"$f":"IFERROR(VLOOKUP(F413,Hoja1!$A$50:$C$63,2),\"\")","v":5},{"$f":"IFERROR(VLOOKUP(F413,Hoja1!$A$50:$C$63,3),\"\")","v":5}]
[404,20259050005804,"2025-01-16","Persona natural","Virtual - Formulario PQRSDF","Certificación de ingresos y retenciones","Administrativa",null,"Grupo de Tesorería","2025-01-16","Correo electrónico","2025-01-30",null,"",null,{"$f":"IFERROR(WORKDAY(N414,Y414,Hoja1!F406:F522),\"\")","v":""},{"$f":"+IF(N414=\"\",\"\",IF(O414=\"\",\"SIN RESPUESTA\",(IF(O414<=P414,\"A TIEMPO\",\"FUERA DE TIEMPO\"))))","v":""},null,"A TIEMPO",0,0,null,null,{"$f":"IFERROR(VLOOKUP(F414,Hoja1!$A$50:$C$63,2),\"\")","v":15},{"$f":"IFERROR(VLOOKUP(F414,Hoja1!$A$50:$C$63,3),\"\")","v":15}]
[405,20259050005814,"2025-01-16","Persona natural","Virtual - Formulario PQRSDF","Certificación de contrato","Administrativa",null,"Oficina Asesora Jurídica","2025-02-07","Correo electrónico","2025-01-30",null,"",null,{"$f":"IFERROR(WORKDAY(N415,Y415,Hoja1!F407:F523),\"\")","v":""},{"$f":"+IF(N415=\"\",\"\",IF(O415=\"\",\"SIN RESPUESTA\",(IF(O415<=P415,\"A TIEMPO\",\"FUERA DE TIEMPO\"))))","v":""},null,{"$f":"+IF(C415=\"\",\"\",IF(J415=\"\",\"SIN RESPUESTA\",(IF(J415<=L415,\"A TIEMPO\",\"FUERA DE TIEMPO\"))))","v":"FUERA DE TIEMPO"},16,6,null,null,{"$f":"IFERROR(VLOOKUP(F415,Hoja1!$A$50:$C$63,2),\"\")","v":15},{"$f":"IFERROR(VLOOKUP(F415,Hoja1!$A$50:$C$63,3),\"\")","v":15}]
[406,20259050005824,"2025-01-16","Persona natural","Virtual - Formulario PQRSDF","Solicitud de documentos o información","Solicitud de información hidrometeorológica",null,"Grupo de Servicio al Ciudadano","2025-01-28","Correo electrónico","2025-01-30",null,"",null,{"$f":"IFERROR(WORKDAY(N416,Y416,Hoja1!F408:F524),\"\")","v":""},{"$f":"+IF(N416=\"\",\"\",IF(O416=\"\",\"SIN RESPUESTA\",(IF(O416<=P416,\"A TIEMPO\",\"FUERA DE TIEMPO\"))))","v":""},null,"A TIEMPO",8,0,null,null,{"$f":"IFERROR(VLOOKUP(F416,Hoja1!$A$50:$C$63,2),\"\")","v":5},{"$f":"IFERROR(VLOOKUP(F416,Hoja1!$A$50:$C$63,3),\"\")","v":5}]
[407,20259910005854,"2025-01-16","Persona natural","Virtual - Correo electrónico","Certificación laboral o pasantía","Administrativa",null,"Grupo de Administración y Desarrollo del Talento Humano","2025-01-21","Correo electrónico","2025-01-30",null,"",null,{"$f":"IFERROR(WORKDAY(N417,Y417,Hoja1!F409:F525),\"\")","v":""},{"$f":"+IF(N417=\"\",\"\",IF(O417=\"\",\"SIN RESPUESTA\",(IF(O417<=P417,\"A TIEMPO\",\"FUERA DE TIEMPO\"))))","v":""},null,"A TIEMPO",3,0,null,null,{"$f":"IFERROR(VLOOKUP(F417,Hoja1!$A$50:$C$63,2),\"\")","v":15},{"$f":"IFERROR(VLOOKUP(F417,Hoja1!$A$50:$C$63,3),\"\")","v":15}]
[408,20259910005844,"2025-01-16","Persona jurídica","Virtual - Correo electrónico","Certificación de ingresos y retenciones","Administrativa",null,"Grupo de Contabilidad","2025-01-21","Correo electrónico","2025-01-30",null,"",null,{"$f":"IFERROR(WORKDAY(N418,Y418,Hoja1!F410:F526),\"\")","v":""},{"$f":"+IF(N418=\"\",\"\",IF(O418=\"\",\"SIN RESPUESTA\",(IF(O418<=P418,\"A TIEMPO\",\"FUERA DE TIEMPO\"))))","v":""},null,"A TIEMPO",3,0,null,null,{"$f":"IFERROR(VLOOKUP(F418,Hoja1!$A$50:$C$63,2),\"\")","v":15},{"$f":"IFERROR(VLOOKUP(F418,Hoja1!$A$50:$C$63,3),\"\")","v":15}]
[409,20259910005864,"2025-01-16","Persona jurídica","Virtual - Correo electrónico","Solicitud de documentos o información","Registros ambientales",null,"Subdirección de Estudios Ambientales","2025-02-07","Correo electrónico","2025-01-30",null,"",null,{"$f":"IFERROR(WORKDAY(N419,Y419,Hoja1!F411:F527),\"\")","v":""},{"$f":"+IF(N419=\"\",\"\",IF(O419=\"\",\"SIN RESPUESTA\",(IF(O419<=P419,\"A TIEMPO\",\"FUERA DE TIEMPO\"))))","v":""},null,{"$f":"+IF(C419=\"\",\"\",IF(J419=\"\",\"SIN RESPUESTA\",(IF(J419<=L419,\"A TIEMPO\",\"FUERA DE TIEMPO\"))))","v":"FUERA DE TIEMPO"},16,6,null,null,{"$f":"IFERROR(VLOOKUP(F419,Hoja1!$A$50:$C$63,2),\"\")","v":5},{"$f":"IFERROR(VLOOKUP(F419,Hoja1!$A$50:$C$63,3),\"\")","v":5}]
[410,20259910005874,"2025-01-16","Persona jurídica","Virtual - Correo electrónico","Solicitud de documentos o información","Informes ambientales",null,"Subdirección de Estudios Ambientales","2025-01-27","Correo electrónico","2025-01-30",null,"",null,{"$f":"IFERROR(WORKDAY(N420,Y420,Hoja1!F412:F528),\"\")","v":""},{"$f":"+IF(N420=\"\",\"\",IF(O420=\"\",\"SIN RESPUESTA\",(IF(O420<=P420,\"A TIEMPO\",\"FUERA DE TIEMPO\"))))","v":""},null,"A TIEMPO",7,0,null,null,{"$f":"IFERROR(VLOOKUP(F420,Hoja1!$A$50:$C$63,2),\"\")","v":5},{"$f":"IFERROR(VLOOKUP(F420,Hoja1!$A$50:$C$63,3),\"\")","v":5}]
[411,20259050005884,"2025-01-16","Persona natural","Virtual - Formulario PQRSDF","Solicitud de documentos o información","Solicitud de información hidrometeorológica",null,"Grupo de Servicio al Ciudadano","2025-01-20","Correo electrónico","2025-01-30",null,"",null,{"$f":"IFERROR(WORKDAY(N421,Y421,Hoja1!F413:F529),\"\")","v":""},{"$f":"+IF(N421=\"\",\"\",IF(O421=\"\",\"SIN RESPUESTA\",(IF(O421<=P421,\"A TIEMPO\",\"FUERA DE TIEMPO\"))))","v":""},null,"A TIEMPO",2,0,null,null,{"$f":"IFERROR(VLOOKUP(F421,Hoja1!$A$50:$C$63,2),\"\")","v":5},{"$f":"IFERROR(VLOOKUP(F421,Hoja1!$A$50:$C$63,3),\"\")","v":5}]
[412,20259910005924,"2025-01-16","Persona natural","Virtual - Correo electrónico","Certificación de contrato","Administrativa",null,"Oficina Asesora Jurídica","2025-01-31","Correo electrónico","2025-01-30",null,"",null,{"$f":"IFERROR(WORKDAY(N422,Y422,Hoja1!F414:F530),\"\")","v":""},{"$f":"+IF(N422=\"\",\"\",IF(O422=\"\",\"SIN RESPUESTA\",(IF(O422<=P422,\"A TIEMPO\",\"FUERA DE TIEMPO\"))))","v":""},null,{"$f":"+IF(C422=\"\",\"\",IF(J422=\"\",\"SIN RESPUESTA\",(IF(J422<=L422,\"A TIEMPO\",\"FUERA DE TIEMPO\"))))","v":"FUERA DE TIEMPO"},11,1,null,null,{"$f":"IFERROR(VLOOKUP(F422,Hoja1!$A$50:$C$63,2),\"\")","v":15},{"$f":"IFERROR(VLOOKUP(F422,Hoja1!$A$50:$C$63,3),\"\")","v":15}]
[413,20259910005944,"2025-01-16","Persona jurídica","Virtual - Correo electrónico","Solicitud de documentos o información","Solicitud de información hidrometeorológica",null,"Grupo de Servicio al Ciudadano","2025-01-28","Correo electrónico","2025-01-30",null,"",null,{"$f":"IFERROR(WORKDAY(N423,Y423,Hoja1!F415:F531),\"\")","v":""},{"$f":"+IF(N423=\"\",\"\",IF(O423=\"\",\"SIN RESPUESTA\",(IF(O423<=P423,\"A TIEMPO\",\"FUERA DE TIEMPO\"))))","v":""},null,"A TIEMPO",8,0,null,null,{"$f":"IFERROR(VLOOKUP(F423,Hoja1!$A$50:$C$63,2),\"\")","v":5},{"$f":"IFERROR(VLOOKUP(F423,Hoja1!$A$50:$C$63,3),\"\")","v":5}]
[414,20259910005954,"2025-01-16","Persona jurídica","Virtual - Correo electrónico","Solicitud de documentos o información","Informes ambientales",null,"Subdirección de Estudios Ambientales","2025-01-20","Correo electrónico","2025-01-30",null,"",null,{"$f":"IFERROR(WORKDAY(N424,Y424,Hoja1!F416:F532),\"\")","v":""},{"$f":"+IF(N424=\"\",\"\",IF(O424=\"\",\"SIN RESPUESTA\",(IF(O424<=P424,\"A TIEMPO\",\"FUERA DE TIEMPO\"))))","v":""},null,"A TIEMPO",2,0,null,null,{"$f":"IFERROR(VLOOKUP(F424,Hoja1!$A$50:$C$63,2),\"\")","v":5},{"$f":"IFERROR(VLOOKUP(F424,Hoja1!$A$50:$C$63,3),\"\")","v":5}]
[415,20259910005964,"2025-01-16","Persona jurídica","Virtual - Correo electrónico","Solicitud de documentos o información","Registros ambientales",null,"Subdirección de Ecosistemas e Información Ambiental","2025-01-22","Correo electrónico","2025-01-30",null,"",null,{"$f":"IFERROR(WORKDAY(N425,Y425,Hoja1!F417:F533),\"\")","v":""},{"$f":"+IF(N425=\"\",\"\",IF(O425=\"\",\"SIN RESPUESTA\",(IF(O425<=P425,\"A TIEMPO\",\"FUERA DE TIEMPO\"))))","v":""},null,"A TIEMPO",4,0,null,null,{"$f":"IFERROR(VLOOKUP(F425,Hoja1!$A$50:$C$63,2),\"\")","v":5},{"$f":"IFERROR(VLOOKUP(F425,Hoja1!$A$50:$C$63,3),\"\")","v":5}]
[416,20259910005974,"2025-01-16","Persona natural","Virtual - Correo electrónico","Certificación de contrato","Administrativa",null,"Oficina Asesora Jurídica","2025-01-31","Correo electrónico","2025-01-30",null,"",null,{"$f":"IFERROR(WORKDAY(N426,Y426,Hoja1!F418:F534),\"\")","v":""},{"$f":"+IF(N426=\"\",\"\",IF(O426=\"\",\"SIN RESPUESTA\",(IF(O426<=P426,\"A TIEMPO\",\"FUERA DE TIEMPO\"))))","v":""},null,{"$f":"+IF(C426=\"\",\"\",IF(J426=\"\",\"SIN RESPUESTA\",(IF(J426<=L426,\"A TIEMPO\",\"FUERA DE TIEMPO\"))))","v":"FUERA DE TIEMPO"},11,1,null,null,{"$f":"IFERROR(VLOOKUP(F426,Hoja1!$A$50:$C$63,2),\"\")","v":15},{"$f":"IFERROR(VLOOKUP(F426,Hoja1!$A$50:$C$63,3),\"\")","v":15}]
[417,20259050005984,"2025-01-16","Persona natural","Virtual - Formulario PQRSDF","Certificación de contrato","Administrativa",null,"Grupo de Administración y Desarrollo del Talento Humano","2025-01-27","Correo electrónico","2025-01-30",null,"",null,{"$f":"IFERROR(WORKDAY(N427,Y427,Hoja1!F419:F535),\"\")","v":""},{"$f":"+IF(N427=\"\",\"\",IF(O427=\"\",\"SIN RESPUESTA\",(IF(O427<=P427,\"A TIEMPO\",\"FUERA DE TIEMPO\"))))","v":""},null,"A TIEMPO",7,0,null,null,{"$f":"IFERROR(VLOOKUP(F427,Hoja1!$A$50:$C$63,2),\"\")","v":15},{"$f":"IFERROR(VLOOKUP(F427,Hoja1!$A$50:$C$63,3),\"\")","v":15}]
[418,20259910005994,"2025-01-16","Persona natural","Virtual - Correo electrónico","Certificación laboral o pasantía","Administrativa",null,"Grupo de Administración y Desarrollo del Talento Humano","2025-01-22","Correo electrónico","2025-01-30",null,"",null,{"$f":"IFERROR(WORKDAY(N428,Y428,Hoja1!F420:F536),\"\")","v":""},{"$f":"+IF(N428=\"\",\"\",IF(O428=\"\",\"SIN RESPUESTA\",(IF(O428<=P428,\"A TIEMPO\",\"FUERA DE TIEMPO\"))))","v":""},null,"A TIEMPO",4,0,null,null,{"$f":"IFERROR(VLOOKUP(F428,Hoja1!$A$50:$C$63,2),\"\")","v":15},{"$f":"IFERROR(VLOOKUP(F428,Hoja1!$A$50:$C$63,3),\"\")","v":15}]
[419,20259050006024,"2025-01-16","Persona natural","Virtual - Formulario PQRSDF","Certificación laboral o pasantía","Administrativa",null,"Grupo de Administración y Desarrollo del Talento Humano","2025-01-22","Correo electrónico","2025-01-30",null,"",null,{"$f":"IFERROR(WORKDAY(N429,Y429,Hoja1!F421:F537),\"\")","v":""},{"$f":"+IF(N429=\"\",\"\",IF(O429=\"\",\"SIN RESPUESTA\",(IF(O429<=P429,\"A TIEMPO\",\"FUERA DE TIEMPO\"))))","v":""},null,"A TIEMPO",4,0,null,null,{"$f":"IFERROR(VLOOKUP(F429,Hoja1!$A$50:$C$63,2),\"\")","v":15},{"$f":"IFERROR(VLOOKUP(F429,Hoja1!$A$50:$C$63,3),\"\")","v":15}]
[420,20259910006034,"2025-01-16","Persona jurídica","Virtual - Correo electrónico","Solicitud de documentos o información","Bosques",null,"Subdirección de Ecosistemas e Información Ambiental","2025-01-22","Correo electrónico","2025-01-30",null,"",null,{"$f":"IFERROR(WORKDAY(N430,Y430,Hoja1!F422:F538),\"\")","v":""},{"$f":"+IF(N430=\"\",\"\",IF(O430=\"\",\"SIN RESPUESTA\",(IF(O430<=P430,\"A TIEMPO\",\"FUERA DE TIEMPO\"))))","v":""},null,"A TIEMPO",4,0,null,null,{"$f":"IFERROR(VLOOKUP(F430,Hoja1!$A$50:$C$63,2),\"\")","v":5},{"$f":"IFERROR(VLOOKUP(F430,Hoja1!$A$50:$C$63,3),\"\")","v":5}]
[421,20259910006044,"2025-01-16","Persona jurídica","Virtual - Correo electrónico","Solicitud de documentos o información","Sistema de información del recurso hídrico",null,"Subdirección de Hidrología","2025-02-06","Correo electrónico","2025-01-30",null,"",null,{"$f":"IFERROR(WORKDAY(N431,Y431,Hoja1!F423:F539),\"\")","v":""},{"$f":"+IF(N431=\"\",\"\",IF(O431=\"\",\"SIN RESPUESTA\",(IF(O431<=P431,\"A TIEMPO\",\"FUERA DE TIEMPO\"))))","v":""},null,{"$f":"+IF(C431=\"\",\"\",IF(J431=\"\",\"SIN RESPUESTA\",(IF(J431<=L431,\"A TIEMPO\",\"FUERA DE TIEMPO\"))))","v":"FUERA DE TIEMPO"},15,5,null,null,{"$f":"IFERROR(VLOOKUP(F431,Hoja1!$A$50:$C$63,2),\"\")","v":5},{"$f":"IFERROR(VLOOKUP(F431,Hoja1!$A$50:$C$63,3),\"\")","v":5}]
[422,20259910006064,"2025-01-16","Persona natural","Virtual - Correo electrónico","Certificación de contrato","Administrativa",null,"Oficina Asesora Jurídica","2025-01-31","Correo electrónico","2025-01-30",null,"",null,{"$f":"IFERROR(WORKDAY(N432,Y432,Hoja1!F424:F540),\"\")","v":""},{"$f":"+IF(N432=\"\",\"\",IF(O432=\"\",\"SIN RESPUESTA\",(IF(O432<=P432,\"A TIEMPO\",\"FUERA DE TIEMPO\"))))","v":""},null,{"$f":"+IF(C432=\"\",\"\",IF(J432=\"\",\"SIN RESPUESTA\",(IF(J432<=L432,\"A TIEMPO\",\"FUERA DE TIEMPO\"))))","v":"FUERA DE TIEMPO"},11,1,null,null,{"$f":"IFERROR(VLOOKUP(F432,Hoja1!$A$50:$C$63,2),\"\")","v":15},{"$f":"IFERROR(VLOOKUP(F432,Hoja1!$A$50:$C$63,3),\"\")","v":15}]
[423,20259910006114,"2025-01-16","Persona natural","Virtual - Correo electrónico","Certificación de contrato","Administrativa",null,"Oficina Asesora Jurídica","2025-01-31","Correo electrónico","2025-01-30",null,"",null,{"$f":"IFERROR(WORKDAY(N433,Y433,Hoja1!F425:F541),\"\")","v":""},{"$f":"+IF(N433=\"\",\"\",IF(O433=\"\",\"SIN RESPUESTA\",(IF(O433<=P433,\"A TIEMPO\",\"FUERA DE TIEMPO\"))))","v":""},null,{"$f":"+IF(C433=\"\",\"\",IF(J433=\"\",\"SIN RESPUESTA\",(IF(J433<=L433,\"A TIEMPO\",\"FUERA DE TIEMPO\"))))","v":"FUERA DE TIEMPO"},11,1,null,null,{"$f":"IFERROR(VLOOKUP(F433,Hoja1!$A$50:$C$63,2),\"\")","v":15},{"$f":"IFERROR(VLOOKUP(F433,Hoja1!$A$50:$C$63,3),\"\")","v":15}]
[424,20259050006124,"2025-01-16","Persona natural","Virtual - Formulario PQRSDF","Solicitud de documentos o información","Solicitud de información hidrometeorológica",null,"Grupo de Servicio al Ciudadano","2025-01-28","Correo electrónico","2025-01-30",null,"",null,{"$f":"IFERROR(WORKDAY(N434,Y434,Hoja1!F426:F542),\"\")","v":""},{"$f":"+IF(N434=\"\",\"\",IF(O434=\"\",\"SIN RESPUESTA\",(IF(O434<=P434,\"A TIEMPO\",\"FUERA DE TIEMPO\"))))","v":""},null,"A TIEMPO",8,0,null,null,{"$f":"IFERROR(VLOOKUP(F434,Hoja1!$A$50:$C$63,2),\"\")","v":5},{"$f":"IFERROR(VLOOKUP(F434,Hoja1!$A$50:$C$63,3),\"\")","v":5}]
[425,20259050006134,"2025-01-16","Persona natural","Virtual - Formulario PQRSDF","Certificación laboral o pasantía","Administrativa",null,"Grupo de Administración y Desarrollo del Talento Humano","2025-01-29","Correo electrónico","2025-01-30",null,"",null,{"$f":"IFERROR(WORKDAY(N435,Y435,Hoja1!F427:F543),\"\")","v":""},{"$f":"+IF(N435=\"\",\"\",IF(O435=\"\",\"SIN RESPUESTA\",(IF(O435<=P435,\"A TIEMPO\",\"FUERA DE TIEMPO\"))))","v":""},null,"A TIEMPO",9,0,null,null,{"$f":"IFERROR(VLOOKUP(F435,Hoja1!$A$50:$C$63,2),\"\")","v":15},{"$f":"IFERROR(VLOOKUP(F435,Hoja1!$A$50:$C$63,3),\"\")","v":15}]
[426,20259050006144,"2025-01-16","Persona natural","Virtual - Formulario PQRSDF","Solicitud de documentos o información","Sistema de información ambiental",null,"Subdirección de Estudios Ambientales","2025-01-29","Correo electrónico","2025-01-30",null,"",null,{"$f":"IFERROR(WORKDAY(N436,Y436,Hoja1!F428:F544),\"\")","v":""},{"$f":"+IF(N436=\"\",\"\",IF(O436=\"\",\"SIN RESPUESTA\",(IF(O436<=P436,\"A TIEMPO\",\"FUERA DE TIEMPO\"))))","v":""},null,"A TIEMPO",9,0,null,null,{"$f":"IFERROR(VLOOKUP(F436,Hoja1!$A$50:$C$63,2),\"\")","v":5},{"$f":"IFERROR(VLOOKUP(F436,Hoja1!$A$50:$C$63,3),\"\")","v":5}]
[427,20259050006154,"2025-01-16","Persona natural","Virtual - Formulario PQRSDF","Certificación de contrato","Administrativa",null,"Oficina Asesora Jurídica","2025-02-03","Correo electrónico","2025-01-30",null,"",null,{"$f":"IFERROR(WORKDAY(N437,Y437,Hoja1!F429:F545),\"\")","v":""},{"$f":"+IF(N437=\"\",\"\",IF(O437=\"\",\"SIN RESPUESTA\",(IF(O437<=P437,\"A TIEMPO\",\"FUERA DE TIEMPO\"))))","v":""},null,{"$f":"+IF(C437=\"\",\"\",IF(J437=\"\",\"SIN RESPUESTA\",(IF(J437<=L437,\"A TIEMPO\",\"FUERA DE TIEMPO\"))))","v":"FUERA DE TIEMPO"},12,2,null,null,{"$f":"IFERROR(VLOOKUP(F437,Hoja1!$A$50:$C$63,2),\"\")","v":15},{"$f":"IFERROR(VLOOKUP(F437,Hoja1!$A$50:$C$63,3),\"\")","v":15}]
[428,20259050006164,"2025-01-16","Persona natural","Virtual - Formulario PQRSDF","Certificación de tiempo, clima y eventos hidrológicos","Certificaciones del tiempo y clima",null,"Subdirección de Meteorología","2025-01-23","Correo electrónico","2025-02-27",null,"",null,{"$f":"IFERROR(WORKDAY(N438,Y438,Hoja1!F430:F546),\"\")","v":""},{"$f":"+IF(N438=\"\",\"\",IF(O438=\"\",\"SIN RESPUESTA\",(IF(O438<=P438,\"A TIEMPO\",\"FUERA DE TIEMPO\"))))","v":""},null,"A TIEMPO",5,0,null,null,{"$f":"IFERROR(VLOOKUP(F438,Hoja1!$A$50:$C$63,2),\"\")","v":15},{"$f":"IFERROR(VLOOKUP(F438,Hoja1!$A$50:$C$63,3),\"\")","v":15}]
[429,20259050006174,"2025-01-16","Persona natural","Virtual - Formulario PQRSDF","Solicitud de documentos o información","Solicitud de información hidrometeorológica",null,"Grupo de Servicio al Ciudadano","2025-01-23","Correo electrónico","2025-01-30",null,"",null,{"$f":"IFERROR(WORKDAY(N439,Y439,Hoja1!F431:F547),\"\")","v":""},{"$f":"+IF(N439=\"\",\"\",IF(O439=\"\",\"SIN RESPUESTA\",(IF(O439<=P439,\"A TIEMPO\",\"FUERA DE TIEMPO\"))))","v":""},null,"A TIEMPO",5,0,null,null,{"$f":"IFERROR(VLOOKUP(F439,Hoja1!$A$50:$C$63,2),\"\")","v":5},{"$f":"IFERROR(VLOOKUP(F439,Hoja1!$A$50:$C$63,3),\"\")","v":5}]
[430,20259050006194,"2025-01-17","Persona natural","Virtual - Formulario PQRSDF","Certificación laboral o pasantía","Administrativa",null,"Grupo de Administración y Desarrollo del Talento Humano","2025-01-24","Correo electrónico","2025-01-31",null,"",null,{"$f":"IFERROR(WORKDAY(N440,Y440,Hoja1!F432:F548),\"\")","v":""},{"$f":"+IF(N440=\"\",\"\",IF(O440=\"\",\"SIN RESPUESTA\",(IF(O440<=P440,\"A TIEMPO\",\"FUERA DE TIEMPO\"))))","v":""},null,"A TIEMPO",5,0,null,null,{"$f":"IFERROR(VLOOKUP(F440,Hoja1!$A$50:$C$63,2),\"\")","v":15},{"$f":"IFERROR(VLOOKUP(F440,Hoja1!$A$50:$C$63,3),\"\")","v":15}]
[431,20259910006204,"2025-01-17","Persona natural","Virtual - Correo electrónico","Certificación de contrato","Administrativa",null,"Oficina Asesora Jurídica","2025-02-03","Correo electrónico","2025-01-31",null,"",null,{"$f":"IFERROR(WORKDAY(N441,Y441,Hoja1!F433:F549),\"\")","v":""},{"$f":"+IF(N441=\"\",\"\",IF(O441=\"\",\"SIN RESPUESTA\",(IF(O441<=P441,\"A TIEMPO\",\"FUERA DE TIEMPO\"))))","v":""},null,{"$f":"+IF(C441=\"\",\"\",IF(J441=\"\",\"SIN RESPUESTA\",(IF(J441<=L441,\"A TIEMPO\",\"FUERA DE TIEMPO\"))))","v":"FUERA DE TIEMPO"},11,1,null,null,{"$f":"IFERROR(VLOOKUP(F441,Hoja1!$A$50:$C$63,2),\"\")","v":15},{"$f":"IFERROR(VLOOKUP(F441,Hoja1!$A$50:$C$63,3),\"\")","v":15}]
[432,20259910006214,"2025-01-17","Persona jurídica","Virtual - Correo electrónico","Consulta (información técnica)","Bosques",null,"Subdirección de Estudios Ambientales","2025-02-03","Correo electrónico","2025-02-28",null,"",null,{"$f":"IFERROR(WORKDAY(N442,Y442,Hoja1!F434:F550),\"\")","v":""},{"$f":"+IF(N442=\"\",\"\",IF(O442=\"\",\"SIN RESPUESTA\",(IF(O442<=P442,\"A TIEMPO\",\"FUERA DE TIEMPO\"))))","v":""},null,"A TIEMPO",11,0,null,null,{"$f":"IFERROR(VLOOKUP(F442,Hoja1!$A$50:$C$63,2),\"\")","v":30},{"$f":"IFERROR(VLOOKUP(F442,Hoja1!$A$50:$C$63,3),\"\")","v":30}]
[433,20259910006224,"2025-01-17","Persona jurídica","Virtual - Correo electrónico","Petición entre autoridades","Bosques",null,"Subdirección de Ecosistemas e Información Ambiental","2025-01-27","Correo electrónico","2025-01-31",null,"",null,{"$f":"IFERROR(WORKDAY(N443,Y443,Hoja1!F435:F551),\"\")","v":""},{"$f":"+IF(N443=\"\",\"\",IF(O443=\"\",\"SIN RESPUESTA\",(IF(O443<=P443,\"A TIEMPO\",\"FUERA DE TIEMPO\"))))","v":""},null,"A TIEMPO",6,0,null,null,{"$f":"IFERROR(VLOOKUP(F443,Hoja1!$A$50:$C$63,2),\"\")","v":10},{"$f":"IFERROR(VLOOKUP(F443,Hoja1!$A$50:$C$63,3),\"\")","v":10}]
[434,20259910006244,"2025-01-17","Persona jurídica","Virtual - Correo electrónico","Solicitud de documentos o información","Registros ambientales",null,"Subdirección de Estudios Ambientales","2025-01-21","Correo electrónico","2025-01-31",null,"",null,{"$f":"IFERROR(WORKDAY(N444,Y444,Hoja1!F436:F552),\"\")","v":""},{"$f":"+IF(N444=\"\",\"\",IF(O444=\"\",\"SIN RESPUESTA\",(IF(O444<=P444,\"A TIEMPO\",\"FUERA DE TIEMPO\"))))","v":""},null,"A TIEMPO",2,0,null,null,{"$f":"IFERROR(VLOOKUP(F444,Hoja1!$A$50:$C$63,2),\"\")","v":5},{"$f":"IFERROR(VLOOKUP(F444,Hoja1!$A$50:$C$63,3),\"\")","v":5}]
[435,20259910006274,"2025-01-17","Persona natural","Virtual - Correo electrónico","Solicitud de documentos o información","Solicitud de información hidrometeorológica",null,"Subdirección de Meteorología","2025-01-23","Correo electrónico","2025-01-31",null,"",null,{"$f":"IFERROR(WORKDAY(N445,Y445,Hoja1!F437:F553),\"\")","v":""},{"$f":"+IF(N445=\"\",\"\",IF(O445=\"\",\"SIN RESPUESTA\",(IF(O445<=P445,\"A TIEMPO\",\"FUERA DE TIEMPO\"))))","v":""},null,"A TIEMPO",4,0,null,null,{"$f":"IFERROR(VLOOKUP(F445,Hoja1!$A$50:$C$63,2),\"\")","v":5},{"$f":"IFERROR(VLOOKUP(F445,Hoja1!$A$50:$C$63,3),\"\")","v":5}]
[436,20259910006304,"2025-01-17","Persona natural","Virtual - Correo electrónico","Certificación laboral o pasantía","Administrativa",null,"Grupo de Administración y Desarrollo del Talento Humano","2025-01-22","Correo electrónico","2025-01-31",null,"",null,{"$f":"IFERROR(WORKDAY(N446,Y446,Hoja1!F438:F554),\"\")","v":""},{"$f":"+IF(N446=\"\",\"\",IF(O446=\"\",\"SIN RESPUESTA\",(IF(O446<=P446,\"A TIEMPO\",\"FUERA DE TIEMPO\"))))","v":""},null,"A TIEMPO",3,0,null,null,{"$f":"IFERROR(VLOOKUP(F446,Hoja1!$A$50:$C$63,2),\"\")","v":15},{"$f":"IFERROR(VLOOKUP(F446,Hoja1!$A$50:$C$63,3),\"\")","v":15}]
[437,20259910006294,"2025-01-17","Persona jurídica","Virtual - Correo electrónico","Solicitud de bienes y/o servicios","Solicitud de información hidrometeorológica",null,"Grupo de Servicio al Ciudadano","2025-01-28","Correo electrónico","2025-02-07",null,"",null,{"$f":"IFERROR(WORKDAY(N447,Y447,Hoja1!F439:F555),\"\")","v":""},{"$f":"+IF(N447=\"\",\"\",IF(O447=\"\",\"SIN RESPUESTA\",(IF(O447<=P447,\"A TIEMPO\",\"FUERA DE TIEMPO\"))))","v":""},null,"A TIEMPO",7,0,null,null,{"$f":"IFERROR(VLOOKUP(F447,Hoja1!$A$50:$C$63,2),\"\")","v":5},{"$f":"IFERROR(VLOOKUP(F447,Hoja1!$A$50:$C$63,3),\"\")","v":5}]
[438,20259910005652,"2025-01-16","Persona natural","Virtual - Correo electrónico","Solicitud de documentos o información","Sistema de información del recurso hídrico",null,"Subdirección de Ecosistemas e Información Ambiental","2025-02-07","Correo electrónico","2025-01-30","Si","2025-02-13","2025-02-07",{"$f":"IFERROR(WORKDAY(N448,Y448,Hoja1!F440:F556),\"\")","v":"2025-02-20"},{"$f":"+IF(N448=\"\",\"\",IF(O448=\"\",\"SIN RESPUESTA\",(IF(O448<=P448,\"A TIEMPO\",\"FUERA DE TIEMPO\"))))","v":"A TIEMPO"},null,"A TIEMPO",16,0,null,null,{"$f":"IFERROR(VLOOKUP(F448,Hoja1!$A$50:$C$63,2),\"\")","v":5},{"$f":"IFERROR(VLOOKUP(F448,Hoja1!$A$50:$C$63,3),\"\")","v":5}]
[439,20259910006364,"2025-01-17","Persona jurídica","Virtual - Correo electrónico","Solicitud de documentos o información","Registros ambientales",null,"Subdirección de Estudios Ambientales","2025-01-20","Correo electrónico","2025-01-31",null,"",null,{"$f":"IFERROR(WORKDAY(N449,Y449,Hoja1!F441:F557),\"\")","v":""},{"$f":"+IF(N449=\"\",\"\",IF(O449=\"\",\"SIN RESPUESTA\",(IF(O449<=P449,\"A TIEMPO\",\"FUERA DE TIEMPO\"))))","v":""},null,"A TIEMPO",1,0,null,null,{"$f":"IFERROR(VLOOKUP(F449,Hoja1!$A$50:$C$63,2),\"\")","v":5},{"$f":"IFERROR(VLOOKUP(F449,Hoja1!$A$50:$C$63,3),\"\")","v":5}]
[440,20259910006494,"2025-01-17","Persona jurídica","Virtual - Correo electrónico","Solicitud judicial","Bosques",null,"Subdirección de Ecosistemas e Información Ambiental","2025-01-17","Correo electrónico","2025-01-24",null,"",null,{"$f":"IFERROR(WORKDAY(N450,Y450,Hoja1!F442:F558),\"\")","v":""},{"$f":"+IF(N450=\"\",\"\",IF(O450=\"\",\"SIN RESPUESTA\",(IF(O450<=P450,\"A TIEMPO\",\"FUERA DE TIEMPO\"))))","v":""},null,"A TIEMPO",0,0,null,null,{"$f":"IFERROR(VLOOKUP(F450,Hoja1!$A$50:$C$63,2),\"\")","v":5},{"$f":"IFERROR(VLOOKUP(F450,Hoja1!$A$50:$C$63,3),\"\")","v":5}]
[441,20259910006414,"2025-01-17","Persona natural","Virtual - Correo electrónico","Certificación de contrato","Administrativa",null,"Oficina Asesora Jurídica","2025-02-04","Correo electrónico","2025-01-31",null,"",null,{"$f":"IFERROR(WORKDAY(N451,Y451,Hoja1!F443:F559),\"\")","v":""},{"$f":"+IF(N451=\"\",\"\",IF(O451=\"\",\"SIN RESPUESTA\",(IF(O451<=P451,\"A TIEMPO\",\"FUERA DE TIEMPO\"))))","v":""},null,{"$f":"+IF(C451=\"\",\"\",IF(J451=\"\",\"SIN RESPUESTA\",(IF(J451<=L451,\"A TIEMPO\",\"FUERA DE TIEMPO\"))))","v":"FUERA DE TIEMPO"},12,2,null,null,{"$f":"IFERROR(VLOOKUP(F451,Hoja1!$A$50:$C$63,2),\"\")","v":15},{"$f":"IFERROR(VLOOKUP(F451,Hoja1!$A$50:$C$63,3),\"\")","v":15}]
[442,20259910006434,"2025-01-17","Persona natural","Virtual - Correo electrónico","Certificación de contrato","Administrativa",null,"Oficina Asesora Jurídica","2025-01-31","Correo electrónico","2025-01-31",null,"",null,{"$f":"IFERROR(WORKDAY(N452,Y452,Hoja1!F444:F560),\"\")","v":""},{"$f":"+IF(N452=\"\",\"\",IF(O452=\"\",\"SIN RESPUESTA\",(IF(O452<=P452,\"A TIEMPO\",\"FUERA DE TIEMPO\"))))","v":""},null,"A TIEMPO",10,0,null,null,{"$f":"IFERROR(VLOOKUP(F452,Hoja1!$A$50:$C$63,2),\"\")","v":15},{"$f":"IFERROR(VLOOKUP(F452,Hoja1!$A$50:$C$63,3),\"\")","v":15}]
[443,20259050006454,"2025-01-17","Persona natural","Virtual - Formulario PQRSDF","Certificación de contrato","Administrativa",null,"Oficina Asesora Jurídica","2025-01-31","Correo electrónico","2025-01-31",null,"",null,{"$f":"IFERROR(WORKDAY(N453,Y453,Hoja1!F445:F561),\"\")","v":""},{"$f":"+IF(N453=\"\",\"\",IF(O453=\"\",\"SIN RESPUESTA\",(IF(O453<=P453,\"A TIEMPO\",\"FUERA DE TIEMPO\"))))","v":""},null,"A TIEMPO",10,0,null,null,{"$f":"IFERROR(VLOOKUP(F453,Hoja1!$A$50:$C$63,2),\"\")","v":15},{"$f":"IFERROR(VLOOKUP(F453,Hoja1!$A$50:$C$63,3),\"\")","v":15}]
[444,20259910006464,"2025-01-17","Persona natural","Virtual - Correo electrónico","Solicitud de documentos o información","Solicitud de información hidrometeorológica",null,"Grupo de Servicio al Ciudadano","2025-01-28","Correo electrónico","2025-01-31",null,"",null,{"$f":"IFERROR(WORKDAY(N454,Y454,Hoja1!F446:F562),\"\")","v":""},{"$f":"+IF(N454=\"\",\"\",IF(O454=\"\",\"SIN RESPUESTA\",(IF(O454<=P454,\"A TIEMPO\",\"FUERA DE TIEMPO\"))))","v":""},null,"A TIEMPO",7,0,null,null,{"$f":"IFERROR(VLOOKUP(F454,Hoja1!$A$50:$C$63,2),\"\")","v":5},{"$f":"IFERROR(VLOOKUP(F454,Hoja1!$A$50:$C$63,3),\"\")","v":5}]
[445,20259050006474,"2025-01-17","Persona natural","Virtual - Formulario PQRSDF","Certificación de contrato","Administrativa",null,"Oficina Asesora Jurídica","2025-01-31","Correo electrónico","2025-01-31",null,"",null,{"$f":"IFERROR(WORKDAY(N455,Y455,Hoja1!F447:F563),\"\")","v":""},{"$f":"+IF(N455=\"\",\"\",IF(O455=\"\",\"SIN RESPUESTA\",(IF(O455<=P455,\"A TIEMPO\",\"FUERA DE TIEMPO\"))))","v":""},null,"A TIEMPO",10,0,null,null,{"$f":"IFERROR(VLOOKUP(F455,Hoja1!$A$50:$C$63,2),\"\")","v":15},{"$f":"IFERROR(VLOOKUP(F455,Hoja1!$A$50:$C$63,3),\"\")","v":15}]
[446,20259050006484,"2025-01-17","Persona natural","Virtual - Formulario PQRSDF","Certificación de ingresos y retenciones","Administrativa",null,"Grupo de Tesorería","2025-01-22","Correo electrónico","2025-01-31",null,"",null,{"$f":"IFERROR(WORKDAY(N456,Y456,Hoja1!F448:F564),\"\")","v":""},{"$f":"+IF(N456=\"\",\"\",IF(O456=\"\",\"SIN RESPUESTA\",(IF(O456<=P456,\"A TIEMPO\",\"FUERA DE TIEMPO\"))))","v":""},null,"A TIEMPO",3,0,null,null,{"$f":"IFERROR(VLOOKUP(F456,Hoja1!$A$50:$C$63,2),\"\")","v":15},{"$f":"IFERROR(VLOOKUP(F456,Hoja1!$A$50:$C$63,3),\"\")","v":15}]
[447,20259050006514,"2025-01-17","Persona natural","Virtual - Formulario PQRSDF","Solicitud de documentos o información","Solicitud de información hidrometeorológica",null,"Grupo de Servicio al Ciudadano","2025-01-28","Correo electrónico","2025-01-31",null,"",null,{"$f":"IFERROR(WORKDAY(N457,Y457,Hoja1!F449:F565),\"\")","v":""},{"$f":"+IF(N457=\"\",\"\",IF(O457=\"\",\"SIN RESPUESTA\",(IF(O457<=P457,\"A TIEMPO\",\"FUERA DE TIEMPO\"))))","v":""},null,"A TIEMPO",7,0,null,null,{"$f":"IFERROR(VLOOKUP(F457,Hoja1!$A$50:$C$63,2),\"\")","v":5},{"$f":"IFERROR(VLOOKUP(F457,Hoja1!$A$50:$C$63,3),\"\")","v":5}]
[448,20259910006544,"2025-01-17","Persona jurídica","Virtual - Correo electrónico","Solicitud de documentos o información","Administrativa",null,"Oficina Asesora de Planeación","2025-01-20","Correo electrónico","2025-01-31",null,"",null,{"$f":"IFERROR(WORKDAY(N458,Y458,Hoja1!F450:F566),\"\")","v":""},{"$f":"+IF(N458=\"\",\"\",IF(O458=\"\",\"SIN RESPUESTA\",(IF(O458<=P458,\"A TIEMPO\",\"FUERA DE TIEMPO\"))))","v":""},null,"A TIEMPO",1,0,null,null,{"$f":"IFERROR(VLOOKUP(F458,Hoja1!$A$50:$C$63,2),\"\")","v":5},{"$f":"IFERROR(VLOOKUP(F458,Hoja1!$A$50:$C$63,3),\"\")","v":5}]
[449,20259050006584,"2025-01-17","Persona natural","Virtual - Formulario PQRSDF","Solicitud de documentos o información","Solicitud de información hidrometeorológica",null,"Grupo de Servicio al Ciudadano","2025-01-28","Correo electrónico","2025-01-31",null,"",null,{"$f":"IFERROR(WORKDAY(N459,Y459,Hoja1!F451:F567),\"\")","v":""},{"$f":"+IF(N459=\"\",\"\",IF(O459=\"\",\"SIN RESPUESTA\",(IF(O459<=P459,\"A TIEMPO\",\"FUERA DE TIEMPO\"))))","v":""},null,"A TIEMPO",7,0,null,null,{"$f":"IFERROR(VLOOKUP(F459,Hoja1!$A$50:$C$63,2),\"\")","v":5},{"$f":"IFERROR(VLOOKUP(F459,Hoja1!$A$50:$C$63,3),\"\")","v":5}]
[450,20259910006594,"2025-01-17","Persona jurídica","Virtual - Correo electrónico","Solicitud de documentos o información","Acreditación de laboratorios",null,"Subdirección de Estudios Ambientales",null,null,"2025-01-31",null,"",null,{"$f":"IFERROR(WORKDAY(N460,Y460,Hoja1!F452:F568),\"\")","v":""},{"$f":"+IF(N460=\"\",\"\",IF(O460=\"\",\"SIN RESPUESTA\",(IF(O460<=P460,\"A TIEMPO\",\"FUERA DE TIEMPO\"))))","v":""},null,{"$f":"+IF(C460=\"\",\"\",IF(J460=\"\",\"SIN RESPUESTA\",(IF(J460<=L460,\"A TIEMPO\",\"FUERA DE TIEMPO\"))))","v":"SIN RESPUESTA"},0,0,null,null,{"$f":"IFERROR(VLOOKUP(F460,Hoja1!$A$50:$C$63,2),\"\")","v":5},{"$f":"IFERROR(VLOOKUP(F460,Hoja1!$A$50:$C$63,3),\"\")","v":5}]
[451,20259910006614,"2025-01-17","Persona jurídica","Virtual - Correo electrónico","Solicitud de documentos o información","Registros ambientales",null,"Subdirección de Estudios Ambientales","2025-01-21","Correo electrónico","2025-01-31",null,"",null,{"$f":"IFERROR(WORKDAY(N461,Y461,Hoja1!F453:F569),\"\")","v":""},{"$f":"+IF(N461=\"\",\"\",IF(O461=\"\",\"SIN RESPUESTA\",(IF(O461<=P461,\"A TIEMPO\",\"FUERA DE TIEMPO\"))))","v":""},null,"A TIEMPO",2,0,null,null,{"$f":"IFERROR(VLOOKUP(F461,Hoja1!$A$50:$C$63,2),\"\")","v":5},{"$f":"IFERROR(VLOOKUP(F461,Hoja1!$A$50:$C$63,3),\"\")","v":5}]
[452,20259910006624,"2025-01-17","Persona jurídica","Virtual - Correo electrónico","Certificación de tiempo, clima y eventos hidrológicos","Certificaciones del tiempo y clima",null,"Subdirección de Meteorología","2025-02-05","Correo electrónico","2025-02-28",null,"",null,{"$f":"IFERROR(WORKDAY(N462,Y462,Hoja1!F454:F570),\"\")","v":""},{"$f":"+IF(N462=\"\",\"\",IF(O462=\"\",\"SIN RESPUESTA\",(IF(O462<=P462,\"A TIEMPO\",\"FUERA DE TIEMPO\"))))","v":""},null,"A TIEMPO",13,0,null,null,{"$f":"IFERROR(VLOOKUP(F462,Hoja1!$A$50:$C$63,2),\"\")","v":15},{"$f":"IFERROR(VLOOKUP(F462,Hoja1!$A$50:$C$63,3),\"\")","v":15}]
[453,20259910006644,"2025-01-17","Persona natural","Virtual - Correo electrónico","Certificación de contrato","Administrativa",null,"Oficina Asesora Jurídica","2025-01-31","Correo electrónico","2025-01-31",null,"",null,{"$f":"IFERROR(WORKDAY(N463,Y463,Hoja1!F455:F571),\"\")","v":""},{"$f":"+IF(N463=\"\",\"\",IF(O463=\"\",\"SIN RESPUESTA\",(IF(O463<=P463,\"A TIEMPO\",\"FUERA DE TIEMPO\"))))","v":""},null,"A TIEMPO",10,0,null,null,{"$f":"IFERROR(VLOOKUP(F463,Hoja1!$A$50:$C$63,2),\"\")","v":15},{"$f":"IFERROR(VLOOKUP(F463,Hoja1!$A$50:$C$63,3),\"\")","v":15}]
[454,20259910006654,"2025-01-17","Persona natural","Virtual - Correo electrónico","Certificación de contrato","Administrativa",null,"Oficina Asesora Jurídica","2025-01-31","Correo electrónico","2025-01-31",null,"",null,{"$f":"IFERROR(WORKDAY(N464,Y464,Hoja1!F456:F572),\"\")","v":""},{"$f":"+IF(N464=\"\",\"\",IF(O464=\"\",\"SIN RESPUESTA\",(IF(O464<=P464,\"A TIEMPO\",\"FUERA DE TIEMPO\"))))","v":""},null,"A TIEMPO",10,0,null,null,{"$f":"IFERROR(VLOOKUP(F464,Hoja1!$A$50:$C$63,2),\"\")","v":15},{"$f":"IFERROR(VLOOKUP(F464,Hoja1!$A$50:$C$63,3),\"\")","v":15}]
[{"$f":"IF(B465<>\"\",A464+1,\"\")","v":455},20259910006664,"2025-01-17","Persona jurídica","Virtual - Correo electrónico","Solicitud de documentos o información","Registros ambientales",null,"Subdirección de Estudios Ambientales","2025-01-21","Correo electrónico","2025-01-31",null,"",null,{"$f":"IFERROR(WORKDAY(N465,Y465,Hoja1!F457:F573),\"\")","v":""},{"$f":"+IF(N465=\"\",\"\",IF(O465=\"\",\"SIN RESPUESTA\",(IF(O465<=P465,\"A TIEMPO\",\"FUERA DE TIEMPO\"))))","v":""},null,"A TIEMPO",2,0,null,null,{"$f":"IFERROR(VLOOKUP(F465,Hoja1!$A$50:$C$63,2),\"\")","v":5},{"$f":"IFERROR(VLOOKUP(F465,Hoja1!$A$50:$C$63,3),\"\")","v":5}]
[456,20259910006674,"2025-01-17","Persona jurídica","Virtual - Correo electrónico","Solicitud de documentos o información","Registros ambientales",null,"Subdirección de Estudios Ambientales","2025-01-21","Correo electrónico","2025-01-31",null,"",null,{"$f":"IFERROR(WORKDAY(N466,Y466,Hoja1!F458:F574),\"\")","v":""},{"$f":"+IF(N466=\"\",\"\",IF(O466=\"\",\"SIN RESPUESTA\",(IF(O466<=P466,\"A TIEMPO\",\"FUERA DE TIEMPO\"))))","v":""},null,"A TIEMPO",2,0,null,null,{"$f":"IFERROR(VLOOKUP(F466,Hoja1!$A$50:$C$63,2),\"\")","v":5},{"$f":"IFERROR(VLOOKUP(F466,Hoja1!$A$50:$C$63,3),\"\")","v":5}]
[457,20259910006684,"2025-01-17","Persona jurídica","Virtual - Correo electrónico","Solicitud de documentos o información","Sistema de información del recurso hídrico",null,"Subdirección de Meteorología","2025-01-29","Correo electrónico","2025-01-31",null,"",null,{"$f":"IFERROR(WORKDAY(N467,Y467,Hoja1!F459:F575),\"\")","v":""},{"$f":"+IF(N467=\"\",\"\",IF(O467=\"\",\"SIN RESPUESTA\",(IF(O467<=P467,\"A TIEMPO\",\"FUERA DE TIEMPO\"))))","v":""},null,"A TIEMPO",8,0,null,null,{"$f":"IFERROR(VLOOKUP(F467,Hoja1!$A$50:$C$63,2),\"\")","v":5},{"$f":"IFERROR(VLOOKUP(F467,Hoja1!$A$50:$C$63,3),\"\")","v":5}]
[458,20259910006694,"2025-01-17","Persona jurídica","Virtual - Correo electrónico","Solicitud de documentos o información","Registros ambientales",null,"Subdirección de Estudios Ambientales","2025-01-21","Correo electrónico","2025-01-31",null,"",null,{"$f":"IFERROR(WORKDAY(N468,Y468,Hoja1!F460:F576),\"\")","v":""},{"$f":"+IF(N468=\"\",\"\",IF(O468=\"\",\"SIN RESPUESTA\",(IF(O468<=P468,\"A TIEMPO\",\"FUERA DE TIEMPO\"))))","v":""},null,"A TIEMPO",2,0,null,null,{"$f":"IFERROR(VLOOKUP(F468,Hoja1!$A$50:$C$63,2),\"\")","v":5},{"$f":"IFERROR(VLOOKUP(F468,Hoja1!$A$50:$C$63,3),\"\")","v":5}]
[459,20259910006704,"2025-01-17","Persona jurídica","Virtual - Correo electrónico","Solicitud de documentos o información","Registros ambientales",null,"Subdirección de Estudios Ambientales","2025-01-21","Correo electrónico","2025-01-31",null,"",null,{"$f":"IFERROR(WORKDAY(N469,Y469,Hoja1!F461:F577),\"\")","v":""},{"$f":"+IF(N469=\"\",\"\",IF(O469=\"\",\"SIN RESPUESTA\",(IF(O469<=P469,\"A TIEMPO\",\"FUERA DE TIEMPO\"))))","v":""},null,"A TIEMPO",2,0,null,null,{"$f":"IFERROR(VLOOKUP(F469,Hoja1!$A$50:$C$63,2),\"\")","v":5},{"$f":"IFERROR(VLOOKUP(F469,Hoja1!$A$50:$C$63,3),\"\")","v":5}]
[460,20259910006714,"2025-01-17","Persona jurídica","Virtual - Correo electrónico","Solicitud de documentos o información","Sistema de información ambiental",null,"Subdirección de Estudios Ambientales","2025-01-23","Correo electrónico","2025-01-31",null,"",null,{"$f":"IFERROR(WORKDAY(N470,Y470,Hoja1!F462:F578),\"\")","v":""},{"$f":"+IF(N470=\"\",\"\",IF(O470=\"\",\"SIN RESPUESTA\",(IF(O470<=P470,\"A TIEMPO\",\"FUERA DE TIEMPO\"))))","v":""},null,"A TIEMPO",4,0,null,null,{"$f":"IFERROR(VLOOKUP(F470,Hoja1!$A$50:$C$63,2),\"\")","v":5},{"$f":"IFERROR(VLOOKUP(F470,Hoja1!$A$50:$C$63,3),\"\")","v":5}]
[461,20259910006744,"2025-01-17","Persona jurídica","Virtual - Correo electrónico","Certificación de tiempo, clima y eventos hidrológicos","Certificaciones del tiempo y clima",null,"Subdirección de Meteorología","2025-02-17","Correo electrónico","2025-02-28",null,"",null,{"$f":"IFERROR(WORKDAY(N471,Y471,Hoja1!F463:F579),\"\")","v":""},{"$f":"+IF(N471=\"\",\"\",IF(O471=\"\",\"SIN RESPUESTA\",(IF(O471<=P471,\"A TIEMPO\",\"FUERA DE TIEMPO\"))))","v":""},null,"A TIEMPO",21,0,null,null,{"$f":"IFERROR(VLOOKUP(F471,Hoja1!$A$50:$C$63,2),\"\")","v":15},{"$f":"IFERROR(VLOOKUP(F471,Hoja1!$A$50:$C$63,3),\"\")","v":15}]
[462,20259050006754,"2025-01-19","Persona natural","Virtual - Formulario PQRSDF","Solicitud de documentos o información","Solicitud de información hidrometeorológica",null,"Subdirección de Meteorología","2025-01-27","Correo electrónico","2025-01-31",null,"",null,{"$f":"IFERROR(WORKDAY(N472,Y472,Hoja1!F464:F580),\"\")","v":""},{"$f":"+IF(N472=\"\",\"\",IF(O472=\"\",\"SIN RESPUESTA\",(IF(O472<=P472,\"A TIEMPO\",\"FUERA DE TIEMPO\"))))","v":""},null,"A TIEMPO",5,0,null,null,{"$f":"IFERROR(VLOOKUP(F472,Hoja1!$A$50:$C$63,2),\"\")","v":5},{"$f":"IFERROR(VLOOKUP(F472,Hoja1!$A$50:$C$63,3),\"\")","v":5}]
[463,20259050006764,"2025-01-19","Persona jurídica","Virtual - Formulario PQRSDF","Certificación de tiempo, clima y eventos hidrológicos","Certificaciones del tiempo y clima",null,"Subdirección de Meteorología","2025-01-27","Correo electrónico","2025-02-28",null,"",null,{"$f":"IFERROR(WORKDAY(N473,Y473,Hoja1!F465:F581),\"\")","v":""},{"$f":"+IF(N473=\"\",\"\",IF(O473=\"\",\"SIN RESPUESTA\",(IF(O473<=P473,\"A TIEMPO\",\"FUERA DE TIEMPO\"))))","v":""},null,"A TIEMPO",5,0,null,null,{"$f":"IFERROR(VLOOKUP(F473,Hoja1!$A$50:$C$63,2),\"\")","v":15},{"$f":"IFERROR(VLOOKUP(F473,Hoja1!$A$50:$C$63,3),\"\")","v":15}]
[464,20259050006774,"2025-01-20","Persona natural","Virtual - Formulario PQRSDF","Solicitud de documentos o información","Sistema de información del recurso hídrico",null,"Subdirección de Meteorología","2025-01-27","Correo electrónico","2025-02-03",null,"",null,{"$f":"IFERROR(WORKDAY(N474,Y474,Hoja1!F466:F582),\"\")","v":""},{"$f":"+IF(N474=\"\",\"\",IF(O474=\"\",\"SIN RESPUESTA\",(IF(O474<=P474,\"A TIEMPO\",\"FUERA DE TIEMPO\"))))","v":""},null,"A TIEMPO",5,0,null,null,{"$f":"IFERROR(VLOOKUP(F474,Hoja1!$A$50:$C$63,2),\"\")","v":5},{"$f":"IFERROR(VLOOKUP(F474,Hoja1!$A$50:$C$63,3),\"\")","v":5}]
[465,20259050006784,"2025-01-20","Persona natural","Virtual - Formulario PQRSDF","Certificación de contrato","Administrativa",null,"Oficina Asesora Jurídica","2025-02-04","Correo electrónico","2025-02-03",null,"",null,{"$f":"IFERROR(WORKDAY(N475,Y475,Hoja1!F467:F583),\"\")","v":""},{"$f":"+IF(N475=\"\",\"\",IF(O475=\"\",\"SIN RESPUESTA\",(IF(O475<=P475,\"A TIEMPO\",\"FUERA DE TIEMPO\"))))","v":""},null,{"$f":"+IF(C475=\"\",\"\",IF(J475=\"\",\"SIN RESPUESTA\",(IF(J475<=L475,\"A TIEMPO\",\"FUERA DE TIEMPO\"))))","v":"FUERA DE TIEMPO"},11,1,null,null,{"$f":"IFERROR(VLOOKUP(F475,Hoja1!$A$50:$C$63,2),\"\")","v":15},{"$f":"IFERROR(VLOOKUP(F475,Hoja1!$A$50:$C$63,3),\"\")","v":15}]
[466,20259050006794,"2025-01-20","Persona natural","Virtual - Formulario PQRSDF","Certificación de contrato","Administrativa",null,"Oficina Asesora Jurídica","2025-02-04","Correo electrónico","2025-02-03",null,"",null,{"$f":"IFERROR(WORKDAY(N476,Y476,Hoja1!F468:F584),\"\")","v":""},{"$f":"+IF(N476=\"\",\"\",IF(O476=\"\",\"SIN RESPUESTA\",(IF(O476<=P476,\"A TIEMPO\",\"FUERA DE TIEMPO\"))))","v":""},null,{"$f":"+IF(C476=\"\",\"\",IF(J476=\"\",\"SIN RESPUESTA\",(IF(J476<=L476,\"A TIEMPO\",\"FUERA DE TIEMPO\"))))","v":"FUERA DE TIEMPO"},11,1,null,null,{"$f":"IFERROR(VLOOKUP(F476,Hoja1!$A$50:$C$63,2),\"\")","v":15},{"$f":"IFERROR(VLOOKUP(F476,Hoja1!$A$50:$C$63,3),\"\")","v":15}]
[467,20259910006824,"2025-01-20","Persona natural","Virtual - Correo electrónico","Solicitud de documentos o información","Bosques",null,"Subdirección de Ecosistemas e Información Ambiental","2025-02-05","Correo electrónico","2025-02-03",null,"",null,{"$f":"IFERROR(WORKDAY(N477,Y477,Hoja1!F469:F585),\"\")","v":""},{"$f":"+IF(N477=\"\",\"\",IF(O477=\"\",\"SIN RESPUESTA\",(IF(O477<=P477,\"A TIEMPO\",\"FUERA DE TIEMPO\"))))","v":""},null,{"$f":"+IF(C477=\"\",\"\",IF(J477=\"\",\"SIN RESPUESTA\",(IF(J477<=L477,\"A TIEMPO\",\"FUERA DE TIEMPO\"))))","v":"FUERA DE TIEMPO"},12,2,null,null,{"$f":"IFERROR(VLOOKUP(F477,Hoja1!$A$50:$C$63,2),\"\")","v":5},{"$f":"IFERROR(VLOOKUP(F477,Hoja1!$A$50:$C$63,3),\"\")","v":5}]
[468,20259910006834,"2025-01-20","Persona natural","Virtual - Correo electrónico","Solicitud de documentos o información","Sistema de información del recurso hídrico",null,"Grupo de Servicio al Ciudadano","2025-01-21","Correo electrónico","2025-02-03",null,"",null,{"$f":"IFERROR(WORKDAY(N478,Y478,Hoja1!F470:F586),\"\")","v":""},{"$f":"+IF(N478=\"\",\"\",IF(O478=\"\",\"SIN RESPUESTA\",(IF(O478<=P478,\"A TIEMPO\",\"FUERA DE TIEMPO\"))))","v":""},null,"A TIEMPO",1,0,null,null,{"$f":"IFERROR(VLOOKUP(F478,Hoja1!$A$50:$C$63,2),\"\")","v":5},{"$f":"IFERROR(VLOOKUP(F478,Hoja1!$A$50:$C$63,3),\"\")","v":5}]
[469,20259910006844,"2025-01-20","Persona natural","Virtual - Correo electrónico","Certificación laboral o pasantía","Administrativa",null,"Grupo de Administración y Desarrollo del Talento Humano","2025-01-22","Correo electrónico","2025-02-03",null,"",null,{"$f":"IFERROR(WORKDAY(N479,Y479,Hoja1!F471:F587),\"\")","v":""},{"$f":"+IF(N479=\"\",\"\",IF(O479=\"\",\"SIN RESPUESTA\",(IF(O479<=P479,\"A TIEMPO\",\"FUERA DE TIEMPO\"))))","v":""},null,"A TIEMPO",2,0,null,null,{"$f":"IFERROR(VLOOKUP(F479,Hoja1!$A$50:$C$63,2),\"\")","v":15},{"$f":"IFERROR(VLOOKUP(F479,Hoja1!$A$50:$C$63,3),\"\")","v":15}]
[470,20259910006864,"2025-01-20","Persona natural","Virtual - Correo electrónico","Solicitud de documentos o información","Solicitud de información hidrometeorológica",null,"Grupo de Servicio al Ciudadano","2025-01-21","Correo electrónico","2025-02-03",null,"",null,{"$f":"IFERROR(WORKDAY(N480,Y480,Hoja1!F472:F588),\"\")","v":""},{"$f":"+IF(N480=\"\",\"\",IF(O480=\"\",\"SIN RESPUESTA\",(IF(O480<=P480,\"A TIEMPO\",\"FUERA DE TIEMPO\"))))","v":""},null,"A TIEMPO",1,0,null,null,{"$f":"IFERROR(VLOOKUP(F480,Hoja1!$A$50:$C$63,2),\"\")","v":5},{"$f":"IFERROR(VLOOKUP(F480,Hoja1!$A$50:$C$63,3),\"\")","v":5}]
[471,20259910006874,"2025-01-20","Persona natural","Virtual - Correo electrónico","Solicitud de documentos o información","Solicitud de información hidrometeorológica",null,"Subdirección de Meteorología","2025-02-04","Correo electrónico","2025-02-03",null,"",null,{"$f":"IFERROR(WORKDAY(N481,Y481,Hoja1!F473:F589),\"\")","v":""},{"$f":"+IF(N481=\"\",\"\",IF(O481=\"\",\"SIN RESPUESTA\",(IF(O481<=P481,\"A TIEMPO\",\"FUERA DE TIEMPO\"))))","v":""},null,{"$f":"+IF(C481=\"\",\"\",IF(J481=\"\",\"SIN RESPUESTA\",(IF(J481<=L481,\"A TIEMPO\",\"FUERA DE TIEMPO\"))))","v":"FUERA DE TIEMPO"},11,1,null,null,{"$f":"IFERROR(VLOOKUP(F481,Hoja1!$A$50:$C$63,2),\"\")","v":5},{"$f":"IFERROR(VLOOKUP(F481,Hoja1!$A$50:$C$63,3),\"\")","v":5}]
[472,20259910006884,"2025-01-20","Persona natural","Virtual - Correo electrónico","Certificación de contrato","Administrativa",null,"Oficina Asesora Jurídica","2025-02-04","Correo electrónico","2025-02-03",null,"",null,{"$f":"IFERROR(WORKDAY(N482,Y482,Hoja1!F474:F590),\"\")","v":""},{"$f":"+IF(N482=\"\",\"\",IF(O482=\"\",\"SIN RESPUESTA\",(IF(O482<=P482,\"A TIEMPO\",\"FUERA DE TIEMPO\"))))","v":""},null,{"$f":"+IF(C482=\"\",\"\",IF(J482=\"\",\"SIN RESPUESTA\",(IF(J482<=L482,\"A TIEMPO\",\"FUERA DE TIEMPO\"))))","v":"FUERA DE TIEMPO"},11,1,null,null,{"$f":"IFERROR(VLOOKUP(F482,Hoja1!$A$50:$C$63,2),\"\")","v":15},{"$f":"IFERROR(VLOOKUP(F482,Hoja1!$A$50:$C$63,3),\"\")","v":15}]
[473,20259050006904,"2025-01-20","Persona natural","Virtual - Formulario PQRSDF","Certificación de contrato","Administrativa",null,"Oficina Asesora Jurídica","2025-02-04","Correo electrónico","2025-02-03",null,"",null,{"$f":"IFERROR(WORKDAY(N483,Y483,Hoja1!F475:F591),\"\")","v":""},{"$f":"+IF(N483=\"\",\"\",IF(O483=\"\",\"SIN RESPUESTA\",(IF(O483<=P483,\"A TIEMPO\",\"FUERA DE TIEMPO\"))))","v":""},null,{"$f":"+IF(C483=\"\",\"\",IF(J483=\"\",\"SIN RESPUESTA\",(IF(J483<=L483,\"A TIEMPO\",\"FUERA DE TIEMPO\"))))","v":"FUERA DE TIEMPO"},11,1,null,null,{"$f":"IFERROR(VLOOKUP(F483,Hoja1!$A$50:$C$63,2),\"\")","v":15},{"$f":"IFERROR(VLOOKUP(F483,Hoja1!$A$50:$C$63,3),\"\")","v":15}]
[474,20259050006914,"2025-01-20","Persona jurídica","Virtual - Formulario PQRSDF","Solicitud de documentos o información","Registros ambientales",null,"Subdirección de Estudios Ambientales","2025-01-21","Correo electrónico","2025-02-03",null,"",null,{"$f":"IFERROR(WORKDAY(N484,Y484,Hoja1!F476:F592),\"\")","v":""},{"$f":"+IF(N484=\"\",\"\",IF(O484=\"\",\"SIN RESPUESTA\",(IF(O484<=P484,\"A TIEMPO\",\"FUERA DE TIEMPO\"))))","v":""},null,"A TIEMPO",1,0,null,null,{"$f":"IFERROR(VLOOKUP(F484,Hoja1!$A$50:$C$63,2),\"\")","v":5},{"$f":"IFERROR(VLOOKUP(F484,Hoja1!$A$50:$C$63,3),\"\")","v":5}]
[475,20259910006934,"2025-01-20","Persona natural","Virtual - Correo electrónico","Solicitud de documentos o información","Informes ambientales",null,"Subdirección de Estudios Ambientales","2025-01-23","Correo electrónico","2025-02-03",null,"",null,{"$f":"IFERROR(WORKDAY(N485,Y485,Hoja1!F477:F593),\"\")","v":""},{"$f":"+IF(N485=\"\",\"\",IF(O485=\"\",\"SIN RESPUESTA\",(IF(O485<=P485,\"A TIEMPO\",\"FUERA DE TIEMPO\"))))","v":""},null,"A TIEMPO",3,0,null,null,{"$f":"IFERROR(VLOOKUP(F485,Hoja1!$A$50:$C$63,2),\"\")","v":5},{"$f":"IFERROR(VLOOKUP(F485,Hoja1!$A$50:$C$63,3),\"\")","v":5}]
[476,20259050006964,"2025-01-20","Persona natural","Virtual - Formulario PQRSDF","Certificación de contrato","Administrativa",null,"Oficina Asesora Jurídica","2025-02-04","Correo electrónico","2025-02-03",null,"",null,{"$f":"IFERROR(WORKDAY(N486,Y486,Hoja1!F478:F594),\"\")","v":""},{"$f":"+IF(N486=\"\",\"\",IF(O486=\"\",\"SIN RESPUESTA\",(IF(O486<=P486,\"A TIEMPO\",\"FUERA DE TIEMPO\"))))","v":""},null,{"$f":"+IF(C486=\"\",\"\",IF(J486=\"\",\"SIN RESPUESTA\",(IF(J486<=L486,\"A TIEMPO\",\"FUERA DE TIEMPO\"))))","v":"FUERA DE TIEMPO"},11,1,null,null,{"$f":"IFERROR(VLOOKUP(F486,Hoja1!$A$50:$C$63,2),\"\")","v":15},{"$f":"IFERROR(VLOOKUP(F486,Hoja1!$A$50:$C$63,3),\"\")","v":15}]
[477,20259910006984,"2025-01-20","Persona jurídica","Virtual - Correo electrónico","Solicitud de documentos o información","Registros ambientales",null,"Subdirección de Estudios Ambientales","2025-01-23","Correo electrónico","2025-02-03",null,"",null,{"$f":"IFERROR(WORKDAY(N487,Y487,Hoja1!F479:F595),\"\")","v":""},{"$f":"+IF(N487=\"\",\"\",IF(O487=\"\",\"SIN RESPUESTA\",(IF(O487<=P487,\"A TIEMPO\",\"FUERA DE TIEMPO\"))))","v":""},null,"A TIEMPO",3,0,null,null,{"$f":"IFERROR(VLOOKUP(F487,Hoja1!$A$50:$C$63,2),\"\")","v":5},{"$f":"IFERROR(VLOOKUP(F487,Hoja1!$A$50:$C$63,3),\"\")","v":5}]
[478,20259910006994,"2025-01-20","Persona natural","Virtual - Correo electrónico","Certificación de contrato","Administrativa",null,"Oficina Asesora Jurídica","2025-02-05","Correo electrónico","2025-02-03",null,"",null,{"$f":"IFERROR(WORKDAY(N488,Y488,Hoja1!F480:F596),\"\")","v":""},{"$f":"+IF(N488=\"\",\"\",IF(O488=\"\",\"SIN RESPUESTA\",(IF(O488<=P488,\"A TIEMPO\",\"FUERA DE TIEMPO\"))))","v":""},null,{"$f":"+IF(C488=\"\",\"\",IF(J488=\"\",\"SIN RESPUESTA\",(IF(J488<=L488,\"A TIEMPO\",\"FUERA DE TIEMPO\"))))","v":"FUERA DE TIEMPO"},12,2,null,null,{"$f":"IFERROR(VLOOKUP(F488,Hoja1!$A$50:$C$63,2),\"\")","v":15},{"$f":"IFERROR(VLOOKUP(F488,Hoja1!$A$50:$C$63,3),\"\")","v":15}]
[479,20259910007004,"2025-01-20","Persona natural","Virtual - Correo electrónico","Certificación laboral o pasantía","Administrativa",null,"Grupo de Administración y Desarrollo del Talento Humano","2025-01-24","Correo electrónico","2025-02-03",null,"",null,{"$f":"IFERROR(WORKDAY(N489,Y489,Hoja1!F481:F597),\"\")","v":""},{"$f":"+IF(N489=\"\",\"\",IF(O489=\"\",\"SIN RESPUESTA\",(IF(O489<=P489,\"A TIEMPO\",\"FUERA DE TIEMPO\"))))","v":""},null,"A TIEMPO",4,0,null,null,{"$f":"IFERROR(VLOOKUP(F489,Hoja1!$A$50:$C$63,2),\"\")","v":15},{"$f":"IFERROR(VLOOKUP(F489,Hoja1!$A$50:$C$63,3),\"\")","v":15}]
[480,20259050007014,"2025-01-20","Persona natural","Virtual - Formulario PQRSDF","Certificación de ingresos y retenciones","Administrativa",null,"Grupo de Tesorería","2025-01-22","Correo electrónico","2025-02-03",null,"",null,{"$f":"IFERROR(WORKDAY(N490,Y490,Hoja1!F482:F598),\"\")","v":""},{"$f":"+IF(N490=\"\",\"\",IF(O490=\"\",\"SIN RESPUESTA\",(IF(O490<=P490,\"A TIEMPO\",\"FUERA DE TIEMPO\"))))","v":""},null,"A TIEMPO",2,0,null,null,{"$f":"IFERROR(VLOOKUP(F490,Hoja1!$A$50:$C$63,2),\"\")","v":15},{"$f":"IFERROR(VLOOKUP(F490,Hoja1!$A$50:$C$63,3),\"\")","v":15}]
[481,20259910007024,"2025-01-20","Persona natural","Virtual - Correo electrónico","Certificación de contrato","Administrativa",null,"Oficina Asesora Jurídica","2025-01-30","Correo electrónico","2025-02-03",null,"",null,{"$f":"IFERROR(WORKDAY(N491,Y491,Hoja1!F483:F599),\"\")","v":""},{"$f":"+IF(N491=\"\",\"\",IF(O491=\"\",\"SIN RESPUESTA\",(IF(O491<=P491,\"A TIEMPO\",\"FUERA DE TIEMPO\"))))","v":""},null,"A TIEMPO",8,0,null,null,{"$f":"IFERROR(VLOOKUP(F491,Hoja1!$A$50:$C$63,2),\"\")","v":15},{"$f":"IFERROR(VLOOKUP(F491,Hoja1!$A$50:$C$63,3),\"\")","v":15}]
[482,20259050007034,"2025-01-20","Persona natural","Virtual - Formulario PQRSDF","Solicitud de bienes y/o servicios","Bosques",null,"Subdirección de Ecosistemas e Información Ambiental","2025-02-03","Correo electrónico","2025-02-10",null,"",null,{"$f":"IFERROR(WORKDAY(N492,Y492,Hoja1!F484:F600),\"\")","v":""},{"$f":"+IF(N492=\"\",\"\",IF(O492=\"\",\"SIN RESPUESTA\",(IF(O492<=P492,\"A TIEMPO\",\"FUERA DE TIEMPO\"))))","v":""},null,"A TIEMPO",10,0,null,null,{"$f":"IFERROR(VLOOKUP(F492,Hoja1!$A$50:$C$63,2),\"\")","v":5},{"$f":"IFERROR(VLOOKUP(F492,Hoja1!$A$50:$C$63,3),\"\")","v":5}]
[483,20259050007074,"2025-01-20","Persona natural","Virtual - Formulario PQRSDF","Solicitud de documentos o información","Administrativa",null,"Grupo de Servicios Administrativos","2025-02-03","Correo electrónico","2025-02-03",null,"",null,{"$f":"IFERROR(WORKDAY(N493,Y493,Hoja1!F485:F601),\"\")","v":""},{"$f":"+IF(N493=\"\",\"\",IF(O493=\"\",\"SIN RESPUESTA\",(IF(O493<=P493,\"A TIEMPO\",\"FUERA DE TIEMPO\"))))","v":""},null,"A TIEMPO",10,0,null,null,{"$f":"IFERROR(VLOOKUP(F493,Hoja1!$A$50:$C$63,2),\"\")","v":5},{"$f":"IFERROR(VLOOKUP(F493,Hoja1!$A$50:$C$63,3),\"\")","v":5}]
[484,20259910007084,"2025-01-20","Persona natural","Virtual - Correo electrónico","Solicitud de documentos o información","Administrativa",null,"Grupo de Administración y Desarrollo del Talento Humano","2025-01-22","Correo electrónico","2025-02-03",null,"",null,{"$f":"IFERROR(WORKDAY(N494,Y494,Hoja1!F486:F602),\"\")","v":""},{"$f":"+IF(N494=\"\",\"\",IF(O494=\"\",\"SIN RESPUESTA\",(IF(O494<=P494,\"A TIEMPO\",\"FUERA DE TIEMPO\"))))","v":""},null,"A TIEMPO",2,0,null,null,{"$f":"IFERROR(VLOOKUP(F494,Hoja1!$A$50:$C$63,2),\"\")","v":5},{"$f":"IFERROR(VLOOKUP(F494,Hoja1!$A$50:$C$63,3),\"\")","v":5}]
[485,20259910007114,"2025-01-20","Persona jurídica","Virtual - Correo electrónico","Solicitud de documentos o información","Informes ambientales",null,"Subdirección de Estudios Ambientales","2025-02-21","Correo electrónico","2025-02-03",null,"",null,{"$f":"IFERROR(WORKDAY(N495,Y495,Hoja1!F487:F603),\"\")","v":""},{"$f":"+IF(N495=\"\",\"\",IF(O495=\"\",\"SIN RESPUESTA\",(IF(O495<=P495,\"A TIEMPO\",\"FUERA DE TIEMPO\"))))","v":""},null,{"$f":"+IF(C495=\"\",\"\",IF(J495=\"\",\"SIN RESPUESTA\",(IF(J495<=L495,\"A TIEMPO\",\"FUERA DE TIEMPO\"))))","v":"FUERA DE TIEMPO"},24,14,null,null,{"$f":"IFERROR(VLOOKUP(F495,Hoja1!$A$50:$C$63,2),\"\")","v":5},{"$f":"IFERROR(VLOOKUP(F495,Hoja1!$A$50:$C$63,3),\"\")","v":5}]
[486,20259910007124,"2025-01-20","Persona jurídica","Virtual - Correo electrónico","Solicitud de documentos o información","Informes ambientales",null,"Subdirección de Estudios Ambientales","2025-01-21","Correo electrónico","2025-02-03",null,"",null,{"$f":"IFERROR(WORKDAY(N496,Y496,Hoja1!F488:F604),\"\")","v":""},{"$f":"+IF(N496=\"\",\"\",IF(O496=\"\",\"SIN RESPUESTA\",(IF(O496<=P496,\"A TIEMPO\",\"FUERA DE TIEMPO\"))))","v":""},null,"A TIEMPO",1,0,null,null,{"$f":"IFERROR(VLOOKUP(F496,Hoja1!$A$50:$C$63,2),\"\")","v":5},{"$f":"IFERROR(VLOOKUP(F496,Hoja1!$A$50:$C$63,3),\"\")","v":5}]
[487,20259910007134,"2025-01-20","Persona jurídica","Virtual - Correo electrónico","Solicitud de documentos o información","Informes ambientales",null,"Subdirección de Estudios Ambientales","2025-01-23","Correo electrónico","2025-02-03",null,"",null,{"$f":"IFERROR(WORKDAY(N497,Y497,Hoja1!F489:F605),\"\")","v":""},{"$f":"+IF(N497=\"\",\"\",IF(O497=\"\",\"SIN RESPUESTA\",(IF(O497<=P497,\"A TIEMPO\",\"FUERA DE TIEMPO\"))))","v":""},null,"A TIEMPO",3,0,null,null,{"$f":"IFERROR(VLOOKUP(F497,Hoja1!$A$50:$C$63,2),\"\")","v":5},{"$f":"IFERROR(VLOOKUP(F497,Hoja1!$A$50:$C$63,3),\"\")","v":5}]
[488,20259910007174,"2025-01-20","Persona jurídica","Virtual - Correo electrónico","Solicitud de documentos o información","Solicitud de información hidrometeorológica",null,"Grupo de Servicio al Ciudadano","2025-01-28","Correo electrónico","2025-02-03",null,"",null,{"$f":"IFERROR(WORKDAY(N498,Y498,Hoja1!F490:F606),\"\")","v":""},{"$f":"+IF(N498=\"\",\"\",IF(O498=\"\",\"SIN RESPUESTA\",(IF(O498<=P498,\"A TIEMPO\",\"FUERA DE TIEMPO\"))))","v":""},null,"A TIEMPO",6,0,null,null,{"$f":"IFERROR(VLOOKUP(F498,Hoja1!$A$50:$C$63,2),\"\")","v":5},{"$f":"IFERROR(VLOOKUP(F498,Hoja1!$A$50:$C$63,3),\"\")","v":5}]
[489,20259910007274,"2025-01-20","Persona natural","Virtual - Correo electrónico","Certificación de contrato","Administrativa",null,"Oficina Asesora Jurídica","2025-02-05","Correo electrónico","2025-02-03",null,"",null,{"$f":"IFERROR(WORKDAY(N499,Y499,Hoja1!F491:F607),\"\")","v":""},{"$f":"+IF(N499=\"\",\"\",IF(O499=\"\",\"SIN RESPUESTA\",(IF(O499<=P499,\"A TIEMPO\",\"FUERA DE TIEMPO\"))))","v":""},null,{"$f":"+IF(C499=\"\",\"\",IF(J499=\"\",\"SIN RESPUESTA\",(IF(J499<=L499,\"A TIEMPO\",\"FUERA DE TIEMPO\"))))","v":"FUERA DE TIEMPO"},12,2,null,null,{"$f":"IFERROR(VLOOKUP(F499,Hoja1!$A$50:$C$63,2),\"\")","v":15},{"$f":"IFERROR(VLOOKUP(F499,Hoja1!$A$50:$C$63,3),\"\")","v":15}]
[490,20259910007264,"2025-01-20","Persona natural","Virtual - Correo electrónico","Certificación laboral o pasantía","Administrativa",null,"Grupo de Administración y Desarrollo del Talento Humano","2025-01-24","Correo electrónico","2025-02-03",null,"",null,{"$f":"IFERROR(WORKDAY(N500,Y500,Hoja1!F492:F608),\"\")","v":""},{"$f":"+IF(N500=\"\",\"\",IF(O500=\"\",\"SIN RESPUESTA\",(IF(O500<=P500,\"A TIEMPO\",\"FUERA DE TIEMPO\"))))","v":""},null,"A TIEMPO",4,0,null,null,{"$f":"IFERROR(VLOOKUP(F500,Hoja1!$A$50:$C$63,2),\"\")","v":15},{"$f":"IFERROR(VLOOKUP(F500,Hoja1!$A$50:$C$63,3),\"\")","v":15}]
[491,20259910007254,"2025-01-20","Persona jurídica","Virtual - Correo electrónico","Solicitud de documentos o información","Informes ambientales",null,"Subdirección de Estudios Ambientales","2025-01-21","Correo electrónico","2025-02-03",null,"",null,{"$f":"IFERROR(WORKDAY(N501,Y501,Hoja1!F493:F609),\"\")","v":""},{"$f":"+IF(N501=\"\",\"\",IF(O501=\"\",\"SIN RESPUESTA\",(IF(O501<=P501,\"A TIEMPO\",\"FUERA DE TIEMPO\"))))","v":""},null,"A TIEMPO",1,0,null,null,{"$f":"IFERROR(VLOOKUP(F501,Hoja1!$A$50:$C$63,2),\"\")","v":5},{"$f":"IFERROR(VLOOKUP(F501,Hoja1!$A$50:$C$63,3),\"\")","v":5}]
[492,20259910007244,"2025-01-20","Persona natural","Virtual - Correo electrónico","Solicitud de documentos o información","Solicitud de información hidrometeorológica",null,"Grupo de Servicio al Ciudadano","2025-01-28","Correo electrónico","2025-02-03",null,"",null,{"$f":"IFERROR(WORKDAY(N502,Y502,Hoja1!F494:F610),\"\")","v":""},{"$f":"+IF(N502=\"\",\"\",IF(O502=\"\",\"SIN RESPUESTA\",(IF(O502<=P502,\"A TIEMPO\",\"FUERA DE TIEMPO\"))))","v":""},null,"A TIEMPO",6,0,null,null,{"$f":"IFERROR(VLOOKUP(F502,Hoja1!$A$50:$C$63,2),\"\")","v":5},{"$f":"IFERROR(VLOOKUP(F502,Hoja1!$A$50:$C$63,3),\"\")","v":5}]
[493,20259910007234,"2025-01-20","Persona jurídica","Virtual - Correo electrónico","Solicitud de documentos o información","Informes ambientales",null,"Subdirección de Estudios Ambientales","2025-01-21","Correo electrónico","2025-02-03",null,"",null,{"$f":"IFERROR(WORKDAY(N503,Y503,Hoja1!F495:F611),\"\")","v":""},{"$f":"+IF(N503=\"\",\"\",IF(O503=\"\",\"SIN RESPUESTA\",(IF(O503<=P503,\"A TIEMPO\",\"FUERA DE TIEMPO\"))))","v":""},null,"A TIEMPO",1,0,null,null,{"$f":"IFERROR(VLOOKUP(F503,Hoja1!$A$50:$C$63,2),\"\")","v":5},{"$f":"IFERROR(VLOOKUP(F503,Hoja1!$A$50:$C$63,3),\"\")","v":5}]
[494,20259910007224,"2025-01-20","Persona natural","Virtual - Correo electrónico","Certificación de contrato","Administrativa",null,"Oficina Asesora Jurídica","2025-02-05","Correo electrónico","2025-02-03",null,"",null,{"$f":"IFERROR(WORKDAY(N504,Y504,Hoja1!F496:F612),\"\")","v":""},{"$f":"+IF(N504=\"\",\"\",IF(O504=\"\",\"SIN RESPUESTA\",(IF(O504<=P504,\"A TIEMPO\",\"FUERA DE TIEMPO\"))))","v":""},null,{"$f":"+IF(C504=\"\",\"\",IF(J504=\"\",\"SIN RESPUESTA\",(IF(J504<=L504,\"A TIEMPO\",\"FUERA DE TIEMPO\"))))","v":"FUERA DE TIEMPO"},12,2,null,null,{"$f":"IFERROR(VLOOKUP(F504,Hoja1!$A$50:$C$63,2),\"\")","v":15},{"$f":"IFERROR(VLOOKUP(F504,Hoja1!$A$50:$C$63,3),\"\")","v":15}]
[495,20259910007214,"2025-01-20","Persona natural","Virtual - Correo electrónico","Certificación de contrato","Administrativa",null,"Oficina Asesora Jurídica","2025-02-05","Correo electrónico","2025-02-03",null,"",null,{"$f":"IFERROR(WORKDAY(N505,Y505,Hoja1!F497:F613),\"\")","v":""},{"$f":"+IF(N505=\"\",\"\",IF(O505=\"\",\"SIN RESPUESTA\",(IF(O505<=P505,\"A TIEMPO\",\"FUERA DE TIEMPO\"))))","v":""},null,{"$f":"+IF(C505=\"\",\"\",IF(J505=\"\",\"SIN RESPUESTA\",(IF(J505<=L505,\"A TIEMPO\",\"FUERA DE TIEMPO\"))))","v":"FUERA DE TIEMPO"},12,2,null,null,{"$f":"IFERROR(VLOOKUP(F505,Hoja1!$A$50:$C$63,2),\"\")","v":15},{"$f":"IFERROR(VLOOKUP(F505,Hoja1!$A$50:$C$63,3),\"\")","v":15}]
[496,20259910007194,"2025-01-20","Persona natural","Virtual - Correo electrónico","Certificación laboral o pasantía","Administrativa",null,"Grupo de Administración y Desarrollo del Talento Humano","2025-01-22","Correo electrónico","2025-02-03",null,"",null,{"$f":"IFERROR(WORKDAY(N506,Y506,Hoja1!F498:F614),\"\")","v":""},{"$f":"+IF(N506=\"\",\"\",IF(O506=\"\",\"SIN RESPUESTA\",(IF(O506<=P506,\"A TIEMPO\",\"FUERA DE TIEMPO\"))))","v":""},null,"A TIEMPO",2,0,null,null,{"$f":"IFERROR(VLOOKUP(F506,Hoja1!$A$50:$C$63,2),\"\")","v":15},{"$f":"IFERROR(VLOOKUP(F506,Hoja1!$A$50:$C$63,3),\"\")","v":15}]
[497,20259910007154,"2025-01-20","Persona natural","Virtual - Correo electrónico","Certificación de contrato","Administrativa",null,"Oficina Asesora Jurídica","2025-02-05","Correo electrónico","2025-02-03",null,"",null,{"$f":"IFERROR(WORKDAY(N507,Y507,Hoja1!F499:F615),\"\")","v":""},{"$f":"+IF(N507=\"\",\"\",IF(O507=\"\",\"SIN RESPUESTA\",(IF(O507<=P507,\"A TIEMPO\",\"FUERA DE TIEMPO\"))))","v":""},null,{"$f":"+IF(C507=\"\",\"\",IF(J507=\"\",\"SIN RESPUESTA\",(IF(J507<=L507,\"A TIEMPO\",\"FUERA DE TIEMPO\"))))","v":"FUERA DE TIEMPO"},12,2,null,null,{"$f":"IFERROR(VLOOKUP(F507,Hoja1!$A$50:$C$63,2),\"\")","v":15},{"$f":"IFERROR(VLOOKUP(F507,Hoja1!$A$50:$C$63,3),\"\")","v":15}]
[498,20259910007144,"2025-01-20","Persona jurídica","Virtual - Correo electrónico","Solicitud de documentos o información","Administrativa",null,"Oficina Asesora Jurídica","2025-02-24","Correo electrónico","2025-02-03",null,"",null,{"$f":"IFERROR(WORKDAY(N508,Y508,Hoja1!F500:F616),\"\")","v":""},{"$f":"+IF(N508=\"\",\"\",IF(O508=\"\",\"SIN RESPUESTA\",(IF(O508<=P508,\"A TIEMPO\",\"FUERA DE TIEMPO\"))))","v":""},null,{"$f":"+IF(C508=\"\",\"\",IF(J508=\"\",\"SIN RESPUESTA\",(IF(J508<=L508,\"A TIEMPO\",\"FUERA DE TIEMPO\"))))","v":"FUERA DE TIEMPO"},25,15,null,null,{"$f":"IFERROR(VLOOKUP(F508,Hoja1!$A$50:$C$63,2),\"\")","v":5},{"$f":"IFERROR(VLOOKUP(F508,Hoja1!$A$50:$C$63,3),\"\")","v":5}]
[499,20259050007284,"2025-01-20","Persona natural","Virtual - Formulario PQRSDF","Certificación de contrato","Administrativa",null,"Oficina Asesora Jurídica","2025-02-05","Correo electrónico","2025-02-03",null,"",null,{"$f":"IFERROR(WORKDAY(N509,Y509,Hoja1!F501:F617),\"\")","v":""},{"$f":"+IF(N509=\"\",\"\",IF(O509=\"\",\"SIN RESPUESTA\",(IF(O509<=P509,\"A TIEMPO\",\"FUERA DE TIEMPO\"))))","v":""},null,{"$f":"+IF(C509=\"\",\"\",IF(J509=\"\",\"SIN RESPUESTA\",(IF(J509<=L509,\"A TIEMPO\",\"FUERA DE TIEMPO\"))))","v":"FUERA DE TIEMPO"},12,2,null,null,{"$f":"IFERROR(VLOOKUP(F509,Hoja1!$A$50:$C$63,2),\"\")","v":15},{"$f":"IFERROR(VLOOKUP(F509,Hoja1!$A$50:$C$63,3),\"\")","v":15}]
[500,20259910007304,"2025-01-20","Persona natural","Virtual - Correo electrónico","Certificación de contrato","Administrativa",null,"Oficina Asesora Jurídica","2025-02-05","Correo electrónico","2025-02-03",null,"",null,{"$f":"IFERROR(WORKDAY(N510,Y510,Hoja1!F502:F618),\"\")","v":""},{"$f":"+IF(N510=\"\",\"\",IF(O510=\"\",\"SIN RESPUESTA\",(IF(O510<=P510,\"A TIEMPO\",\"FUERA DE TIEMPO\"))))","v":""},null,{"$f":"+IF(C510=\"\",\"\",IF(J510=\"\",\"SIN RESPUESTA\",(IF(J510<=L510,\"A TIEMPO\",\"FUERA DE TIEMPO\"))))","v":"FUERA DE TIEMPO"},12,2,null,null,{"$f":"IFERROR(VLOOKUP(F510,Hoja1!$A$50:$C$63,2),\"\")","v":15},{"$f":"IFERROR(VLOOKUP(F510,Hoja1!$A$50:$C$63,3),\"\")","v":15}]
[501,20259910007344,"2025-01-20","Persona natural","Virtual - Correo electrónico","Certificación laboral o pasantía","Administrativa",null,"Grupo de Administración y Desarrollo del Talento Humano","2025-01-31","Correo electrónico","2025-02-03",null,"",null,{"$f":"IFERROR(WORKDAY(N511,Y511,Hoja1!F503:F619),\"\")","v":""},{"$f":"+IF(N511=\"\",\"\",IF(O511=\"\",\"SIN RESPUESTA\",(IF(O511<=P511,\"A TIEMPO\",\"FUERA DE TIEMPO\"))))","v":""},null,"A TIEMPO",9,0,null,null,{"$f":"IFERROR(VLOOKUP(F511,Hoja1!$A$50:$C$63,2),\"\")","v":15},{"$f":"IFERROR(VLOOKUP(F511,Hoja1!$A$50:$C$63,3),\"\")","v":15}]
[502,20259050007484,"2025-01-20","Persona natural","Virtual - Formulario PQRSDF","Certificación de contrato","Administrativa",null,"Oficina Asesora Jurídica","2025-02-05","Correo electrónico","2025-02-03",null,"",null,{"$f":"IFERROR(WORKDAY(N512,Y512,Hoja1!F504:F620),\"\")","v":""},{"$f":"+IF(N512=\"\",\"\",IF(O512=\"\",\"SIN RESPUESTA\",(IF(O512<=P512,\"A TIEMPO\",\"FUERA DE TIEMPO\"))))","v":""},null,{"$f":"+IF(C512=\"\",\"\",IF(J512=\"\",\"SIN RESPUESTA\",(IF(J512<=L512,\"A TIEMPO\",\"FUERA DE TIEMPO\"))))","v":"FUERA DE TIEMPO"},12,2,null,null,{"$f":"IFERROR(VLOOKUP(F512,Hoja1!$A$50:$C$63,2),\"\")","v":15},{"$f":"IFERROR(VLOOKUP(F512,Hoja1!$A$50:$C$63,3),\"\")","v":15}]
[503,20259910007314,"2025-01-20","Persona jurídica","Virtual - Correo electrónico","Solicitud de documentos o información","Registros ambientales",null,"Subdirección de Estudios Ambientales","2025-01-23","Correo electrónico","2025-02-03",null,"",null,{"$f":"IFERROR(WORKDAY(N513,Y513,Hoja1!F505:F621),\"\")","v":""},{"$f":"+IF(N513=\"\",\"\",IF(O513=\"\",\"SIN RESPUESTA\",(IF(O513<=P513,\"A TIEMPO\",\"FUERA DE TIEMPO\"))))","v":""},null,"A TIEMPO",3,0,null,null,{"$f":"IFERROR(VLOOKUP(F513,Hoja1!$A$50:$C$63,2),\"\")","v":5},{"$f":"IFERROR(VLOOKUP(F513,Hoja1!$A$50:$C$63,3),\"\")","v":5}]
[504,20259910007324,"2025-01-20","Persona natural","Virtual - Correo electrónico","Petición de interés general o particular","Administrativa",null,"Grupo de Administración y Desarrollo del Talento Humano","2025-01-27","Correo electrónico","2025-02-10",null,"",null,{"$f":"IFERROR(WORKDAY(N514,Y514,Hoja1!F506:F622),\"\")","v":""},{"$f":"+IF(N514=\"\",\"\",IF(O514=\"\",\"SIN RESPUESTA\",(IF(O514<=P514,\"A TIEMPO\",\"FUERA DE TIEMPO\"))))","v":""},null,"A TIEMPO",5,0,null,null,{"$f":"IFERROR(VLOOKUP(F514,Hoja1!$A$50:$C$63,2),\"\")","v":15},{"$f":"IFERROR(VLOOKUP(F514,Hoja1!$A$50:$C$63,3),\"\")","v":15}]
[505,20259910007334,"2025-01-20","Persona jurídica","Virtual - Correo electrónico","Petición entre autoridades","Registros ambientales",null,"Subdirección de Estudios Ambientales","2025-01-30","Correo electrónico","2025-02-03",null,"",null,{"$f":"IFERROR(WORKDAY(N515,Y515,Hoja1!F507:F623),\"\")","v":""},{"$f":"+IF(N515=\"\",\"\",IF(O515=\"\",\"SIN RESPUESTA\",(IF(O515<=P515,\"A TIEMPO\",\"FUERA DE TIEMPO\"))))","v":""},null,"A TIEMPO",8,0,null,null,{"$f":"IFERROR(VLOOKUP(F515,Hoja1!$A$50:$C$63,2),\"\")","v":10},{"$f":"IFERROR(VLOOKUP(F515,Hoja1!$A$50:$C$63,3),\"\")","v":10}]
[506,20259910007354,"2025-01-20","Persona jurídica","Virtual - Correo electrónico","Solicitud de documentos o información","Sistema de información del recurso hídrico",null,"Subdirección de Hidrología","2025-01-23","Correo electrónico","2025-02-03",null,"",null,{"$f":"IFERROR(WORKDAY(N516,Y516,Hoja1!F508:F624),\"\")","v":""},{"$f":"+IF(N516=\"\",\"\",IF(O516=\"\",\"SIN RESPUESTA\",(IF(O516<=P516,\"A TIEMPO\",\"FUERA DE TIEMPO\"))))","v":""},null,"A TIEMPO",3,0,null,null,{"$f":"IFERROR(VLOOKUP(F516,Hoja1!$A$50:$C$63,2),\"\")","v":5},{"$f":"IFERROR(VLOOKUP(F516,Hoja1!$A$50:$C$63,3),\"\")","v":5}]
[507,20259910007364,"2025-01-20","Persona natural","Virtual - Correo electrónico","Solicitud de documentos o información","Solicitud de información hidrometeorológica",null,"Grupo de Servicio al Ciudadano","2025-01-28","Correo electrónico","2025-02-03",null,"",null,{"$f":"IFERROR(WORKDAY(N517,Y517,Hoja1!F509:F625),\"\")","v":""},{"$f":"+IF(N517=\"\",\"\",IF(O517=\"\",\"SIN RESPUESTA\",(IF(O517<=P517,\"A TIEMPO\",\"FUERA DE TIEMPO\"))))","v":""},null,"A TIEMPO",6,0,null,null,{"$f":"IFERROR(VLOOKUP(F517,Hoja1!$A$50:$C$63,2),\"\")","v":5},{"$f":"IFERROR(VLOOKUP(F517,Hoja1!$A$50:$C$63,3),\"\")","v":5}]
[508,20259050007404,"2025-01-20","Persona natural","Virtual - Formulario PQRSDF","Solicitud de documentos o información","Bosques",null,"Subdirección de Ecosistemas e Información Ambiental","2025-02-03","Correo electrónico","2025-02-03",null,"",null,{"$f":"IFERROR(WORKDAY(N518,Y518,Hoja1!F510:F626),\"\")","v":""},{"$f":"+IF(N518=\"\",\"\",IF(O518=\"\",\"SIN RESPUESTA\",(IF(O518<=P518,\"A TIEMPO\",\"FUERA DE TIEMPO\"))))","v":""},null,"A TIEMPO",10,0,null,null,{"$f":"IFERROR(VLOOKUP(F518,Hoja1!$A$50:$C$63,2),\"\")","v":5},{"$f":"IFERROR(VLOOKUP(F518,Hoja1!$A$50:$C$63,3),\"\")","v":5}]
[509,20259910007434,"2025-01-20","Persona jurídica","Virtual - Correo electrónico","Solicitud de bienes y/o servicios","Registros ambientales",null,"Subdirección de Estudios Ambientales","2025-01-27","Correo electrónico","2025-02-10",null,"",null,{"$f":"IFERROR(WORKDAY(N519,Y519,Hoja1!F511:F627),\"\")","v":""},{"$f":"+IF(N519=\"\",\"\",IF(O519=\"\",\"SIN RESPUESTA\",(IF(O519<=P519,\"A TIEMPO\",\"FUERA DE TIEMPO\"))))","v":""},null,"A TIEMPO",5,0,null,null,{"$f":"IFERROR(VLOOKUP(F519,Hoja1!$A$50:$C$63,2),\"\")","v":5},{"$f":"IFERROR(VLOOKUP(F519,Hoja1!$A$50:$C$63,3),\"\")","v":5}]
[510,20259910007444,"2025-01-20","Persona jurídica","Virtual - Correo electrónico","Solicitud judicial","Administrativa",null,"Subdirección de Hidrología","2025-01-27","Correo electrónico","2025-01-27",null,"",null,{"$f":"IFERROR(WORKDAY(N520,Y520,Hoja1!F512:F628),\"\")","v":""},{"$f":"+IF(N520=\"\",\"\",IF(O520=\"\",\"SIN RESPUESTA\",(IF(O520<=P520,\"A TIEMPO\",\"FUERA DE TIEMPO\"))))","v":""},null,"A TIEMPO",5,0,null,null,{"$f":"IFERROR(VLOOKUP(F520,Hoja1!$A$50:$C$63,2),\"\")","v":5},{"$f":"IFERROR(VLOOKUP(F520,Hoja1!$A$50:$C$63,3),\"\")","v":5}]
[511,20259050007474,"2025-01-20","Persona natural","Virtual - Formulario PQRSDF","Solicitud de documentos o información","Administrativa",null,"Grupo de Administración y Desarrollo del Talento Humano","2025-02-05","Correo electrónico","2025-02-03",null,"",null,{"$f":"IFERROR(WORKDAY(N521,Y521,Hoja1!F513:F629),\"\")","v":""},{"$f":"+IF(N521=\"\",\"\",IF(O521=\"\",\"SIN RESPUESTA\",(IF(O521<=P521,\"A TIEMPO\",\"FUERA DE TIEMPO\"))))","v":""},null,{"$f":"+IF(C521=\"\",\"\",IF(J521=\"\",\"SIN RESPUESTA\",(IF(J521<=L521,\"A TIEMPO\",\"FUERA DE TIEMPO\"))))","v":"FUERA DE TIEMPO"},12,2,null,null,{"$f":"IFERROR(VLOOKUP(F521,Hoja1!$A$50:$C$63,2),\"\")","v":5},{"$f":"IFERROR(VLOOKUP(F521,Hoja1!$A$50:$C$63,3),\"\")","v":5}]
[512,20259050007504,"2025-01-21","Persona natural","Virtual - Formulario PQRSDF","Certificación laboral o pasantía","Administrativa",null,"Grupo de Administración y Desarrollo del Talento Humano","2025-01-27","Correo electrónico","2025-02-04",null,"",null,{"$f":"IFERROR(WORKDAY(N522,Y522,Hoja1!F514:F630),\"\")","v":""},{"$f":"+IF(N522=\"\",\"\",IF(O522=\"\",\"SIN RESPUESTA\",(IF(O522<=P522,\"A TIEMPO\",\"FUERA DE TIEMPO\"))))","v":""},null,"A TIEMPO",4,0,null,null,{"$f":"IFERROR(VLOOKUP(F522,Hoja1!$A$50:$C$63,2),\"\")","v":15},{"$f":"IFERROR(VLOOKUP(F522,Hoja1!$A$50:$C$63,3),\"\")","v":15}]
[513,20259910007534,"2025-01-21","Persona natural","Virtual - Correo electrónico","Certificación de contrato","Administrativa",null,"Oficina Asesora Jurídica","2025-02-06","Correo electrónico","2025-02-04",null,"",null,{"$f":"IFERROR(WORKDAY(N523,Y523,Hoja1!F515:F631),\"\")","v":""},{"$f":"+IF(N523=\"\",\"\",IF(O523=\"\",\"SIN RESPUESTA\",(IF(O523<=P523,\"A TIEMPO\",\"FUERA DE TIEMPO\"))))","v":""},null,{"$f":"+IF(C523=\"\",\"\",IF(J523=\"\",\"SIN RESPUESTA\",(IF(J523<=L523,\"A TIEMPO\",\"FUERA DE TIEMPO\"))))","v":"FUERA DE TIEMPO"},12,2,null,null,{"$f":"IFERROR(VLOOKUP(F523,Hoja1!$A$50:$C$63,2),\"\")","v":15},{"$f":"IFERROR(VLOOKUP(F523,Hoja1!$A$50:$C$63,3),\"\")","v":15}]
[514,20259910007554,"2025-01-21","Persona jurídica","Virtual - Correo electrónico","Solicitud de documentos o información","Solicitud de información hidrometeorológica",null,"Grupo de Servicio al Ciudadano","2025-01-28","Correo electrónico","2025-02-04",null,"",null,{"$f":"IFERROR(WORKDAY(N524,Y524,Hoja1!F516:F632),\"\")","v":""},{"$f":"+IF(N524=\"\",\"\",IF(O524=\"\",\"SIN RESPUESTA\",(IF(O524<=P524,\"A TIEMPO\",\"FUERA DE TIEMPO\"))))","v":""},null,"A TIEMPO",5,0,null,null,{"$f":"IFERROR(VLOOKUP(F524,Hoja1!$A$50:$C$63,2),\"\")","v":5},{"$f":"IFERROR(VLOOKUP(F524,Hoja1!$A$50:$C$63,3),\"\")","v":5}]
[515,20259910007564,"2025-01-21","Persona natural","Virtual - Correo electrónico","Solicitud de documentos o información","Solicitud de información hidrometeorológica",null,"Grupo de Servicio al Ciudadano","2025-01-28","Correo electrónico","2025-02-04",null,"",null,{"$f":"IFERROR(WORKDAY(N525,Y525,Hoja1!F517:F633),\"\")","v":""},{"$f":"+IF(N525=\"\",\"\",IF(O525=\"\",\"SIN RESPUESTA\",(IF(O525<=P525,\"A TIEMPO\",\"FUERA DE TIEMPO\"))))","v":""},null,"A TIEMPO",5,0,null,null,{"$f":"IFERROR(VLOOKUP(F525,Hoja1!$A$50:$C$63,2),\"\")","v":5},{"$f":"IFERROR(VLOOKUP(F525,Hoja1!$A$50:$C$63,3),\"\")","v":5}]
[516,20259910007574,"2025-01-21","Persona natural","Virtual - Correo electrónico","Certificación laboral o pasantía","Administrativa",null,"Grupo de Administración y Desarrollo del Talento Humano","2025-01-27","Correo electrónico","2025-02-04",null,"",null,{"$f":"IFERROR(WORKDAY(N526,Y526,Hoja1!F518:F634),\"\")","v":""},{"$f":"+IF(N526=\"\",\"\",IF(O526=\"\",\"SIN RESPUESTA\",(IF(O526<=P526,\"A TIEMPO\",\"FUERA DE TIEMPO\"))))","v":""},null,"A TIEMPO",4,0,null,null,{"$f":"IFERROR(VLOOKUP(F526,Hoja1!$A$50:$C$63,2),\"\")","v":15},{"$f":"IFERROR(VLOOKUP(F526,Hoja1!$A$50:$C$63,3),\"\")","v":15}]
[517,20259910007624,"2025-01-21","Persona natural","Virtual - Correo electrónico","Certificación de contrato","Administrativa",null,"Oficina Asesora Jurídica","2025-02-06","Correo electrónico","2025-02-04",null,"",null,{"$f":"IFERROR(WORKDAY(N527,Y527,Hoja1!F519:F635),\"\")","v":""},{"$f":"+IF(N527=\"\",\"\",IF(O527=\"\",\"SIN RESPUESTA\",(IF(O527<=P527,\"A TIEMPO\",\"FUERA DE TIEMPO\"))))","v":""},null,{"$f":"+IF(C527=\"\",\"\",IF(J527=\"\",\"SIN RESPUESTA\",(IF(J527<=L527,\"A TIEMPO\",\"FUERA DE TIEMPO\"))))","v":"FUERA DE TIEMPO"},12,2,null,null,{"$f":"IFERROR(VLOOKUP(F527,Hoja1!$A$50:$C$63,2),\"\")","v":15},{"$f":"IFERROR(VLOOKUP(F527,Hoja1!$A$50:$C$63,3),\"\")","v":15}]
[518,20259050007614,"2025-01-21","Persona jurídica","Virtual - Formulario PQRSDF","Solicitud de documentos o información","Registros ambientales",null,"Subdirección de Estudios Ambientales","2025-01-23","Correo electrónico","2025-02-04",null,"",null,{"$f":"IFERROR(WORKDAY(N528,Y528,Hoja1!F520:F636),\"\")","v":""},{"$f":"+IF(N528=\"\",\"\",IF(O528=\"\",\"SIN RESPUESTA\",(IF(O528<=P528,\"A TIEMPO\",\"FUERA DE TIEMPO\"))))","v":""},null,"A TIEMPO",2,0,null,null,{"$f":"IFERROR(VLOOKUP(F528,Hoja1!$A$50:$C$63,2),\"\")","v":5},{"$f":"IFERROR(VLOOKUP(F528,Hoja1!$A$50:$C$63,3),\"\")","v":5}]
[{"$f":"IF(B529<>\"\",A528+1,\"\")","v":519},20259050007644,"2025-01-21","Persona jurídica","Virtual - Formulario PQRSDF","Solicitud de documentos o información","Registros ambientales",null,"Subdirección de Estudios Ambientales","2025-01-27","Correo electrónico","2025-02-04",null,"",null,{"$f":"IFERROR(WORKDAY(N529,Y529,Hoja1!F521:F637),\"\")","v":""},{"$f":"+IF(N529=\"\",\"\",IF(O529=\"\",\"SIN RESPUESTA\",(IF(O529<=P529,\"A TIEMPO\",\"FUERA DE TIEMPO\"))))","v":""},null,"A TIEMPO",4,0,null,null,{"$f":"IFERROR(VLOOKUP(F529,Hoja1!$A$50:$C$63,2),\"\")","v":5},{"$f":"IFERROR(VLOOKUP(F529,Hoja1!$A$50:$C$63,3),\"\")","v":5}]
[520,20259910007654,"2025-01-21","Persona jurídica","Virtual - Correo electrónico","Petición entre autoridades","Registros ambientales",null,"Subdirección de Estudios Ambientales","2025-01-31","Correo electrónico","2025-02-04",null,"",null,{"$f":"IFERROR(WORKDAY(N530,Y530,Hoja1!F522:F638),\"\")","v":""},{"$f":"+IF(N530=\"\",\"\",IF(O530=\"\",\"SIN RESPUESTA\",(IF(O530<=P530,\"A TIEMPO\",\"FUERA DE TIEMPO\"))))","v":""},null,"A TIEMPO",8,0,null,null,{"$f":"IFERROR(VLOOKUP(F530,Hoja1!$A$50:$C$63,2),\"\")","v":10},{"$f":"IFERROR(VLOOKUP(F530,Hoja1!$A$50:$C$63,3),\"\")","v":10}]
[521,20259050007674,"2025-01-21","Persona natural","Virtual - Formulario PQRSDF","Certificación de ingresos y retenciones","Administrativa",null,"Grupo de Tesorería","2025-01-22","Correo electrónico","2025-02-04",null,"",null,{"$f":"IFERROR(WORKDAY(N531,Y531,Hoja1!F523:F639),\"\")","v":""},{"$f":"+IF(N531=\"\",\"\",IF(O531=\"\",\"SIN RESPUESTA\",(IF(O531<=P531,\"A TIEMPO\",\"FUERA DE TIEMPO\"))))","v":""},null,"A TIEMPO",1,0,null,null,{"$f":"IFERROR(VLOOKUP(F531,Hoja1!$A$50:$C$63,2),\"\")","v":15},{"$f":"IFERROR(VLOOKUP(F531,Hoja1!$A$50:$C$63,3),\"\")","v":15}]
[522,20259910007704,"2025-01-21","Persona natural","Virtual - Correo electrónico","Certificación laboral o pasantía","Administrativa",null,"Grupo de Administración y Desarrollo del Talento Humano","2025-01-27","Correo electrónico","2025-02-04",null,"",null,{"$f":"IFERROR(WORKDAY(N532,Y532,Hoja1!F524:F640),\"\")","v":""},{"$f":"+IF(N532=\"\",\"\",IF(O532=\"\",\"SIN RESPUESTA\",(IF(O532<=P532,\"A TIEMPO\",\"FUERA DE TIEMPO\"))))","v":""},null,"A TIEMPO",4,0,null,null,{"$f":"IFERROR(VLOOKUP(F532,Hoja1!$A$50:$C$63,2),\"\")","v":15},{"$f":"IFERROR(VLOOKUP(F532,Hoja1!$A$50:$C$63,3),\"\")","v":15}]
[523,20259910007714,"2025-01-21","Persona jurídica","Virtual - Correo electrónico","Solicitud de documentos o información","Solicitud de información hidrometeorológica",null,"Grupo de Servicio al Ciudadano","2025-01-28","Correo electrónico","2025-02-04",null,"",null,{"$f":"IFERROR(WORKDAY(N533,Y533,Hoja1!F525:F641),\"\")","v":""},{"$f":"+IF(N533=\"\",\"\",IF(O533=\"\",\"SIN RESPUESTA\",(IF(O533<=P533,\"A TIEMPO\",\"FUERA DE TIEMPO\"))))","v":""},null,"A TIEMPO",5,0,null,null,{"$f":"IFERROR(VLOOKUP(F533,Hoja1!$A$50:$C$63,2),\"\")","v":5},{"$f":"IFERROR(VLOOKUP(F533,Hoja1!$A$50:$C$63,3),\"\")","v":5}]
[524,20259910007724,"2025-01-21","Persona natural","Virtual - Correo electrónico","Certificación laboral o pasantía","Administrativa",null,"Grupo de Administración y Desarrollo del Talento Humano","2025-01-27","Correo electrónico","2025-02-04",null,"",null,{"$f":"IFERROR(WORKDAY(N534,Y534,Hoja1!F526:F642),\"\")","v":""},{"$f":"+IF(N534=\"\",\"\",IF(O534=\"\",\"SIN RESPUESTA\",(IF(O534<=P534,\"A TIEMPO\",\"FUERA DE TIEMPO\"))))","v":""},null,"A TIEMPO",4,0,null,null,{"$f":"IFERROR(VLOOKUP(F534,Hoja1!$A$50:$C$63,2),\"\")","v":15},{"$f":"IFERROR(VLOOKUP(F534,Hoja1!$A$50:$C$63,3),\"\")","v":15}]
[525,20259910007734,"2025-01-21","Persona natural","Virtual - Correo electrónico","Solicitud de documentos o información","Solicitud de información hidrometeorológica",null,"Grupo de Servicio al Ciudadano","2025-01-28","Correo electrónico","2025-02-04",null,"",null,{"$f":"IFERROR(WORKDAY(N535,Y535,Hoja1!F527:F643),\"\")","v":""},{"$f":"+IF(N535=\"\",\"\",IF(O535=\"\",\"SIN RESPUESTA\",(IF(O535<=P535,\"A TIEMPO\",\"FUERA DE TIEMPO\"))))","v":""},null,"A TIEMPO",5,0,null,null,{"$f":"IFERROR(VLOOKUP(F535,Hoja1!$A$50:$C$63,2),\"\")","v":5},{"$f":"IFERROR(VLOOKUP(F535,Hoja1!$A$50:$C$63,3),\"\")","v":5}]
[526,20259910007744,"2025-01-21","Persona natural","Virtual - Correo electrónico","Solicitud de documentos o información","Solicitud de información hidrometeorológica",null,"Grupo de Servicio al Ciudadano","2025-01-28","Correo electrónico","2025-02-04",null,"",null,{"$f":"IFERROR(WORKDAY(N536,Y536,Hoja1!F528:F644),\"\")","v":""},{"$f":"+IF(N536=\"\",\"\",IF(O536=\"\",\"SIN RESPUESTA\",(IF(O536<=P536,\"A TIEMPO\",\"FUERA DE TIEMPO\"))))","v":""},null,"A TIEMPO",5,0,null,null,{"$f":"IFERROR(VLOOKUP(F536,Hoja1!$A$50:$C$63,2),\"\")","v":5},{"$f":"IFERROR(VLOOKUP(F536,Hoja1!$A$50:$C$63,3),\"\")","v":5}]
[527,20259050007784,"2025-01-21","Persona natural","Virtual - Formulario PQRSDF","Certificación de tiempo, clima y eventos hidrológicos","Certificaciones del tiempo y clima",null,"Subdirección de Meteorología","2025-02-05","Correo electrónico","2025-03-04",null,"",null,{"$f":"IFERROR(WORKDAY(N537,Y537,Hoja1!F529:F645),\"\")","v":""},{"$f":"+IF(N537=\"\",\"\",IF(O537=\"\",\"SIN RESPUESTA\",(IF(O537<=P537,\"A TIEMPO\",\"FUERA DE TIEMPO\"))))","v":""},null,"A TIEMPO",11,0,null,null,{"$f":"IFERROR(VLOOKUP(F537,Hoja1!$A$50:$C$63,2),\"\")","v":15},{"$f":"IFERROR(VLOOKUP(F537,Hoja1!$A$50:$C$63,3),\"\")","v":15}]
[528,20259050007834,"2025-01-21","Persona natural","Virtual - Formulario PQRSDF","Solicitud de documentos o información","Solicitud de información hidrometeorológica",null,"Grupo de Servicio al Ciudadano","2025-01-28","Correo electrónico","2025-02-04",null,"",null,{"$f":"IFERROR(WORKDAY(N538,Y538,Hoja1!F530:F646),\"\")","v":""},{"$f":"+IF(N538=\"\",\"\",IF(O538=\"\",\"SIN RESPUESTA\",(IF(O538<=P538,\"A TIEMPO\",\"FUERA DE TIEMPO\"))))","v":""},null,"A TIEMPO",5,0,null,null,{"$f":"IFERROR(VLOOKUP(F538,Hoja1!$A$50:$C$63,2),\"\")","v":5},{"$f":"IFERROR(VLOOKUP(F538,Hoja1!$A$50:$C$63,3),\"\")","v":5}]
[529,20259910007844,"2025-01-21","Persona jurídica","Virtual - Correo electrónico","Solicitud de documentos o información","Solicitud de información hidrometeorológica",null,"Subdirección de Meteorología","2025-02-03","Correo electrónico","2025-02-04",null,"",null,{"$f":"IFERROR(WORKDAY(N539,Y539,Hoja1!F531:F647),\"\")","v":""},{"$f":"+IF(N539=\"\",\"\",IF(O539=\"\",\"SIN RESPUESTA\",(IF(O539<=P539,\"A TIEMPO\",\"FUERA DE TIEMPO\"))))","v":""},null,"A TIEMPO",9,0,null,null,{"$f":"IFERROR(VLOOKUP(F539,Hoja1!$A$50:$C$63,2),\"\")","v":5},{"$f":"IFERROR(VLOOKUP(F539,Hoja1!$A$50:$C$63,3),\"\")","v":5}]
[530,20259910007854,"2025-01-21","Persona jurídica","Virtual - Correo electrónico","Certificación de tiempo, clima y eventos hidrológicos","Certificaciones del tiempo y clima",null,"Subdirección de Meteorología","2025-02-05","Correo electrónico","2025-03-04",null,"",null,{"$f":"IFERROR(WORKDAY(N540,Y540,Hoja1!F532:F648),\"\")","v":""},{"$f":"+IF(N540=\"\",\"\",IF(O540=\"\",\"SIN RESPUESTA\",(IF(O540<=P540,\"A TIEMPO\",\"FUERA DE TIEMPO\"))))","v":""},null,"A TIEMPO",11,0,null,null,{"$f":"IFERROR(VLOOKUP(F540,Hoja1!$A$50:$C$63,2),\"\")","v":15},{"$f":"IFERROR(VLOOKUP(F540,Hoja1!$A$50:$C$63,3),\"\")","v":15}]
[531,20259910007864,"2025-01-21","Persona natural","Virtual - Correo electrónico","Solicitud de documentos o información","Cambio climático",null,"Subdirección de Estudios Ambientales","2025-01-30","Correo electrónico","2025-02-04",null,"",null,{"$f":"IFERROR(WORKDAY(N541,Y541,Hoja1!F533:F649),\"\")","v":""},{"$f":"+IF(N541=\"\",\"\",IF(O541=\"\",\"SIN RESPUESTA\",(IF(O541<=P541,\"A TIEMPO\",\"FUERA DE TIEMPO\"))))","v":""},null,"A TIEMPO",7,0,null,null,{"$f":"IFERROR(VLOOKUP(F541,Hoja1!$A$50:$C$63,2),\"\")","v":5},{"$f":"IFERROR(VLOOKUP(F541,Hoja1!$A$50:$C$63,3),\"\")","v":5}]
[532,20259910007874,"2025-01-21","Persona jurídica","Virtual - Correo electrónico","Certificación de contrato","Administrativa",null,"Oficina Asesora Jurídica","2025-02-11","Correo electrónico","2025-02-04",null,"",null,{"$f":"IFERROR(WORKDAY(N542,Y542,Hoja1!F534:F650),\"\")","v":""},{"$f":"+IF(N542=\"\",\"\",IF(O542=\"\",\"SIN RESPUESTA\",(IF(O542<=P542,\"A TIEMPO\",\"FUERA DE TIEMPO\"))))","v":""},null,{"$f":"+IF(C542=\"\",\"\",IF(J542=\"\",\"SIN RESPUESTA\",(IF(J542<=L542,\"A TIEMPO\",\"FUERA DE TIEMPO\"))))","v":"FUERA DE TIEMPO"},15,5,null,null,{"$f":"IFERROR(VLOOKUP(F542,Hoja1!$A$50:$C$63,2),\"\")","v":15},{"$f":"IFERROR(VLOOKUP(F542,Hoja1!$A$50:$C$63,3),\"\")","v":15}]
[533,20259910007884,"2025-01-21","Persona natural","Virtual - Correo electrónico","Solicitud de documentos o información","Solicitud de información hidrometeorológica",null,"Grupo de Servicio al Ciudadano","2025-01-28","Correo electrónico","2025-02-04",null,"",null,{"$f":"IFERROR(WORKDAY(N543,Y543,Hoja1!F535:F651),\"\")","v":""},{"$f":"+IF(N543=\"\",\"\",IF(O543=\"\",\"SIN RESPUESTA\",(IF(O543<=P543,\"A TIEMPO\",\"FUERA DE TIEMPO\"))))","v":""},null,"A TIEMPO",5,0,null,null,{"$f":"IFERROR(VLOOKUP(F543,Hoja1!$A$50:$C$63,2),\"\")","v":5},{"$f":"IFERROR(VLOOKUP(F543,Hoja1!$A$50:$C$63,3),\"\")","v":5}]
[534,20259910007894,"2025-01-21","Persona jurídica","Virtual - Correo electrónico","Certificación de contrato","Administrativa",null,"Oficina Asesora Jurídica","2025-02-11","Correo electrónico","2025-02-04",null,"",null,{"$f":"IFERROR(WORKDAY(N544,Y544,Hoja1!F536:F652),\"\")","v":""},{"$f":"+IF(N544=\"\",\"\",IF(O544=\"\",\"SIN RESPUESTA\",(IF(O544<=P544,\"A TIEMPO\",\"FUERA DE TIEMPO\"))))","v":""},null,{"$f":"+IF(C544=\"\",\"\",IF(J544=\"\",\"SIN RESPUESTA\",(IF(J544<=L544,\"A TIEMPO\",\"FUERA DE TIEMPO\"))))","v":"FUERA DE TIEMPO"},15,5,null,null,{"$f":"IFERROR(VLOOKUP(F544,Hoja1!$A$50:$C$63,2),\"\")","v":15},{"$f":"IFERROR(VLOOKUP(F544,Hoja1!$A$50:$C$63,3),\"\")","v":15}]
[535,20259910007904,"2025-01-21","Persona jurídica","Virtual - Correo electrónico","Certificación de contrato","Administrativa",null,"Oficina Asesora Jurídica","2025-02-11","Correo electrónico","2025-02-04",null,"",null,{"$f":"IFERROR(WORKDAY(N545,Y545,Hoja1!F537:F653),\"\")","v":""},{"$f":"+IF(N545=\"\",\"\",IF(O545=\"\",\"SIN RESPUESTA\",(IF(O545<=P545,\"A TIEMPO\",\"FUERA DE TIEMPO\"))))","v":""},null,{"$f":"+IF(C545=\"\",\"\",IF(J545=\"\",\"SIN RESPUESTA\",(IF(J545<=L545,\"A TIEMPO\",\"FUERA DE TIEMPO\"))))","v":"FUERA DE TIEMPO"},15,5,null,null,{"$f":"IFERROR(VLOOKUP(F545,Hoja1!$A$50:$C$63,2),\"\")","v":15},{"$f":"IFERROR(VLOOKUP(F545,Hoja1!$A$50:$C$63,3),\"\")","v":15}]
[536,20259910007914,"2025-01-21","Persona natural","Virtual - Correo electrónico","Certificación de contrato","Administrativa",null,"Oficina Asesora Jurídica","2025-02-06","Correo electrónico","2025-02-04",null,"",null,{"$f":"IFERROR(WORKDAY(N546,Y546,Hoja1!F538:F654),\"\")","v":""},{"$f":"+IF(N546=\"\",\"\",IF(O546=\"\",\"SIN RESPUESTA\",(IF(O546<=P546,\"A TIEMPO\",\"FUERA DE TIEMPO\"))))","v":""},null,{"$f":"+IF(C546=\"\",\"\",IF(J546=\"\",\"SIN RESPUESTA\",(IF(J546<=L546,\"A TIEMPO\",\"FUERA DE TIEMPO\"))))","v":"FUERA DE TIEMPO"},12,2,null,null,{"$f":"IFERROR(VLOOKUP(F546,Hoja1!$A$50:$C$63,2),\"\")","v":15},{"$f":"IFERROR(VLOOKUP(F546,Hoja1!$A$50:$C$63,3),\"\")","v":15}]
[537,20259050007924,"2025-01-21","Persona natural","Virtual - Formulario PQRSDF","Certificación laboral o pasantía","Administrativa",null,"Grupo de Administración y Desarrollo del Talento Humano","2025-01-27","Correo electrónico","2025-02-04",null,"",null,{"$f":"IFERROR(WORKDAY(N547,Y547,Hoja1!F539:F655),\"\")","v":""},{"$f":"+IF(N547=\"\",\"\",IF(O547=\"\",\"SIN RESPUESTA\",(IF(O547<=P547,\"A TIEMPO\",\"FUERA DE TIEMPO\"))))","v":""},null,"A TIEMPO",4,0,null,null,{"$f":"IFERROR(VLOOKUP(F547,Hoja1!$A$50:$C$63,2),\"\")","v":15},{"$f":"IFERROR(VLOOKUP(F547,Hoja1!$A$50:$C$63,3),\"\")","v":15}]
[538,20259050007934,"2025-01-21","Persona natural","Virtual - Formulario PQRSDF","Certificación de contrato","Administrativa",null,"Oficina Asesora Jurídica","2025-02-06","Correo electrónico","2025-02-04",null,"",null,{"$f":"IFERROR(WORKDAY(N548,Y548,Hoja1!F540:F656),\"\")","v":""},{"$f":"+IF(N548=\"\",\"\",IF(O548=\"\",\"SIN RESPUESTA\",(IF(O548<=P548,\"A TIEMPO\",\"FUERA DE TIEMPO\"))))","v":""},null,{"$f":"+IF(C548=\"\",\"\",IF(J548=\"\",\"SIN RESPUESTA\",(IF(J548<=L548,\"A TIEMPO\",\"FUERA DE TIEMPO\"))))","v":"FUERA DE TIEMPO"},12,2,null,null,{"$f":"IFERROR(VLOOKUP(F548,Hoja1!$A$50:$C$63,2),\"\")","v":15},{"$f":"IFERROR(VLOOKUP(F548,Hoja1!$A$50:$C$63,3),\"\")","v":15}]
[539,20259050007944,"2025-01-21","Persona natural","Virtual - Formulario PQRSDF","Solicitud de documentos o información","Solicitud de información hidrometeorológica",null,"Subdirección de Meteorología","2025-01-30","Correo electrónico","2025-02-04",null,"",null,{"$f":"IFERROR(WORKDAY(N549,Y549,Hoja1!F541:F657),\"\")","v":""},{"$f":"+IF(N549=\"\",\"\",IF(O549=\"\",\"SIN RESPUESTA\",(IF(O549<=P549,\"A TIEMPO\",\"FUERA DE TIEMPO\"))))","v":""},null,"A TIEMPO",7,0,null,null,{"$f":"IFERROR(VLOOKUP(F549,Hoja1!$A$50:$C$63,2),\"\")","v":5},{"$f":"IFERROR(VLOOKUP(F549,Hoja1!$A$50:$C$63,3),\"\")","v":5}]
[540,20259050007964,"2025-01-21","Persona natural","Virtual - Formulario PQRSDF","Certificación de contrato","Administrativa",null,"Oficina Asesora Jurídica","2025-02-06","Correo electrónico","2025-02-04",null,"",null,{"$f":"IFERROR(WORKDAY(N550,Y550,Hoja1!F542:F658),\"\")","v":""},{"$f":"+IF(N550=\"\",\"\",IF(O550=\"\",\"SIN RESPUESTA\",(IF(O550<=P550,\"A TIEMPO\",\"FUERA DE TIEMPO\"))))","v":""},null,{"$f":"+IF(C550=\"\",\"\",IF(J550=\"\",\"SIN RESPUESTA\",(IF(J550<=L550,\"A TIEMPO\",\"FUERA DE TIEMPO\"))))","v":"FUERA DE TIEMPO"},12,2,null,null,{"$f":"IFERROR(VLOOKUP(F550,Hoja1!$A$50:$C$63,2),\"\")","v":15},{"$f":"IFERROR(VLOOKUP(F550,Hoja1!$A$50:$C$63,3),\"\")","v":15}]
[541,20259910008124,"2025-01-21","Persona natural","Virtual - Correo electrónico","Certificación laboral o pasantía","Administrativa",null,"Grupo de Administración y Desarrollo del Talento Humano","2025-02-04","Correo electrónico","2025-02-04",null,"",null,{"$f":"IFERROR(WORKDAY(N551,Y551,Hoja1!F543:F659),\"\")","v":""},{"$f":"+IF(N551=\"\",\"\",IF(O551=\"\",\"SIN RESPUESTA\",(IF(O551<=P551,\"A TIEMPO\",\"FUERA DE TIEMPO\"))))","v":""},null,"A TIEMPO",10,0,null,null,{"$f":"IFERROR(VLOOKUP(F551,Hoja1!$A$50:$C$63,2),\"\")","v":15},{"$f":"IFERROR(VLOOKUP(F551,Hoja1!$A$50:$C$63,3),\"\")","v":15}]
[542,20259910008114,"2025-01-21","Persona natural","Virtual - Correo electrónico","Solicitud de documentos o información","Solicitud de información hidrometeorológica",null,"Grupo de Servicio al Ciudadano","2025-01-28","Correo electrónico","2025-02-04",null,"",null,{"$f":"IFERROR(WORKDAY(N552,Y552,Hoja1!F544:F660),\"\")","v":""},{"$f":"+IF(N552=\"\",\"\",IF(O552=\"\",\"SIN RESPUESTA\",(IF(O552<=P552,\"A TIEMPO\",\"FUERA DE TIEMPO\"))))","v":""},null,"A TIEMPO",5,0,null,null,{"$f":"IFERROR(VLOOKUP(F552,Hoja1!$A$50:$C$63,2),\"\")","v":5},{"$f":"IFERROR(VLOOKUP(F552,Hoja1!$A$50:$C$63,3),\"\")","v":5}]
[543,20259910008144,"2025-01-21","Persona natural","Virtual - Correo electrónico","Certificación de ingresos y retenciones","Administrativa",null,"Grupo de Tesorería","2025-01-22","Correo electrónico","2025-02-04",null,"",null,{"$f":"IFERROR(WORKDAY(N553,Y553,Hoja1!F545:F661),\"\")","v":""},{"$f":"+IF(N553=\"\",\"\",IF(O553=\"\",\"SIN RESPUESTA\",(IF(O553<=P553,\"A TIEMPO\",\"FUERA DE TIEMPO\"))))","v":""},null,"A TIEMPO",1,0,null,null,{"$f":"IFERROR(VLOOKUP(F553,Hoja1!$A$50:$C$63,2),\"\")","v":15},{"$f":"IFERROR(VLOOKUP(F553,Hoja1!$A$50:$C$63,3),\"\")","v":15}]
[544,20259910008164,"2025-01-21","Persona natural","Virtual - Correo electrónico","Certificación de contrato","Administrativa",null,"Oficina Asesora Jurídica","2025-02-06","Correo electrónico","2025-02-04",null,"",null,{"$f":"IFERROR(WORKDAY(N554,Y554,Hoja1!F546:F662),\"\")","v":""},{"$f":"+IF(N554=\"\",\"\",IF(O554=\"\",\"SIN RESPUESTA\",(IF(O554<=P554,\"A TIEMPO\",\"FUERA DE TIEMPO\"))))","v":""},null,{"$f":"+IF(C554=\"\",\"\",IF(J554=\"\",\"SIN RESPUESTA\",(IF(J554<=L554,\"A TIEMPO\",\"FUERA DE TIEMPO\"))))","v":"FUERA DE TIEMPO"},12,2,null,null,{"$f":"IFERROR(VLOOKUP(F554,Hoja1!$A$50:$C$63,2),\"\")","v":15},{"$f":"IFERROR(VLOOKUP(F554,Hoja1!$A$50:$C$63,3),\"\")","v":15}]
[545,20259910008204,"2025-01-21","Persona natural","Virtual - Correo electrónico","Certificación electrónica de tiempos laborados - CETIL","Administrativa",null,"Grupo de Administración y Desarrollo del Talento Humano","2025-01-29","Correo electrónico","2025-02-11",null,"",null,{"$f":"IFERROR(WORKDAY(N555,Y555,Hoja1!F547:F663),\"\")","v":""},{"$f":"+IF(N555=\"\",\"\",IF(O555=\"\",\"SIN RESPUESTA\",(IF(O555<=P555,\"A TIEMPO\",\"FUERA DE TIEMPO\"))))","v":""},null,"A TIEMPO",6,0,null,null,{"$f":"IFERROR(VLOOKUP(F555,Hoja1!$A$50:$C$63,2),\"\")","v":15},{"$f":"IFERROR(VLOOKUP(F555,Hoja1!$A$50:$C$63,3),\"\")","v":15}]
[546,20259050008254,"2025-01-21","Persona natural","Virtual - Formulario PQRSDF","Certificación de contrato","Administrativa",null,"Oficina Asesora Jurídica","2025-02-06","Correo electrónico","2025-02-04",null,"",null,{"$f":"IFERROR(WORKDAY(N556,Y556,Hoja1!F548:F664),\"\")","v":""},{"$f":"+IF(N556=\"\",\"\",IF(O556=\"\",\"SIN RESPUESTA\",(IF(O556<=P556,\"A TIEMPO\",\"FUERA DE TIEMPO\"))))","v":""},null,{"$f":"+IF(C556=\"\",\"\",IF(J556=\"\",\"SIN RESPUESTA\",(IF(J556<=L556,\"A TIEMPO\",\"FUERA DE TIEMPO\"))))","v":"FUERA DE TIEMPO"},12,2,null,null,{"$f":"IFERROR(VLOOKUP(F556,Hoja1!$A$50:$C$63,2),\"\")","v":15},{"$f":"IFERROR(VLOOKUP(F556,Hoja1!$A$50:$C$63,3),\"\")","v":15}]
[547,20259050008284,"2025-01-21","Persona natural","Virtual - Formulario PQRSDF","Certificación de ingresos y retenciones","Administrativa",null,"Grupo de Tesorería","2025-01-22","Correo electrónico","2025-02-04",null,"",null,{"$f":"IFERROR(WORKDAY(N557,Y557,Hoja1!F549:F665),\"\")","v":""},{"$f":"+IF(N557=\"\",\"\",IF(O557=\"\",\"SIN RESPUESTA\",(IF(O557<=P557,\"A TIEMPO\",\"FUERA DE TIEMPO\"))))","v":""},null,"A TIEMPO",1,0,null,null,{"$f":"IFERROR(VLOOKUP(F557,Hoja1!$A$50:$C$63,2),\"\")","v":15},{"$f":"IFERROR(VLOOKUP(F557,Hoja1!$A$50:$C$63,3),\"\")","v":15}]
[548,20259050008304,"2025-01-21","Persona natural","Virtual - Formulario PQRSDF","Certificación de contrato","Administrativa",null,"Oficina Asesora Jurídica","2025-02-06","Correo electrónico","2025-02-04",null,"",null,{"$f":"IFERROR(WORKDAY(N558,Y558,Hoja1!F550:F666),\"\")","v":""},{"$f":"+IF(N558=\"\",\"\",IF(O558=\"\",\"SIN RESPUESTA\",(IF(O558<=P558,\"A TIEMPO\",\"FUERA DE TIEMPO\"))))","v":""},null,{"$f":"+IF(C558=\"\",\"\",IF(J558=\"\",\"SIN RESPUESTA\",(IF(J558<=L558,\"A TIEMPO\",\"FUERA DE TIEMPO\"))))","v":"FUERA DE TIEMPO"},12,2,null,null,{"$f":"IFERROR(VLOOKUP(F558,Hoja1!$A$50:$C$63,2),\"\")","v":15},{"$f":"IFERROR(VLOOKUP(F558,Hoja1!$A$50:$C$63,3),\"\")","v":15}]
[549,20259910008224,"2025-01-21","Persona jurídica","Virtual - Correo electrónico","Solicitud de documentos o información","Registros ambientales",null,"Subdirección de Estudios Ambientales","2025-01-23","Correo electrónico","2025-02-04",null,"",null,{"$f":"IFERROR(WORKDAY(N559,Y559,Hoja1!F551:F667),\"\")","v":""},{"$f":"+IF(N559=\"\",\"\",IF(O559=\"\",\"SIN RESPUESTA\",(IF(O559<=P559,\"A TIEMPO\",\"FUERA DE TIEMPO\"))))","v":""},null,"A TIEMPO",2,0,null,null,{"$f":"IFERROR(VLOOKUP(F559,Hoja1!$A$50:$C$63,2),\"\")","v":5},{"$f":"IFERROR(VLOOKUP(F559,Hoja1!$A$50:$C$63,3),\"\")","v":5}]
[550,20259050008244,"2025-01-21","Persona jurídica","Virtual - Formulario PQRSDF","Certificación de ingresos y retenciones","Administrativa",null,"Grupo de Contabilidad","2025-01-23","Correo electrónico","2025-02-04",null,"",null,{"$f":"IFERROR(WORKDAY(N560,Y560,Hoja1!F552:F668),\"\")","v":""},{"$f":"+IF(N560=\"\",\"\",IF(O560=\"\",\"SIN RESPUESTA\",(IF(O560<=P560,\"A TIEMPO\",\"FUERA DE TIEMPO\"))))","v":""},null,"A TIEMPO",2,0,null,null,{"$f":"IFERROR(VLOOKUP(F560,Hoja1!$A$50:$C$63,2),\"\")","v":15},{"$f":"IFERROR(VLOOKUP(F560,Hoja1!$A$50:$C$63,3),\"\")","v":15}]
[551,20259050008264,"2025-01-21","Persona natural","Virtual - Formulario PQRSDF","Solicitud de documentos o información","Solicitud de información hidrometeorológica",null,"Grupo de Servicio al Ciudadano","2025-01-28","Correo electrónico","2025-02-04",null,"",null,{"$f":"IFERROR(WORKDAY(N561,Y561,Hoja1!F553:F669),\"\")","v":""},{"$f":"+IF(N561=\"\",\"\",IF(O561=\"\",\"SIN RESPUESTA\",(IF(O561<=P561,\"A TIEMPO\",\"FUERA DE TIEMPO\"))))","v":""},null,"A TIEMPO",5,0,null,null,{"$f":"IFERROR(VLOOKUP(F561,Hoja1!$A$50:$C$63,2),\"\")","v":5},{"$f":"IFERROR(VLOOKUP(F561,Hoja1!$A$50:$C$63,3),\"\")","v":5}]
[552,20259050008344,"2025-01-22","Persona natural","Virtual - Formulario PQRSDF","Solicitud de documentos o información","Solicitud de información hidrometeorológica",null,"Subdirección de Meteorología","2025-02-04","Correo electrónico","2025-02-05",null,"",null,{"$f":"IFERROR(WORKDAY(N562,Y562,Hoja1!F554:F670),\"\")","v":""},{"$f":"+IF(N562=\"\",\"\",IF(O562=\"\",\"SIN RESPUESTA\",(IF(O562<=P562,\"A TIEMPO\",\"FUERA DE TIEMPO\"))))","v":""},null,"A TIEMPO",9,0,null,null,{"$f":"IFERROR(VLOOKUP(F562,Hoja1!$A$50:$C$63,2),\"\")","v":5},{"$f":"IFERROR(VLOOKUP(F562,Hoja1!$A$50:$C$63,3),\"\")","v":5}]
[553,20259050008354,"2025-01-22","Persona natural","Virtual - Formulario PQRSDF","Solicitud de documentos o información","Solicitud de información hidrometeorológica",null,"Grupo de Servicio al Ciudadano","2025-01-28","Correo electrónico","2025-02-05",null,"",null,{"$f":"IFERROR(WORKDAY(N563,Y563,Hoja1!F555:F671),\"\")","v":""},{"$f":"+IF(N563=\"\",\"\",IF(O563=\"\",\"SIN RESPUESTA\",(IF(O563<=P563,\"A TIEMPO\",\"FUERA DE TIEMPO\"))))","v":""},null,"A TIEMPO",4,0,null,null,{"$f":"IFERROR(VLOOKUP(F563,Hoja1!$A$50:$C$63,2),\"\")","v":5},{"$f":"IFERROR(VLOOKUP(F563,Hoja1!$A$50:$C$63,3),\"\")","v":5}]
[554,20259050008364,"2025-01-22","Persona natural","Virtual - Formulario PQRSDF","Certificación de contrato","Administrativa",null,"Oficina Asesora Jurídica","2025-02-06","Correo electrónico","2025-02-05",null,"",null,{"$f":"IFERROR(WORKDAY(N564,Y564,Hoja1!F556:F672),\"\")","v":""},{"$f":"+IF(N564=\"\",\"\",IF(O564=\"\",\"SIN RESPUESTA\",(IF(O564<=P564,\"A TIEMPO\",\"FUERA DE TIEMPO\"))))","v":""},null,{"$f":"+IF(C564=\"\",\"\",IF(J564=\"\",\"SIN RESPUESTA\",(IF(J564<=L564,\"A TIEMPO\",\"FUERA DE TIEMPO\"))))","v":"FUERA DE TIEMPO"},11,1,null,null,{"$f":"IFERROR(VLOOKUP(F564,Hoja1!$A$50:$C$63,2),\"\")","v":15},{"$f":"IFERROR(VLOOKUP(F564,Hoja1!$A$50:$C$63,3),\"\")","v":15}]
[555,20259050008374,"2025-01-22","Persona jurídica","Virtual - Formulario PQRSDF","Solicitud de documentos o información","Registros ambientales",null,"Subdirección de Estudios Ambientales","2025-01-27","Correo electrónico","2025-02-05",null,"",null,{"$f":"IFERROR(WORKDAY(N565,Y565,Hoja1!F557:F673),\"\")","v":""},{"$f":"+IF(N565=\"\",\"\",IF(O565=\"\",\"SIN RESPUESTA\",(IF(O565<=P565,\"A TIEMPO\",\"FUERA DE TIEMPO\"))))","v":""},null,"A TIEMPO",3,0,null,null,{"$f":"IFERROR(VLOOKUP(F565,Hoja1!$A$50:$C$63,2),\"\")","v":5},{"$f":"IFERROR(VLOOKUP(F565,Hoja1!$A$50:$C$63,3),\"\")","v":5}]
[556,20259050008404,"2025-01-22","Persona natural","Virtual - Formulario PQRSDF","Certificación de contrato","Administrativa",null,"Oficina Asesora Jurídica","2025-02-06","Correo electrónico","2025-02-05",null,"",null,{"$f":"IFERROR(WORKDAY(N566,Y566,Hoja1!F558:F674),\"\")","v":""},{"$f":"+IF(N566=\"\",\"\",IF(O566=\"\",\"SIN RESPUESTA\",(IF(O566<=P566,\"A TIEMPO\",\"FUERA DE TIEMPO\"))))","v":""},null,{"$f":"+IF(C566=\"\",\"\",IF(J566=\"\",\"SIN RESPUESTA\",(IF(J566<=L566,\"A TIEMPO\",\"FUERA DE TIEMPO\"))))","v":"FUERA DE TIEMPO"},11,1,null,null,{"$f":"IFERROR(VLOOKUP(F566,Hoja1!$A$50:$C$63,2),\"\")","v":15},{"$f":"IFERROR(VLOOKUP(F566,Hoja1!$A$50:$C$63,3),\"\")","v":15}]
[557,20259050008414,"2025-01-22","Persona natural","Virtual - Formulario PQRSDF","Certificación de contrato","Administrativa",null,"Oficina Asesora Jurídica","2025-02-06","Correo electrónico","2025-02-05",null,"",null,{"$f":"IFERROR(WORKDAY(N567,Y567,Hoja1!F559:F675),\"\")","v":""},{"$f":"+IF(N567=\"\",\"\",IF(O567=\"\",\"SIN RESPUESTA\",(IF(O567<=P567,\"A TIEMPO\",\"FUERA DE TIEMPO\"))))","v":""},null,{"$f":"+IF(C567=\"\",\"\",IF(J567=\"\",\"SIN RESPUESTA\",(IF(J567<=L567,\"A TIEMPO\",\"FUERA DE TIEMPO\"))))","v":"FUERA DE TIEMPO"},11,1,null,null,{"$f":"IFERROR(VLOOKUP(F567,Hoja1!$A$50:$C$63,2),\"\")","v":15},{"$f":"IFERROR(VLOOKUP(F567,Hoja1!$A$50:$C$63,3),\"\")","v":15}]
[558,20259050008434,"2025-01-22","Persona natural","Virtual - Formulario PQRSDF","Certificación de contrato","Administrativa",null,"Oficina Asesora Jurídica","2025-02-06","Correo electrónico","2025-02-05",null,"",null,{"$f":"IFERROR(WORKDAY(N568,Y568,Hoja1!F560:F676),\"\")","v":""},{"$f":"+IF(N568=\"\",\"\",IF(O568=\"\",\"SIN RESPUESTA\",(IF(O568<=P568,\"A TIEMPO\",\"FUERA DE TIEMPO\"))))","v":""},null,{"$f":"+IF(C568=\"\",\"\",IF(J568=\"\",\"SIN RESPUESTA\",(IF(J568<=L568,\"A TIEMPO\",\"FUERA DE TIEMPO\"))))","v":"FUERA DE TIEMPO"},11,1,null,null,{"$f":"IFERROR(VLOOKUP(F568,Hoja1!$A$50:$C$63,2),\"\")","v":15},{"$f":"IFERROR(VLOOKUP(F568,Hoja1!$A$50:$C$63,3),\"\")","v":15}]
[559,20259910008454,"2025-01-22","Persona natural","Virtual - Correo electrónico","Solicitud de documentos o información","Solicitud de información hidrometeorológica",null,"Grupo de Servicio al Ciudadano","2025-01-28","Correo electrónico","2025-02-05",null,"",null,{"$f":"IFERROR(WORKDAY(N569,Y569,Hoja1!F561:F677),\"\")","v":""},{"$f":"+IF(N569=\"\",\"\",IF(O569=\"\",\"SIN RESPUESTA\",(IF(O569<=P569,\"A TIEMPO\",\"FUERA DE TIEMPO\"))))","v":""},null,"A TIEMPO",4,0,null,null,{"$f":"IFERROR(VLOOKUP(F569,Hoja1!$A$50:$C$63,2),\"\")","v":5},{"$f":"IFERROR(VLOOKUP(F569,Hoja1!$A$50:$C$63,3),\"\")","v":5}]
[560,20259910008464,"2025-01-22","Persona jurídica","Correo certificado","Petición entre autoridades","Sistema de información del recurso hídrico",null,"Subdirección de Meteorología","2025-01-30","Correo electrónico","2025-02-05",null,"",null,{"$f":"IFERROR(WORKDAY(N570,Y570,Hoja1!F562:F678),\"\")","v":""},{"$f":"+IF(N570=\"\",\"\",IF(O570=\"\",\"SIN RESPUESTA\",(IF(O570<=P570,\"A TIEMPO\",\"FUERA DE TIEMPO\"))))","v":""},null,"A TIEMPO",6,0,null,null,{"$f":"IFERROR(VLOOKUP(F570,Hoja1!$A$50:$C$63,2),\"\")","v":10},{"$f":"IFERROR(VLOOKUP(F570,Hoja1!$A$50:$C$63,3),\"\")","v":10}]
[561,20259910008474,"2025-01-22","Persona jurídica","Virtual - Correo electrónico","Certificación de tiempo, clima y eventos hidrológicos","Certificaciones del tiempo y clima",null,"Subdirección de Meteorología","2025-01-29","Correo electrónico","2025-03-05",null,"",null,{"$f":"IFERROR(WORKDAY(N571,Y571,Hoja1!F563:F679),\"\")","v":""},{"$f":"+IF(N571=\"\",\"\",IF(O571=\"\",\"SIN RESPUESTA\",(IF(O571<=P571,\"A TIEMPO\",\"FUERA DE TIEMPO\"))))","v":""},null,"A TIEMPO",5,0,null,null,{"$f":"IFERROR(VLOOKUP(F571,Hoja1!$A$50:$C$63,2),\"\")","v":15},{"$f":"IFERROR(VLOOKUP(F571,Hoja1!$A$50:$C$63,3),\"\")","v":15}]
[562,20259910008484,"2025-01-22","Persona jurídica","Virtual - Correo electrónico","Petición entre autoridades","Sistema de información ambiental",null,"Subdirección de Hidrología","2025-01-28","Correo electrónico","2025-02-05",null,"",null,{"$f":"IFERROR(WORKDAY(N572,Y572,Hoja1!F564:F680),\"\")","v":""},{"$f":"+IF(N572=\"\",\"\",IF(O572=\"\",\"SIN RESPUESTA\",(IF(O572<=P572,\"A TIEMPO\",\"FUERA DE TIEMPO\"))))","v":""},null,"A TIEMPO",4,0,null,null,{"$f":"IFERROR(VLOOKUP(F572,Hoja1!$A$50:$C$63,2),\"\")","v":10},{"$f":"IFERROR(VLOOKUP(F572,Hoja1!$A$50:$C$63,3),\"\")","v":10}]
[563,20259910008494,"2025-01-22","Persona natural","Virtual - Correo electrónico","Certificación de contrato","Administrativa",null,"Oficina Asesora Jurídica","2025-02-06","Correo electrónico","2025-02-05",null,"",null,{"$f":"IFERROR(WORKDAY(N573,Y573,Hoja1!F565:F681),\"\")","v":""},{"$f":"+IF(N573=\"\",\"\",IF(O573=\"\",\"SIN RESPUESTA\",(IF(O573<=P573,\"A TIEMPO\",\"FUERA DE TIEMPO\"))))","v":""},null,{"$f":"+IF(C573=\"\",\"\",IF(J573=\"\",\"SIN RESPUESTA\",(IF(J573<=L573,\"A TIEMPO\",\"FUERA DE TIEMPO\"))))","v":"FUERA DE TIEMPO"},11,1,null,null,{"$f":"IFERROR(VLOOKUP(F573,Hoja1!$A$50:$C$63,2),\"\")","v":15},{"$f":"IFERROR(VLOOKUP(F573,Hoja1!$A$50:$C$63,3),\"\")","v":15}]
[564,20259050008504,"2025-01-22","Persona natural","Virtual - Formulario PQRSDF","Certificación de contrato","Administrativa",null,"Oficina Asesora Jurídica","2025-02-06","Correo electrónico","2025-02-05",null,"",null,{"$f":"IFERROR(WORKDAY(N574,Y574,Hoja1!F566:F682),\"\")","v":""},{"$f":"+IF(N574=\"\",\"\",IF(O574=\"\",\"SIN RESPUESTA\",(IF(O574<=P574,\"A TIEMPO\",\"FUERA DE TIEMPO\"))))","v":""},null,{"$f":"+IF(C574=\"\",\"\",IF(J574=\"\",\"SIN RESPUESTA\",(IF(J574<=L574,\"A TIEMPO\",\"FUERA DE TIEMPO\"))))","v":"FUERA DE TIEMPO"},11,1,null,null,{"$f":"IFERROR(VLOOKUP(F574,Hoja1!$A$50:$C$63,2),\"\")","v":15},{"$f":"IFERROR(VLOOKUP(F574,Hoja1!$A$50:$C$63,3),\"\")","v":15}]
[565,20259910008534,"2025-01-22","Persona jurídica","Virtual - Correo electrónico","Solicitud de documentos o información","Solicitud de información hidrometeorológica",null,"Subdirección de Ecosistemas e Información Ambiental","2025-02-05","Correo electrónico","2025-02-05",null,"",null,{"$f":"IFERROR(WORKDAY(N575,Y575,Hoja1!F567:F683),\"\")","v":""},{"$f":"+IF(N575=\"\",\"\",IF(O575=\"\",\"SIN RESPUESTA\",(IF(O575<=P575,\"A TIEMPO\",\"FUERA DE TIEMPO\"))))","v":""},null,"A TIEMPO",10,0,null,null,{"$f":"IFERROR(VLOOKUP(F575,Hoja1!$A$50:$C$63,2),\"\")","v":5},{"$f":"IFERROR(VLOOKUP(F575,Hoja1!$A$50:$C$63,3),\"\")","v":5}]
[566,20259910008514,"2025-01-22","Persona jurídica","Virtual - Correo electrónico","Solicitud de documentos o información","Medios de comunicación",null,"Grupo de Comunicaciones","2025-02-13","Correo electrónico","2025-02-05",null,"",null,{"$f":"IFERROR(WORKDAY(N576,Y576,Hoja1!F568:F684),\"\")","v":""},{"$f":"+IF(N576=\"\",\"\",IF(O576=\"\",\"SIN RESPUESTA\",(IF(O576<=P576,\"A TIEMPO\",\"FUERA DE TIEMPO\"))))","v":""},null,{"$f":"+IF(C576=\"\",\"\",IF(J576=\"\",\"SIN RESPUESTA\",(IF(J576<=L576,\"A TIEMPO\",\"FUERA DE TIEMPO\"))))","v":"FUERA DE TIEMPO"},16,6,null,null,{"$f":"IFERROR(VLOOKUP(F576,Hoja1!$A$50:$C$63,2),\"\")","v":5},{"$f":"IFERROR(VLOOKUP(F576,Hoja1!$A$50:$C$63,3),\"\")","v":5}]
[567,20259910008554,"2025-01-22","Persona natural","Virtual - Correo electrónico","Solicitud de documentos o información","Solicitud de información hidrometeorológica",null,"Subdirección de Meteorología","2025-01-31","Correo electrónico","2025-02-05",null,"",null,{"$f":"IFERROR(WORKDAY(N577,Y577,Hoja1!F569:F685),\"\")","v":""},{"$f":"+IF(N577=\"\",\"\",IF(O577=\"\",\"SIN RESPUESTA\",(IF(O577<=P577,\"A TIEMPO\",\"FUERA DE TIEMPO\"))))","v":""},null,"A TIEMPO",7,0,null,null,{"$f":"IFERROR(VLOOKUP(F577,Hoja1!$A$50:$C$63,2),\"\")","v":5},{"$f":"IFERROR(VLOOKUP(F577,Hoja1!$A$50:$C$63,3),\"\")","v":5}]
[568,20259910008574,"2025-01-22","Persona natural","Virtual - Correo electrónico","Certificación laboral o pasantía","Administrativa",null,"Grupo de Administración y Desarrollo del Talento Humano","2025-01-28","Correo electrónico","2025-02-05",null,"",null,{"$f":"IFERROR(WORKDAY(N578,Y578,Hoja1!F570:F686),\"\")","v":""},{"$f":"+IF(N578=\"\",\"\",IF(O578=\"\",\"SIN RESPUESTA\",(IF(O578<=P578,\"A TIEMPO\",\"FUERA DE TIEMPO\"))))","v":""},null,"A TIEMPO",4,0,null,null,{"$f":"IFERROR(VLOOKUP(F578,Hoja1!$A$50:$C$63,2),\"\")","v":15},{"$f":"IFERROR(VLOOKUP(F578,Hoja1!$A$50:$C$63,3),\"\")","v":15}]
[569,20259910008584,"2025-01-22","Persona jurídica","Virtual - Correo electrónico","Solicitud de documentos o información","Informes ambientales",null,"Subdirección de Estudios Ambientales","2025-01-23","Correo electrónico","2025-02-05",null,"",null,{"$f":"IFERROR(WORKDAY(N579,Y579,Hoja1!F571:F687),\"\")","v":""},{"$f":"+IF(N579=\"\",\"\",IF(O579=\"\",\"SIN RESPUESTA\",(IF(O579<=P579,\"A TIEMPO\",\"FUERA DE TIEMPO\"))))","v":""},null,"A TIEMPO",1,0,null,null,{"$f":"IFERROR(VLOOKUP(F579,Hoja1!$A$50:$C$63,2),\"\")","v":5},{"$f":"IFERROR(VLOOKUP(F579,Hoja1!$A$50:$C$63,3),\"\")","v":5}]
[570,20259910008594,"2025-01-22","Persona jurídica","Virtual - Correo electrónico","Solicitud de documentos o información","Administrativa",null,"Grupo de Contabilidad","2025-01-24","Correo certificado","2025-02-05",null,"",null,{"$f":"IFERROR(WORKDAY(N580,Y580,Hoja1!F572:F688),\"\")","v":""},{"$f":"+IF(N580=\"\",\"\",IF(O580=\"\",\"SIN RESPUESTA\",(IF(O580<=P580,\"A TIEMPO\",\"FUERA DE TIEMPO\"))))","v":""},null,"A TIEMPO",2,0,null,null,{"$f":"IFERROR(VLOOKUP(F580,Hoja1!$A$50:$C$63,2),\"\")","v":5},{"$f":"IFERROR(VLOOKUP(F580,Hoja1!$A$50:$C$63,3),\"\")","v":5}]
[571,20259050008604,"2025-01-22","Persona natural","Virtual - Formulario PQRSDF","Certificación de contrato","Administrativa",null,"Oficina Asesora Jurídica","2025-02-06","Correo electrónico","2025-02-05",null,"",null,{"$f":"IFERROR(WORKDAY(N581,Y581,Hoja1!F573:F689),\"\")","v":""},{"$f":"+IF(N581=\"\",\"\",IF(O581=\"\",\"SIN RESPUESTA\",(IF(O581<=P581,\"A TIEMPO\",\"FUERA DE TIEMPO\"))))","v":""},null,{"$f":"+IF(C581=\"\",\"\",IF(J581=\"\",\"SIN RESPUESTA\",(IF(J581<=L581,\"A TIEMPO\",\"FUERA DE TIEMPO\"))))","v":"FUERA DE TIEMPO"},11,1,null,null,{"$f":"IFERROR(VLOOKUP(F581,Hoja1!$A$50:$C$63,2),\"\")","v":15},{"$f":"IFERROR(VLOOKUP(F581,Hoja1!$A$50:$C$63,3),\"\")","v":15}]
[572,20259910008614,"2025-01-22","Persona jurídica","Virtual - Correo electrónico","Solicitud de documentos o información","Informes ambientales",null,"Oficina Asesora Jurídica","2025-02-05","Correo electrónico","2025-02-05",null,"",null,{"$f":"IFERROR(WORKDAY(N582,Y582,Hoja1!F574:F690),\"\")","v":""},{"$f":"+IF(N582=\"\",\"\",IF(O582=\"\",\"SIN RESPUESTA\",(IF(O582<=P582,\"A TIEMPO\",\"FUERA DE TIEMPO\"))))","v":""},null,"A TIEMPO",10,0,null,null,{"$f":"IFERROR(VLOOKUP(F582,Hoja1!$A$50:$C$63,2),\"\")","v":5},{"$f":"IFERROR(VLOOKUP(F582,Hoja1!$A$50:$C$63,3),\"\")","v":5}]
[573,20259910008634,"2025-01-22","Persona natural","Virtual - Correo electrónico","Solicitud de documentos o información","Informes ambientales",null,"Subdirección de Estudios Ambientales","2025-01-27","Correo electrónico","2025-02-05",null,"",null,{"$f":"IFERROR(WORKDAY(N583,Y583,Hoja1!F575:F691),\"\")","v":""},{"$f":"+IF(N583=\"\",\"\",IF(O583=\"\",\"SIN RESPUESTA\",(IF(O583<=P583,\"A TIEMPO\",\"FUERA DE TIEMPO\"))))","v":""},null,"A TIEMPO",3,0,null,null,{"$f":"IFERROR(VLOOKUP(F583,Hoja1!$A$50:$C$63,2),\"\")","v":5},{"$f":"IFERROR(VLOOKUP(F583,Hoja1!$A$50:$C$63,3),\"\")","v":5}]
[574,20259910008644,"2025-01-22","Persona natural","Virtual - Correo electrónico","Certificación de contrato","Administrativa",null,"Oficina Asesora Jurídica","2025-02-06","Correo electrónico","2025-02-05",null,"",null,{"$f":"IFERROR(WORKDAY(N584,Y584,Hoja1!F576:F692),\"\")","v":""},{"$f":"+IF(N584=\"\",\"\",IF(O584=\"\",\"SIN RESPUESTA\",(IF(O584<=P584,\"A TIEMPO\",\"FUERA DE TIEMPO\"))))","v":""},null,{"$f":"+IF(C584=\"\",\"\",IF(J584=\"\",\"SIN RESPUESTA\",(IF(J584<=L584,\"A TIEMPO\",\"FUERA DE TIEMPO\"))))","v":"FUERA DE TIEMPO"},11,1,null,null,{"$f":"IFERROR(VLOOKUP(F584,Hoja1!$A$50:$C$63,2),\"\")","v":15},{"$f":"IFERROR(VLOOKUP(F584,Hoja1!$A$50:$C$63,3),\"\")","v":15}]
[575,20259910008654,"2025-01-22","Persona jurídica","Virtual - Correo electrónico","Solicitud de documentos o información","Administrativa",null,"Subdirección de Hidrología","2025-01-23","No aplica","2025-02-05",null,"",null,{"$f":"IFERROR(WORKDAY(N585,Y585,Hoja1!F577:F693),\"\")","v":""},{"$f":"+IF(N585=\"\",\"\",IF(O585=\"\",\"SIN RESPUESTA\",(IF(O585<=P585,\"A TIEMPO\",\"FUERA DE TIEMPO\"))))","v":""},null,"A TIEMPO",1,0,null,null,{"$f":"IFERROR(VLOOKUP(F585,Hoja1!$A$50:$C$63,2),\"\")","v":5},{"$f":"IFERROR(VLOOKUP(F585,Hoja1!$A$50:$C$63,3),\"\")","v":5}]
[576,20259910008664,"2025-01-22","Persona jurídica","Virtual - Correo electrónico","Solicitud de documentos o información","Registros ambientales",null,"Subdirección de Estudios Ambientales","2025-01-27","Correo electrónico","2025-02-05",null,"",null,{"$f":"IFERROR(WORKDAY(N586,Y586,Hoja1!F578:F694),\"\")","v":""},{"$f":"+IF(N586=\"\",\"\",IF(O586=\"\",\"SIN RESPUESTA\",(IF(O586<=P586,\"A TIEMPO\",\"FUERA DE TIEMPO\"))))","v":""},null,"A TIEMPO",3,0,null,null,{"$f":"IFERROR(VLOOKUP(F586,Hoja1!$A$50:$C$63,2),\"\")","v":5},{"$f":"IFERROR(VLOOKUP(F586,Hoja1!$A$50:$C$63,3),\"\")","v":5}]
[577,20259910008674,"2025-01-22","Persona natural","Virtual - Correo electrónico","Certificación de contrato","Administrativa",null,"Oficina Asesora Jurídica","2025-02-06","Correo electrónico","2025-02-05",null,"",null,{"$f":"IFERROR(WORKDAY(N587,Y587,Hoja1!F579:F695),\"\")","v":""},{"$f":"+IF(N587=\"\",\"\",IF(O587=\"\",\"SIN RESPUESTA\",(IF(O587<=P587,\"A TIEMPO\",\"FUERA DE TIEMPO\"))))","v":""},null,{"$f":"+IF(C587=\"\",\"\",IF(J587=\"\",\"SIN RESPUESTA\",(IF(J587<=L587,\"A TIEMPO\",\"FUERA DE TIEMPO\"))))","v":"FUERA DE TIEMPO"},11,1,null,null,{"$f":"IFERROR(VLOOKUP(F587,Hoja1!$A$50:$C$63,2),\"\")","v":15},{"$f":"IFERROR(VLOOKUP(F587,Hoja1!$A$50:$C$63,3),\"\")","v":15}]
[578,20259910008734,"2025-01-22","Persona natural","Virtual - Correo electrónico","Solicitud de documentos o información","Solicitud de información hidrometeorológica",null,"Grupo de Servicio al Ciudadano","2025-01-31","Correo electrónico","2025-02-05",null,"",null,{"$f":"IFERROR(WORKDAY(N588,Y588,Hoja1!F580:F696),\"\")","v":""},{"$f":"+IF(N588=\"\",\"\",IF(O588=\"\",\"SIN RESPUESTA\",(IF(O588<=P588,\"A TIEMPO\",\"FUERA DE TIEMPO\"))))","v":""},null,"A TIEMPO",7,0,null,null,{"$f":"IFERROR(VLOOKUP(F588,Hoja1!$A$50:$C$63,2),\"\")","v":5},{"$f":"IFERROR(VLOOKUP(F588,Hoja1!$A$50:$C$63,3),\"\")","v":5}]
[579,20259910008744,"2025-01-22","Persona natural","Virtual - Correo electrónico","Solicitud de documentos o información","Solicitud de información hidrometeorológica",null,"Grupo de Servicio al Ciudadano","2025-01-28","Correo electrónico","2025-02-05",null,"",null,{"$f":"IFERROR(WORKDAY(N589,Y589,Hoja1!F581:F697),\"\")","v":""},{"$f":"+IF(N589=\"\",\"\",IF(O589=\"\",\"SIN RESPUESTA\",(IF(O589<=P589,\"A TIEMPO\",\"FUERA DE TIEMPO\"))))","v":""},null,"A TIEMPO",4,0,null,null,{"$f":"IFERROR(VLOOKUP(F589,Hoja1!$A$50:$C$63,2),\"\")","v":5},{"$f":"IFERROR(VLOOKUP(F589,Hoja1!$A$50:$C$63,3),\"\")","v":5}]
[580,20259910008824,"2025-01-22","Persona jurídica","Virtual - Correo electrónico","Solicitud de documentos o información","Solicitud de información hidrometeorológica",null,"Grupo de Servicio al Ciudadano","2025-01-28","Correo electrónico","2025-02-05",null,"",null,{"$f":"IFERROR(WORKDAY(N590,Y590,Hoja1!F582:F698),\"\")","v":""},{"$f":"+IF(N590=\"\",\"\",IF(O590=\"\",\"SIN RESPUESTA\",(IF(O590<=P590,\"A TIEMPO\",\"FUERA DE TIEMPO\"))))","v":""},null,"A TIEMPO",4,0,null,null,{"$f":"IFERROR(VLOOKUP(F590,Hoja1!$A$50:$C$63,2),\"\")","v":5},{"$f":"IFERROR(VLOOKUP(F590,Hoja1!$A$50:$C$63,3),\"\")","v":5}]
[581,20259910008874,"2025-01-22","Persona natural","Virtual - Correo electrónico","Certificación de contrato","Administrativa",null,"Oficina Asesora Jurídica","2025-02-06","Correo electrónico","2025-02-05",null,"",null,{"$f":"IFERROR(WORKDAY(N591,Y591,Hoja1!F583:F699),\"\")","v":""},{"$f":"+IF(N591=\"\",\"\",IF(O591=\"\",\"SIN RESPUESTA\",(IF(O591<=P591,\"A TIEMPO\",\"FUERA DE TIEMPO\"))))","v":""},null,{"$f":"+IF(C591=\"\",\"\",IF(J591=\"\",\"SIN RESPUESTA\",(IF(J591<=L591,\"A TIEMPO\",\"FUERA DE TIEMPO\"))))","v":"FUERA DE TIEMPO"},11,1,null,null,{"$f":"IFERROR(VLOOKUP(F591,Hoja1!$A$50:$C$63,2),\"\")","v":15},{"$f":"IFERROR(VLOOKUP(F591,Hoja1!$A$50:$C$63,3),\"\")","v":15}]
[582,20259050008894,"2025-01-22","Persona natural","Virtual - Formulario PQRSDF","Solicitud de documentos o información","Sistema de información del recurso hídrico",null,"Subdirección de Ecosistemas e Información Ambiental","2025-02-05","Correo electrónico","2025-02-05",null,"",null,{"$f":"IFERROR(WORKDAY(N592,Y592,Hoja1!F584:F700),\"\")","v":""},{"$f":"+IF(N592=\"\",\"\",IF(O592=\"\",\"SIN RESPUESTA\",(IF(O592<=P592,\"A TIEMPO\",\"FUERA DE TIEMPO\"))))","v":""},null,"A TIEMPO",10,0,null,null,{"$f":"IFERROR(VLOOKUP(F592,Hoja1!$A$50:$C$63,2),\"\")","v":5},{"$f":"IFERROR(VLOOKUP(F592,Hoja1!$A$50:$C$63,3),\"\")","v":5}]
[{"$f":"IF(B593<>\"\",A592+1,\"\")","v":583},20259050008904,"2025-01-22","Persona natural","Virtual - Formulario PQRSDF","Queja","Sistema de información ambiental",null,"Grupo de Servicio al Ciudadano","2025-02-04","Correo electrónico","2025-02-12",null,"",null,{"$f":"IFERROR(WORKDAY(N593,Y593,Hoja1!F585:F701),\"\")","v":""},{"$f":"+IF(N593=\"\",\"\",IF(O593=\"\",\"SIN RESPUESTA\",(IF(O593<=P593,\"A TIEMPO\",\"FUERA DE TIEMPO\"))))","v":""},null,"A TIEMPO",9,0,null,null,{"$f":"IFERROR(VLOOKUP(F593,Hoja1!$A$50:$C$63,2),\"\")","v":15},{"$f":"IFERROR(VLOOKUP(F593,Hoja1!$A$50:$C$63,3),\"\")","v":15}]
[584,20259050008914,"2025-01-23","Persona natural","Virtual - Formulario PQRSDF","Certificación laboral o pasantía","Administrativa",null,"Grupo de Administración y Desarrollo del Talento Humano","2025-01-28","Correo electrónico","2025-02-06",null,"",null,{"$f":"IFERROR(WORKDAY(N594,Y594,Hoja1!F586:F702),\"\")","v":""},{"$f":"+IF(N594=\"\",\"\",IF(O594=\"\",\"SIN RESPUESTA\",(IF(O594<=P594,\"A TIEMPO\",\"FUERA DE TIEMPO\"))))","v":""},null,"A TIEMPO",3,0,null,null,{"$f":"IFERROR(VLOOKUP(F594,Hoja1!$A$50:$C$63,2),\"\")","v":15},{"$f":"IFERROR(VLOOKUP(F594,Hoja1!$A$50:$C$63,3),\"\")","v":15}]
[585,20259050008924,"2025-01-23","Persona natural","Virtual - Formulario PQRSDF","Certificación de contrato","Administrativa",null,"Oficina Asesora Jurídica","2025-02-10","Correo electrónico","2025-02-06",null,"",null,{"$f":"IFERROR(WORKDAY(N595,Y595,Hoja1!F587:F703),\"\")","v":""},{"$f":"+IF(N595=\"\",\"\",IF(O595=\"\",\"SIN RESPUESTA\",(IF(O595<=P595,\"A TIEMPO\",\"FUERA DE TIEMPO\"))))","v":""},null,{"$f":"+IF(C595=\"\",\"\",IF(J595=\"\",\"SIN RESPUESTA\",(IF(J595<=L595,\"A TIEMPO\",\"FUERA DE TIEMPO\"))))","v":"FUERA DE TIEMPO"},12,2,null,null,{"$f":"IFERROR(VLOOKUP(F595,Hoja1!$A$50:$C$63,2),\"\")","v":15},{"$f":"IFERROR(VLOOKUP(F595,Hoja1!$A$50:$C$63,3),\"\")","v":15}]
[586,20259910008934,"2025-01-23","Persona jurídica","Virtual - Correo electrónico","Solicitud de documentos o información","Registros ambientales",null,"Subdirección de Estudios Ambientales","2025-01-27","Correo electrónico","2025-02-06",null,"",null,{"$f":"IFERROR(WORKDAY(N596,Y596,Hoja1!F588:F704),\"\")","v":""},{"$f":"+IF(N596=\"\",\"\",IF(O596=\"\",\"SIN RESPUESTA\",(IF(O596<=P596,\"A TIEMPO\",\"FUERA DE TIEMPO\"))))","v":""},null,"A TIEMPO",2,0,null,null,{"$f":"IFERROR(VLOOKUP(F596,Hoja1!$A$50:$C$63,2),\"\")","v":5},{"$f":"IFERROR(VLOOKUP(F596,Hoja1!$A$50:$C$63,3),\"\")","v":5}]
[587,20259910008954,"2025-01-23","Persona natural","Virtual - Correo electrónico","Certificación de contrato","Administrativa",null,"Oficina Asesora Jurídica","2025-02-10","Correo electrónico","2025-02-06",null,"",null,{"$f":"IFERROR(WORKDAY(N597,Y597,Hoja1!F589:F705),\"\")","v":""},{"$f":"+IF(N597=\"\",\"\",IF(O597=\"\",\"SIN RESPUESTA\",(IF(O597<=P597,\"A TIEMPO\",\"FUERA DE TIEMPO\"))))","v":""},null,{"$f":"+IF(C597=\"\",\"\",IF(J597=\"\",\"SIN RESPUESTA\",(IF(J597<=L597,\"A TIEMPO\",\"FUERA DE TIEMPO\"))))","v":"FUERA DE TIEMPO"},12,2,null,null,{"$f":"IFERROR(VLOOKUP(F597,Hoja1!$A$50:$C$63,2),\"\")","v":15},{"$f":"IFERROR(VLOOKUP(F597,Hoja1!$A$50:$C$63,3),\"\")","v":15}]
[588,20259910008964,"2025-01-23","Persona natural","Virtual - Correo electrónico","Solicitud de documentos o información","Solicitud de información hidrometeorológica",null,"Subdirección de Meteorología","2025-01-29","Correo electrónico","2025-02-06",null,"",null,{"$f":"IFERROR(WORKDAY(N598,Y598,Hoja1!F590:F706),\"\")","v":""},{"$f":"+IF(N598=\"\",\"\",IF(O598=\"\",\"SIN RESPUESTA\",(IF(O598<=P598,\"A TIEMPO\",\"FUERA DE TIEMPO\"))))","v":""},null,"A TIEMPO",4,0,null,null,{"$f":"IFERROR(VLOOKUP(F598,Hoja1!$A$50:$C$63,2),\"\")","v":5},{"$f":"IFERROR(VLOOKUP(F598,Hoja1!$A$50:$C$63,3),\"\")","v":5}]
[589,20259910008974,"2025-01-23","Persona natural","Virtual - Correo electrónico","Certificación de contrato","Administrativa",null,"Oficina Asesora Jurídica","2025-02-10","Correo electrónico","2025-02-06",null,"",null,{"$f":"IFERROR(WORKDAY(N599,Y599,Hoja1!F591:F707),\"\")","v":""},{"$f":"+IF(N599=\"\",\"\",IF(O599=\"\",\"SIN RESPUESTA\",(IF(O599<=P599,\"A TIEMPO\",\"FUERA DE TIEMPO\"))))","v":""},null,{"$f":"+IF(C599=\"\",\"\",IF(J599=\"\",\"SIN RESPUESTA\",(IF(J599<=L599,\"A TIEMPO\",\"FUERA DE TIEMPO\"))))","v":"FUERA DE TIEMPO"},12,2,null,null,{"$f":"IFERROR(VLOOKUP(F599,Hoja1!$A$50:$C$63,2),\"\")","v":15},{"$f":"IFERROR(VLOOKUP(F599,Hoja1!$A$50:$C$63,3),\"\")","v":15}]
[590,20259910009014,"2025-01-23","Persona natural","Virtual - Correo electrónico","Certificación de contrato","Administrativa",null,"Oficina Asesora Jurídica","2025-02-10","Correo electrónico","2025-02-06",null,"",null,{"$f":"IFERROR(WORKDAY(N600,Y600,Hoja1!F592:F708),\"\")","v":""},{"$f":"+IF(N600=\"\",\"\",IF(O600=\"\",\"SIN RESPUESTA\",(IF(O600<=P600,\"A TIEMPO\",\"FUERA DE TIEMPO\"))))","v":""},null,{"$f":"+IF(C600=\"\",\"\",IF(J600=\"\",\"SIN RESPUESTA\",(IF(J600<=L600,\"A TIEMPO\",\"FUERA DE TIEMPO\"))))","v":"FUERA DE TIEMPO"},12,2,null,null,{"$f":"IFERROR(VLOOKUP(F600,Hoja1!$A$50:$C$63,2),\"\")","v":15},{"$f":"IFERROR(VLOOKUP(F600,Hoja1!$A$50:$C$63,3),\"\")","v":15}]
[591,20259910009024,"2025-01-23","Persona natural","Virtual - Correo electrónico","Certificación laboral o pasantía","Administrativa",null,"Grupo de Administración y Desarrollo del Talento Humano","2025-01-28","Correo electrónico","2025-02-06",null,"",null,{"$f":"IFERROR(WORKDAY(N601,Y601,Hoja1!F593:F709),\"\")","v":""},{"$f":"+IF(N601=\"\",\"\",IF(O601=\"\",\"SIN RESPUESTA\",(IF(O601<=P601,\"A TIEMPO\",\"FUERA DE TIEMPO\"))))","v":""},null,"A TIEMPO",3,0,null,null,{"$f":"IFERROR(VLOOKUP(F601,Hoja1!$A$50:$C$63,2),\"\")","v":15},{"$f":"IFERROR(VLOOKUP(F601,Hoja1!$A$50:$C$63,3),\"\")","v":15}]
[592,20259910009064,"2025-01-23","Persona jurídica","Virtual - Correo electrónico","Solicitud de documentos o información","Registros ambientales",null,"Subdirección de Estudios Ambientales","2025-02-04","Correo electrónico","2025-02-06",null,"",null,{"$f":"IFERROR(WORKDAY(N602,Y602,Hoja1!F594:F710),\"\")","v":""},{"$f":"+IF(N602=\"\",\"\",IF(O602=\"\",\"SIN RESPUESTA\",(IF(O602<=P602,\"A TIEMPO\",\"FUERA DE TIEMPO\"))))","v":""},null,"A TIEMPO",8,0,null,null,{"$f":"IFERROR(VLOOKUP(F602,Hoja1!$A$50:$C$63,2),\"\")","v":5},{"$f":"IFERROR(VLOOKUP(F602,Hoja1!$A$50:$C$63,3),\"\")","v":5}]
[593,20259910009084,"2025-01-23","Persona jurídica","Virtual - Correo electrónico","Petición entre autoridades","Bosques",null,"Subdirección de Ecosistemas e Información Ambiental","2025-02-05","Correo electrónico","2025-02-06",null,"",null,{"$f":"IFERROR(WORKDAY(N603,Y603,Hoja1!F595:F711),\"\")","v":""},{"$f":"+IF(N603=\"\",\"\",IF(O603=\"\",\"SIN RESPUESTA\",(IF(O603<=P603,\"A TIEMPO\",\"FUERA DE TIEMPO\"))))","v":""},null,"A TIEMPO",9,0,null,null,{"$f":"IFERROR(VLOOKUP(F603,Hoja1!$A$50:$C$63,2),\"\")","v":10},{"$f":"IFERROR(VLOOKUP(F603,Hoja1!$A$50:$C$63,3),\"\")","v":10}]
[594,20259910009094,"2025-01-23","Persona natural","Virtual - Correo electrónico","Solicitud de documentos o información","Administrativa",null,"Grupo de Administración y Desarrollo del Talento Humano","2025-02-10","Correo electrónico","2025-02-06",null,"",null,{"$f":"IFERROR(WORKDAY(N604,Y604,Hoja1!F596:F712),\"\")","v":""},{"$f":"+IF(N604=\"\",\"\",IF(O604=\"\",\"SIN RESPUESTA\",(IF(O604<=P604,\"A TIEMPO\",\"FUERA DE TIEMPO\"))))","v":""},null,{"$f":"+IF(C604=\"\",\"\",IF(J604=\"\",\"SIN RESPUESTA\",(IF(J604<=L604,\"A TIEMPO\",\"FUERA DE TIEMPO\"))))","v":"FUERA DE TIEMPO"},12,2,null,null,{"$f":"IFERROR(VLOOKUP(F604,Hoja1!$A$50:$C$63,2),\"\")","v":5},{"$f":"IFERROR(VLOOKUP(F604,Hoja1!$A$50:$C$63,3),\"\")","v":5}]
[595,20259910009124,"2025-01-23","Persona jurídica","Virtual - Correo electrónico","Solicitud judicial","Bosques",null,"Subdirección de Ecosistemas e Información Ambiental","2025-01-29","Correo electrónico","2025-01-30",null,"",null,{"$f":"IFERROR(WORKDAY(N605,Y605,Hoja1!F597:F713),\"\")","v":""},{"$f":"+IF(N605=\"\",\"\",IF(O605=\"\",\"SIN RESPUESTA\",(IF(O605<=P605,\"A TIEMPO\",\"FUERA DE TIEMPO\"))))","v":""},null,"A TIEMPO",4,0,null,null,{"$f":"IFERROR(VLOOKUP(F605,Hoja1!$A$50:$C$63,2),\"\")","v":5},{"$f":"IFERROR(VLOOKUP(F605,Hoja1!$A$50:$C$63,3),\"\")","v":5}]
[596,20259910009134,"2025-01-23","Persona natural","Virtual - Correo electrónico","Solicitud de documentos o información","Solicitud de información hidrometeorológica",null,"Subdirección de Meteorología","2025-01-27","Correo electrónico","2025-02-06",null,"",null,{"$f":"IFERROR(WORKDAY(N606,Y606,Hoja1!F598:F714),\"\")","v":""},{"$f":"+IF(N606=\"\",\"\",IF(O606=\"\",\"SIN RESPUESTA\",(IF(O606<=P606,\"A TIEMPO\",\"FUERA DE TIEMPO\"))))","v":""},null,"A TIEMPO",2,0,null,null,{"$f":"IFERROR(VLOOKUP(F606,Hoja1!$A$50:$C$63,2),\"\")","v":5},{"$f":"IFERROR(VLOOKUP(F606,Hoja1!$A$50:$C$63,3),\"\")","v":5}]
[597,20259050009184,"2025-01-23","Persona natural","Virtual - Formulario PQRSDF","Certificación de contrato","Administrativa",null,"Oficina Asesora Jurídica","2025-02-10","Correo electrónico","2025-02-06",null,"",null,{"$f":"IFERROR(WORKDAY(N607,Y607,Hoja1!F599:F715),\"\")","v":""},{"$f":"+IF(N607=\"\",\"\",IF(O607=\"\",\"SIN RESPUESTA\",(IF(O607<=P607,\"A TIEMPO\",\"FUERA DE TIEMPO\"))))","v":""},null,{"$f":"+IF(C607=\"\",\"\",IF(J607=\"\",\"SIN RESPUESTA\",(IF(J607<=L607,\"A TIEMPO\",\"FUERA DE TIEMPO\"))))","v":"FUERA DE TIEMPO"},12,2,null,null,{"$f":"IFERROR(VLOOKUP(F607,Hoja1!$A$50:$C$63,2),\"\")","v":15},{"$f":"IFERROR(VLOOKUP(F607,Hoja1!$A$50:$C$63,3),\"\")","v":15}]
[598,20259910009214,"2025-01-23","Persona natural","Virtual - Correo electrónico","Certificación laboral o pasantía","Administrativa",null,"Grupo de Administración y Desarrollo del Talento Humano","2025-01-28","Correo electrónico","2025-02-06",null,"",null,{"$f":"IFERROR(WORKDAY(N608,Y608,Hoja1!F600:F716),\"\")","v":""},{"$f":"+IF(N608=\"\",\"\",IF(O608=\"\",\"SIN RESPUESTA\",(IF(O608<=P608,\"A TIEMPO\",\"FUERA DE TIEMPO\"))))","v":""},null,"A TIEMPO",3,0,null,null,{"$f":"IFERROR(VLOOKUP(F608,Hoja1!$A$50:$C$63,2),\"\")","v":15},{"$f":"IFERROR(VLOOKUP(F608,Hoja1!$A$50:$C$63,3),\"\")","v":15}]
[599,20259910009234,"2025-01-23","Persona natural","Virtual - Correo electrónico","Solicitud de documentos o información","Solicitud de información hidrometeorológica",null,"Subdirección de Meteorología","2025-01-31","Correo electrónico","2025-02-06",null,"",null,{"$f":"IFERROR(WORKDAY(N609,Y609,Hoja1!F601:F717),\"\")","v":""},{"$f":"+IF(N609=\"\",\"\",IF(O609=\"\",\"SIN RESPUESTA\",(IF(O609<=P609,\"A TIEMPO\",\"FUERA DE TIEMPO\"))))","v":""},null,"A TIEMPO",6,0,null,null,{"$f":"IFERROR(VLOOKUP(F609,Hoja1!$A$50:$C$63,2),\"\")","v":5},{"$f":"IFERROR(VLOOKUP(F609,Hoja1!$A$50:$C$63,3),\"\")","v":5}]
[600,20259910009244,"2025-01-23","Persona jurídica","Virtual - Correo electrónico","Petición entre autoridades","Bosques",null,"Subdirección de Ecosistemas e Información Ambiental","2025-02-05","Correo electrónico","2025-02-06",null,"",null,{"$f":"IFERROR(WORKDAY(N610,Y610,Hoja1!F602:F718),\"\")","v":""},{"$f":"+IF(N610=\"\",\"\",IF(O610=\"\",\"SIN RESPUESTA\",(IF(O610<=P610,\"A TIEMPO\",\"FUERA DE TIEMPO\"))))","v":""},null,"A TIEMPO",9,0,null,null,{"$f":"IFERROR(VLOOKUP(F610,Hoja1!$A$50:$C$63,2),\"\")","v":10},{"$f":"IFERROR(VLOOKUP(F610,Hoja1!$A$50:$C$63,3),\"\")","v":10}]
[601,20259910009254,"2025-01-23","Persona jurídica","Virtual - Correo electrónico","Petición entre autoridades","Bosques",null,"Subdirección de Ecosistemas e Información Ambiental","2025-01-28","Correo electrónico","2025-02-06",null,"",null,{"$f":"IFERROR(WORKDAY(N611,Y611,Hoja1!F603:F719),\"\")","v":""},{"$f":"+IF(N611=\"\",\"\",IF(O611=\"\",\"SIN RESPUESTA\",(IF(O611<=P611,\"A TIEMPO\",\"FUERA DE TIEMPO\"))))","v":""},null,"A TIEMPO",3,0,null,null,{"$f":"IFERROR(VLOOKUP(F611,Hoja1!$A$50:$C$63,2),\"\")","v":10},{"$f":"IFERROR(VLOOKUP(F611,Hoja1!$A$50:$C$63,3),\"\")","v":10}]
[602,20259910009264,"2025-01-23","Persona natural","Virtual - Correo electrónico","Certificación de contrato","Administrativa",null,"Oficina Asesora Jurídica","2025-02-11","Correo electrónico","2025-02-06",null,"",null,{"$f":"IFERROR(WORKDAY(N612,Y612,Hoja1!F604:F720),\"\")","v":""},{"$f":"+IF(N612=\"\",\"\",IF(O612=\"\",\"SIN RESPUESTA\",(IF(O612<=P612,\"A TIEMPO\",\"FUERA DE TIEMPO\"))))","v":""},null,{"$f":"+IF(C612=\"\",\"\",IF(J612=\"\",\"SIN RESPUESTA\",(IF(J612<=L612,\"A TIEMPO\",\"FUERA DE TIEMPO\"))))","v":"FUERA DE TIEMPO"},13,3,null,null,{"$f":"IFERROR(VLOOKUP(F612,Hoja1!$A$50:$C$63,2),\"\")","v":15},{"$f":"IFERROR(VLOOKUP(F612,Hoja1!$A$50:$C$63,3),\"\")","v":15}]
[603,20259050009304,"2025-01-23","Persona natural","Virtual - Formulario PQRSDF","Certificación de contrato","Administrativa",null,"Oficina Asesora Jurídica","2025-02-11","Correo electrónico","2025-02-06",null,"",null,{"$f":"IFERROR(WORKDAY(N613,Y613,Hoja1!F605:F721),\"\")","v":""},{"$f":"+IF(N613=\"\",\"\",IF(O613=\"\",\"SIN RESPUESTA\",(IF(O613<=P613,\"A TIEMPO\",\"FUERA DE TIEMPO\"))))","v":""},null,{"$f":"+IF(C613=\"\",\"\",IF(J613=\"\",\"SIN RESPUESTA\",(IF(J613<=L613,\"A TIEMPO\",\"FUERA DE TIEMPO\"))))","v":"FUERA DE TIEMPO"},13,3,null,null,{"$f":"IFERROR(VLOOKUP(F613,Hoja1!$A$50:$C$63,2),\"\")","v":15},{"$f":"IFERROR(VLOOKUP(F613,Hoja1!$A$50:$C$63,3),\"\")","v":15}]
[604,20259910009344,"2025-01-23","Persona jurídica","Virtual - Correo electrónico","Solicitud judicial","Certificaciones del tiempo y clima",null,"Subdirección de Meteorología","2025-01-27","Correo electrónico","2025-01-30",null,"",null,{"$f":"IFERROR(WORKDAY(N614,Y614,Hoja1!F606:F722),\"\")","v":""},{"$f":"+IF(N614=\"\",\"\",IF(O614=\"\",\"SIN RESPUESTA\",(IF(O614<=P614,\"A TIEMPO\",\"FUERA DE TIEMPO\"))))","v":""},null,"A TIEMPO",2,0,null,null,{"$f":"IFERROR(VLOOKUP(F614,Hoja1!$A$50:$C$63,2),\"\")","v":5},{"$f":"IFERROR(VLOOKUP(F614,Hoja1!$A$50:$C$63,3),\"\")","v":5}]
[605,20259050009384,"2025-01-23","Persona natural","Virtual - Formulario PQRSDF","Solicitud de documentos o información","Solicitud de información hidrometeorológica",null,"Grupo de Servicio al Ciudadano","2025-01-28","Correo electrónico","2025-02-06",null,"",null,{"$f":"IFERROR(WORKDAY(N615,Y615,Hoja1!F607:F723),\"\")","v":""},{"$f":"+IF(N615=\"\",\"\",IF(O615=\"\",\"SIN RESPUESTA\",(IF(O615<=P615,\"A TIEMPO\",\"FUERA DE TIEMPO\"))))","v":""},null,"A TIEMPO",3,0,null,null,{"$f":"IFERROR(VLOOKUP(F615,Hoja1!$A$50:$C$63,2),\"\")","v":5},{"$f":"IFERROR(VLOOKUP(F615,Hoja1!$A$50:$C$63,3),\"\")","v":5}]
[606,20259910009372,"2025-01-23","Persona natural","Virtual - Correo electrónico","Certificación laboral o pasantía","Administrativa",null,"Grupo de Administración y Desarrollo del Talento Humano","2025-01-29","Correo electrónico","2025-02-06",null,"",null,{"$f":"IFERROR(WORKDAY(N616,Y616,Hoja1!F608:F724),\"\")","v":""},{"$f":"+IF(N616=\"\",\"\",IF(O616=\"\",\"SIN RESPUESTA\",(IF(O616<=P616,\"A TIEMPO\",\"FUERA DE TIEMPO\"))))","v":""},null,"A TIEMPO",4,0,null,null,{"$f":"IFERROR(VLOOKUP(F616,Hoja1!$A$50:$C$63,2),\"\")","v":15},{"$f":"IFERROR(VLOOKUP(F616,Hoja1!$A$50:$C$63,3),\"\")","v":15}]
[607,20259910009392,"2025-01-23","Persona jurídica","Virtual - Correo electrónico","Certificación de tiempo, clima y eventos hidrológicos","Certificaciones del tiempo y clima",null,"Subdirección de Meteorología","2025-02-05","Correo electrónico","2025-03-06",null,"",null,{"$f":"IFERROR(WORKDAY(N617,Y617,Hoja1!F609:F725),\"\")","v":""},{"$f":"+IF(N617=\"\",\"\",IF(O617=\"\",\"SIN RESPUESTA\",(IF(O617<=P617,\"A TIEMPO\",\"FUERA DE TIEMPO\"))))","v":""},null,"A TIEMPO",9,0,null,null,{"$f":"IFERROR(VLOOKUP(F617,Hoja1!$A$50:$C$63,2),\"\")","v":15},{"$f":"IFERROR(VLOOKUP(F617,Hoja1!$A$50:$C$63,3),\"\")","v":15}]
[608,20259910009444,"2025-01-23","Persona jurídica","Virtual - Correo electrónico","Solicitud de documentos o información","Registros ambientales",null,"Subdirección de Estudios Ambientales","2025-01-27","Correo electrónico","2025-02-06",null,"",null,{"$f":"IFERROR(WORKDAY(N618,Y618,Hoja1!F610:F726),\"\")","v":""},{"$f":"+IF(N618=\"\",\"\",IF(O618=\"\",\"SIN RESPUESTA\",(IF(O618<=P618,\"A TIEMPO\",\"FUERA DE TIEMPO\"))))","v":""},null,"A TIEMPO",2,0,null,null,{"$f":"IFERROR(VLOOKUP(F618,Hoja1!$A$50:$C$63,2),\"\")","v":5},{"$f":"IFERROR(VLOOKUP(F618,Hoja1!$A$50:$C$63,3),\"\")","v":5}]
[609,20259910009484,"2025-01-23","Persona natural","Virtual - Correo electrónico","Certificación laboral o pasantía","Administrativa",null,"Grupo de Administración y Desarrollo del Talento Humano","2025-01-28","Correo electrónico","2025-02-06",null,"",null,{"$f":"IFERROR(WORKDAY(N619,Y619,Hoja1!F611:F727),\"\")","v":""},{"$f":"+IF(N619=\"\",\"\",IF(O619=\"\",\"SIN RESPUESTA\",(IF(O619<=P619,\"A TIEMPO\",\"FUERA DE TIEMPO\"))))","v":""},null,"A TIEMPO",3,0,null,null,{"$f":"IFERROR(VLOOKUP(F619,Hoja1!$A$50:$C$63,2),\"\")","v":15},{"$f":"IFERROR(VLOOKUP(F619,Hoja1!$A$50:$C$63,3),\"\")","v":15}]
[610,20259910009524,"2025-01-23","Persona natural","Virtual - Correo electrónico","Certificación laboral o pasantía","Administrativa",null,"Grupo de Administración y Desarrollo del Talento Humano","2025-01-29","Correo electrónico","2025-02-06",null,"",null,{"$f":"IFERROR(WORKDAY(N620,Y620,Hoja1!F612:F728),\"\")","v":""},{"$f":"+IF(N620=\"\",\"\",IF(O620=\"\",\"SIN RESPUESTA\",(IF(O620<=P620,\"A TIEMPO\",\"FUERA DE TIEMPO\"))))","v":""},null,"A TIEMPO",4,0,null,null,{"$f":"IFERROR(VLOOKUP(F620,Hoja1!$A$50:$C$63,2),\"\")","v":15},{"$f":"IFERROR(VLOOKUP(F620,Hoja1!$A$50:$C$63,3),\"\")","v":15}]
[611,20259050009694,"2025-01-23","Persona natural","Virtual - Formulario PQRSDF","Certificación laboral o pasantía","Administrativa",null,"Grupo de Administración y Desarrollo del Talento Humano","2025-01-28","Correo certificado","2025-02-06",null,"",null,{"$f":"IFERROR(WORKDAY(N621,Y621,Hoja1!F613:F729),\"\")","v":""},{"$f":"+IF(N621=\"\",\"\",IF(O621=\"\",\"SIN RESPUESTA\",(IF(O621<=P621,\"A TIEMPO\",\"FUERA DE TIEMPO\"))))","v":""},null,"A TIEMPO",3,0,null,null,{"$f":"IFERROR(VLOOKUP(F621,Hoja1!$A$50:$C$63,2),\"\")","v":15},{"$f":"IFERROR(VLOOKUP(F621,Hoja1!$A$50:$C$63,3),\"\")","v":15}]
[612,20259910009604,"2025-01-23","Persona natural","Virtual - Correo electrónico","Certificación de contrato","Administrativa",null,"Oficina Asesora Jurídica","2025-02-11","Correo electrónico","2025-02-06",null,"",null,{"$f":"IFERROR(WORKDAY(N622,Y622,Hoja1!F614:F730),\"\")","v":""},{"$f":"+IF(N622=\"\",\"\",IF(O622=\"\",\"SIN RESPUESTA\",(IF(O622<=P622,\"A TIEMPO\",\"FUERA DE TIEMPO\"))))","v":""},null,{"$f":"+IF(C622=\"\",\"\",IF(J622=\"\",\"SIN RESPUESTA\",(IF(J622<=L622,\"A TIEMPO\",\"FUERA DE TIEMPO\"))))","v":"FUERA DE TIEMPO"},13,3,null,null,{"$f":"IFERROR(VLOOKUP(F622,Hoja1!$A$50:$C$63,2),\"\")","v":15},{"$f":"IFERROR(VLOOKUP(F622,Hoja1!$A$50:$C$63,3),\"\")","v":15}]
[613,20259910009554,"2025-01-23","Persona natural","Virtual - Correo electrónico","Solicitud de documentos o información","Sistema de información ambiental",null,"Subdirección de Meteorología","2025-02-05","Correo electrónico","2025-02-06",null,"",null,{"$f":"IFERROR(WORKDAY(N623,Y623,Hoja1!F615:F731),\"\")","v":""},{"$f":"+IF(N623=\"\",\"\",IF(O623=\"\",\"SIN RESPUESTA\",(IF(O623<=P623,\"A TIEMPO\",\"FUERA DE TIEMPO\"))))","v":""},null,"A TIEMPO",9,0,null,null,{"$f":"IFERROR(VLOOKUP(F623,Hoja1!$A$50:$C$63,2),\"\")","v":5},{"$f":"IFERROR(VLOOKUP(F623,Hoja1!$A$50:$C$63,3),\"\")","v":5}]
[614,20259910009574,"2025-01-23","Persona jurídica","Virtual - Correo electrónico","Solicitud de documentos o información","Registros ambientales",null,"Subdirección de Estudios Ambientales","2025-01-27","Correo electrónico","2025-02-06",null,"",null,{"$f":"IFERROR(WORKDAY(N624,Y624,Hoja1!F616:F732),\"\")","v":""},{"$f":"+IF(N624=\"\",\"\",IF(O624=\"\",\"SIN RESPUESTA\",(IF(O624<=P624,\"A TIEMPO\",\"FUERA DE TIEMPO\"))))","v":""},null,"A TIEMPO",2,0,null,null,{"$f":"IFERROR(VLOOKUP(F624,Hoja1!$A$50:$C$63,2),\"\")","v":5},{"$f":"IFERROR(VLOOKUP(F624,Hoja1!$A$50:$C$63,3),\"\")","v":5}]
[615,20259910009624,"2025-01-23","Persona jurídica","Virtual - Correo electrónico","Solicitud de documentos o información","Registros ambientales",null,"Subdirección de Estudios Ambientales","2025-01-27","Correo electrónico","2025-02-06",null,"",null,{"$f":"IFERROR(WORKDAY(N625,Y625,Hoja1!F617:F733),\"\")","v":""},{"$f":"+IF(N625=\"\",\"\",IF(O625=\"\",\"SIN RESPUESTA\",(IF(O625<=P625,\"A TIEMPO\",\"FUERA DE TIEMPO\"))))","v":""},null,"A TIEMPO",2,0,null,null,{"$f":"IFERROR(VLOOKUP(F625,Hoja1!$A$50:$C$63,2),\"\")","v":5},{"$f":"IFERROR(VLOOKUP(F625,Hoja1!$A$50:$C$63,3),\"\")","v":5}]
[616,20259910009504,"2025-01-23","anónimo","Virtual - Correo electrónico","Solicitud de documentos o información","Administrativa",null,"Grupo de Administración y Desarrollo del Talento Humano","2025-01-30","Correo electrónico","2025-02-06",null,"",null,{"$f":"IFERROR(WORKDAY(N626,Y626,Hoja1!F618:F734),\"\")","v":""},{"$f":"+IF(N626=\"\",\"\",IF(O626=\"\",\"SIN RESPUESTA\",(IF(O626<=P626,\"A TIEMPO\",\"FUERA DE TIEMPO\"))))","v":""},null,"A TIEMPO",5,0,null,null,{"$f":"IFERROR(VLOOKUP(F626,Hoja1!$A$50:$C$63,2),\"\")","v":5},{"$f":"IFERROR(VLOOKUP(F626,Hoja1!$A$50:$C$63,3),\"\")","v":5}]
[617,20259910009734,"2025-01-24","Persona natural","Virtual - Correo electrónico","Certificación laboral o pasantía","Administrativa",null,"Grupo de Administración y Desarrollo del Talento Humano","2025-01-29","Correo electrónico","2025-02-07",null,"",null,{"$f":"IFERROR(WORKDAY(N627,Y627,Hoja1!F619:F735),\"\")","v":""},{"$f":"+IF(N627=\"\",\"\",IF(O627=\"\",\"SIN RESPUESTA\",(IF(O627<=P627,\"A TIEMPO\",\"FUERA DE TIEMPO\"))))","v":""},null,"A TIEMPO",3,0,null,null,{"$f":"IFERROR(VLOOKUP(F627,Hoja1!$A$50:$C$63,2),\"\")","v":15},{"$f":"IFERROR(VLOOKUP(F627,Hoja1!$A$50:$C$63,3),\"\")","v":15}]
[618,20259910009714,"2025-01-24","Persona natural","Virtual - Correo electrónico","Solicitud de documentos o información","Solicitud de información hidrometeorológica",null,"Subdirección de Hidrología","2025-01-27","Correo electrónico","2025-02-07",null,"",null,{"$f":"IFERROR(WORKDAY(N628,Y628,Hoja1!F620:F736),\"\")","v":""},{"$f":"+IF(N628=\"\",\"\",IF(O628=\"\",\"SIN RESPUESTA\",(IF(O628<=P628,\"A TIEMPO\",\"FUERA DE TIEMPO\"))))","v":""},null,"A TIEMPO",1,0,null,null,{"$f":"IFERROR(VLOOKUP(F628,Hoja1!$A$50:$C$63,2),\"\")","v":5},{"$f":"IFERROR(VLOOKUP(F628,Hoja1!$A$50:$C$63,3),\"\")","v":5}]
[619,20259910009724,"2025-01-24","Persona natural","Virtual - Correo electrónico","Solicitud de documentos o información","Solicitud de información hidrometeorológica",null,"Subdirección de Meteorología","2025-01-30","Correo electrónico","2025-02-07",null,"",null,{"$f":"IFERROR(WORKDAY(N629,Y629,Hoja1!F621:F737),\"\")","v":""},{"$f":"+IF(N629=\"\",\"\",IF(O629=\"\",\"SIN RESPUESTA\",(IF(O629<=P629,\"A TIEMPO\",\"FUERA DE TIEMPO\"))))","v":""},null,"A TIEMPO",4,0,null,null,{"$f":"IFERROR(VLOOKUP(F629,Hoja1!$A$50:$C$63,2),\"\")","v":5},{"$f":"IFERROR(VLOOKUP(F629,Hoja1!$A$50:$C$63,3),\"\")","v":5}]
[620,20259910009704,"2025-01-24","Persona jurídica","Virtual - Correo electrónico","Solicitud de documentos o información","Solicitud de información hidrometeorológica",null,"Subdirección de Hidrología","2025-02-04","Correo electrónico","2025-02-07",null,"",null,{"$f":"IFERROR(WORKDAY(N630,Y630,Hoja1!F622:F738),\"\")","v":""},{"$f":"+IF(N630=\"\",\"\",IF(O630=\"\",\"SIN RESPUESTA\",(IF(O630<=P630,\"A TIEMPO\",\"FUERA DE TIEMPO\"))))","v":""},null,"A TIEMPO",7,0,null,null,{"$f":"IFERROR(VLOOKUP(F630,Hoja1!$A$50:$C$63,2),\"\")","v":5},{"$f":"IFERROR(VLOOKUP(F630,Hoja1!$A$50:$C$63,3),\"\")","v":5}]
[621,20259050009794,"2025-01-24","Persona jurídica","Virtual - Formulario PQRSDF","Solicitud de documentos o información","Solicitud de información hidrometeorológica",null,"Grupo de Servicio al Ciudadano","2025-01-28","Correo electrónico","2025-02-07",null,"",null,{"$f":"IFERROR(WORKDAY(N631,Y631,Hoja1!F623:F739),\"\")","v":""},{"$f":"+IF(N631=\"\",\"\",IF(O631=\"\",\"SIN RESPUESTA\",(IF(O631<=P631,\"A TIEMPO\",\"FUERA DE TIEMPO\"))))","v":""},null,"A TIEMPO",2,0,null,null,{"$f":"IFERROR(VLOOKUP(F631,Hoja1!$A$50:$C$63,2),\"\")","v":5},{"$f":"IFERROR(VLOOKUP(F631,Hoja1!$A$50:$C$63,3),\"\")","v":5}]
[622,20259910009804,"2025-01-24","Persona jurídica","Virtual - Correo electrónico","Solicitud de documentos o información","Acreditación de laboratorios",null,"Subdirección de Estudios Ambientales","2025-02-14","Correo electrónico","2025-02-07",null,"",null,{"$f":"IFERROR(WORKDAY(N632,Y632,Hoja1!F624:F740),\"\")","v":""},{"$f":"+IF(N632=\"\",\"\",IF(O632=\"\",\"SIN RESPUESTA\",(IF(O632<=P632,\"A TIEMPO\",\"FUERA DE TIEMPO\"))))","v":""},null,{"$f":"+IF(C632=\"\",\"\",IF(J632=\"\",\"SIN RESPUESTA\",(IF(J632<=L632,\"A TIEMPO\",\"FUERA DE TIEMPO\"))))","v":"FUERA DE TIEMPO"},15,5,null,null,{"$f":"IFERROR(VLOOKUP(F632,Hoja1!$A$50:$C$63,2),\"\")","v":5},{"$f":"IFERROR(VLOOKUP(F632,Hoja1!$A$50:$C$63,3),\"\")","v":5}]
[623,20259910009814,"2025-01-24","Persona jurídica","Virtual - Correo electrónico","Solicitud de documentos o información","Sistema de información ambiental",null,"Subdirección de Estudios Ambientales","2025-02-03","Correo electrónico","2025-02-07",null,"",null,{"$f":"IFERROR(WORKDAY(N633,Y633,Hoja1!F625:F741),\"\")","v":""},{"$f":"+IF(N633=\"\",\"\",IF(O633=\"\",\"SIN RESPUESTA\",(IF(O633<=P633,\"A TIEMPO\",\"FUERA DE TIEMPO\"))))","v":""},null,"A TIEMPO",6,0,null,null,{"$f":"IFERROR(VLOOKUP(F633,Hoja1!$A$50:$C$63,2),\"\")","v":5},{"$f":"IFERROR(VLOOKUP(F633,Hoja1!$A$50:$C$63,3),\"\")","v":5}]
[624,20259910009824,"2025-01-24","Persona natural","Virtual - Correo electrónico","Solicitud de documentos o información","Administrativa",null,"Oficina Asesora Jurídica","2025-01-25","No aplica","2025-02-07",null,"",null,{"$f":"IFERROR(WORKDAY(N634,Y634,Hoja1!F626:F742),\"\")","v":""},{"$f":"+IF(N634=\"\",\"\",IF(O634=\"\",\"SIN RESPUESTA\",(IF(O634<=P634,\"A TIEMPO\",\"FUERA DE TIEMPO\"))))","v":""},null,"A TIEMPO",0,0,null,null,{"$f":"IFERROR(VLOOKUP(F634,Hoja1!$A$50:$C$63,2),\"\")","v":5},{"$f":"IFERROR(VLOOKUP(F634,Hoja1!$A$50:$C$63,3),\"\")","v":5}]
[625,20259910009834,"2025-01-24","Persona jurídica","Virtual - Correo electrónico","Certificación de contrato","Administrativa",null,"Oficina Asesora Jurídica","2025-02-11","Correo electrónico","2025-02-07",null,"",null,{"$f":"IFERROR(WORKDAY(N635,Y635,Hoja1!F627:F743),\"\")","v":""},{"$f":"+IF(N635=\"\",\"\",IF(O635=\"\",\"SIN RESPUESTA\",(IF(O635<=P635,\"A TIEMPO\",\"FUERA DE TIEMPO\"))))","v":""},null,{"$f":"+IF(C635=\"\",\"\",IF(J635=\"\",\"SIN RESPUESTA\",(IF(J635<=L635,\"A TIEMPO\",\"FUERA DE TIEMPO\"))))","v":"FUERA DE TIEMPO"},12,2,null,null,{"$f":"IFERROR(VLOOKUP(F635,Hoja1!$A$50:$C$63,2),\"\")","v":15},{"$f":"IFERROR(VLOOKUP(F635,Hoja1!$A$50:$C$63,3),\"\")","v":15}]
[626,20259910009874,"2025-01-24","Persona jurídica","Virtual - Correo electrónico","Solicitud de documentos o información","Administrativa",null,"Subdirección de Estudios Ambientales","2025-02-05","Correo electrónico","2025-02-07",null,"",null,{"$f":"IFERROR(WORKDAY(N636,Y636,Hoja1!F628:F744),\"\")","v":""},{"$f":"+IF(N636=\"\",\"\",IF(O636=\"\",\"SIN RESPUESTA\",(IF(O636<=P636,\"A TIEMPO\",\"FUERA DE TIEMPO\"))))","v":""},null,"A TIEMPO",8,0,null,null,{"$f":"IFERROR(VLOOKUP(F636,Hoja1!$A$50:$C$63,2),\"\")","v":5},{"$f":"IFERROR(VLOOKUP(F636,Hoja1!$A$50:$C$63,3),\"\")","v":5}]
[627,20259050009884,"2025-01-24","Persona jurídica","Virtual - Formulario PQRSDF","Solicitud de documentos o información","Sistema de información ambiental",null,"Subdirección de Estudios Ambientales","2025-02-04","Correo electrónico","2025-02-07",null,"",null,{"$f":"IFERROR(WORKDAY(N637,Y637,Hoja1!F629:F745),\"\")","v":""},{"$f":"+IF(N637=\"\",\"\",IF(O637=\"\",\"SIN RESPUESTA\",(IF(O637<=P637,\"A TIEMPO\",\"FUERA DE TIEMPO\"))))","v":""},null,"A TIEMPO",7,0,null,null,{"$f":"IFERROR(VLOOKUP(F637,Hoja1!$A$50:$C$63,2),\"\")","v":5},{"$f":"IFERROR(VLOOKUP(F637,Hoja1!$A$50:$C$63,3),\"\")","v":5}]
[628,20259050009904,"2025-01-24","Persona jurídica","Virtual - Formulario PQRSDF","Solicitud de documentos o información","Sistema de información ambiental",null,"Subdirección de Estudios Ambientales","2025-02-05","Correo electrónico","2025-02-07",null,"",null,{"$f":"IFERROR(WORKDAY(N638,Y638,Hoja1!F630:F746),\"\")","v":""},{"$f":"+IF(N638=\"\",\"\",IF(O638=\"\",\"SIN RESPUESTA\",(IF(O638<=P638,\"A TIEMPO\",\"FUERA DE TIEMPO\"))))","v":""},null,"A TIEMPO",8,0,null,null,{"$f":"IFERROR(VLOOKUP(F638,Hoja1!$A$50:$C$63,2),\"\")","v":5},{"$f":"IFERROR(VLOOKUP(F638,Hoja1!$A$50:$C$63,3),\"\")","v":5}]
[629,20259050009924,"2025-01-24","Persona jurídica","Virtual - Formulario PQRSDF","Solicitud de documentos o información","Bosques",null,"Subdirección de Ecosistemas e Información Ambiental","2025-02-05","Correo electrónico","2025-02-07",null,"",null,{"$f":"IFERROR(WORKDAY(N639,Y639,Hoja1!F631:F747),\"\")","v":""},{"$f":"+IF(N639=\"\",\"\",IF(O639=\"\",\"SIN RESPUESTA\",(IF(O639<=P639,\"A TIEMPO\",\"FUERA DE TIEMPO\"))))","v":""},null,"A TIEMPO",8,0,null,null,{"$f":"IFERROR(VLOOKUP(F639,Hoja1!$A$50:$C$63,2),\"\")","v":5},{"$f":"IFERROR(VLOOKUP(F639,Hoja1!$A$50:$C$63,3),\"\")","v":5}]
[630,20259910009934,"2025-01-24","Persona jurídica","Virtual - Correo electrónico","Solicitud de documentos o información","Bosques",null,"Subdirección de Ecosistemas e Información Ambiental","2025-02-05","Correo electrónico","2025-02-07",null,"",null,{"$f":"IFERROR(WORKDAY(N640,Y640,Hoja1!F632:F748),\"\")","v":""},{"$f":"+IF(N640=\"\",\"\",IF(O640=\"\",\"SIN RESPUESTA\",(IF(O640<=P640,\"A TIEMPO\",\"FUERA DE TIEMPO\"))))","v":""},null,"A TIEMPO",8,0,null,null,{"$f":"IFERROR(VLOOKUP(F640,Hoja1!$A$50:$C$63,2),\"\")","v":5},{"$f":"IFERROR(VLOOKUP(F640,Hoja1!$A$50:$C$63,3),\"\")","v":5}]
[631,20259910009944,"2025-01-24","Persona natural","Virtual - Correo electrónico","Certificación laboral o pasantía","Administrativa",null,"Grupo de Administración y Desarrollo del Talento Humano","2025-01-29","Correo electrónico","2025-02-07",null,"",null,{"$f":"IFERROR(WORKDAY(N641,Y641,Hoja1!F633:F749),\"\")","v":""},{"$f":"+IF(N641=\"\",\"\",IF(O641=\"\",\"SIN RESPUESTA\",(IF(O641<=P641,\"A TIEMPO\",\"FUERA DE TIEMPO\"))))","v":""},null,"A TIEMPO",3,0,null,null,{"$f":"IFERROR(VLOOKUP(F641,Hoja1!$A$50:$C$63,2),\"\")","v":15},{"$f":"IFERROR(VLOOKUP(F641,Hoja1!$A$50:$C$63,3),\"\")","v":15}]
[632,20259910009954,"2025-01-24","Persona jurídica","Virtual - Correo electrónico","Solicitud de documentos o información","Bosques",null,"Subdirección de Estudios Ambientales","2025-02-05","Correo electrónico","2025-02-07",null,"",null,{"$f":"IFERROR(WORKDAY(N642,Y642,Hoja1!F634:F750),\"\")","v":""},{"$f":"+IF(N642=\"\",\"\",IF(O642=\"\",\"SIN RESPUESTA\",(IF(O642<=P642,\"A TIEMPO\",\"FUERA DE TIEMPO\"))))","v":""},null,"A TIEMPO",8,0,null,null,{"$f":"IFERROR(VLOOKUP(F642,Hoja1!$A$50:$C$63,2),\"\")","v":5},{"$f":"IFERROR(VLOOKUP(F642,Hoja1!$A$50:$C$63,3),\"\")","v":5}]
[633,20259050009974,"2025-01-24","Persona natural","Virtual - Formulario PQRSDF","Solicitud de documentos o información","Solicitud de información hidrometeorológica",null,"Grupo de Servicio al Ciudadano","2025-02-04","Correo electrónico","2025-02-07",null,"",null,{"$f":"IFERROR(WORKDAY(N643,Y643,Hoja1!F635:F751),\"\")","v":""},{"$f":"+IF(N643=\"\",\"\",IF(O643=\"\",\"SIN RESPUESTA\",(IF(O643<=P643,\"A TIEMPO\",\"FUERA DE TIEMPO\"))))","v":""},null,"A TIEMPO",7,0,null,null,{"$f":"IFERROR(VLOOKUP(F643,Hoja1!$A$50:$C$63,2),\"\")","v":5},{"$f":"IFERROR(VLOOKUP(F643,Hoja1!$A$50:$C$63,3),\"\")","v":5}]
[634,20259910009994,"2025-01-24","Persona jurídica","Virtual - Correo electrónico","Solicitud de documentos o información","Estudio nacional del agua",null,"Subdirección de Hidrología","2025-01-30","Correo electrónico","2025-02-07",null,"",null,{"$f":"IFERROR(WORKDAY(N644,Y644,Hoja1!F636:F752),\"\")","v":""},{"$f":"+IF(N644=\"\",\"\",IF(O644=\"\",\"SIN RESPUESTA\",(IF(O644<=P644,\"A TIEMPO\",\"FUERA DE TIEMPO\"))))","v":""},null,"A TIEMPO",4,0,null,null,{"$f":"IFERROR(VLOOKUP(F644,Hoja1!$A$50:$C$63,2),\"\")","v":5},{"$f":"IFERROR(VLOOKUP(F644,Hoja1!$A$50:$C$63,3),\"\")","v":5}]
[635,20259910010004,"2025-01-24","Persona jurídica","Virtual - Correo electrónico","Solicitud de documentos o información","Bosques",null,"Subdirección de Estudios Ambientales","2025-02-05","Correo electrónico","2025-02-07",null,"",null,{"$f":"IFERROR(WORKDAY(N645,Y645,Hoja1!F637:F753),\"\")","v":""},{"$f":"+IF(N645=\"\",\"\",IF(O645=\"\",\"SIN RESPUESTA\",(IF(O645<=P645,\"A TIEMPO\",\"FUERA DE TIEMPO\"))))","v":""},null,"A TIEMPO",8,0,null,null,{"$f":"IFERROR(VLOOKUP(F645,Hoja1!$A$50:$C$63,2),\"\")","v":5},{"$f":"IFERROR(VLOOKUP(F645,Hoja1!$A$50:$C$63,3),\"\")","v":5}]
[636,20259910010014,"2025-01-24","Persona jurídica","Virtual - Correo electrónico","Solicitud de documentos o información","Solicitud de información hidrometeorológica",null,"Subdirección de Estudios Ambientales","2025-02-05","Correo electrónico","2025-02-07",null,"",null,{"$f":"IFERROR(WORKDAY(N646,Y646,Hoja1!F638:F754),\"\")","v":""},{"$f":"+IF(N646=\"\",\"\",IF(O646=\"\",\"SIN RESPUESTA\",(IF(O646<=P646,\"A TIEMPO\",\"FUERA DE TIEMPO\"))))","v":""},null,"A TIEMPO",8,0,null,null,{"$f":"IFERROR(VLOOKUP(F646,Hoja1!$A$50:$C$63,2),\"\")","v":5},{"$f":"IFERROR(VLOOKUP(F646,Hoja1!$A$50:$C$63,3),\"\")","v":5}]
[637,20259910010034,"2025-01-24","Persona natural","Virtual - Correo electrónico","Solicitud de documentos o información","Solicitud de información hidrometeorológica",null,"Grupo de Servicio al Ciudadano","2025-01-28","Correo electrónico","2025-02-07",null,"",null,{"$f":"IFERROR(WORKDAY(N647,Y647,Hoja1!F639:F755),\"\")","v":""},{"$f":"+IF(N647=\"\",\"\",IF(O647=\"\",\"SIN RESPUESTA\",(IF(O647<=P647,\"A TIEMPO\",\"FUERA DE TIEMPO\"))))","v":""},null,"A TIEMPO",2,0,null,null,{"$f":"IFERROR(VLOOKUP(F647,Hoja1!$A$50:$C$63,2),\"\")","v":5},{"$f":"IFERROR(VLOOKUP(F647,Hoja1!$A$50:$C$63,3),\"\")","v":5}]
[638,20259050010074,"2025-01-24","Persona jurídica","Virtual - Formulario PQRSDF","Solicitud de documentos o información","Bosques",null,"Subdirección de Estudios Ambientales","2025-02-11","Correo electrónico","2025-02-07",null,"",null,{"$f":"IFERROR(WORKDAY(N648,Y648,Hoja1!F640:F756),\"\")","v":""},{"$f":"+IF(N648=\"\",\"\",IF(O648=\"\",\"SIN RESPUESTA\",(IF(O648<=P648,\"A TIEMPO\",\"FUERA DE TIEMPO\"))))","v":""},null,{"$f":"+IF(C648=\"\",\"\",IF(J648=\"\",\"SIN RESPUESTA\",(IF(J648<=L648,\"A TIEMPO\",\"FUERA DE TIEMPO\"))))","v":"FUERA DE TIEMPO"},12,2,null,null,{"$f":"IFERROR(VLOOKUP(F648,Hoja1!$A$50:$C$63,2),\"\")","v":5},{"$f":"IFERROR(VLOOKUP(F648,Hoja1!$A$50:$C$63,3),\"\")","v":5}]
[639,20259050010084,"2025-01-24","Persona jurídica","Virtual - Formulario PQRSDF","Solicitud de documentos o información","Informes ambientales",null,"Subdirección de Estudios Ambientales","2025-02-11","Correo electrónico","2025-02-07",null,"",null,{"$f":"IFERROR(WORKDAY(N649,Y649,Hoja1!F641:F757),\"\")","v":""},{"$f":"+IF(N649=\"\",\"\",IF(O649=\"\",\"SIN RESPUESTA\",(IF(O649<=P649,\"A TIEMPO\",\"FUERA DE TIEMPO\"))))","v":""},null,{"$f":"+IF(C649=\"\",\"\",IF(J649=\"\",\"SIN RESPUESTA\",(IF(J649<=L649,\"A TIEMPO\",\"FUERA DE TIEMPO\"))))","v":"FUERA DE TIEMPO"},12,2,null,null,{"$f":"IFERROR(VLOOKUP(F649,Hoja1!$A$50:$C$63,2),\"\")","v":5},{"$f":"IFERROR(VLOOKUP(F649,Hoja1!$A$50:$C$63,3),\"\")","v":5}]
[640,20259910010094,"2025-01-24","Persona jurídica","Virtual - Correo electrónico","Solicitud de documentos o información","Informes ambientales",null,"Subdirección de Estudios Ambientales","2025-02-12","Correo electrónico","2025-02-07","SI","2025-02-21","2025-02-12",{"$f":"IFERROR(WORKDAY(N650,Y650,Hoja1!F642:F758),\"\")","v":"2025-02-28"},{"$f":"+IF(N650=\"\",\"\",IF(O650=\"\",\"SIN RESPUESTA\",(IF(O650<=P650,\"A TIEMPO\",\"FUERA DE TIEMPO\"))))","v":"A TIEMPO"},null,"A TIEMPO",13,0,null,null,{"$f":"IFERROR(VLOOKUP(F650,Hoja1!$A$50:$C$63,2),\"\")","v":5},{"$f":"IFERROR(VLOOKUP(F650,Hoja1!$A$50:$C$63,3),\"\")","v":5}]
[641,20259910010104,"2025-01-24","Persona jurídica","Virtual - Correo electrónico","Solicitud de documentos o información","Registros ambientales",null,"Subdirección de Estudios Ambientales","2025-02-11","Correo electrónico","2025-02-07",null,"",null,{"$f":"IFERROR(WORKDAY(N651,Y651,Hoja1!F643:F759),\"\")","v":""},{"$f":"+IF(N651=\"\",\"\",IF(O651=\"\",\"SIN RESPUESTA\",(IF(O651<=P651,\"A TIEMPO\",\"FUERA DE TIEMPO\"))))","v":""},null,{"$f":"+IF(C651=\"\",\"\",IF(J651=\"\",\"SIN RESPUESTA\",(IF(J651<=L651,\"A TIEMPO\",\"FUERA DE TIEMPO\"))))","v":"FUERA DE TIEMPO"},12,2,null,null,{"$f":"IFERROR(VLOOKUP(F651,Hoja1!$A$50:$C$63,2),\"\")","v":5},{"$f":"IFERROR(VLOOKUP(F651,Hoja1!$A$50:$C$63,3),\"\")","v":5}]
[642,20259910010114,"2025-01-24","Persona jurídica","Virtual - Correo electrónico","Solicitud de documentos o información","Modelación hidrológica",null,"Subdirección de Hidrología","2025-01-31","Correo electrónico","2025-02-07",null,"",null,{"$f":"IFERROR(WORKDAY(N652,Y652,Hoja1!F644:F760),\"\")","v":""},{"$f":"+IF(N652=\"\",\"\",IF(O652=\"\",\"SIN RESPUESTA\",(IF(O652<=P652,\"A TIEMPO\",\"FUERA DE TIEMPO\"))))","v":""},null,"A TIEMPO",5,0,null,null,{"$f":"IFERROR(VLOOKUP(F652,Hoja1!$A$50:$C$63,2),\"\")","v":5},{"$f":"IFERROR(VLOOKUP(F652,Hoja1!$A$50:$C$63,3),\"\")","v":5}]
[643,20259910010124,"2025-01-24","Persona natural","Virtual - Correo electrónico","Solicitud de documentos o información","Solicitud de información hidrometeorológica",null,"Grupo de Servicio al Ciudadano","2025-02-04","Correo electrónico","2025-02-07",null,"",null,{"$f":"IFERROR(WORKDAY(N653,Y653,Hoja1!F645:F761),\"\")","v":""},{"$f":"+IF(N653=\"\",\"\",IF(O653=\"\",\"SIN RESPUESTA\",(IF(O653<=P653,\"A TIEMPO\",\"FUERA DE TIEMPO\"))))","v":""},null,"A TIEMPO",7,0,null,null,{"$f":"IFERROR(VLOOKUP(F653,Hoja1!$A$50:$C$63,2),\"\")","v":5},{"$f":"IFERROR(VLOOKUP(F653,Hoja1!$A$50:$C$63,3),\"\")","v":5}]
[644,20259910010164,"2025-01-24","Persona natural","Virtual - Correo electrónico","Certificación de contrato","Administrativa",null,"Oficina Asesora Jurídica","2025-02-11","Correo electrónico","2025-02-07",null,"",null,{"$f":"IFERROR(WORKDAY(N654,Y654,Hoja1!F646:F762),\"\")","v":""},{"$f":"+IF(N654=\"\",\"\",IF(O654=\"\",\"SIN RESPUESTA\",(IF(O654<=P654,\"A TIEMPO\",\"FUERA DE TIEMPO\"))))","v":""},null,{"$f":"+IF(C654=\"\",\"\",IF(J654=\"\",\"SIN RESPUESTA\",(IF(J654<=L654,\"A TIEMPO\",\"FUERA DE TIEMPO\"))))","v":"FUERA DE TIEMPO"},12,2,null,null,{"$f":"IFERROR(VLOOKUP(F654,Hoja1!$A$50:$C$63,2),\"\")","v":15},{"$f":"IFERROR(VLOOKUP(F654,Hoja1!$A$50:$C$63,3),\"\")","v":15}]
[645,20259910010174,"2025-01-24","Persona jurídica","Virtual - Correo electrónico","Solicitud de documentos o información","Registros ambientales",null,"Subdirección de Estudios Ambientales","2025-01-28","Correo electrónico","2025-02-07",null,"",null,{"$f":"IFERROR(WORKDAY(N655,Y655,Hoja1!F647:F763),\"\")","v":""},{"$f":"+IF(N655=\"\",\"\",IF(O655=\"\",\"SIN RESPUESTA\",(IF(O655<=P655,\"A TIEMPO\",\"FUERA DE TIEMPO\"))))","v":""},null,"A TIEMPO",2,0,null,null,{"$f":"IFERROR(VLOOKUP(F655,Hoja1!$A$50:$C$63,2),\"\")","v":5},{"$f":"IFERROR(VLOOKUP(F655,Hoja1!$A$50:$C$63,3),\"\")","v":5}]
[646,20259910010184,"2025-01-24","Persona natural","Virtual - Correo electrónico","Certificación de contrato","Administrativa",null,"Oficina Asesora Jurídica","2025-01-30","Correo electrónico","2025-02-07",null,"",null,{"$f":"IFERROR(WORKDAY(N656,Y656,Hoja1!F648:F764),\"\")","v":""},{"$f":"+IF(N656=\"\",\"\",IF(O656=\"\",\"SIN RESPUESTA\",(IF(O656<=P656,\"A TIEMPO\",\"FUERA DE TIEMPO\"))))","v":""},null,"A TIEMPO",4,0,null,null,{"$f":"IFERROR(VLOOKUP(F656,Hoja1!$A$50:$C$63,2),\"\")","v":15},{"$f":"IFERROR(VLOOKUP(F656,Hoja1!$A$50:$C$63,3),\"\")","v":15}]
[{"$f":"IF(B657<>\"\",A656+1,\"\")","v":647},20259910010214,"2025-01-24","Persona jurídica","Virtual - Correo electrónico","Certificación de contrato","Administrativa",null,"Oficina Asesora Jurídica","2025-02-11","Correo electrónico","2025-02-07",null,"",null,{"$f":"IFERROR(WORKDAY(N657,Y657,Hoja1!F649:F765),\"\")","v":""},{"$f":"+IF(N657=\"\",\"\",IF(O657=\"\",\"SIN RESPUESTA\",(IF(O657<=P657,\"A TIEMPO\",\"FUERA DE TIEMPO\"))))","v":""},null,{"$f":"+IF(C657=\"\",\"\",IF(J657=\"\",\"SIN RESPUESTA\",(IF(J657<=L657,\"A TIEMPO\",\"FUERA DE TIEMPO\"))))","v":"FUERA DE TIEMPO"},12,2,null,null,{"$f":"IFERROR(VLOOKUP(F657,Hoja1!$A$50:$C$63,2),\"\")","v":15},{"$f":"IFERROR(VLOOKUP(F657,Hoja1!$A$50:$C$63,3),\"\")","v":15}]
[648,20259050010284,"2025-01-24","Persona natural","Virtual - Formulario PQRSDF","Certificación de contrato","Administrativa",null,"Oficina Asesora Jurídica","2025-02-11","Correo electrónico","2025-02-07",null,"",null,{"$f":"IFERROR(WORKDAY(N658,Y658,Hoja1!F650:F766),\"\")","v":""},{"$f":"+IF(N658=\"\",\"\",IF(O658=\"\",\"SIN RESPUESTA\",(IF(O658<=P658,\"A TIEMPO\",\"FUERA DE TIEMPO\"))))","v":""},null,{"$f":"+IF(C658=\"\",\"\",IF(J658=\"\",\"SIN RESPUESTA\",(IF(J658<=L658,\"A TIEMPO\",\"FUERA DE TIEMPO\"))))","v":"FUERA DE TIEMPO"},12,2,null,null,{"$f":"IFERROR(VLOOKUP(F658,Hoja1!$A$50:$C$63,2),\"\")","v":15},{"$f":"IFERROR(VLOOKUP(F658,Hoja1!$A$50:$C$63,3),\"\")","v":15}]
[649,20259050010394,"2025-01-25","Persona natural","Virtual - Formulario PQRSDF","Certificación de contrato","Administrativa",null,"Oficina Asesora Jurídica","2025-01-31","Correo electrónico","2025-02-07",null,"",null,{"$f":"IFERROR(WORKDAY(N659,Y659,Hoja1!F651:F767),\"\")","v":""},{"$f":"+IF(N659=\"\",\"\",IF(O659=\"\",\"SIN RESPUESTA\",(IF(O659<=P659,\"A TIEMPO\",\"FUERA DE TIEMPO\"))))","v":""},null,"A TIEMPO",4,0,null,null,{"$f":"IFERROR(VLOOKUP(F659,Hoja1!$A$50:$C$63,2),\"\")","v":15},{"$f":"IFERROR(VLOOKUP(F659,Hoja1!$A$50:$C$63,3),\"\")","v":15}]
[650,20259050010414,"2025-01-27","Persona natural","Virtual - Formulario PQRSDF","Solicitud de documentos o información","Solicitud de información hidrometeorológica",null,"Subdirección de Meteorología","2025-01-31","Correo electrónico","2025-02-10",null,"",null,{"$f":"IFERROR(WORKDAY(N660,Y660,Hoja1!F652:F768),\"\")","v":""},{"$f":"+IF(N660=\"\",\"\",IF(O660=\"\",\"SIN RESPUESTA\",(IF(O660<=P660,\"A TIEMPO\",\"FUERA DE TIEMPO\"))))","v":""},null,"A TIEMPO",4,0,null,null,{"$f":"IFERROR(VLOOKUP(F660,Hoja1!$A$50:$C$63,2),\"\")","v":5},{"$f":"IFERROR(VLOOKUP(F660,Hoja1!$A$50:$C$63,3),\"\")","v":5}]
[651,20259910010484,"2025-01-27","Persona natural","Virtual - Correo electrónico","Certificación laboral o pasantía","Administrativa",null,"Grupo de Administración y Desarrollo del Talento Humano","2025-01-30","Correo electrónico","2025-02-10",null,"",null,{"$f":"IFERROR(WORKDAY(N661,Y661,Hoja1!F653:F769),\"\")","v":""},{"$f":"+IF(N661=\"\",\"\",IF(O661=\"\",\"SIN RESPUESTA\",(IF(O661<=P661,\"A TIEMPO\",\"FUERA DE TIEMPO\"))))","v":""},null,"A TIEMPO",3,0,null,null,{"$f":"IFERROR(VLOOKUP(F661,Hoja1!$A$50:$C$63,2),\"\")","v":15},{"$f":"IFERROR(VLOOKUP(F661,Hoja1!$A$50:$C$63,3),\"\")","v":15}]
[652,20259050010454,"2025-01-27","Persona natural","Virtual - Formulario PQRSDF","Solicitud de documentos o información","Bosques",null,"Subdirección de Ecosistemas e Información Ambiental","2025-02-05","Correo electrónico","2025-02-10",null,"",null,{"$f":"IFERROR(WORKDAY(N662,Y662,Hoja1!F654:F770),\"\")","v":""},{"$f":"+IF(N662=\"\",\"\",IF(O662=\"\",\"SIN RESPUESTA\",(IF(O662<=P662,\"A TIEMPO\",\"FUERA DE TIEMPO\"))))","v":""},null,"A TIEMPO",7,0,null,null,{"$f":"IFERROR(VLOOKUP(F662,Hoja1!$A$50:$C$63,2),\"\")","v":5},{"$f":"IFERROR(VLOOKUP(F662,Hoja1!$A$50:$C$63,3),\"\")","v":5}]
[653,20259910010464,"2025-01-27","Persona jurídica","Virtual - Correo electrónico","Solicitud de documentos o información","Registros ambientales",null,"Subdirección de Estudios Ambientales","2025-01-31","Correo electrónico","2025-02-10",null,"",null,{"$f":"IFERROR(WORKDAY(N663,Y663,Hoja1!F655:F771),\"\")","v":""},{"$f":"+IF(N663=\"\",\"\",IF(O663=\"\",\"SIN RESPUESTA\",(IF(O663<=P663,\"A TIEMPO\",\"FUERA DE TIEMPO\"))))","v":""},null,"A TIEMPO",4,0,null,null,{"$f":"IFERROR(VLOOKUP(F663,Hoja1!$A$50:$C$63,2),\"\")","v":5},{"$f":"IFERROR(VLOOKUP(F663,Hoja1!$A$50:$C$63,3),\"\")","v":5}]
[654,20259910010494,"2025-01-27","Persona natural","Virtual - Correo electrónico","Certificación de contrato","Administrativa",null,"Oficina Asesora Jurídica","2025-02-11","Correo electrónico","2025-02-10",null,"",null,{"$f":"IFERROR(WORKDAY(N664,Y664,Hoja1!F656:F772),\"\")","v":""},{"$f":"+IF(N664=\"\",\"\",IF(O664=\"\",\"SIN RESPUESTA\",(IF(O664<=P664,\"A TIEMPO\",\"FUERA DE TIEMPO\"))))","v":""},null,{"$f":"+IF(C664=\"\",\"\",IF(J664=\"\",\"SIN RESPUESTA\",(IF(J664<=L664,\"A TIEMPO\",\"FUERA DE TIEMPO\"))))","v":"FUERA DE TIEMPO"},11,1,null,null,{"$f":"IFERROR(VLOOKUP(F664,Hoja1!$A$50:$C$63,2),\"\")","v":15},{"$f":"IFERROR(VLOOKUP(F664,Hoja1!$A$50:$C$63,3),\"\")","v":15}]
[655,20259050010504,"2025-01-27","Persona natural","Virtual - Formulario PQRSDF","Solicitud de documentos o información","Sistema de información del recurso hídrico",null,"Grupo de Servicio al Ciudadano","2025-02-04","Correo electrónico","2025-02-10",null,"",null,{"$f":"IFERROR(WORKDAY(N665,Y665,Hoja1!F657:F773),\"\")","v":""},{"$f":"+IF(N665=\"\",\"\",IF(O665=\"\",\"SIN RESPUESTA\",(IF(O665<=P665,\"A TIEMPO\",\"FUERA DE TIEMPO\"))))","v":""},null,"A TIEMPO",6,0,null,null,{"$f":"IFERROR(VLOOKUP(F665,Hoja1!$A$50:$C$63,2),\"\")","v":5},{"$f":"IFERROR(VLOOKUP(F665,Hoja1!$A$50:$C$63,3),\"\")","v":5}]
[656,20259910010524,"2025-01-27","Persona jurídica","Virtual - Correo electrónico","Solicitud de documentos o información","Sistema de información del recurso hídrico",null,"Subdirección de Hidrología","2025-02-05","Correo electrónico","2025-02-10",null,"",null,{"$f":"IFERROR(WORKDAY(N666,Y666,Hoja1!F658:F774),\"\")","v":""},{"$f":"+IF(N666=\"\",\"\",IF(O666=\"\",\"SIN RESPUESTA\",(IF(O666<=P666,\"A TIEMPO\",\"FUERA DE TIEMPO\"))))","v":""},null,"A TIEMPO",7,0,null,null,{"$f":"IFERROR(VLOOKUP(F666,Hoja1!$A$50:$C$63,2),\"\")","v":5},{"$f":"IFERROR(VLOOKUP(F666,Hoja1!$A$50:$C$63,3),\"\")","v":5}]
[657,20259910010534,"2025-01-27","Persona natural","Virtual - Correo electrónico","Certificación laboral o pasantía","Administrativa",null,"Grupo de Administración y Desarrollo del Talento Humano","2025-01-30","Correo electrónico","2025-02-10",null,"",null,{"$f":"IFERROR(WORKDAY(N667,Y667,Hoja1!F659:F775),\"\")","v":""},{"$f":"+IF(N667=\"\",\"\",IF(O667=\"\",\"SIN RESPUESTA\",(IF(O667<=P667,\"A TIEMPO\",\"FUERA DE TIEMPO\"))))","v":""},null,"A TIEMPO",3,0,null,null,{"$f":"IFERROR(VLOOKUP(F667,Hoja1!$A$50:$C$63,2),\"\")","v":15},{"$f":"IFERROR(VLOOKUP(F667,Hoja1!$A$50:$C$63,3),\"\")","v":15}]
[658,20259910010544,"2025-01-27","Persona jurídica","Virtual - Correo electrónico","Certificación de ingresos y retenciones","Administrativa",null,"Grupo de Contabilidad","2025-02-05","Correo electrónico","2025-02-10",null,"",null,{"$f":"IFERROR(WORKDAY(N668,Y668,Hoja1!F660:F776),\"\")","v":""},{"$f":"+IF(N668=\"\",\"\",IF(O668=\"\",\"SIN RESPUESTA\",(IF(O668<=P668,\"A TIEMPO\",\"FUERA DE TIEMPO\"))))","v":""},null,"A TIEMPO",7,0,null,null,{"$f":"IFERROR(VLOOKUP(F668,Hoja1!$A$50:$C$63,2),\"\")","v":15},{"$f":"IFERROR(VLOOKUP(F668,Hoja1!$A$50:$C$63,3),\"\")","v":15}]
[659,20259910010564,"2025-01-27","Persona natural","Virtual - Correo electrónico","Certificación de contrato","Administrativa",null,"Oficina Asesora Jurídica","2025-02-11","Correo electrónico","2025-02-10",null,"",null,{"$f":"IFERROR(WORKDAY(N669,Y669,Hoja1!F661:F777),\"\")","v":""},{"$f":"+IF(N669=\"\",\"\",IF(O669=\"\",\"SIN RESPUESTA\",(IF(O669<=P669,\"A TIEMPO\",\"FUERA DE TIEMPO\"))))","v":""},null,{"$f":"+IF(C669=\"\",\"\",IF(J669=\"\",\"SIN RESPUESTA\",(IF(J669<=L669,\"A TIEMPO\",\"FUERA DE TIEMPO\"))))","v":"FUERA DE TIEMPO"},11,1,null,null,{"$f":"IFERROR(VLOOKUP(F669,Hoja1!$A$50:$C$63,2),\"\")","v":15},{"$f":"IFERROR(VLOOKUP(F669,Hoja1!$A$50:$C$63,3),\"\")","v":15}]
[660,20259910010574,"2025-01-27","Persona natural","Virtual - Correo electrónico","Certificación de contrato","Administrativa",null,"Oficina Asesora Jurídica","2025-02-11","Correo electrónico","2025-02-10",null,"",null,{"$f":"IFERROR(WORKDAY(N670,Y670,Hoja1!F662:F778),\"\")","v":""},{"$f":"+IF(N670=\"\",\"\",IF(O670=\"\",\"SIN RESPUESTA\",(IF(O670<=P670,\"A TIEMPO\",\"FUERA DE TIEMPO\"))))","v":""},null,{"$f":"+IF(C670=\"\",\"\",IF(J670=\"\",\"SIN RESPUESTA\",(IF(J670<=L670,\"A TIEMPO\",\"FUERA DE TIEMPO\"))))","v":"FUERA DE TIEMPO"},11,1,null,null,{"$f":"IFERROR(VLOOKUP(F670,Hoja1!$A$50:$C$63,2),\"\")","v":15},{"$f":"IFERROR(VLOOKUP(F670,Hoja1!$A$50:$C$63,3),\"\")","v":15}]
[661,20259910010654,"2025-01-27","Persona natural","Virtual - Correo electrónico","Certificación electrónica de tiempos laborados - CETIL","Administrativa",null,"Grupo de Administración y Desarrollo del Talento Humano","2025-02-19","Correo electrónico","2025-02-17",null,"",null,{"$f":"IFERROR(WORKDAY(N671,Y671,Hoja1!F663:F779),\"\")","v":""},{"$f":"+IF(N671=\"\",\"\",IF(O671=\"\",\"SIN RESPUESTA\",(IF(O671<=P671,\"A TIEMPO\",\"FUERA DE TIEMPO\"))))","v":""},null,{"$f":"+IF(C671=\"\",\"\",IF(J671=\"\",\"SIN RESPUESTA\",(IF(J671<=L671,\"A TIEMPO\",\"FUERA DE TIEMPO\"))))","v":"FUERA DE TIEMPO"},17,2,null,null,{"$f":"IFERROR(VLOOKUP(F671,Hoja1!$A$50:$C$63,2),\"\")","v":15},{"$f":"IFERROR(VLOOKUP(F671,Hoja1!$A$50:$C$63,3),\"\")","v":15}]
[662,20259910010684,"2025-01-27","Persona natural","Virtual - Correo electrónico","Certificación de contrato","Administrativa",null,"Oficina Asesora Jurídica","2025-02-21","Correo electrónico","2025-02-10",null,"",null,{"$f":"IFERROR(WORKDAY(N672,Y672,Hoja1!F664:F780),\"\")","v":""},{"$f":"+IF(N672=\"\",\"\",IF(O672=\"\",\"SIN RESPUESTA\",(IF(O672<=P672,\"A TIEMPO\",\"FUERA DE TIEMPO\"))))","v":""},null,{"$f":"+IF(C672=\"\",\"\",IF(J672=\"\",\"SIN RESPUESTA\",(IF(J672<=L672,\"A TIEMPO\",\"FUERA DE TIEMPO\"))))","v":"FUERA DE TIEMPO"},19,9,null,null,{"$f":"IFERROR(VLOOKUP(F672,Hoja1!$A$50:$C$63,2),\"\")","v":15},{"$f":"IFERROR(VLOOKUP(F672,Hoja1!$A$50:$C$63,3),\"\")","v":15}]
[663,20259910010584,"2025-01-27","Persona natural","Virtual - Correo electrónico","Solicitud de bienes y/o servicios","Solicitud de información hidrometeorológica",null,"Subdirección de Meteorología","2025-01-30","Correo electrónico","2025-02-17",null,"",null,{"$f":"IFERROR(WORKDAY(N673,Y673,Hoja1!F665:F781),\"\")","v":""},{"$f":"+IF(N673=\"\",\"\",IF(O673=\"\",\"SIN RESPUESTA\",(IF(O673<=P673,\"A TIEMPO\",\"FUERA DE TIEMPO\"))))","v":""},null,"A TIEMPO",3,0,null,null,{"$f":"IFERROR(VLOOKUP(F673,Hoja1!$A$50:$C$63,2),\"\")","v":5},{"$f":"IFERROR(VLOOKUP(F673,Hoja1!$A$50:$C$63,3),\"\")","v":5}]
[664,20259910010614,"2025-01-27","Persona jurídica","Virtual - Correo electrónico","Solicitud de documentos o información","Bosques",null,"Subdirección de Ecosistemas e Información Ambiental","2025-02-11","Correo electrónico","2025-02-10",null,"",null,{"$f":"IFERROR(WORKDAY(N674,Y674,Hoja1!F666:F782),\"\")","v":""},{"$f":"+IF(N674=\"\",\"\",IF(O674=\"\",\"SIN RESPUESTA\",(IF(O674<=P674,\"A TIEMPO\",\"FUERA DE TIEMPO\"))))","v":""},null,{"$f":"+IF(C674=\"\",\"\",IF(J674=\"\",\"SIN RESPUESTA\",(IF(J674<=L674,\"A TIEMPO\",\"FUERA DE TIEMPO\"))))","v":"FUERA DE TIEMPO"},11,1,null,null,{"$f":"IFERROR(VLOOKUP(F674,Hoja1!$A$50:$C$63,2),\"\")","v":5},{"$f":"IFERROR(VLOOKUP(F674,Hoja1!$A$50:$C$63,3),\"\")","v":5}]
[665,20259910010624,"2025-01-27","Persona natural","Virtual - Correo electrónico","Solicitud de documentos o información","Solicitud de información hidrometeorológica",null,"Grupo de Servicio al Ciudadano","2025-02-04","Correo electrónico","2025-02-10",null,"",null,{"$f":"IFERROR(WORKDAY(N675,Y675,Hoja1!F667:F783),\"\")","v":""},{"$f":"+IF(N675=\"\",\"\",IF(O675=\"\",\"SIN RESPUESTA\",(IF(O675<=P675,\"A TIEMPO\",\"FUERA DE TIEMPO\"))))","v":""},null,"A TIEMPO",6,0,null,null,{"$f":"IFERROR(VLOOKUP(F675,Hoja1!$A$50:$C$63,2),\"\")","v":5},{"$f":"IFERROR(VLOOKUP(F675,Hoja1!$A$50:$C$63,3),\"\")","v":5}]
[666,20259910010634,"2025-01-27","Persona jurídica","Virtual - Correo electrónico","Solicitud de documentos o información","Administrativa",null,"Grupo de Servicios Administrativos","2025-02-06","Correo electrónico","2025-02-10",null,"",null,{"$f":"IFERROR(WORKDAY(N676,Y676,Hoja1!F668:F784),\"\")","v":""},{"$f":"+IF(N676=\"\",\"\",IF(O676=\"\",\"SIN RESPUESTA\",(IF(O676<=P676,\"A TIEMPO\",\"FUERA DE TIEMPO\"))))","v":""},null,"A TIEMPO",8,0,null,null,{"$f":"IFERROR(VLOOKUP(F676,Hoja1!$A$50:$C$63,2),\"\")","v":5},{"$f":"IFERROR(VLOOKUP(F676,Hoja1!$A$50:$C$63,3),\"\")","v":5}]
[667,20259910010714,"2025-01-27","Persona natural","Virtual - Correo electrónico","Solicitud de documentos o información","Administrativa",null,"Grupo de Administración y Desarrollo del Talento Humano","2025-02-21","Correo electrónico","2025-02-10",null,"",null,{"$f":"IFERROR(WORKDAY(N677,Y677,Hoja1!F669:F785),\"\")","v":""},{"$f":"+IF(N677=\"\",\"\",IF(O677=\"\",\"SIN RESPUESTA\",(IF(O677<=P677,\"A TIEMPO\",\"FUERA DE TIEMPO\"))))","v":""},null,{"$f":"+IF(C677=\"\",\"\",IF(J677=\"\",\"SIN RESPUESTA\",(IF(J677<=L677,\"A TIEMPO\",\"FUERA DE TIEMPO\"))))","v":"FUERA DE TIEMPO"},19,9,null,null,{"$f":"IFERROR(VLOOKUP(F677,Hoja1!$A$50:$C$63,2),\"\")","v":5},{"$f":"IFERROR(VLOOKUP(F677,Hoja1!$A$50:$C$63,3),\"\")","v":5}]
[668,20259910010724,"2025-01-27","Persona natural","Virtual - Correo electrónico","Certificación laboral o pasantía","Administrativa",null,"Grupo de Administración y Desarrollo del Talento Humano","2025-01-31","Correo electrónico","2025-02-10",null,"",null,{"$f":"IFERROR(WORKDAY(N678,Y678,Hoja1!F670:F786),\"\")","v":""},{"$f":"+IF(N678=\"\",\"\",IF(O678=\"\",\"SIN RESPUESTA\",(IF(O678<=P678,\"A TIEMPO\",\"FUERA DE TIEMPO\"))))","v":""},null,"A TIEMPO",4,0,null,null,{"$f":"IFERROR(VLOOKUP(F678,Hoja1!$A$50:$C$63,2),\"\")","v":15},{"$f":"IFERROR(VLOOKUP(F678,Hoja1!$A$50:$C$63,3),\"\")","v":15}]
[669,20259910010754,"2025-01-27","Persona natural","Virtual - Correo electrónico","Solicitud de documentos o información","Visitas académicas",null,"Grupo de Servicio al Ciudadano","2025-02-04","Correo electrónico","2025-02-10",null,"",null,{"$f":"IFERROR(WORKDAY(N679,Y679,Hoja1!F671:F787),\"\")","v":""},{"$f":"+IF(N679=\"\",\"\",IF(O679=\"\",\"SIN RESPUESTA\",(IF(O679<=P679,\"A TIEMPO\",\"FUERA DE TIEMPO\"))))","v":""},null,"A TIEMPO",6,0,null,null,{"$f":"IFERROR(VLOOKUP(F679,Hoja1!$A$50:$C$63,2),\"\")","v":5},{"$f":"IFERROR(VLOOKUP(F679,Hoja1!$A$50:$C$63,3),\"\")","v":5}]
[670,20259910010794,"2025-01-27","Persona natural","Virtual - Correo electrónico","Certificación laboral o pasantía","Administrativa",null,"Grupo de Administración y Desarrollo del Talento Humano","2025-02-06","Correo electrónico","2025-02-10",null,"",null,{"$f":"IFERROR(WORKDAY(N680,Y680,Hoja1!F672:F788),\"\")","v":""},{"$f":"+IF(N680=\"\",\"\",IF(O680=\"\",\"SIN RESPUESTA\",(IF(O680<=P680,\"A TIEMPO\",\"FUERA DE TIEMPO\"))))","v":""},null,"A TIEMPO",8,0,null,null,{"$f":"IFERROR(VLOOKUP(F680,Hoja1!$A$50:$C$63,2),\"\")","v":15},{"$f":"IFERROR(VLOOKUP(F680,Hoja1!$A$50:$C$63,3),\"\")","v":15}]
[671,20259910010834,"2025-01-27","Persona jurídica","Virtual - Correo electrónico","Certificación de ingresos y retenciones","Administrativa",null,"Grupo de Contabilidad","2025-01-31","Correo electrónico","2025-02-10",null,"",null,{"$f":"IFERROR(WORKDAY(N681,Y681,Hoja1!F673:F789),\"\")","v":""},{"$f":"+IF(N681=\"\",\"\",IF(O681=\"\",\"SIN RESPUESTA\",(IF(O681<=P681,\"A TIEMPO\",\"FUERA DE TIEMPO\"))))","v":""},null,"A TIEMPO",4,0,null,null,{"$f":"IFERROR(VLOOKUP(F681,Hoja1!$A$50:$C$63,2),\"\")","v":15},{"$f":"IFERROR(VLOOKUP(F681,Hoja1!$A$50:$C$63,3),\"\")","v":15}]
[672,20259910010814,"2025-01-27","Persona jurídica","Virtual - Correo electrónico","Petición entre autoridades","Solicitud de información hidrometeorológica",null,"Subdirección de Meteorología","2025-01-30","Correo electrónico","2025-02-10",null,"",null,{"$f":"IFERROR(WORKDAY(N682,Y682,Hoja1!F674:F790),\"\")","v":""},{"$f":"+IF(N682=\"\",\"\",IF(O682=\"\",\"SIN RESPUESTA\",(IF(O682<=P682,\"A TIEMPO\",\"FUERA DE TIEMPO\"))))","v":""},null,"A TIEMPO",3,0,null,null,{"$f":"IFERROR(VLOOKUP(F682,Hoja1!$A$50:$C$63,2),\"\")","v":10},{"$f":"IFERROR(VLOOKUP(F682,Hoja1!$A$50:$C$63,3),\"\")","v":10}]
[673,20259050010804,"2025-01-27","Persona natural","Virtual - Formulario PQRSDF","Petición de interés general o particular","Administrativa",null,"Grupo de Administración y Desarrollo del Talento Humano","2025-02-07","Correo electrónico","2025-02-17",null,"",null,{"$f":"IFERROR(WORKDAY(N683,Y683,Hoja1!F675:F791),\"\")","v":""},{"$f":"+IF(N683=\"\",\"\",IF(O683=\"\",\"SIN RESPUESTA\",(IF(O683<=P683,\"A TIEMPO\",\"FUERA DE TIEMPO\"))))","v":""},null,"A TIEMPO",9,0,null,null,{"$f":"IFERROR(VLOOKUP(F683,Hoja1!$A$50:$C$63,2),\"\")","v":15},{"$f":"IFERROR(VLOOKUP(F683,Hoja1!$A$50:$C$63,3),\"\")","v":15}]
[674,20259910010824,"2025-01-27","Persona natural","Virtual - Correo electrónico","Solicitud de documentos o información","Administrativa",null,"Grupo de Administración y Desarrollo del Talento Humano","2025-03-06","Correo electrónico","2025-02-10",null,"",null,{"$f":"IFERROR(WORKDAY(N684,Y684,Hoja1!F676:F792),\"\")","v":""},{"$f":"+IF(N684=\"\",\"\",IF(O684=\"\",\"SIN RESPUESTA\",(IF(O684<=P684,\"A TIEMPO\",\"FUERA DE TIEMPO\"))))","v":""},null,{"$f":"+IF(C684=\"\",\"\",IF(J684=\"\",\"SIN RESPUESTA\",(IF(J684<=L684,\"A TIEMPO\",\"FUERA DE TIEMPO\"))))","v":"FUERA DE TIEMPO"},28,18,null,null,{"$f":"IFERROR(VLOOKUP(F684,Hoja1!$A$50:$C$63,2),\"\")","v":5},{"$f":"IFERROR(VLOOKUP(F684,Hoja1!$A$50:$C$63,3),\"\")","v":5}]
[675,20259910010844,"2025-01-27","Persona jurídica","Virtual - Correo electrónico","Petición entre autoridades","Solicitud de información hidrometeorológica",null,"Secretaría General","2025-02-04","Correo electrónico","2025-02-10",null,"",null,{"$f":"IFERROR(WORKDAY(N685,Y685,Hoja1!F677:F793),\"\")","v":""},{"$f":"+IF(N685=\"\",\"\",IF(O685=\"\",\"SIN RESPUESTA\",(IF(O685<=P685,\"A TIEMPO\",\"FUERA DE TIEMPO\"))))","v":""},null,"A TIEMPO",6,0,null,null,{"$f":"IFERROR(VLOOKUP(F685,Hoja1!$A$50:$C$63,2),\"\")","v":10},{"$f":"IFERROR(VLOOKUP(F685,Hoja1!$A$50:$C$63,3),\"\")","v":10}]
[676,20259050010874,"2025-01-27","Persona jurídica","Virtual - Formulario PQRSDF","Solicitud de documentos o información","Bosques",null,"Subdirección de Estudios Ambientales","2025-02-06","Correo electrónico","2025-02-10",null,"",null,{"$f":"IFERROR(WORKDAY(N686,Y686,Hoja1!F678:F794),\"\")","v":""},{"$f":"+IF(N686=\"\",\"\",IF(O686=\"\",\"SIN RESPUESTA\",(IF(O686<=P686,\"A TIEMPO\",\"FUERA DE TIEMPO\"))))","v":""},null,"A TIEMPO",8,0,null,null,{"$f":"IFERROR(VLOOKUP(F686,Hoja1!$A$50:$C$63,2),\"\")","v":5},{"$f":"IFERROR(VLOOKUP(F686,Hoja1!$A$50:$C$63,3),\"\")","v":5}]
[677,20259050010674,"2025-01-27","Anónimo","Virtual - Formulario PQRSDF","Queja","Administrativa",null,"Subdirección de Ecosistemas e Información Ambiental","2025-02-17","Página web","2025-02-17",null,"",null,{"$f":"IFERROR(WORKDAY(N687,Y687,Hoja1!F679:F795),\"\")","v":""},{"$f":"+IF(N687=\"\",\"\",IF(O687=\"\",\"SIN RESPUESTA\",(IF(O687<=P687,\"A TIEMPO\",\"FUERA DE TIEMPO\"))))","v":""},null,"A TIEMPO",15,0,null,null,{"$f":"IFERROR(VLOOKUP(F687,Hoja1!$A$50:$C$63,2),\"\")","v":15},{"$f":"IFERROR(VLOOKUP(F687,Hoja1!$A$50:$C$63,3),\"\")","v":15}]
[678,20259910010894,"2025-01-27","Persona jurídica","Virtual - Correo electrónico","Solicitud de documentos o información","Registros ambientales",null,"Subdirección de Estudios Ambientales","2025-01-31","Correo electrónico","2025-02-10",null,"",null,{"$f":"IFERROR(WORKDAY(N688,Y688,Hoja1!F680:F796),\"\")","v":""},{"$f":"+IF(N688=\"\",\"\",IF(O688=\"\",\"SIN RESPUESTA\",(IF(O688<=P688,\"A TIEMPO\",\"FUERA DE TIEMPO\"))))","v":""},null,"A TIEMPO",4,0,null,null,{"$f":"IFERROR(VLOOKUP(F688,Hoja1!$A$50:$C$63,2),\"\")","v":5},{"$f":"IFERROR(VLOOKUP(F688,Hoja1!$A$50:$C$63,3),\"\")","v":5}]
[679,20259910010914,"2025-01-27","Persona jurídica","Virtual - Correo electrónico","Certificación de tiempo, clima y eventos hidrológicos","Certificaciones del tiempo y clima",null,"Subdirección de Meteorología","2025-02-07","Correo electrónico","2025-03-10",null,"",null,{"$f":"IFERROR(WORKDAY(N689,Y689,Hoja1!F681:F797),\"\")","v":""},{"$f":"+IF(N689=\"\",\"\",IF(O689=\"\",\"SIN RESPUESTA\",(IF(O689<=P689,\"A TIEMPO\",\"FUERA DE TIEMPO\"))))","v":""},null,"A TIEMPO",9,0,null,null,{"$f":"IFERROR(VLOOKUP(F689,Hoja1!$A$50:$C$63,2),\"\")","v":15},{"$f":"IFERROR(VLOOKUP(F689,Hoja1!$A$50:$C$63,3),\"\")","v":15}]
[680,20259910010934,"2025-01-27","Persona natural","Virtual - Correo electrónico","Solicitud de documentos o información","Solicitud de información hidrometeorológica",null,"Grupo de Servicio al Ciudadano","2025-02-04","Correo electrónico","2025-02-10",null,"",null,{"$f":"IFERROR(WORKDAY(N690,Y690,Hoja1!F682:F798),\"\")","v":""},{"$f":"+IF(N690=\"\",\"\",IF(O690=\"\",\"SIN RESPUESTA\",(IF(O690<=P690,\"A TIEMPO\",\"FUERA DE TIEMPO\"))))","v":""},null,"A TIEMPO",6,0,null,null,{"$f":"IFERROR(VLOOKUP(F690,Hoja1!$A$50:$C$63,2),\"\")","v":5},{"$f":"IFERROR(VLOOKUP(F690,Hoja1!$A$50:$C$63,3),\"\")","v":5}]
[681,20259050010974,"2025-01-27","Persona natural","Virtual - Formulario PQRSDF","Solicitud de documentos o información","Solicitud de información hidrometeorológica",null,"Grupo de Servicio al Ciudadano","2025-02-04","Correo electrónico","2025-02-10",null,"",null,{"$f":"IFERROR(WORKDAY(N691,Y691,Hoja1!F683:F799),\"\")","v":""},{"$f":"+IF(N691=\"\",\"\",IF(O691=\"\",\"SIN RESPUESTA\",(IF(O691<=P691,\"A TIEMPO\",\"FUERA DE TIEMPO\"))))","v":""},null,"A TIEMPO",6,0,null,null,{"$f":"IFERROR(VLOOKUP(F691,Hoja1!$A$50:$C$63,2),\"\")","v":5},{"$f":"IFERROR(VLOOKUP(F691,Hoja1!$A$50:$C$63,3),\"\")","v":5}]
[682,20259910011174,"2025-01-27","Persona natural","Virtual - Correo electrónico","Certificación de contrato","Administrativa",null,"Oficina Asesora Jurídica","2025-02-11","Correo electrónico","2025-02-10",null,"",null,{"$f":"IFERROR(WORKDAY(N692,Y692,Hoja1!F684:F800),\"\")","v":""},{"$f":"+IF(N692=\"\",\"\",IF(O692=\"\",\"SIN RESPUESTA\",(IF(O692<=P692,\"A TIEMPO\",\"FUERA DE TIEMPO\"))))","v":""},null,{"$f":"+IF(C692=\"\",\"\",IF(J692=\"\",\"SIN RESPUESTA\",(IF(J692<=L692,\"A TIEMPO\",\"FUERA DE TIEMPO\"))))","v":"FUERA DE TIEMPO"},11,1,null,null,{"$f":"IFERROR(VLOOKUP(F692,Hoja1!$A$50:$C$63,2),\"\")","v":15},{"$f":"IFERROR(VLOOKUP(F692,Hoja1!$A$50:$C$63,3),\"\")","v":15}]
[683,20259050011114,"2025-01-27","Persona natural","Virtual - Formulario PQRSDF","Certificación de contrato","Administrativa",null,"Oficina Asesora Jurídica","2025-02-11","Correo electrónico","2025-02-10",null,"",null,{"$f":"IFERROR(WORKDAY(N693,Y693,Hoja1!F685:F801),\"\")","v":""},{"$f":"+IF(N693=\"\",\"\",IF(O693=\"\",\"SIN RESPUESTA\",(IF(O693<=P693,\"A TIEMPO\",\"FUERA DE TIEMPO\"))))","v":""},null,{"$f":"+IF(C693=\"\",\"\",IF(J693=\"\",\"SIN RESPUESTA\",(IF(J693<=L693,\"A TIEMPO\",\"FUERA DE TIEMPO\"))))","v":"FUERA DE TIEMPO"},11,1,null,null,{"$f":"IFERROR(VLOOKUP(F693,Hoja1!$A$50:$C$63,2),\"\")","v":15},{"$f":"IFERROR(VLOOKUP(F693,Hoja1!$A$50:$C$63,3),\"\")","v":15}]
[684,20259910011054,"2025-01-27","Persona natural","Virtual - Correo electrónico","Certificación de contrato","Administrativa",null,"Oficina Asesora Jurídica","2025-02-12","Correo electrónico","2025-02-10",null,"",null,{"$f":"IFERROR(WORKDAY(N694,Y694,Hoja1!F686:F802),\"\")","v":""},{"$f":"+IF(N694=\"\",\"\",IF(O694=\"\",\"SIN RESPUESTA\",(IF(O694<=P694,\"A TIEMPO\",\"FUERA DE TIEMPO\"))))","v":""},null,{"$f":"+IF(C694=\"\",\"\",IF(J694=\"\",\"SIN RESPUESTA\",(IF(J694<=L694,\"A TIEMPO\",\"FUERA DE TIEMPO\"))))","v":"FUERA DE TIEMPO"},12,2,null,null,{"$f":"IFERROR(VLOOKUP(F694,Hoja1!$A$50:$C$63,2),\"\")","v":15},{"$f":"IFERROR(VLOOKUP(F694,Hoja1!$A$50:$C$63,3),\"\")","v":15}]
[685,20259050011034,"2025-01-27","Persona jurídica","Virtual - Formulario PQRSDF","Solicitud de documentos o información","Registros ambientales",null,"Subdirección de Estudios Ambientales","2025-01-31","Correo electrónico","2025-02-10",null,"",null,{"$f":"IFERROR(WORKDAY(N695,Y695,Hoja1!F687:F803),\"\")","v":""},{"$f":"+IF(N695=\"\",\"\",IF(O695=\"\",\"SIN RESPUESTA\",(IF(O695<=P695,\"A TIEMPO\",\"FUERA DE TIEMPO\"))))","v":""},null,"A TIEMPO",4,0,null,null,{"$f":"IFERROR(VLOOKUP(F695,Hoja1!$A$50:$C$63,2),\"\")","v":5},{"$f":"IFERROR(VLOOKUP(F695,Hoja1!$A$50:$C$63,3),\"\")","v":5}]
[686,20259910011094,"2025-01-27","Persona jurídica","Virtual - Correo electrónico","Petición entre autoridades","Bosques",null,"Subdirección de Ecosistemas e Información Ambiental","2025-02-06","Correo electrónico","2025-02-10",null,"",null,{"$f":"IFERROR(WORKDAY(N696,Y696,Hoja1!F688:F804),\"\")","v":""},{"$f":"+IF(N696=\"\",\"\",IF(O696=\"\",\"SIN RESPUESTA\",(IF(O696<=P696,\"A TIEMPO\",\"FUERA DE TIEMPO\"))))","v":""},null,"A TIEMPO",8,0,null,null,{"$f":"IFERROR(VLOOKUP(F696,Hoja1!$A$50:$C$63,2),\"\")","v":10},{"$f":"IFERROR(VLOOKUP(F696,Hoja1!$A$50:$C$63,3),\"\")","v":10}]
[687,20259910011134,"2025-01-27","Persona jurídica","Virtual - Correo electrónico","Solicitud de documentos o información","Registros ambientales",null,"Subdirección de Estudios Ambientales","2025-02-04","Correo electrónico","2025-02-10",null,"",null,{"$f":"IFERROR(WORKDAY(N697,Y697,Hoja1!F689:F805),\"\")","v":""},{"$f":"+IF(N697=\"\",\"\",IF(O697=\"\",\"SIN RESPUESTA\",(IF(O697<=P697,\"A TIEMPO\",\"FUERA DE TIEMPO\"))))","v":""},null,"A TIEMPO",6,0,null,null,{"$f":"IFERROR(VLOOKUP(F697,Hoja1!$A$50:$C$63,2),\"\")","v":5},{"$f":"IFERROR(VLOOKUP(F697,Hoja1!$A$50:$C$63,3),\"\")","v":5}]
[688,20259050011184,"2025-01-28","Persona natural","Virtual - Formulario PQRSDF","Certificación laboral o pasantía","Administrativa",null,"Grupo de Administración y Desarrollo del Talento Humano","2025-02-10","Correo electrónico","2025-02-11",null,"",null,{"$f":"IFERROR(WORKDAY(N698,Y698,Hoja1!F690:F806),\"\")","v":""},{"$f":"+IF(N698=\"\",\"\",IF(O698=\"\",\"SIN RESPUESTA\",(IF(O698<=P698,\"A TIEMPO\",\"FUERA DE TIEMPO\"))))","v":""},null,"A TIEMPO",9,0,null,null,{"$f":"IFERROR(VLOOKUP(F698,Hoja1!$A$50:$C$63,2),\"\")","v":15},{"$f":"IFERROR(VLOOKUP(F698,Hoja1!$A$50:$C$63,3),\"\")","v":15}]
[689,20259910011214,"2025-01-28","Persona natural","Virtual - Correo electrónico","Certificación de contrato","Administrativa",null,"Oficina Asesora Jurídica","2025-02-11","Correo electrónico","2025-02-11",null,"",null,{"$f":"IFERROR(WORKDAY(N699,Y699,Hoja1!F691:F807),\"\")","v":""},{"$f":"+IF(N699=\"\",\"\",IF(O699=\"\",\"SIN RESPUESTA\",(IF(O699<=P699,\"A TIEMPO\",\"FUERA DE TIEMPO\"))))","v":""},null,"A TIEMPO",10,0,null,null,{"$f":"IFERROR(VLOOKUP(F699,Hoja1!$A$50:$C$63,2),\"\")","v":15},{"$f":"IFERROR(VLOOKUP(F699,Hoja1!$A$50:$C$63,3),\"\")","v":15}]
[690,20259910011294,"2025-01-28","Persona natural","Virtual - Correo electrónico","Certificación laboral o pasantía","Administrativa",null,"Grupo de Administración y Desarrollo del Talento Humano","2025-02-10","Correo electrónico","2025-02-11",null,"",null,{"$f":"IFERROR(WORKDAY(N700,Y700,Hoja1!F692:F808),\"\")","v":""},{"$f":"+IF(N700=\"\",\"\",IF(O700=\"\",\"SIN RESPUESTA\",(IF(O700<=P700,\"A TIEMPO\",\"FUERA DE TIEMPO\"))))","v":""},null,"A TIEMPO",9,0,null,null,{"$f":"IFERROR(VLOOKUP(F700,Hoja1!$A$50:$C$63,2),\"\")","v":15},{"$f":"IFERROR(VLOOKUP(F700,Hoja1!$A$50:$C$63,3),\"\")","v":15}]
[691,20259910011234,"2025-01-28","Persona natural","Virtual - Correo electrónico","Solicitud de documentos o información","Sistema de información ambiental",null,"Subdirección de Estudios Ambientales","2025-01-31","Correo electrónico","2025-02-11",null,"",null,{"$f":"IFERROR(WORKDAY(N701,Y701,Hoja1!F693:F809),\"\")","v":""},{"$f":"+IF(N701=\"\",\"\",IF(O701=\"\",\"SIN RESPUESTA\",(IF(O701<=P701,\"A TIEMPO\",\"FUERA DE TIEMPO\"))))","v":""},null,"A TIEMPO",3,0,null,null,{"$f":"IFERROR(VLOOKUP(F701,Hoja1!$A$50:$C$63,2),\"\")","v":5},{"$f":"IFERROR(VLOOKUP(F701,Hoja1!$A$50:$C$63,3),\"\")","v":5}]
[692,20259050011244,"2025-01-28","Persona natural","Virtual - Formulario PQRSDF","Solicitud de documentos o información","Solicitud de información hidrometeorológica",null,"Grupo de Servicio al Ciudadano","2025-02-04","Correo electrónico","2025-02-11",null,"",null,{"$f":"IFERROR(WORKDAY(N702,Y702,Hoja1!F694:F810),\"\")","v":""},{"$f":"+IF(N702=\"\",\"\",IF(O702=\"\",\"SIN RESPUESTA\",(IF(O702<=P702,\"A TIEMPO\",\"FUERA DE TIEMPO\"))))","v":""},null,"A TIEMPO",5,0,null,null,{"$f":"IFERROR(VLOOKUP(F702,Hoja1!$A$50:$C$63,2),\"\")","v":5},{"$f":"IFERROR(VLOOKUP(F702,Hoja1!$A$50:$C$63,3),\"\")","v":5}]
[693,20259910011264,"2025-01-28","Persona jurídica","Virtual - Correo electrónico","Solicitud de documentos o información","Registros ambientales",null,"Subdirección de Estudios Ambientales","2025-02-24","Correo electrónico","2025-02-11",null,"",null,{"$f":"IFERROR(WORKDAY(N703,Y703,Hoja1!F695:F811),\"\")","v":""},{"$f":"+IF(N703=\"\",\"\",IF(O703=\"\",\"SIN RESPUESTA\",(IF(O703<=P703,\"A TIEMPO\",\"FUERA DE TIEMPO\"))))","v":""},null,{"$f":"+IF(C703=\"\",\"\",IF(J703=\"\",\"SIN RESPUESTA\",(IF(J703<=L703,\"A TIEMPO\",\"FUERA DE TIEMPO\"))))","v":"FUERA DE TIEMPO"},19,9,null,null,{"$f":"IFERROR(VLOOKUP(F703,Hoja1!$A$50:$C$63,2),\"\")","v":5},{"$f":"IFERROR(VLOOKUP(F703,Hoja1!$A$50:$C$63,3),\"\")","v":5}]
[694,20259910011274,"2025-01-28","Persona natural","Virtual - Correo electrónico","Solicitud de documentos o información","Solicitud de información hidrometeorológica",null,"Grupo de Servicio al Ciudadano","2025-02-04","Correo electrónico","2025-02-11",null,"",null,{"$f":"IFERROR(WORKDAY(N704,Y704,Hoja1!F696:F812),\"\")","v":""},{"$f":"+IF(N704=\"\",\"\",IF(O704=\"\",\"SIN RESPUESTA\",(IF(O704<=P704,\"A TIEMPO\",\"FUERA DE TIEMPO\"))))","v":""},null,"A TIEMPO",5,0,null,null,{"$f":"IFERROR(VLOOKUP(F704,Hoja1!$A$50:$C$63,2),\"\")","v":5},{"$f":"IFERROR(VLOOKUP(F704,Hoja1!$A$50:$C$63,3),\"\")","v":5}]
[695,20259910011304,"2025-01-28","Persona jurídica","Virtual - Correo electrónico","Certificación de tiempo, clima y eventos hidrológicos","Certificaciones del tiempo y clima",null,"Subdirección de Meteorología","2025-02-06","Correo electrónico","2025-03-11",null,"",null,{"$f":"IFERROR(WORKDAY(N705,Y705,Hoja1!F697:F813),\"\")","v":""},{"$f":"+IF(N705=\"\",\"\",IF(O705=\"\",\"SIN RESPUESTA\",(IF(O705<=P705,\"A TIEMPO\",\"FUERA DE TIEMPO\"))))","v":""},null,"A TIEMPO",7,0,null,null,{"$f":"IFERROR(VLOOKUP(F705,Hoja1!$A$50:$C$63,2),\"\")","v":15},{"$f":"IFERROR(VLOOKUP(F705,Hoja1!$A$50:$C$63,3),\"\")","v":15}]
[696,20259910011314,"2025-01-28","Persona jurídica","Virtual - Correo electrónico","Solicitud de documentos o información","Registros ambientales",null,"Subdirección de Estudios Ambientales","2025-02-07","Correo electrónico","2025-02-11",null,"",null,{"$f":"IFERROR(WORKDAY(N706,Y706,Hoja1!F698:F814),\"\")","v":""},{"$f":"+IF(N706=\"\",\"\",IF(O706=\"\",\"SIN RESPUESTA\",(IF(O706<=P706,\"A TIEMPO\",\"FUERA DE TIEMPO\"))))","v":""},null,"A TIEMPO",8,0,null,null,{"$f":"IFERROR(VLOOKUP(F706,Hoja1!$A$50:$C$63,2),\"\")","v":5},{"$f":"IFERROR(VLOOKUP(F706,Hoja1!$A$50:$C$63,3),\"\")","v":5}]
[697,20259910011334,"2025-01-28","Persona jurídica","Virtual - Correo electrónico","Solicitud de documentos o información","Solicitud de información hidrometeorológica",null,"Grupo de Servicio al Ciudadano","2025-02-04","Correo electrónico","2025-02-11",null,"",null,{"$f":"IFERROR(WORKDAY(N707,Y707,Hoja1!F699:F815),\"\")","v":""},{"$f":"+IF(N707=\"\",\"\",IF(O707=\"\",\"SIN RESPUESTA\",(IF(O707<=P707,\"A TIEMPO\",\"FUERA DE TIEMPO\"))))","v":""},null,"A TIEMPO",5,0,null,null,{"$f":"IFERROR(VLOOKUP(F707,Hoja1!$A$50:$C$63,2),\"\")","v":5},{"$f":"IFERROR(VLOOKUP(F707,Hoja1!$A$50:$C$63,3),\"\")","v":5}]
[698,20259910011364,"2025-01-28","Persona jurídica","Virtual - Correo electrónico","Solicitud de documentos o información","Administrativa",null,"Subdirección de Hidrología","2025-02-03","Correo electrónico","2025-02-11",null,"",null,{"$f":"IFERROR(WORKDAY(N708,Y708,Hoja1!F700:F816),\"\")","v":""},{"$f":"+IF(N708=\"\",\"\",IF(O708=\"\",\"SIN RESPUESTA\",(IF(O708<=P708,\"A TIEMPO\",\"FUERA DE TIEMPO\"))))","v":""},null,"A TIEMPO",4,0,null,null,{"$f":"IFERROR(VLOOKUP(F708,Hoja1!$A$50:$C$63,2),\"\")","v":5},{"$f":"IFERROR(VLOOKUP(F708,Hoja1!$A$50:$C$63,3),\"\")","v":5}]
[699,20259910011474,"2025-01-28","Persona jurídica","Virtual - Correo electrónico","Petición entre autoridades","Registros ambientales",null,"Subdirección de Estudios Ambientales","2025-02-04","Correo electrónico","2025-02-11",null,"",null,{"$f":"IFERROR(WORKDAY(N709,Y709,Hoja1!F701:F817),\"\")","v":""},{"$f":"+IF(N709=\"\",\"\",IF(O709=\"\",\"SIN RESPUESTA\",(IF(O709<=P709,\"A TIEMPO\",\"FUERA DE TIEMPO\"))))","v":""},null,"A TIEMPO",5,0,null,null,{"$f":"IFERROR(VLOOKUP(F709,Hoja1!$A$50:$C$63,2),\"\")","v":10},{"$f":"IFERROR(VLOOKUP(F709,Hoja1!$A$50:$C$63,3),\"\")","v":10}]
[700,20259910011484,"2025-01-28","Persona jurídica","Virtual - Correo electrónico","Certificación de ingresos y retenciones","Administrativa",null,"Grupo de Contabilidad","2025-02-07","Correo electrónico","2025-02-11",null,"",null,{"$f":"IFERROR(WORKDAY(N710,Y710,Hoja1!F702:F818),\"\")","v":""},{"$f":"+IF(N710=\"\",\"\",IF(O710=\"\",\"SIN RESPUESTA\",(IF(O710<=P710,\"A TIEMPO\",\"FUERA DE TIEMPO\"))))","v":""},null,"A TIEMPO",8,0,null,null,{"$f":"IFERROR(VLOOKUP(F710,Hoja1!$A$50:$C$63,2),\"\")","v":15},{"$f":"IFERROR(VLOOKUP(F710,Hoja1!$A$50:$C$63,3),\"\")","v":15}]
[701,20259910011494,"2025-01-28","Persona jurídica","Virtual - Correo electrónico","Solicitud de documentos o información","Pronósticos y alertas",null,"Subdirección de Meteorología","2025-01-31","Correo electrónico","2025-02-11",null,"",null,{"$f":"IFERROR(WORKDAY(N711,Y711,Hoja1!F703:F819),\"\")","v":""},{"$f":"+IF(N711=\"\",\"\",IF(O711=\"\",\"SIN RESPUESTA\",(IF(O711<=P711,\"A TIEMPO\",\"FUERA DE TIEMPO\"))))","v":""},null,"A TIEMPO",3,0,null,null,{"$f":"IFERROR(VLOOKUP(F711,Hoja1!$A$50:$C$63,2),\"\")","v":5},{"$f":"IFERROR(VLOOKUP(F711,Hoja1!$A$50:$C$63,3),\"\")","v":5}]
[702,20259910011514,"2025-01-28","Persona jurídica","Virtual - Correo electrónico","Solicitud de documentos o información","Registros ambientales",null,"Subdirección de Estudios Ambientales","2025-01-30","Correo electrónico","2025-02-11",null,"",null,{"$f":"IFERROR(WORKDAY(N712,Y712,Hoja1!F704:F820),\"\")","v":""},{"$f":"+IF(N712=\"\",\"\",IF(O712=\"\",\"SIN RESPUESTA\",(IF(O712<=P712,\"A TIEMPO\",\"FUERA DE TIEMPO\"))))","v":""},null,"A TIEMPO",2,0,null,null,{"$f":"IFERROR(VLOOKUP(F712,Hoja1!$A$50:$C$63,2),\"\")","v":5},{"$f":"IFERROR(VLOOKUP(F712,Hoja1!$A$50:$C$63,3),\"\")","v":5}]
[703,20259910011504,"2025-01-28","Persona jurídica","Virtual - Correo electrónico","Solicitud de documentos o información","Registros ambientales",null,"Subdirección de Estudios Ambientales","2025-01-31","Correo electrónico","2025-02-11",null,"",null,{"$f":"IFERROR(WORKDAY(N713,Y713,Hoja1!F705:F821),\"\")","v":""},{"$f":"+IF(N713=\"\",\"\",IF(O713=\"\",\"SIN RESPUESTA\",(IF(O713<=P713,\"A TIEMPO\",\"FUERA DE TIEMPO\"))))","v":""},null,"A TIEMPO",3,0,null,null,{"$f":"IFERROR(VLOOKUP(F713,Hoja1!$A$50:$C$63,2),\"\")","v":5},{"$f":"IFERROR(VLOOKUP(F713,Hoja1!$A$50:$C$63,3),\"\")","v":5}]
[704,20259050011584,"2025-01-28","Persona natural","Virtual - Formulario PQRSDF","Solicitud de documentos o información","Solicitud de información hidrometeorológica",null,"Grupo de Servicio al Ciudadano","2025-02-04","Correo electrónico","2025-02-11",null,"",null,{"$f":"IFERROR(WORKDAY(N714,Y714,Hoja1!F706:F822),\"\")","v":""},{"$f":"+IF(N714=\"\",\"\",IF(O714=\"\",\"SIN RESPUESTA\",(IF(O714<=P714,\"A TIEMPO\",\"FUERA DE TIEMPO\"))))","v":""},null,"A TIEMPO",5,0,null,null,{"$f":"IFERROR(VLOOKUP(F714,Hoja1!$A$50:$C$63,2),\"\")","v":5},{"$f":"IFERROR(VLOOKUP(F714,Hoja1!$A$50:$C$63,3),\"\")","v":5}]
[705,20259910011614,"2025-01-28","Persona natural","Virtual - Correo electrónico","Solicitud de documentos o información","Sistema de información del recurso hídrico",null,"Subdirección de Hidrología","2025-02-12","Medio de comunicación","2025-02-11",null,"",null,{"$f":"IFERROR(WORKDAY(N715,Y715,Hoja1!F707:F823),\"\")","v":""},{"$f":"+IF(N715=\"\",\"\",IF(O715=\"\",\"SIN RESPUESTA\",(IF(O715<=P715,\"A TIEMPO\",\"FUERA DE TIEMPO\"))))","v":""},null,{"$f":"+IF(C715=\"\",\"\",IF(J715=\"\",\"SIN RESPUESTA\",(IF(J715<=L715,\"A TIEMPO\",\"FUERA DE TIEMPO\"))))","v":"FUERA DE TIEMPO"},11,1,null,null,{"$f":"IFERROR(VLOOKUP(F715,Hoja1!$A$50:$C$63,2),\"\")","v":5},{"$f":"IFERROR(VLOOKUP(F715,Hoja1!$A$50:$C$63,3),\"\")","v":5}]
[706,20259910011634,"2025-01-28","Persona jurídica","Virtual - Correo electrónico","Solicitud de documentos o información","Sistema de información ambiental",null,"Subdirección de Estudios Ambientales","2025-02-10","Correo electrónico","2025-02-11",null,"",null,{"$f":"IFERROR(WORKDAY(N716,Y716,Hoja1!F708:F824),\"\")","v":""},{"$f":"+IF(N716=\"\",\"\",IF(O716=\"\",\"SIN RESPUESTA\",(IF(O716<=P716,\"A TIEMPO\",\"FUERA DE TIEMPO\"))))","v":""},null,"A TIEMPO",9,0,null,null,{"$f":"IFERROR(VLOOKUP(F716,Hoja1!$A$50:$C$63,2),\"\")","v":5},{"$f":"IFERROR(VLOOKUP(F716,Hoja1!$A$50:$C$63,3),\"\")","v":5}]
[707,20259050011644,"2025-01-28","Persona natural","Virtual - Formulario PQRSDF","Solicitud de documentos o información","Sistema de información ambiental",null,"Subdirección de Estudios Ambientales","2025-02-06","Correo electrónico","2025-02-11",null,"",null,{"$f":"IFERROR(WORKDAY(N717,Y717,Hoja1!F709:F825),\"\")","v":""},{"$f":"+IF(N717=\"\",\"\",IF(O717=\"\",\"SIN RESPUESTA\",(IF(O717<=P717,\"A TIEMPO\",\"FUERA DE TIEMPO\"))))","v":""},null,"A TIEMPO",7,0,null,null,{"$f":"IFERROR(VLOOKUP(F717,Hoja1!$A$50:$C$63,2),\"\")","v":5},{"$f":"IFERROR(VLOOKUP(F717,Hoja1!$A$50:$C$63,3),\"\")","v":5}]
[708,20259050011654,"2025-01-28","Persona jurídica","Virtual - Formulario PQRSDF","Solicitud de documentos o información","Administrativa",null,"Oficina del Servicio de Pronósticos y Alertas","2025-02-03","Correo electrónico","2025-02-11",null,"",null,{"$f":"IFERROR(WORKDAY(N718,Y718,Hoja1!F710:F826),\"\")","v":""},{"$f":"+IF(N718=\"\",\"\",IF(O718=\"\",\"SIN RESPUESTA\",(IF(O718<=P718,\"A TIEMPO\",\"FUERA DE TIEMPO\"))))","v":""},null,"A TIEMPO",4,0,null,null,{"$f":"IFERROR(VLOOKUP(F718,Hoja1!$A$50:$C$63,2),\"\")","v":5},{"$f":"IFERROR(VLOOKUP(F718,Hoja1!$A$50:$C$63,3),\"\")","v":5}]
[709,20259050011664,"2025-01-28","Persona jurídica","Virtual - Formulario PQRSDF","Petición entre autoridades","Sistema de información del recurso hídrico",null,"Subdirección de Hidrología","2025-02-05","Correo electrónico","2025-02-11",null,"",null,{"$f":"IFERROR(WORKDAY(N719,Y719,Hoja1!F711:F827),\"\")","v":""},{"$f":"+IF(N719=\"\",\"\",IF(O719=\"\",\"SIN RESPUESTA\",(IF(O719<=P719,\"A TIEMPO\",\"FUERA DE TIEMPO\"))))","v":""},null,"A TIEMPO",6,0,null,null,{"$f":"IFERROR(VLOOKUP(F719,Hoja1!$A$50:$C$63,2),\"\")","v":10},{"$f":"IFERROR(VLOOKUP(F719,Hoja1!$A$50:$C$63,3),\"\")","v":10}]
[710,20259910011684,"2025-01-28","Persona jurídica","Virtual - Correo electrónico","Certificación de ingresos y retenciones","Administrativa",null,"Grupo de Contabilidad","2025-01-31","Correo electrónico","2025-02-11",null,"",null,{"$f":"IFERROR(WORKDAY(N720,Y720,Hoja1!F712:F828),\"\")","v":""},{"$f":"+IF(N720=\"\",\"\",IF(O720=\"\",\"SIN RESPUESTA\",(IF(O720<=P720,\"A TIEMPO\",\"FUERA DE TIEMPO\"))))","v":""},null,"A TIEMPO",3,0,null,null,{"$f":"IFERROR(VLOOKUP(F720,Hoja1!$A$50:$C$63,2),\"\")","v":15},{"$f":"IFERROR(VLOOKUP(F720,Hoja1!$A$50:$C$63,3),\"\")","v":15}]
[{"$f":"IF(B721<>\"\",A720+1,\"\")","v":711},20259910011694,"2025-01-28","Persona natural","Virtual - Correo electrónico","Solicitud de documentos o información","Solicitud de información hidrometeorológica",null,"Subdirección de Meteorología","2025-01-30","Correo electrónico","2025-02-11",null,"",null,{"$f":"IFERROR(WORKDAY(N721,Y721,Hoja1!F713:F829),\"\")","v":""},{"$f":"+IF(N721=\"\",\"\",IF(O721=\"\",\"SIN RESPUESTA\",(IF(O721<=P721,\"A TIEMPO\",\"FUERA DE TIEMPO\"))))","v":""},null,"A TIEMPO",2,0,null,null,{"$f":"IFERROR(VLOOKUP(F721,Hoja1!$A$50:$C$63,2),\"\")","v":5},{"$f":"IFERROR(VLOOKUP(F721,Hoja1!$A$50:$C$63,3),\"\")","v":5}]
[712,20259910011724,"2025-01-28","Persona jurídica","Virtual - Correo electrónico","Solicitud de documentos o información","Registros ambientales",null,"Subdirección de Estudios Ambientales","2025-01-30","Correo electrónico","2025-02-11",null,"",null,{"$f":"IFERROR(WORKDAY(N722,Y722,Hoja1!F714:F830),\"\")","v":""},{"$f":"+IF(N722=\"\",\"\",IF(O722=\"\",\"SIN RESPUESTA\",(IF(O722<=P722,\"A TIEMPO\",\"FUERA DE TIEMPO\"))))","v":""},null,"A TIEMPO",2,0,null,null,{"$f":"IFERROR(VLOOKUP(F722,Hoja1!$A$50:$C$63,2),\"\")","v":5},{"$f":"IFERROR(VLOOKUP(F722,Hoja1!$A$50:$C$63,3),\"\")","v":5}]
[713,20259910011744,"2025-01-28","Persona jurídica","Virtual - Correo electrónico","Solicitud de documentos o información","Registros ambientales",null,"Subdirección de Estudios Ambientales","2025-01-31","Correo electrónico","2025-02-11",null,"",null,{"$f":"IFERROR(WORKDAY(N723,Y723,Hoja1!F715:F831),\"\")","v":""},{"$f":"+IF(N723=\"\",\"\",IF(O723=\"\",\"SIN RESPUESTA\",(IF(O723<=P723,\"A TIEMPO\",\"FUERA DE TIEMPO\"))))","v":""},null,"A TIEMPO",3,0,null,null,{"$f":"IFERROR(VLOOKUP(F723,Hoja1!$A$50:$C$63,2),\"\")","v":5},{"$f":"IFERROR(VLOOKUP(F723,Hoja1!$A$50:$C$63,3),\"\")","v":5}]
[714,20259910011752,"2025-01-28","Persona jurídica","Virtual - Correo electrónico","Solicitud de documentos o información","Acreditación de laboratorios",null,"Subdirección de Estudios Ambientales","2025-01-30","Correo electrónico","2025-02-11",null,"",null,{"$f":"IFERROR(WORKDAY(N724,Y724,Hoja1!F716:F832),\"\")","v":""},{"$f":"+IF(N724=\"\",\"\",IF(O724=\"\",\"SIN RESPUESTA\",(IF(O724<=P724,\"A TIEMPO\",\"FUERA DE TIEMPO\"))))","v":""},null,"A TIEMPO",2,0,null,null,{"$f":"IFERROR(VLOOKUP(F724,Hoja1!$A$50:$C$63,2),\"\")","v":5},{"$f":"IFERROR(VLOOKUP(F724,Hoja1!$A$50:$C$63,3),\"\")","v":5}]
[715,20259910011764,"2025-01-28","Persona jurídica","Virtual - Correo electrónico","Solicitud de bienes y/o servicios","Registros ambientales",null,"Subdirección de Estudios Ambientales","2025-01-31","Correo electrónico","2025-02-18",null,"",null,{"$f":"IFERROR(WORKDAY(N725,Y725,Hoja1!F717:F833),\"\")","v":""},{"$f":"+IF(N725=\"\",\"\",IF(O725=\"\",\"SIN RESPUESTA\",(IF(O725<=P725,\"A TIEMPO\",\"FUERA DE TIEMPO\"))))","v":""},null,"A TIEMPO",3,0,null,null,{"$f":"IFERROR(VLOOKUP(F725,Hoja1!$A$50:$C$63,2),\"\")","v":5},{"$f":"IFERROR(VLOOKUP(F725,Hoja1!$A$50:$C$63,3),\"\")","v":5}]
[716,20259910011794,"2025-01-28","Persona jurídica","Virtual - Correo electrónico","Solicitud de documentos o información","Registros ambientales",null,"Subdirección de Estudios Ambientales","2025-02-04","Correo electrónico","2025-02-11",null,"",null,{"$f":"IFERROR(WORKDAY(N726,Y726,Hoja1!F718:F834),\"\")","v":""},{"$f":"+IF(N726=\"\",\"\",IF(O726=\"\",\"SIN RESPUESTA\",(IF(O726<=P726,\"A TIEMPO\",\"FUERA DE TIEMPO\"))))","v":""},null,"A TIEMPO",5,0,null,null,{"$f":"IFERROR(VLOOKUP(F726,Hoja1!$A$50:$C$63,2),\"\")","v":5},{"$f":"IFERROR(VLOOKUP(F726,Hoja1!$A$50:$C$63,3),\"\")","v":5}]
[717,20259910011814,"2025-01-28","Persona natural","Virtual - Correo electrónico","Solicitud de documentos o información","Acreditación de laboratorios",null,"Subdirección de Estudios Ambientales","2025-01-30","Correo electrónico","2025-02-11",null,"",null,{"$f":"IFERROR(WORKDAY(N727,Y727,Hoja1!F719:F835),\"\")","v":""},{"$f":"+IF(N727=\"\",\"\",IF(O727=\"\",\"SIN RESPUESTA\",(IF(O727<=P727,\"A TIEMPO\",\"FUERA DE TIEMPO\"))))","v":""},null,"A TIEMPO",2,0,null,null,{"$f":"IFERROR(VLOOKUP(F727,Hoja1!$A$50:$C$63,2),\"\")","v":5},{"$f":"IFERROR(VLOOKUP(F727,Hoja1!$A$50:$C$63,3),\"\")","v":5}]
[718,20259910011834,"2025-01-28","Persona natural","Virtual - Correo electrónico","Solicitud de documentos o información","Acreditación de laboratorios",null,"Subdirección de Estudios Ambientales","2025-01-30","Correo electrónico","2025-02-11",null,"",null,{"$f":"IFERROR(WORKDAY(N728,Y728,Hoja1!F720:F836),\"\")","v":""},{"$f":"+IF(N728=\"\",\"\",IF(O728=\"\",\"SIN RESPUESTA\",(IF(O728<=P728,\"A TIEMPO\",\"FUERA DE TIEMPO\"))))","v":""},null,"A TIEMPO",2,0,null,null,{"$f":"IFERROR(VLOOKUP(F728,Hoja1!$A$50:$C$63,2),\"\")","v":5},{"$f":"IFERROR(VLOOKUP(F728,Hoja1!$A$50:$C$63,3),\"\")","v":5}]
[719,20259910011864,"2025-01-28","Persona natural","Virtual - Correo electrónico","Solicitud de documentos o información","Solicitud de información hidrometeorológica",null,"Subdirección de Meteorología","2025-02-04","Correo electrónico","2025-02-11",null,"",null,{"$f":"IFERROR(WORKDAY(N729,Y729,Hoja1!F721:F837),\"\")","v":""},{"$f":"+IF(N729=\"\",\"\",IF(O729=\"\",\"SIN RESPUESTA\",(IF(O729<=P729,\"A TIEMPO\",\"FUERA DE TIEMPO\"))))","v":""},null,"A TIEMPO",5,0,null,null,{"$f":"IFERROR(VLOOKUP(F729,Hoja1!$A$50:$C$63,2),\"\")","v":5},{"$f":"IFERROR(VLOOKUP(F729,Hoja1!$A$50:$C$63,3),\"\")","v":5}]
[720,20259910011874,"2025-01-28","Persona jurídica","Virtual - Correo electrónico","Solicitud de documentos o información","Solicitud de información hidrometeorológica",null,"Subdirección de Meteorología","2025-01-31","Correo electrónico","2025-02-11",null,"",null,{"$f":"IFERROR(WORKDAY(N730,Y730,Hoja1!F722:F838),\"\")","v":""},{"$f":"+IF(N730=\"\",\"\",IF(O730=\"\",\"SIN RESPUESTA\",(IF(O730<=P730,\"A TIEMPO\",\"FUERA DE TIEMPO\"))))","v":""},null,"A TIEMPO",3,0,null,null,{"$f":"IFERROR(VLOOKUP(F730,Hoja1!$A$50:$C$63,2),\"\")","v":5},{"$f":"IFERROR(VLOOKUP(F730,Hoja1!$A$50:$C$63,3),\"\")","v":5}]
[721,20259050011914,"2025-01-28","Persona natural","Virtual - Formulario PQRSDF","Solicitud de documentos o información","Sistema de información ambiental",null,"Subdirección de Estudios Ambientales","2025-02-06","Correo electrónico","2025-02-11",null,"",null,{"$f":"IFERROR(WORKDAY(N731,Y731,Hoja1!F723:F839),\"\")","v":""},{"$f":"+IF(N731=\"\",\"\",IF(O731=\"\",\"SIN RESPUESTA\",(IF(O731<=P731,\"A TIEMPO\",\"FUERA DE TIEMPO\"))))","v":""},null,"A TIEMPO",7,0,null,null,{"$f":"IFERROR(VLOOKUP(F731,Hoja1!$A$50:$C$63,2),\"\")","v":5},{"$f":"IFERROR(VLOOKUP(F731,Hoja1!$A$50:$C$63,3),\"\")","v":5}]
[722,20259050011944,"2025-01-29","Persona natural","Virtual - Formulario PQRSDF","Solicitud de documentos o información","Solicitud de información hidrometeorológica",null,"Subdirección de Hidrología","2025-02-05","Correo electrónico","2025-02-12",null,"",null,{"$f":"IFERROR(WORKDAY(N732,Y732,Hoja1!F724:F840),\"\")","v":""},{"$f":"+IF(N732=\"\",\"\",IF(O732=\"\",\"SIN RESPUESTA\",(IF(O732<=P732,\"A TIEMPO\",\"FUERA DE TIEMPO\"))))","v":""},null,"A TIEMPO",5,0,null,null,{"$f":"IFERROR(VLOOKUP(F732,Hoja1!$A$50:$C$63,2),\"\")","v":5},{"$f":"IFERROR(VLOOKUP(F732,Hoja1!$A$50:$C$63,3),\"\")","v":5}]
[723,20259910011954,"2025-01-29","Persona jurídica","Virtual - Correo electrónico","Solicitud de documentos o información","Registros ambientales",null,"Subdirección de Estudios Ambientales","2025-02-04","Correo electrónico","2025-02-12",null,"",null,{"$f":"IFERROR(WORKDAY(N733,Y733,Hoja1!F725:F841),\"\")","v":""},{"$f":"+IF(N733=\"\",\"\",IF(O733=\"\",\"SIN RESPUESTA\",(IF(O733<=P733,\"A TIEMPO\",\"FUERA DE TIEMPO\"))))","v":""},null,"A TIEMPO",4,0,null,null,{"$f":"IFERROR(VLOOKUP(F733,Hoja1!$A$50:$C$63,2),\"\")","v":5},{"$f":"IFERROR(VLOOKUP(F733,Hoja1!$A$50:$C$63,3),\"\")","v":5}]
[724,20259910011964,"2025-01-29","Persona jurídica","Virtual - Correo electrónico","Solicitud de documentos o información","Registros ambientales",null,"Subdirección de Estudios Ambientales","2025-02-03","Correo electrónico","2025-02-12",null,"",null,{"$f":"IFERROR(WORKDAY(N734,Y734,Hoja1!F726:F842),\"\")","v":""},{"$f":"+IF(N734=\"\",\"\",IF(O734=\"\",\"SIN RESPUESTA\",(IF(O734<=P734,\"A TIEMPO\",\"FUERA DE TIEMPO\"))))","v":""},null,"A TIEMPO",3,0,null,null,{"$f":"IFERROR(VLOOKUP(F734,Hoja1!$A$50:$C$63,2),\"\")","v":5},{"$f":"IFERROR(VLOOKUP(F734,Hoja1!$A$50:$C$63,3),\"\")","v":5}]
[725,20259910011974,"2025-01-29","Persona natural","Virtual - Correo electrónico","Solicitud de documentos o información","Solicitud de información hidrometeorológica",null,"Grupo de Servicio al Ciudadano","2025-02-04","Correo electrónico","2025-02-12",null,"",null,{"$f":"IFERROR(WORKDAY(N735,Y735,Hoja1!F727:F843),\"\")","v":""},{"$f":"+IF(N735=\"\",\"\",IF(O735=\"\",\"SIN RESPUESTA\",(IF(O735<=P735,\"A TIEMPO\",\"FUERA DE TIEMPO\"))))","v":""},null,"A TIEMPO",4,0,null,null,{"$f":"IFERROR(VLOOKUP(F735,Hoja1!$A$50:$C$63,2),\"\")","v":5},{"$f":"IFERROR(VLOOKUP(F735,Hoja1!$A$50:$C$63,3),\"\")","v":5}]
[726,20259910011934,"2025-01-29","Persona jurídica","Virtual - Correo electrónico","Petición entre autoridades","Administrativa",null,"Oficina Asesora Jurídica","2025-02-13","Correo electrónico","2025-02-12",null,"",null,{"$f":"IFERROR(WORKDAY(N736,Y736,Hoja1!F728:F844),\"\")","v":""},{"$f":"+IF(N736=\"\",\"\",IF(O736=\"\",\"SIN RESPUESTA\",(IF(O736<=P736,\"A TIEMPO\",\"FUERA DE TIEMPO\"))))","v":""},null,{"$f":"+IF(C736=\"\",\"\",IF(J736=\"\",\"SIN RESPUESTA\",(IF(J736<=L736,\"A TIEMPO\",\"FUERA DE TIEMPO\"))))","v":"FUERA DE TIEMPO"},11,1,null,null,{"$f":"IFERROR(VLOOKUP(F736,Hoja1!$A$50:$C$63,2),\"\")","v":10},{"$f":"IFERROR(VLOOKUP(F736,Hoja1!$A$50:$C$63,3),\"\")","v":10}]
[727,20259910011984,"2025-01-29","Persona natural","Virtual - Correo electrónico","Solicitud de documentos o información","Solicitud de información hidrometeorológica",null,"Secretaría General","2025-02-04","Correo electrónico","2025-02-12",null,"",null,{"$f":"IFERROR(WORKDAY(N737,Y737,Hoja1!F729:F845),\"\")","v":""},{"$f":"+IF(N737=\"\",\"\",IF(O737=\"\",\"SIN RESPUESTA\",(IF(O737<=P737,\"A TIEMPO\",\"FUERA DE TIEMPO\"))))","v":""},null,"A TIEMPO",4,0,null,null,{"$f":"IFERROR(VLOOKUP(F737,Hoja1!$A$50:$C$63,2),\"\")","v":5},{"$f":"IFERROR(VLOOKUP(F737,Hoja1!$A$50:$C$63,3),\"\")","v":5}]
[728,20259910011994,"2025-01-29","Persona natural","Virtual - Correo electrónico","Solicitud de documentos o información","Administrativa",null,"Grupo de Administración y Desarrollo del Talento Humano","2025-02-18","Correo electrónico","2025-02-12",null,"",null,{"$f":"IFERROR(WORKDAY(N738,Y738,Hoja1!F730:F846),\"\")","v":""},{"$f":"+IF(N738=\"\",\"\",IF(O738=\"\",\"SIN RESPUESTA\",(IF(O738<=P738,\"A TIEMPO\",\"FUERA DE TIEMPO\"))))","v":""},null,{"$f":"+IF(C738=\"\",\"\",IF(J738=\"\",\"SIN RESPUESTA\",(IF(J738<=L738,\"A TIEMPO\",\"FUERA DE TIEMPO\"))))","v":"FUERA DE TIEMPO"},14,4,null,null,{"$f":"IFERROR(VLOOKUP(F738,Hoja1!$A$50:$C$63,2),\"\")","v":5},{"$f":"IFERROR(VLOOKUP(F738,Hoja1!$A$50:$C$63,3),\"\")","v":5}]
[729,20259910012004,"2025-01-29","Persona jurídica","Virtual - Correo electrónico","Solicitud de documentos o información","Registros ambientales",null,"Subdirección de Estudios Ambientales","2025-02-07","Correo electrónico","2025-02-12",null,"",null,{"$f":"IFERROR(WORKDAY(N739,Y739,Hoja1!F731:F847),\"\")","v":""},{"$f":"+IF(N739=\"\",\"\",IF(O739=\"\",\"SIN RESPUESTA\",(IF(O739<=P739,\"A TIEMPO\",\"FUERA DE TIEMPO\"))))","v":""},null,"A TIEMPO",7,0,null,null,{"$f":"IFERROR(VLOOKUP(F739,Hoja1!$A$50:$C$63,2),\"\")","v":5},{"$f":"IFERROR(VLOOKUP(F739,Hoja1!$A$50:$C$63,3),\"\")","v":5}]
[730,20259910012064,"2025-01-29","Persona natural","Virtual - Correo electrónico","Solicitud de documentos o información","Bosques",null,"Grupo de Servicio al Ciudadano","2025-02-04","Correo electrónico","2025-02-12",null,"",null,{"$f":"IFERROR(WORKDAY(N740,Y740,Hoja1!F732:F848),\"\")","v":""},{"$f":"+IF(N740=\"\",\"\",IF(O740=\"\",\"SIN RESPUESTA\",(IF(O740<=P740,\"A TIEMPO\",\"FUERA DE TIEMPO\"))))","v":""},null,"A TIEMPO",4,0,null,null,{"$f":"IFERROR(VLOOKUP(F740,Hoja1!$A$50:$C$63,2),\"\")","v":5},{"$f":"IFERROR(VLOOKUP(F740,Hoja1!$A$50:$C$63,3),\"\")","v":5}]
[731,20259050012054,"2025-01-29","Anónimo","Virtual - Formulario PQRSDF","Solicitud de documentos o información","Solicitud de información hidrometeorológica",null,"Subdirección de Meteorología","2025-01-31","Página web","2025-02-12",null,"",null,{"$f":"IFERROR(WORKDAY(N741,Y741,Hoja1!F733:F849),\"\")","v":""},{"$f":"+IF(N741=\"\",\"\",IF(O741=\"\",\"SIN RESPUESTA\",(IF(O741<=P741,\"A TIEMPO\",\"FUERA DE TIEMPO\"))))","v":""},null,"A TIEMPO",2,0,null,null,{"$f":"IFERROR(VLOOKUP(F741,Hoja1!$A$50:$C$63,2),\"\")","v":5},{"$f":"IFERROR(VLOOKUP(F741,Hoja1!$A$50:$C$63,3),\"\")","v":5}]
[732,20259910012084,"2025-01-29","Persona natural","Virtual - Correo electrónico","Solicitud de documentos o información","Registros ambientales",null,"Subdirección de Estudios Ambientales","2025-02-11","Correo electrónico","2025-02-12",null,"",null,{"$f":"IFERROR(WORKDAY(N742,Y742,Hoja1!F734:F850),\"\")","v":""},{"$f":"+IF(N742=\"\",\"\",IF(O742=\"\",\"SIN RESPUESTA\",(IF(O742<=P742,\"A TIEMPO\",\"FUERA DE TIEMPO\"))))","v":""},null,"A TIEMPO",9,0,null,null,{"$f":"IFERROR(VLOOKUP(F742,Hoja1!$A$50:$C$63,2),\"\")","v":5},{"$f":"IFERROR(VLOOKUP(F742,Hoja1!$A$50:$C$63,3),\"\")","v":5}]
[733,20259910012094,"2025-01-29","Persona natural","Virtual - Correo electrónico","Solicitud de documentos o información","Solicitud de información hidrometeorológica",null,"Subdirección de Meteorología","2025-02-06","Correo electrónico","2025-02-12",null,"",null,{"$f":"IFERROR(WORKDAY(N743,Y743,Hoja1!F735:F851),\"\")","v":""},{"$f":"+IF(N743=\"\",\"\",IF(O743=\"\",\"SIN RESPUESTA\",(IF(O743<=P743,\"A TIEMPO\",\"FUERA DE TIEMPO\"))))","v":""},null,"A TIEMPO",6,0,null,null,{"$f":"IFERROR(VLOOKUP(F743,Hoja1!$A$50:$C$63,2),\"\")","v":5},{"$f":"IFERROR(VLOOKUP(F743,Hoja1!$A$50:$C$63,3),\"\")","v":5}]
[734,20259050012114,"2025-01-29","Persona jurídica","Virtual - Formulario PQRSDF","Solicitud de documentos o información","Registros ambientales",null,"Subdirección de Estudios Ambientales","2025-02-04","Correo electrónico","2025-02-12",null,"",null,{"$f":"IFERROR(WORKDAY(N744,Y744,Hoja1!F736:F852),\"\")","v":""},{"$f":"+IF(N744=\"\",\"\",IF(O744=\"\",\"SIN RESPUESTA\",(IF(O744<=P744,\"A TIEMPO\",\"FUERA DE TIEMPO\"))))","v":""},null,"A TIEMPO",4,0,null,null,{"$f":"IFERROR(VLOOKUP(F744,Hoja1!$A$50:$C$63,2),\"\")","v":5},{"$f":"IFERROR(VLOOKUP(F744,Hoja1!$A$50:$C$63,3),\"\")","v":5}]
[735,20259050012124,"2025-01-29","Persona natural","Virtual - Formulario PQRSDF","Solicitud de documentos o información","Solicitud de información hidrometeorológica",null,"Grupo de Servicio al Ciudadano","2025-02-04","Correo electrónico","2025-02-12",null,"",null,{"$f":"IFERROR(WORKDAY(N745,Y745,Hoja1!F737:F853),\"\")","v":""},{"$f":"+IF(N745=\"\",\"\",IF(O745=\"\",\"SIN RESPUESTA\",(IF(O745<=P745,\"A TIEMPO\",\"FUERA DE TIEMPO\"))))","v":""},null,"A TIEMPO",4,0,null,null,{"$f":"IFERROR(VLOOKUP(F745,Hoja1!$A$50:$C$63,2),\"\")","v":5},{"$f":"IFERROR(VLOOKUP(F745,Hoja1!$A$50:$C$63,3),\"\")","v":5}]
[736,20259050012144,"2025-01-29","Persona jurídica","Virtual - Formulario PQRSDF","Solicitud de documentos o información","Sistema de información del recurso hídrico",null,"Subdirección de Hidrología","2025-02-05","Correo electrónico","2025-02-12",null,"",null,{"$f":"IFERROR(WORKDAY(N746,Y746,Hoja1!F738:F854),\"\")","v":""},{"$f":"+IF(N746=\"\",\"\",IF(O746=\"\",\"SIN RESPUESTA\",(IF(O746<=P746,\"A TIEMPO\",\"FUERA DE TIEMPO\"))))","v":""},null,"A TIEMPO",5,0,null,null,{"$f":"IFERROR(VLOOKUP(F746,Hoja1!$A$50:$C$63,2),\"\")","v":5},{"$f":"IFERROR(VLOOKUP(F746,Hoja1!$A$50:$C$63,3),\"\")","v":5}]
[737,20259910012154,"2025-01-29","Persona natural","Virtual - Correo electrónico","Solicitud de documentos o información","Registros ambientales",null,"Subdirección de Estudios Ambientales","2025-02-07","Correo electrónico","2025-02-12",null,"",null,{"$f":"IFERROR(WORKDAY(N747,Y747,Hoja1!F739:F855),\"\")","v":""},{"$f":"+IF(N747=\"\",\"\",IF(O747=\"\",\"SIN RESPUESTA\",(IF(O747<=P747,\"A TIEMPO\",\"FUERA DE TIEMPO\"))))","v":""},null,"A TIEMPO",7,0,null,null,{"$f":"IFERROR(VLOOKUP(F747,Hoja1!$A$50:$C$63,2),\"\")","v":5},{"$f":"IFERROR(VLOOKUP(F747,Hoja1!$A$50:$C$63,3),\"\")","v":5}]
[738,20259910012184,"2025-01-29","Persona natural","Virtual - Correo electrónico","Solicitud de documentos o información","Solicitud de información hidrometeorológica",null,"Grupo de Servicio al Ciudadano","2025-02-04","Correo electrónico","2025-02-12",null,"",null,{"$f":"IFERROR(WORKDAY(N748,Y748,Hoja1!F740:F856),\"\")","v":""},{"$f":"+IF(N748=\"\",\"\",IF(O748=\"\",\"SIN RESPUESTA\",(IF(O748<=P748,\"A TIEMPO\",\"FUERA DE TIEMPO\"))))","v":""},null,"A TIEMPO",4,0,null,null,{"$f":"IFERROR(VLOOKUP(F748,Hoja1!$A$50:$C$63,2),\"\")","v":5},{"$f":"IFERROR(VLOOKUP(F748,Hoja1!$A$50:$C$63,3),\"\")","v":5}]
[739,20259910012194,"2025-01-29","Persona jurídica","Virtual - Correo electrónico","Solicitud de documentos o información","Registros ambientales",null,"Subdirección de Estudios Ambientales","2025-02-12","Correo electrónico","2025-02-12",null,"",null,{"$f":"IFERROR(WORKDAY(N749,Y749,Hoja1!F741:F857),\"\")","v":""},{"$f":"+IF(N749=\"\",\"\",IF(O749=\"\",\"SIN RESPUESTA\",(IF(O749<=P749,\"A TIEMPO\",\"FUERA DE TIEMPO\"))))","v":""},null,"A TIEMPO",10,0,null,null,{"$f":"IFERROR(VLOOKUP(F749,Hoja1!$A$50:$C$63,2),\"\")","v":5},{"$f":"IFERROR(VLOOKUP(F749,Hoja1!$A$50:$C$63,3),\"\")","v":5}]
[740,20259910012224,"2025-01-29","Persona natural","Virtual - Correo electrónico","Solicitud de documentos o información","Solicitud de información hidrometeorológica",null,"Subdirección de Meteorología","2025-02-04","Correo electrónico","2025-02-12",null,"",null,{"$f":"IFERROR(WORKDAY(N750,Y750,Hoja1!F742:F858),\"\")","v":""},{"$f":"+IF(N750=\"\",\"\",IF(O750=\"\",\"SIN RESPUESTA\",(IF(O750<=P750,\"A TIEMPO\",\"FUERA DE TIEMPO\"))))","v":""},null,"A TIEMPO",4,0,null,null,{"$f":"IFERROR(VLOOKUP(F750,Hoja1!$A$50:$C$63,2),\"\")","v":5},{"$f":"IFERROR(VLOOKUP(F750,Hoja1!$A$50:$C$63,3),\"\")","v":5}]
[741,20259910012264,"2025-01-29","Persona jurídica","Virtual - Correo electrónico","Solicitud de documentos o información","Sistema de información del recurso hídrico",null,"Subdirección de Hidrología","2025-02-03","Correo electrónico","2025-02-12",null,"",null,{"$f":"IFERROR(WORKDAY(N751,Y751,Hoja1!F743:F859),\"\")","v":""},{"$f":"+IF(N751=\"\",\"\",IF(O751=\"\",\"SIN RESPUESTA\",(IF(O751<=P751,\"A TIEMPO\",\"FUERA DE TIEMPO\"))))","v":""},null,"A TIEMPO",3,0,null,null,{"$f":"IFERROR(VLOOKUP(F751,Hoja1!$A$50:$C$63,2),\"\")","v":5},{"$f":"IFERROR(VLOOKUP(F751,Hoja1!$A$50:$C$63,3),\"\")","v":5}]
[742,20259050012294,"2025-01-29","Persona natural","Virtual - Formulario PQRSDF","Solicitud de documentos o información","Registros ambientales",null,"Subdirección de Estudios Ambientales","2025-02-06","Correo electrónico","2025-02-12",null,"",null,{"$f":"IFERROR(WORKDAY(N752,Y752,Hoja1!F744:F860),\"\")","v":""},{"$f":"+IF(N752=\"\",\"\",IF(O752=\"\",\"SIN RESPUESTA\",(IF(O752<=P752,\"A TIEMPO\",\"FUERA DE TIEMPO\"))))","v":""},null,"A TIEMPO",6,0,null,null,{"$f":"IFERROR(VLOOKUP(F752,Hoja1!$A$50:$C$63,2),\"\")","v":5},{"$f":"IFERROR(VLOOKUP(F752,Hoja1!$A$50:$C$63,3),\"\")","v":5}]
[743,20259910012314,"2025-01-29","Persona natural","Virtual - Correo electrónico","Solicitud de documentos o información","Solicitud de información hidrometeorológica",null,"Grupo de Servicio al Ciudadano","2025-02-06","Correo electrónico","2025-02-12",null,"",null,{"$f":"IFERROR(WORKDAY(N753,Y753,Hoja1!F745:F861),\"\")","v":""},{"$f":"+IF(N753=\"\",\"\",IF(O753=\"\",\"SIN RESPUESTA\",(IF(O753<=P753,\"A TIEMPO\",\"FUERA DE TIEMPO\"))))","v":""},null,"A TIEMPO",6,0,null,null,{"$f":"IFERROR(VLOOKUP(F753,Hoja1!$A$50:$C$63,2),\"\")","v":5},{"$f":"IFERROR(VLOOKUP(F753,Hoja1!$A$50:$C$63,3),\"\")","v":5}]
[744,20259050012344,"2025-01-29","Persona natural","Virtual - Formulario PQRSDF","Solicitud de documentos o información","Solicitud de información hidrometeorológica",null,"Grupo de Servicio al Ciudadano","2025-02-04","Correo electrónico","2025-02-12",null,"",null,{"$f":"IFERROR(WORKDAY(N754,Y754,Hoja1!F746:F862),\"\")","v":""},{"$f":"+IF(N754=\"\",\"\",IF(O754=\"\",\"SIN RESPUESTA\",(IF(O754<=P754,\"A TIEMPO\",\"FUERA DE TIEMPO\"))))","v":""},null,"A TIEMPO",4,0,null,null,{"$f":"IFERROR(VLOOKUP(F754,Hoja1!$A$50:$C$63,2),\"\")","v":5},{"$f":"IFERROR(VLOOKUP(F754,Hoja1!$A$50:$C$63,3),\"\")","v":5}]
[745,20259910012374,"2025-01-29","Persona jurídica","Virtual - Correo electrónico","Solicitud de documentos o información","Registros ambientales",null,"Subdirección de Estudios Ambientales","2025-02-07","Correo electrónico","2025-02-12",null,"",null,{"$f":"IFERROR(WORKDAY(N755,Y755,Hoja1!F747:F863),\"\")","v":""},{"$f":"+IF(N755=\"\",\"\",IF(O755=\"\",\"SIN RESPUESTA\",(IF(O755<=P755,\"A TIEMPO\",\"FUERA DE TIEMPO\"))))","v":""},null,"A TIEMPO",7,0,null,null,{"$f":"IFERROR(VLOOKUP(F755,Hoja1!$A$50:$C$63,2),\"\")","v":5},{"$f":"IFERROR(VLOOKUP(F755,Hoja1!$A$50:$C$63,3),\"\")","v":5}]
[746,20259910012384,"2025-01-29","Persona jurídica","Virtual - Correo electrónico","Solicitud de documentos o información","Registros ambientales",null,"Subdirección de Estudios Ambientales","2025-01-31","Correo electrónico","2025-02-12",null,"",null,{"$f":"IFERROR(WORKDAY(N756,Y756,Hoja1!F748:F864),\"\")","v":""},{"$f":"+IF(N756=\"\",\"\",IF(O756=\"\",\"SIN RESPUESTA\",(IF(O756<=P756,\"A TIEMPO\",\"FUERA DE TIEMPO\"))))","v":""},null,"A TIEMPO",2,0,null,null,{"$f":"IFERROR(VLOOKUP(F756,Hoja1!$A$50:$C$63,2),\"\")","v":5},{"$f":"IFERROR(VLOOKUP(F756,Hoja1!$A$50:$C$63,3),\"\")","v":5}]
[747,20259910012414,"2025-01-29","Persona jurídica","Virtual - Correo electrónico","Solicitud de documentos o información","Sistema de información ambiental",null,"Subdirección de Estudios Ambientales","2025-02-06","Correo electrónico","2025-02-12",null,"",null,{"$f":"IFERROR(WORKDAY(N757,Y757,Hoja1!F749:F865),\"\")","v":""},{"$f":"+IF(N757=\"\",\"\",IF(O757=\"\",\"SIN RESPUESTA\",(IF(O757<=P757,\"A TIEMPO\",\"FUERA DE TIEMPO\"))))","v":""},null,"A TIEMPO",6,0,null,null,{"$f":"IFERROR(VLOOKUP(F757,Hoja1!$A$50:$C$63,2),\"\")","v":5},{"$f":"IFERROR(VLOOKUP(F757,Hoja1!$A$50:$C$63,3),\"\")","v":5}]
[748,20259910012434,"2025-01-29","Persona jurídica","Virtual - Correo electrónico","Solicitud de documentos o información","Informes ambientales",null,"Subdirección de Estudios Ambientales","2025-02-25","Correo electrónico","2025-02-12","SI","2025-02-26","2025-02-25",{"$f":"IFERROR(WORKDAY(N758,Y758,Hoja1!F750:F866),\"\")","v":"2025-03-05"},{"$f":"+IF(N758=\"\",\"\",IF(O758=\"\",\"SIN RESPUESTA\",(IF(O758<=P758,\"A TIEMPO\",\"FUERA DE TIEMPO\"))))","v":"A TIEMPO"},null,"A TIEMPO",19,0,null,null,{"$f":"IFERROR(VLOOKUP(F758,Hoja1!$A$50:$C$63,2),\"\")","v":5},{"$f":"IFERROR(VLOOKUP(F758,Hoja1!$A$50:$C$63,3),\"\")","v":5}]
[749,20259910012444,"2025-01-29","Persona jurídica","Virtual - Correo electrónico","Solicitud de documentos o información","Sistema de información ambiental",null,"Subdirección de Estudios Ambientales","2025-02-11","Correo electrónico","2025-02-12",null,"",null,{"$f":"IFERROR(WORKDAY(N759,Y759,Hoja1!F751:F867),\"\")","v":""},{"$f":"+IF(N759=\"\",\"\",IF(O759=\"\",\"SIN RESPUESTA\",(IF(O759<=P759,\"A TIEMPO\",\"FUERA DE TIEMPO\"))))","v":""},null,"A TIEMPO",9,0,null,null,{"$f":"IFERROR(VLOOKUP(F759,Hoja1!$A$50:$C$63,2),\"\")","v":5},{"$f":"IFERROR(VLOOKUP(F759,Hoja1!$A$50:$C$63,3),\"\")","v":5}]
[750,20259910012454,"2025-01-29","Persona natural","Virtual - Correo electrónico","Certificación electrónica de tiempos laborados - CETIL","Administrativa",null,"Grupo de Administración y Desarrollo del Talento Humano","2025-02-21","Correo electrónico","2025-02-19",null,"",null,{"$f":"IFERROR(WORKDAY(N760,Y760,Hoja1!F752:F868),\"\")","v":""},{"$f":"+IF(N760=\"\",\"\",IF(O760=\"\",\"SIN RESPUESTA\",(IF(O760<=P760,\"A TIEMPO\",\"FUERA DE TIEMPO\"))))","v":""},null,{"$f":"+IF(C760=\"\",\"\",IF(J760=\"\",\"SIN RESPUESTA\",(IF(J760<=L760,\"A TIEMPO\",\"FUERA DE TIEMPO\"))))","v":"FUERA DE TIEMPO"},17,2,null,null,{"$f":"IFERROR(VLOOKUP(F760,Hoja1!$A$50:$C$63,2),\"\")","v":15},{"$f":"IFERROR(VLOOKUP(F760,Hoja1!$A$50:$C$63,3),\"\")","v":15}]
[751,20259910012564,"2025-01-29","Persona jurídica","Virtual - Correo electrónico","Certificación de contrato","Administrativa",null,"Oficina Asesora Jurídica","2025-02-13","Correo electrónico","2025-02-12",null,"",null,{"$f":"IFERROR(WORKDAY(N761,Y761,Hoja1!F753:F869),\"\")","v":""},{"$f":"+IF(N761=\"\",\"\",IF(O761=\"\",\"SIN RESPUESTA\",(IF(O761<=P761,\"A TIEMPO\",\"FUERA DE TIEMPO\"))))","v":""},null,{"$f":"+IF(C761=\"\",\"\",IF(J761=\"\",\"SIN RESPUESTA\",(IF(J761<=L761,\"A TIEMPO\",\"FUERA DE TIEMPO\"))))","v":"FUERA DE TIEMPO"},11,1,null,null,{"$f":"IFERROR(VLOOKUP(F761,Hoja1!$A$50:$C$63,2),\"\")","v":15},{"$f":"IFERROR(VLOOKUP(F761,Hoja1!$A$50:$C$63,3),\"\")","v":15}]
[752,20259910012484,"2025-01-29","Persona natural","Virtual - Correo electrónico","Certificación de contrato","Administrativa",null,"Oficina Asesora Jurídica","2025-02-12","Correo electrónico","2025-02-12",null,"",null,{"$f":"IFERROR(WORKDAY(N762,Y762,Hoja1!F754:F870),\"\")","v":""},{"$f":"+IF(N762=\"\",\"\",IF(O762=\"\",\"SIN RESPUESTA\",(IF(O762<=P762,\"A TIEMPO\",\"FUERA DE TIEMPO\"))))","v":""},null,"A TIEMPO",10,0,null,null,{"$f":"IFERROR(VLOOKUP(F762,Hoja1!$A$50:$C$63,2),\"\")","v":15},{"$f":"IFERROR(VLOOKUP(F762,Hoja1!$A$50:$C$63,3),\"\")","v":15}]
[753,20259910012474,"2025-01-29","Persona jurídica","Virtual - Correo electrónico","Solicitud de documentos o información","Sistema de información ambiental",null,"Subdirección de Estudios Ambientales","2025-02-06","Correo electrónico","2025-02-12",null,"",null,{"$f":"IFERROR(WORKDAY(N763,Y763,Hoja1!F755:F871),\"\")","v":""},{"$f":"+IF(N763=\"\",\"\",IF(O763=\"\",\"SIN RESPUESTA\",(IF(O763<=P763,\"A TIEMPO\",\"FUERA DE TIEMPO\"))))","v":""},null,"A TIEMPO",6,0,null,null,{"$f":"IFERROR(VLOOKUP(F763,Hoja1!$A$50:$C$63,2),\"\")","v":5},{"$f":"IFERROR(VLOOKUP(F763,Hoja1!$A$50:$C$63,3),\"\")","v":5}]
[754,20259910012514,"2025-01-29","Persona natural","Virtual - Correo electrónico","Solicitud de documentos o información","Solicitud de información hidrometeorológica",null,"Grupo de Servicio al Ciudadano","2025-02-05","Correo electrónico","2025-02-12",null,"",null,{"$f":"IFERROR(WORKDAY(N764,Y764,Hoja1!F756:F872),\"\")","v":""},{"$f":"+IF(N764=\"\",\"\",IF(O764=\"\",\"SIN RESPUESTA\",(IF(O764<=P764,\"A TIEMPO\",\"FUERA DE TIEMPO\"))))","v":""},null,"A TIEMPO",5,0,null,null,{"$f":"IFERROR(VLOOKUP(F764,Hoja1!$A$50:$C$63,2),\"\")","v":5},{"$f":"IFERROR(VLOOKUP(F764,Hoja1!$A$50:$C$63,3),\"\")","v":5}]
[755,20259910012554,"2025-01-29","Persona jurídica","Virtual - Correo electrónico","Solicitud de documentos o información","Registros ambientales",null,"Subdirección de Estudios Ambientales","2025-02-21","Correo electrónico","2025-02-12",null,"",null,{"$f":"IFERROR(WORKDAY(N765,Y765,Hoja1!F757:F873),\"\")","v":""},{"$f":"+IF(N765=\"\",\"\",IF(O765=\"\",\"SIN RESPUESTA\",(IF(O765<=P765,\"A TIEMPO\",\"FUERA DE TIEMPO\"))))","v":""},null,{"$f":"+IF(C765=\"\",\"\",IF(J765=\"\",\"SIN RESPUESTA\",(IF(J765<=L765,\"A TIEMPO\",\"FUERA DE TIEMPO\"))))","v":"FUERA DE TIEMPO"},17,7,null,null,{"$f":"IFERROR(VLOOKUP(F765,Hoja1!$A$50:$C$63,2),\"\")","v":5},{"$f":"IFERROR(VLOOKUP(F765,Hoja1!$A$50:$C$63,3),\"\")","v":5}]
[756,20259050012584,"2025-01-29","Persona natural","Virtual - Formulario PQRSDF","Certificación de tiempo, clima y eventos hidrológicos","Certificaciones del tiempo y clima",null,"Subdirección de Meteorología","2025-02-17","Correo electrónico","2025-03-12",null,"",null,{"$f":"IFERROR(WORKDAY(N766,Y766,Hoja1!F758:F874),\"\")","v":""},{"$f":"+IF(N766=\"\",\"\",IF(O766=\"\",\"SIN RESPUESTA\",(IF(O766<=P766,\"A TIEMPO\",\"FUERA DE TIEMPO\"))))","v":""},null,"A TIEMPO",13,0,null,null,{"$f":"IFERROR(VLOOKUP(F766,Hoja1!$A$50:$C$63,2),\"\")","v":15},{"$f":"IFERROR(VLOOKUP(F766,Hoja1!$A$50:$C$63,3),\"\")","v":15}]
[757,20259050012594,"2025-01-29","Persona jurídica","Virtual - Formulario PQRSDF","Solicitud de documentos o información","Solicitud de información hidrometeorológica",null,"Subdirección de Hidrología","2025-02-05","Correo electrónico","2025-02-12",null,"",null,{"$f":"IFERROR(WORKDAY(N767,Y767,Hoja1!F759:F875),\"\")","v":""},{"$f":"+IF(N767=\"\",\"\",IF(O767=\"\",\"SIN RESPUESTA\",(IF(O767<=P767,\"A TIEMPO\",\"FUERA DE TIEMPO\"))))","v":""},null,"A TIEMPO",5,0,null,null,{"$f":"IFERROR(VLOOKUP(F767,Hoja1!$A$50:$C$63,2),\"\")","v":5},{"$f":"IFERROR(VLOOKUP(F767,Hoja1!$A$50:$C$63,3),\"\")","v":5}]
[758,20259910012574,"2025-01-29","Persona jurídica","Virtual - Correo electrónico","Solicitud de documentos o información","Registros ambientales",null,"Subdirección de Estudios Ambientales","2025-02-07","Correo electrónico","2025-02-12",null,"",null,{"$f":"IFERROR(WORKDAY(N768,Y768,Hoja1!F760:F876),\"\")","v":""},{"$f":"+IF(N768=\"\",\"\",IF(O768=\"\",\"SIN RESPUESTA\",(IF(O768<=P768,\"A TIEMPO\",\"FUERA DE TIEMPO\"))))","v":""},null,"A TIEMPO",7,0,null,null,{"$f":"IFERROR(VLOOKUP(F768,Hoja1!$A$50:$C$63,2),\"\")","v":5},{"$f":"IFERROR(VLOOKUP(F768,Hoja1!$A$50:$C$63,3),\"\")","v":5}]
[759,20259050012624,"2025-01-30","Persona natural","Virtual - Formulario PQRSDF","Certificación laboral o pasantía","Administrativa",null,"Grupo de Administración y Desarrollo del Talento Humano","2025-02-13","Correo electrónico","2025-02-13",null,"",null,{"$f":"IFERROR(WORKDAY(N769,Y769,Hoja1!F761:F877),\"\")","v":""},{"$f":"+IF(N769=\"\",\"\",IF(O769=\"\",\"SIN RESPUESTA\",(IF(O769<=P769,\"A TIEMPO\",\"FUERA DE TIEMPO\"))))","v":""},null,"A TIEMPO",10,0,null,null,{"$f":"IFERROR(VLOOKUP(F769,Hoja1!$A$50:$C$63,2),\"\")","v":15},{"$f":"IFERROR(VLOOKUP(F769,Hoja1!$A$50:$C$63,3),\"\")","v":15}]
[760,20259910012644,"2025-01-30","Persona jurídica","Virtual - Correo electrónico","Petición entre autoridades","Administrativa",null,"Subdirección de Estudios Ambientales","2025-02-24","Correo electrónico","2025-02-13",null,"",null,{"$f":"IFERROR(WORKDAY(N770,Y770,Hoja1!F762:F878),\"\")","v":""},{"$f":"+IF(N770=\"\",\"\",IF(O770=\"\",\"SIN RESPUESTA\",(IF(O770<=P770,\"A TIEMPO\",\"FUERA DE TIEMPO\"))))","v":""},null,{"$f":"+IF(C770=\"\",\"\",IF(J770=\"\",\"SIN RESPUESTA\",(IF(J770<=L770,\"A TIEMPO\",\"FUERA DE TIEMPO\"))))","v":"FUERA DE TIEMPO"},17,7,null,null,{"$f":"IFERROR(VLOOKUP(F770,Hoja1!$A$50:$C$63,2),\"\")","v":10},{"$f":"IFERROR(VLOOKUP(F770,Hoja1!$A$50:$C$63,3),\"\")","v":10}]
[761,20259910012654,"2025-01-30","Persona jurídica","Virtual - Correo electrónico","Certificación de ingresos y retenciones","Administrativa",null,"Grupo de Contabilidad","2025-02-07","Correo electrónico","2025-02-13",null,"",null,{"$f":"IFERROR(WORKDAY(N771,Y771,Hoja1!F763:F879),\"\")","v":""},{"$f":"+IF(N771=\"\",\"\",IF(O771=\"\",\"SIN RESPUESTA\",(IF(O771<=P771,\"A TIEMPO\",\"FUERA DE TIEMPO\"))))","v":""},null,"A TIEMPO",6,0,null,null,{"$f":"IFERROR(VLOOKUP(F771,Hoja1!$A$50:$C$63,2),\"\")","v":15},{"$f":"IFERROR(VLOOKUP(F771,Hoja1!$A$50:$C$63,3),\"\")","v":15}]
[762,20259910012674,"2025-01-30","Persona natural","Virtual - Correo electrónico","Certificación de contrato","Administrativa",null,"Oficina Asesora Jurídica","2025-02-13","Correo electrónico","2025-02-13",null,"",null,{"$f":"IFERROR(WORKDAY(N772,Y772,Hoja1!F764:F880),\"\")","v":""},{"$f":"+IF(N772=\"\",\"\",IF(O772=\"\",\"SIN RESPUESTA\",(IF(O772<=P772,\"A TIEMPO\",\"FUERA DE TIEMPO\"))))","v":""},null,"A TIEMPO",10,0,null,null,{"$f":"IFERROR(VLOOKUP(F772,Hoja1!$A$50:$C$63,2),\"\")","v":15},{"$f":"IFERROR(VLOOKUP(F772,Hoja1!$A$50:$C$63,3),\"\")","v":15}]
[763,20259910012664,"2025-01-30","Persona jurídica","Virtual - Correo electrónico","Solicitud de documentos o información","Administrativa",null,"Subdirección de Estudios Ambientales","2025-02-11","Correo electrónico","2025-02-13",null,"",null,{"$f":"IFERROR(WORKDAY(N773,Y773,Hoja1!F765:F881),\"\")","v":""},{"$f":"+IF(N773=\"\",\"\",IF(O773=\"\",\"SIN RESPUESTA\",(IF(O773<=P773,\"A TIEMPO\",\"FUERA DE TIEMPO\"))))","v":""},null,"A TIEMPO",8,0,null,null,{"$f":"IFERROR(VLOOKUP(F773,Hoja1!$A$50:$C$63,2),\"\")","v":5},{"$f":"IFERROR(VLOOKUP(F773,Hoja1!$A$50:$C$63,3),\"\")","v":5}]
[764,20259050012684,"2025-01-30","Persona natural","Virtual - Formulario PQRSDF","Certificación laboral o pasantía","Administrativa",null,"Grupo de Administración y Desarrollo del Talento Humano","2025-02-04","Correo electrónico","2025-02-13",null,"",null,{"$f":"IFERROR(WORKDAY(N774,Y774,Hoja1!F766:F882),\"\")","v":""},{"$f":"+IF(N774=\"\",\"\",IF(O774=\"\",\"SIN RESPUESTA\",(IF(O774<=P774,\"A TIEMPO\",\"FUERA DE TIEMPO\"))))","v":""},null,"A TIEMPO",3,0,null,null,{"$f":"IFERROR(VLOOKUP(F774,Hoja1!$A$50:$C$63,2),\"\")","v":15},{"$f":"IFERROR(VLOOKUP(F774,Hoja1!$A$50:$C$63,3),\"\")","v":15}]
[765,20259910012704,"2025-01-30","Persona jurídica","Virtual - Correo electrónico","Certificación de ingresos y retenciones","Administrativa",null,"Grupo de Contabilidad","2025-02-07","Correo electrónico","2025-02-13",null,"",null,{"$f":"IFERROR(WORKDAY(N775,Y775,Hoja1!F767:F883),\"\")","v":""},{"$f":"+IF(N775=\"\",\"\",IF(O775=\"\",\"SIN RESPUESTA\",(IF(O775<=P775,\"A TIEMPO\",\"FUERA DE TIEMPO\"))))","v":""},null,"A TIEMPO",6,0,null,null,{"$f":"IFERROR(VLOOKUP(F775,Hoja1!$A$50:$C$63,2),\"\")","v":15},{"$f":"IFERROR(VLOOKUP(F775,Hoja1!$A$50:$C$63,3),\"\")","v":15}]
[766,20259050012694,"2025-01-30","Persona natural","Virtual - Formulario PQRSDF","Solicitud de documentos o información","Bosques",null,"Subdirección de Ecosistemas e Información Ambiental","2025-02-07","Correo electrónico","2025-02-13",null,"",null,{"$f":"IFERROR(WORKDAY(N776,Y776,Hoja1!F768:F884),\"\")","v":""},{"$f":"+IF(N776=\"\",\"\",IF(O776=\"\",\"SIN RESPUESTA\",(IF(O776<=P776,\"A TIEMPO\",\"FUERA DE TIEMPO\"))))","v":""},null,"A TIEMPO",6,0,null,null,{"$f":"IFERROR(VLOOKUP(F776,Hoja1!$A$50:$C$63,2),\"\")","v":5},{"$f":"IFERROR(VLOOKUP(F776,Hoja1!$A$50:$C$63,3),\"\")","v":5}]
[767,20259910012714,"2025-01-30","Persona jurídica","Virtual - Correo electrónico","Solicitud de documentos o información","Registros ambientales",null,"Subdirección de Estudios Ambientales","2025-02-07","Correo electrónico","2025-02-13",null,"",null,{"$f":"IFERROR(WORKDAY(N777,Y777,Hoja1!F769:F885),\"\")","v":""},{"$f":"+IF(N777=\"\",\"\",IF(O777=\"\",\"SIN RESPUESTA\",(IF(O777<=P777,\"A TIEMPO\",\"FUERA DE TIEMPO\"))))","v":""},null,"A TIEMPO",6,0,null,null,{"$f":"IFERROR(VLOOKUP(F777,Hoja1!$A$50:$C$63,2),\"\")","v":5},{"$f":"IFERROR(VLOOKUP(F777,Hoja1!$A$50:$C$63,3),\"\")","v":5}]
[768,20259910012754,"2025-01-30","Persona jurídica","Virtual - Correo electrónico","Certificación de ingresos y retenciones","Administrativa",null,"Grupo de Contabilidad","2025-02-17","Correo electrónico","2025-02-13",null,"",null,{"$f":"IFERROR(WORKDAY(N778,Y778,Hoja1!F770:F886),\"\")","v":""},{"$f":"+IF(N778=\"\",\"\",IF(O778=\"\",\"SIN RESPUESTA\",(IF(O778<=P778,\"A TIEMPO\",\"FUERA DE TIEMPO\"))))","v":""},null,{"$f":"+IF(C778=\"\",\"\",IF(J778=\"\",\"SIN RESPUESTA\",(IF(J778<=L778,\"A TIEMPO\",\"FUERA DE TIEMPO\"))))","v":"FUERA DE TIEMPO"},12,2,null,null,{"$f":"IFERROR(VLOOKUP(F778,Hoja1!$A$50:$C$63,2),\"\")","v":15},{"$f":"IFERROR(VLOOKUP(F778,Hoja1!$A$50:$C$63,3),\"\")","v":15}]
[769,20259910012764,"2025-01-30","Persona jurídica","Virtual - Correo electrónico","Solicitud de documentos o información","Pronósticos y alertas",null,"Subdirección de Estudios Ambientales","2025-01-31","Correo electrónico","2025-02-13",null,"",null,{"$f":"IFERROR(WORKDAY(N779,Y779,Hoja1!F771:F887),\"\")","v":""},{"$f":"+IF(N779=\"\",\"\",IF(O779=\"\",\"SIN RESPUESTA\",(IF(O779<=P779,\"A TIEMPO\",\"FUERA DE TIEMPO\"))))","v":""},null,"A TIEMPO",1,0,null,null,{"$f":"IFERROR(VLOOKUP(F779,Hoja1!$A$50:$C$63,2),\"\")","v":5},{"$f":"IFERROR(VLOOKUP(F779,Hoja1!$A$50:$C$63,3),\"\")","v":5}]
[770,20259910012824,"2025-01-30","Persona jurídica","Virtual - Correo electrónico","Solicitud de documentos o información","Sistema de información ambiental",null,"Subdirección de Estudios Ambientales","2025-03-25","Correo electrónico","2025-02-13",null,"",null,{"$f":"IFERROR(WORKDAY(N780,Y780,Hoja1!F772:F888),\"\")","v":""},{"$f":"+IF(N780=\"\",\"\",IF(O780=\"\",\"SIN RESPUESTA\",(IF(O780<=P780,\"A TIEMPO\",\"FUERA DE TIEMPO\"))))","v":""},null,{"$f":"+IF(C780=\"\",\"\",IF(J780=\"\",\"SIN RESPUESTA\",(IF(J780<=L780,\"A TIEMPO\",\"FUERA DE TIEMPO\"))))","v":"FUERA DE TIEMPO"},36,26,null,null,{"$f":"IFERROR(VLOOKUP(F780,Hoja1!$A$50:$C$63,2),\"\")","v":5},{"$f":"IFERROR(VLOOKUP(F780,Hoja1!$A$50:$C$63,3),\"\")","v":5}]
[771,20259910012874,"2025-01-30","Persona jurídica","Virtual - Correo electrónico","Solicitud judicial","Jurídico",null,"Oficina Asesora Jurídica","2025-02-04","Correo electrónico","2025-02-06",null,"",null,{"$f":"IFERROR(WORKDAY(N781,Y781,Hoja1!F773:F889),\"\")","v":""},{"$f":"+IF(N781=\"\",\"\",IF(O781=\"\",\"SIN RESPUESTA\",(IF(O781<=P781,\"A TIEMPO\",\"FUERA DE TIEMPO\"))))","v":""},null,"A TIEMPO",3,0,null,null,{"$f":"IFERROR(VLOOKUP(F781,Hoja1!$A$50:$C$63,2),\"\")","v":5},{"$f":"IFERROR(VLOOKUP(F781,Hoja1!$A$50:$C$63,3),\"\")","v":5}]
[772,20259910012894,"2025-01-30","Persona natural","Virtual - Correo electrónico","Solicitud de documentos o información","Solicitud de información hidrometeorológica",null,"Subdirección de Hidrología","2025-02-06","Correo electrónico","2025-02-13",null,"",null,{"$f":"IFERROR(WORKDAY(N782,Y782,Hoja1!F774:F890),\"\")","v":""},{"$f":"+IF(N782=\"\",\"\",IF(O782=\"\",\"SIN RESPUESTA\",(IF(O782<=P782,\"A TIEMPO\",\"FUERA DE TIEMPO\"))))","v":""},null,"A TIEMPO",5,0,null,null,{"$f":"IFERROR(VLOOKUP(F782,Hoja1!$A$50:$C$63,2),\"\")","v":5},{"$f":"IFERROR(VLOOKUP(F782,Hoja1!$A$50:$C$63,3),\"\")","v":5}]
[773,20259910012904,"2025-01-30","Persona jurídica","Virtual - Correo electrónico","Certificación de contrato","Administrativa",null,"Oficina Asesora Jurídica","2025-02-13","Correo electrónico","2025-02-13",null,"",null,{"$f":"IFERROR(WORKDAY(N783,Y783,Hoja1!F775:F891),\"\")","v":""},{"$f":"+IF(N783=\"\",\"\",IF(O783=\"\",\"SIN RESPUESTA\",(IF(O783<=P783,\"A TIEMPO\",\"FUERA DE TIEMPO\"))))","v":""},null,"A TIEMPO",10,0,null,null,{"$f":"IFERROR(VLOOKUP(F783,Hoja1!$A$50:$C$63,2),\"\")","v":15},{"$f":"IFERROR(VLOOKUP(F783,Hoja1!$A$50:$C$63,3),\"\")","v":15}]
[774,20259910012914,"2025-01-30","Persona natural","Virtual - Correo electrónico","Solicitud de documentos o información","Administrativa",null,"Subdirección de Hidrología","2025-01-30","Correo electrónico","2025-02-13",null,"",null,{"$f":"IFERROR(WORKDAY(N784,Y784,Hoja1!F776:F892),\"\")","v":""},{"$f":"+IF(N784=\"\",\"\",IF(O784=\"\",\"SIN RESPUESTA\",(IF(O784<=P784,\"A TIEMPO\",\"FUERA DE TIEMPO\"))))","v":""},null,"A TIEMPO",0,0,null,null,{"$f":"IFERROR(VLOOKUP(F784,Hoja1!$A$50:$C$63,2),\"\")","v":5},{"$f":"IFERROR(VLOOKUP(F784,Hoja1!$A$50:$C$63,3),\"\")","v":5}]
[{"$f":"IF(B785<>\"\",A784+1,\"\")","v":775},20259910012924,"2025-01-30","Persona natural","Virtual - Correo electrónico","Certificación de contrato","Administrativa",null,"Oficina Asesora Jurídica","2025-02-13","Correo electrónico","2025-02-13",null,"",null,{"$f":"IFERROR(WORKDAY(N785,Y785,Hoja1!F777:F893),\"\")","v":""},{"$f":"+IF(N785=\"\",\"\",IF(O785=\"\",\"SIN RESPUESTA\",(IF(O785<=P785,\"A TIEMPO\",\"FUERA DE TIEMPO\"))))","v":""},null,"A TIEMPO",10,0,null,null,{"$f":"IFERROR(VLOOKUP(F785,Hoja1!$A$50:$C$63,2),\"\")","v":15},{"$f":"IFERROR(VLOOKUP(F785,Hoja1!$A$50:$C$63,3),\"\")","v":15}]
[776,20259910012964,"2025-01-30","Persona jurídica","Virtual - Correo electrónico","Solicitud de documentos o información","Registros ambientales",null,"Subdirección de Estudios Ambientales","2025-02-07","Correo electrónico","2025-02-13",null,"",null,{"$f":"IFERROR(WORKDAY(N786,Y786,Hoja1!F778:F894),\"\")","v":""},{"$f":"+IF(N786=\"\",\"\",IF(O786=\"\",\"SIN RESPUESTA\",(IF(O786<=P786,\"A TIEMPO\",\"FUERA DE TIEMPO\"))))","v":""},null,"A TIEMPO",6,0,null,null,{"$f":"IFERROR(VLOOKUP(F786,Hoja1!$A$50:$C$63,2),\"\")","v":5},{"$f":"IFERROR(VLOOKUP(F786,Hoja1!$A$50:$C$63,3),\"\")","v":5}]
[777,20259910013004,"2025-01-30","Persona jurídica","Virtual - Correo electrónico","Solicitud de documentos o información","Solicitud de información hidrometeorológica",null,"Grupo de Servicio al Ciudadano","2025-02-04","Correo electrónico","2025-02-13",null,"",null,{"$f":"IFERROR(WORKDAY(N787,Y787,Hoja1!F779:F895),\"\")","v":""},{"$f":"+IF(N787=\"\",\"\",IF(O787=\"\",\"SIN RESPUESTA\",(IF(O787<=P787,\"A TIEMPO\",\"FUERA DE TIEMPO\"))))","v":""},null,"A TIEMPO",3,0,null,null,{"$f":"IFERROR(VLOOKUP(F787,Hoja1!$A$50:$C$63,2),\"\")","v":5},{"$f":"IFERROR(VLOOKUP(F787,Hoja1!$A$50:$C$63,3),\"\")","v":5}]
[778,20259050013044,"2025-01-30","Persona natural","Virtual - Formulario PQRSDF","Certificación laboral o pasantía","Administrativa",null,"Grupo de Administración y Desarrollo del Talento Humano","2025-02-13","Correo electrónico","2025-02-13",null,"",null,{"$f":"IFERROR(WORKDAY(N788,Y788,Hoja1!F780:F896),\"\")","v":""},{"$f":"+IF(N788=\"\",\"\",IF(O788=\"\",\"SIN RESPUESTA\",(IF(O788<=P788,\"A TIEMPO\",\"FUERA DE TIEMPO\"))))","v":""},null,"A TIEMPO",10,0,null,null,{"$f":"IFERROR(VLOOKUP(F788,Hoja1!$A$50:$C$63,2),\"\")","v":15},{"$f":"IFERROR(VLOOKUP(F788,Hoja1!$A$50:$C$63,3),\"\")","v":15}]
[779,20259910013054,"2025-01-30","Persona jurídica","Virtual - Correo electrónico","Solicitud de documentos o información","Registros ambientales",null,"Subdirección de Estudios Ambientales","2025-02-03","Correo electrónico","2025-02-13",null,"",null,{"$f":"IFERROR(WORKDAY(N789,Y789,Hoja1!F781:F897),\"\")","v":""},{"$f":"+IF(N789=\"\",\"\",IF(O789=\"\",\"SIN RESPUESTA\",(IF(O789<=P789,\"A TIEMPO\",\"FUERA DE TIEMPO\"))))","v":""},null,"A TIEMPO",2,0,null,null,{"$f":"IFERROR(VLOOKUP(F789,Hoja1!$A$50:$C$63,2),\"\")","v":5},{"$f":"IFERROR(VLOOKUP(F789,Hoja1!$A$50:$C$63,3),\"\")","v":5}]
[780,20259910013064,"2025-01-30","Persona natural","Virtual - Correo electrónico","Solicitud de documentos o información","Solicitud de información hidrometeorológica",null,"Subdirección de Meteorología","2025-02-04","Correo electrónico","2025-02-13",null,"",null,{"$f":"IFERROR(WORKDAY(N790,Y790,Hoja1!F782:F898),\"\")","v":""},{"$f":"+IF(N790=\"\",\"\",IF(O790=\"\",\"SIN RESPUESTA\",(IF(O790<=P790,\"A TIEMPO\",\"FUERA DE TIEMPO\"))))","v":""},null,"A TIEMPO",3,0,null,null,{"$f":"IFERROR(VLOOKUP(F790,Hoja1!$A$50:$C$63,2),\"\")","v":5},{"$f":"IFERROR(VLOOKUP(F790,Hoja1!$A$50:$C$63,3),\"\")","v":5}]
[781,20259910013202,"2025-01-30","Persona jurídica","Virtual - Correo electrónico","Solicitud de documentos o información","Pronósticos y alertas",null,"Oficina del Servicio de Pronósticos y Alertas","2025-02-06","Correo electrónico","2025-02-13",null,"",null,{"$f":"IFERROR(WORKDAY(N791,Y791,Hoja1!F783:F899),\"\")","v":""},{"$f":"+IF(N791=\"\",\"\",IF(O791=\"\",\"SIN RESPUESTA\",(IF(O791<=P791,\"A TIEMPO\",\"FUERA DE TIEMPO\"))))","v":""},null,"A TIEMPO",5,0,null,null,{"$f":"IFERROR(VLOOKUP(F791,Hoja1!$A$50:$C$63,2),\"\")","v":5},{"$f":"IFERROR(VLOOKUP(F791,Hoja1!$A$50:$C$63,3),\"\")","v":5}]
[782,20259050013104,"2025-01-30","Persona natural","Virtual - Formulario PQRSDF","Certificación de contrato","Administrativa",null,"Oficina Asesora Jurídica","2025-02-13","Correo electrónico","2025-02-13",null,"",null,{"$f":"IFERROR(WORKDAY(N792,Y792,Hoja1!F784:F900),\"\")","v":""},{"$f":"+IF(N792=\"\",\"\",IF(O792=\"\",\"SIN RESPUESTA\",(IF(O792<=P792,\"A TIEMPO\",\"FUERA DE TIEMPO\"))))","v":""},null,"A TIEMPO",10,0,null,null,{"$f":"IFERROR(VLOOKUP(F792,Hoja1!$A$50:$C$63,2),\"\")","v":15},{"$f":"IFERROR(VLOOKUP(F792,Hoja1!$A$50:$C$63,3),\"\")","v":15}]
[783,20259910013124,"2025-01-30","Persona natural","Virtual - Correo electrónico","Certificación laboral o pasantía","Administrativa",null,"Grupo de Administración y Desarrollo del Talento Humano","2025-02-13","Correo electrónico","2025-02-13",null,"",null,{"$f":"IFERROR(WORKDAY(N793,Y793,Hoja1!F785:F901),\"\")","v":""},{"$f":"+IF(N793=\"\",\"\",IF(O793=\"\",\"SIN RESPUESTA\",(IF(O793<=P793,\"A TIEMPO\",\"FUERA DE TIEMPO\"))))","v":""},null,"A TIEMPO",10,0,null,null,{"$f":"IFERROR(VLOOKUP(F793,Hoja1!$A$50:$C$63,2),\"\")","v":15},{"$f":"IFERROR(VLOOKUP(F793,Hoja1!$A$50:$C$63,3),\"\")","v":15}]
[784,20259050013144,"2025-01-30","Persona natural","Virtual - Formulario PQRSDF","Certificación de contrato","Administrativa",null,"Oficina Asesora Jurídica","2025-02-13","Correo electrónico","2025-02-13",null,"",null,{"$f":"IFERROR(WORKDAY(N794,Y794,Hoja1!F786:F902),\"\")","v":""},{"$f":"+IF(N794=\"\",\"\",IF(O794=\"\",\"SIN RESPUESTA\",(IF(O794<=P794,\"A TIEMPO\",\"FUERA DE TIEMPO\"))))","v":""},null,"A TIEMPO",10,0,null,null,{"$f":"IFERROR(VLOOKUP(F794,Hoja1!$A$50:$C$63,2),\"\")","v":15},{"$f":"IFERROR(VLOOKUP(F794,Hoja1!$A$50:$C$63,3),\"\")","v":15}]
[785,20259910012544,"2025-01-30","Persona jurídica","Virtual - Correo electrónico","Solicitud de documentos o información","Administrativa",null,"Grupo de Administración y Desarrollo del Talento Humano","2025-02-05","Correo electrónico","2025-02-13",null,"",null,{"$f":"IFERROR(WORKDAY(N795,Y795,Hoja1!F787:F903),\"\")","v":""},{"$f":"+IF(N795=\"\",\"\",IF(O795=\"\",\"SIN RESPUESTA\",(IF(O795<=P795,\"A TIEMPO\",\"FUERA DE TIEMPO\"))))","v":""},null,"A TIEMPO",4,0,null,null,{"$f":"IFERROR(VLOOKUP(F795,Hoja1!$A$50:$C$63,2),\"\")","v":5},{"$f":"IFERROR(VLOOKUP(F795,Hoja1!$A$50:$C$63,3),\"\")","v":5}]
[786,20259910013094,"2025-01-30","Persona jurídica","Virtual - Correo electrónico","Solicitud de documentos o información","Registros ambientales",null,"Subdirección de Estudios Ambientales","2025-02-07","Correo electrónico","2025-02-13",null,"",null,{"$f":"IFERROR(WORKDAY(N796,Y796,Hoja1!F788:F904),\"\")","v":""},{"$f":"+IF(N796=\"\",\"\",IF(O796=\"\",\"SIN RESPUESTA\",(IF(O796<=P796,\"A TIEMPO\",\"FUERA DE TIEMPO\"))))","v":""},null,"A TIEMPO",6,0,null,null,{"$f":"IFERROR(VLOOKUP(F796,Hoja1!$A$50:$C$63,2),\"\")","v":5},{"$f":"IFERROR(VLOOKUP(F796,Hoja1!$A$50:$C$63,3),\"\")","v":5}]
[787,20259910013134,"2025-01-30","Persona jurídica","Virtual - Correo electrónico","Solicitud de documentos o información","Registros ambientales",null,"Subdirección de Estudios Ambientales","2025-02-03","Correo electrónico","2025-02-13",null,"",null,{"$f":"IFERROR(WORKDAY(N797,Y797,Hoja1!F789:F905),\"\")","v":""},{"$f":"+IF(N797=\"\",\"\",IF(O797=\"\",\"SIN RESPUESTA\",(IF(O797<=P797,\"A TIEMPO\",\"FUERA DE TIEMPO\"))))","v":""},null,"A TIEMPO",2,0,null,null,{"$f":"IFERROR(VLOOKUP(F797,Hoja1!$A$50:$C$63,2),\"\")","v":5},{"$f":"IFERROR(VLOOKUP(F797,Hoja1!$A$50:$C$63,3),\"\")","v":5}]
[788,20259910013234,"2025-01-31","Persona jurídica","Virtual - Correo electrónico","Solicitud de documentos o información","Registros ambientales",null,"Subdirección de Estudios Ambientales","2025-02-03","Correo electrónico","2025-02-14",null,"",null,{"$f":"IFERROR(WORKDAY(N798,Y798,Hoja1!F790:F906),\"\")","v":""},{"$f":"+IF(N798=\"\",\"\",IF(O798=\"\",\"SIN RESPUESTA\",(IF(O798<=P798,\"A TIEMPO\",\"FUERA DE TIEMPO\"))))","v":""},null,"A TIEMPO",1,0,null,null,{"$f":"IFERROR(VLOOKUP(F798,Hoja1!$A$50:$C$63,2),\"\")","v":5},{"$f":"IFERROR(VLOOKUP(F798,Hoja1!$A$50:$C$63,3),\"\")","v":5}]
[789,20259910013264,"2025-01-31","Persona jurídica","Virtual - Correo electrónico","Solicitud de documentos o información","Solicitud de información hidrometeorológica",null,"Subdirección de Meteorología","2025-02-14","Correo electrónico","2025-02-14",null,"",null,{"$f":"IFERROR(WORKDAY(N799,Y799,Hoja1!F791:F907),\"\")","v":""},{"$f":"+IF(N799=\"\",\"\",IF(O799=\"\",\"SIN RESPUESTA\",(IF(O799<=P799,\"A TIEMPO\",\"FUERA DE TIEMPO\"))))","v":""},null,"A TIEMPO",10,0,null,null,{"$f":"IFERROR(VLOOKUP(F799,Hoja1!$A$50:$C$63,2),\"\")","v":5},{"$f":"IFERROR(VLOOKUP(F799,Hoja1!$A$50:$C$63,3),\"\")","v":5}]
[790,20259910046724,"2025-03-20","Persona jurídica","Virtual - Correo electrónico","Solicitud de documentos o información","Administrativa",null,"Dirección General","2025-04-08","Correo electrónico","2025-04-04",null,"",null,{"$f":"IFERROR(WORKDAY(N800,Y800,Hoja1!F792:F908),\"\")","v":""},{"$f":"+IF(N800=\"\",\"\",IF(O800=\"\",\"SIN RESPUESTA\",(IF(O800<=P800,\"A TIEMPO\",\"FUERA DE TIEMPO\"))))","v":""},null,{"$f":"+IF(C800=\"\",\"\",IF(J800=\"\",\"SIN RESPUESTA\",(IF(J800<=L800,\"A TIEMPO\",\"FUERA DE TIEMPO\"))))","v":"FUERA DE TIEMPO"},-9,0,null,null,{"$f":"IFERROR(VLOOKUP(F800,Hoja1!$A$50:$C$63,2),\"\")","v":5},{"$f":"IFERROR(VLOOKUP(F800,Hoja1!$A$50:$C$63,3),\"\")","v":5}]
[791,20259910013324,"2025-01-31","Persona jurídica","Virtual - Correo electrónico","Solicitud de documentos o información","Informes ambientales",null,"Subdirección de Estudios Ambientales","2025-02-13","Correo electrónico","2025-02-14",null,"",null,{"$f":"IFERROR(WORKDAY(N801,Y801,Hoja1!F793:F909),\"\")","v":""},{"$f":"+IF(N801=\"\",\"\",IF(O801=\"\",\"SIN RESPUESTA\",(IF(O801<=P801,\"A TIEMPO\",\"FUERA DE TIEMPO\"))))","v":""},null,"A TIEMPO",9,0,null,null,{"$f":"IFERROR(VLOOKUP(F801,Hoja1!$A$50:$C$63,2),\"\")","v":5},{"$f":"IFERROR(VLOOKUP(F801,Hoja1!$A$50:$C$63,3),\"\")","v":5}]
[792,20259910013334,"2025-01-31","Persona natural","Virtual - Correo electrónico","Solicitud de documentos o información","Administrativa",null,"Grupo de Administración y Desarrollo del Talento Humano","2025-02-18","Correo electrónico","2025-02-14",null,"",null,{"$f":"IFERROR(WORKDAY(N802,Y802,Hoja1!F794:F910),\"\")","v":""},{"$f":"+IF(N802=\"\",\"\",IF(O802=\"\",\"SIN RESPUESTA\",(IF(O802<=P802,\"A TIEMPO\",\"FUERA DE TIEMPO\"))))","v":""},null,{"$f":"+IF(C802=\"\",\"\",IF(J802=\"\",\"SIN RESPUESTA\",(IF(J802<=L802,\"A TIEMPO\",\"FUERA DE TIEMPO\"))))","v":"FUERA DE TIEMPO"},12,2,null,null,{"$f":"IFERROR(VLOOKUP(F802,Hoja1!$A$50:$C$63,2),\"\")","v":5},{"$f":"IFERROR(VLOOKUP(F802,Hoja1!$A$50:$C$63,3),\"\")","v":5}]
[793,20259910013344,"2025-01-31","Persona jurídica","Virtual - Correo electrónico","Petición entre autoridades","Solicitud de información hidrometeorológica",null,"Grupo de Servicio al Ciudadano","2025-02-05","Correo electrónico","2025-02-14",null,"",null,{"$f":"IFERROR(WORKDAY(N803,Y803,Hoja1!F795:F911),\"\")","v":""},{"$f":"+IF(N803=\"\",\"\",IF(O803=\"\",\"SIN RESPUESTA\",(IF(O803<=P803,\"A TIEMPO\",\"FUERA DE TIEMPO\"))))","v":""},null,"A TIEMPO",3,0,null,null,{"$f":"IFERROR(VLOOKUP(F803,Hoja1!$A$50:$C$63,2),\"\")","v":10},{"$f":"IFERROR(VLOOKUP(F803,Hoja1!$A$50:$C$63,3),\"\")","v":10}]
[794,20259910013354,"2025-01-31","Persona jurídica","Virtual - Correo electrónico","Solicitud de documentos o información","Sistema de información ambiental",null,"Subdirección de Estudios Ambientales","2025-02-07","Correo electrónico","2025-02-14",null,"",null,{"$f":"IFERROR(WORKDAY(N804,Y804,Hoja1!F796:F912),\"\")","v":""},{"$f":"+IF(N804=\"\",\"\",IF(O804=\"\",\"SIN RESPUESTA\",(IF(O804<=P804,\"A TIEMPO\",\"FUERA DE TIEMPO\"))))","v":""},null,"A TIEMPO",5,0,null,null,{"$f":"IFERROR(VLOOKUP(F804,Hoja1!$A$50:$C$63,2),\"\")","v":5},{"$f":"IFERROR(VLOOKUP(F804,Hoja1!$A$50:$C$63,3),\"\")","v":5}]
[795,20259910013364,"2025-01-31","Persona jurídica","Virtual - Correo electrónico","Solicitud de documentos o información","Sistema de información ambiental",null,"Subdirección de Estudios Ambientales","2025-02-17","Correo electrónico","2025-02-14",null,"",null,{"$f":"IFERROR(WORKDAY(N805,Y805,Hoja1!F797:F913),\"\")","v":""},{"$f":"+IF(N805=\"\",\"\",IF(O805=\"\",\"SIN RESPUESTA\",(IF(O805<=P805,\"A TIEMPO\",\"FUERA DE TIEMPO\"))))","v":""},null,{"$f":"+IF(C805=\"\",\"\",IF(J805=\"\",\"SIN RESPUESTA\",(IF(J805<=L805,\"A TIEMPO\",\"FUERA DE TIEMPO\"))))","v":"FUERA DE TIEMPO"},11,1,null,null,{"$f":"IFERROR(VLOOKUP(F805,Hoja1!$A$50:$C$63,2),\"\")","v":5},{"$f":"IFERROR(VLOOKUP(F805,Hoja1!$A$50:$C$63,3),\"\")","v":5}]
[796,20259910013374,"2025-01-31","Persona jurídica","Virtual - Correo electrónico","Solicitud de documentos o información","Sistema de información ambiental",null,"Subdirección de Estudios Ambientales","2025-02-10","Correo electrónico","2025-02-14",null,"",null,{"$f":"IFERROR(WORKDAY(N806,Y806,Hoja1!F798:F914),\"\")","v":""},{"$f":"+IF(N806=\"\",\"\",IF(O806=\"\",\"SIN RESPUESTA\",(IF(O806<=P806,\"A TIEMPO\",\"FUERA DE TIEMPO\"))))","v":""},null,"A TIEMPO",6,0,null,null,{"$f":"IFERROR(VLOOKUP(F806,Hoja1!$A$50:$C$63,2),\"\")","v":5},{"$f":"IFERROR(VLOOKUP(F806,Hoja1!$A$50:$C$63,3),\"\")","v":5}]
[797,20259050013384,"2025-01-31","Persona natural","Virtual - Formulario PQRSDF","Solicitud de documentos o información","Solicitud de información hidrometeorológica",null,"Grupo de Servicio al Ciudadano","2025-02-06","Correo electrónico","2025-02-14",null,"",null,{"$f":"IFERROR(WORKDAY(N807,Y807,Hoja1!F799:F915),\"\")","v":""},{"$f":"+IF(N807=\"\",\"\",IF(O807=\"\",\"SIN RESPUESTA\",(IF(O807<=P807,\"A TIEMPO\",\"FUERA DE TIEMPO\"))))","v":""},null,"A TIEMPO",4,0,null,null,{"$f":"IFERROR(VLOOKUP(F807,Hoja1!$A$50:$C$63,2),\"\")","v":5},{"$f":"IFERROR(VLOOKUP(F807,Hoja1!$A$50:$C$63,3),\"\")","v":5}]
[798,20259910013394,"2025-01-31","Persona jurídica","Correo certificado","Petición entre autoridades","Sistema de información ambiental",null,"Subdirección de Estudios Ambientales","2025-02-14","Correo electrónico","2025-02-14",null,"",null,{"$f":"IFERROR(WORKDAY(N808,Y808,Hoja1!F800:F916),\"\")","v":""},{"$f":"+IF(N808=\"\",\"\",IF(O808=\"\",\"SIN RESPUESTA\",(IF(O808<=P808,\"A TIEMPO\",\"FUERA DE TIEMPO\"))))","v":""},null,"A TIEMPO",10,0,null,null,{"$f":"IFERROR(VLOOKUP(F808,Hoja1!$A$50:$C$63,2),\"\")","v":10},{"$f":"IFERROR(VLOOKUP(F808,Hoja1!$A$50:$C$63,3),\"\")","v":10}]
[799,20259910013404,"2025-01-31","Persona jurídica","Virtual - Correo electrónico","Solicitud de documentos o información","Registros ambientales",null,"Subdirección de Estudios Ambientales","2025-02-11","Correo electrónico","2025-02-14",null,"",null,{"$f":"IFERROR(WORKDAY(N809,Y809,Hoja1!F801:F917),\"\")","v":""},{"$f":"+IF(N809=\"\",\"\",IF(O809=\"\",\"SIN RESPUESTA\",(IF(O809<=P809,\"A TIEMPO\",\"FUERA DE TIEMPO\"))))","v":""},null,"A TIEMPO",7,0,null,null,{"$f":"IFERROR(VLOOKUP(F809,Hoja1!$A$50:$C$63,2),\"\")","v":5},{"$f":"IFERROR(VLOOKUP(F809,Hoja1!$A$50:$C$63,3),\"\")","v":5}]
[800,20259910013424,"2025-01-31","Persona jurídica","Correo certificado","Petición entre autoridades","Bosques",null,"Subdirección de Ecosistemas e Información Ambiental","2025-02-07","Correo electrónico","2025-02-14",null,"",null,{"$f":"IFERROR(WORKDAY(N810,Y810,Hoja1!F802:F918),\"\")","v":""},{"$f":"+IF(N810=\"\",\"\",IF(O810=\"\",\"SIN RESPUESTA\",(IF(O810<=P810,\"A TIEMPO\",\"FUERA DE TIEMPO\"))))","v":""},null,"A TIEMPO",5,0,null,null,{"$f":"IFERROR(VLOOKUP(F810,Hoja1!$A$50:$C$63,2),\"\")","v":10},{"$f":"IFERROR(VLOOKUP(F810,Hoja1!$A$50:$C$63,3),\"\")","v":10}]
[801,20259050013434,"2025-01-31","Persona natural","Virtual - Formulario PQRSDF","Certificación laboral o pasantía","Administrativa",null,"Grupo de Administración y Desarrollo del Talento Humano","2025-02-13","Correo electrónico","2025-02-14",null,"",null,{"$f":"IFERROR(WORKDAY(N811,Y811,Hoja1!F803:F919),\"\")","v":""},{"$f":"+IF(N811=\"\",\"\",IF(O811=\"\",\"SIN RESPUESTA\",(IF(O811<=P811,\"A TIEMPO\",\"FUERA DE TIEMPO\"))))","v":""},null,"A TIEMPO",9,0,null,null,{"$f":"IFERROR(VLOOKUP(F811,Hoja1!$A$50:$C$63,2),\"\")","v":15},{"$f":"IFERROR(VLOOKUP(F811,Hoja1!$A$50:$C$63,3),\"\")","v":15}]
[802,20259910013454,"2025-01-31","Persona jurídica","Virtual - Correo electrónico","Certificación de tiempo, clima y eventos hidrológicos","Certificaciones del tiempo y clima",null,"Subdirección de Meteorología","2025-02-14","Correo electrónico","2025-03-14",null,"",null,{"$f":"IFERROR(WORKDAY(N812,Y812,Hoja1!F804:F920),\"\")","v":""},{"$f":"+IF(N812=\"\",\"\",IF(O812=\"\",\"SIN RESPUESTA\",(IF(O812<=P812,\"A TIEMPO\",\"FUERA DE TIEMPO\"))))","v":""},null,"A TIEMPO",10,0,null,null,{"$f":"IFERROR(VLOOKUP(F812,Hoja1!$A$50:$C$63,2),\"\")","v":15},{"$f":"IFERROR(VLOOKUP(F812,Hoja1!$A$50:$C$63,3),\"\")","v":15}]
[803,20259910013444,"2025-01-31","Persona jurídica","Virtual - Correo electrónico","Solicitud de documentos o información","Registros ambientales",null,"Subdirección de Estudios Ambientales","2025-02-18","Correo electrónico","2025-02-14",null,"",null,{"$f":"IFERROR(WORKDAY(N813,Y813,Hoja1!F805:F921),\"\")","v":""},{"$f":"+IF(N813=\"\",\"\",IF(O813=\"\",\"SIN RESPUESTA\",(IF(O813<=P813,\"A TIEMPO\",\"FUERA DE TIEMPO\"))))","v":""},null,{"$f":"+IF(C813=\"\",\"\",IF(J813=\"\",\"SIN RESPUESTA\",(IF(J813<=L813,\"A TIEMPO\",\"FUERA DE TIEMPO\"))))","v":"FUERA DE TIEMPO"},12,2,null,null,{"$f":"IFERROR(VLOOKUP(F813,Hoja1!$A$50:$C$63,2),\"\")","v":5},{"$f":"IFERROR(VLOOKUP(F813,Hoja1!$A$50:$C$63,3),\"\")","v":5}]
[804,20259910013464,"2025-01-31","Persona natural","Virtual - Correo electrónico","Solicitud de documentos o información","Bosques",null,"Subdirección de Ecosistemas e Información Ambiental","2025-02-05","Correo electrónico","2025-02-14",null,"",null,{"$f":"IFERROR(WORKDAY(N814,Y814,Hoja1!F806:F922),\"\")","v":""},{"$f":"+IF(N814=\"\",\"\",IF(O814=\"\",\"SIN RESPUESTA\",(IF(O814<=P814,\"A TIEMPO\",\"FUERA DE TIEMPO\"))))","v":""},null,"A TIEMPO",3,0,null,null,{"$f":"IFERROR(VLOOKUP(F814,Hoja1!$A$50:$C$63,2),\"\")","v":5},{"$f":"IFERROR(VLOOKUP(F814,Hoja1!$A$50:$C$63,3),\"\")","v":5}]
[805,20259910013564,"2025-01-31","Persona natural","Virtual - Correo electrónico","Certificación laboral o pasantía","Administrativa",null,"Grupo de Administración y Desarrollo del Talento Humano","2025-02-17","Correo electrónico","2025-02-14",null,"",null,{"$f":"IFERROR(WORKDAY(N815,Y815,Hoja1!F807:F923),\"\")","v":""},{"$f":"+IF(N815=\"\",\"\",IF(O815=\"\",\"SIN RESPUESTA\",(IF(O815<=P815,\"A TIEMPO\",\"FUERA DE TIEMPO\"))))","v":""},null,{"$f":"+IF(C815=\"\",\"\",IF(J815=\"\",\"SIN RESPUESTA\",(IF(J815<=L815,\"A TIEMPO\",\"FUERA DE TIEMPO\"))))","v":"FUERA DE TIEMPO"},11,1,null,null,{"$f":"IFERROR(VLOOKUP(F815,Hoja1!$A$50:$C$63,2),\"\")","v":15},{"$f":"IFERROR(VLOOKUP(F815,Hoja1!$A$50:$C$63,3),\"\")","v":15}]
[806,20259910013524,"2025-01-31","Persona natural","Virtual - Correo electrónico","Solicitud de documentos o información","Solicitud de información hidrometeorológica",null,"Grupo de Servicio al Ciudadano","2025-02-05","Correo electrónico","2025-02-14",null,"",null,{"$f":"IFERROR(WORKDAY(N816,Y816,Hoja1!F808:F924),\"\")","v":""},{"$f":"+IF(N816=\"\",\"\",IF(O816=\"\",\"SIN RESPUESTA\",(IF(O816<=P816,\"A TIEMPO\",\"FUERA DE TIEMPO\"))))","v":""},null,"A TIEMPO",3,0,null,null,{"$f":"IFERROR(VLOOKUP(F816,Hoja1!$A$50:$C$63,2),\"\")","v":5},{"$f":"IFERROR(VLOOKUP(F816,Hoja1!$A$50:$C$63,3),\"\")","v":5}]
[807,20259910013534,"2025-01-31","Persona natural","Virtual - Correo electrónico","Certificación de contrato","Administrativa",null,"Oficina Asesora Jurídica","2025-02-14","Correo electrónico","2025-02-14",null,"",null,{"$f":"IFERROR(WORKDAY(N817,Y817,Hoja1!F809:F925),\"\")","v":""},{"$f":"+IF(N817=\"\",\"\",IF(O817=\"\",\"SIN RESPUESTA\",(IF(O817<=P817,\"A TIEMPO\",\"FUERA DE TIEMPO\"))))","v":""},null,"A TIEMPO",10,0,null,null,{"$f":"IFERROR(VLOOKUP(F817,Hoja1!$A$50:$C$63,2),\"\")","v":15},{"$f":"IFERROR(VLOOKUP(F817,Hoja1!$A$50:$C$63,3),\"\")","v":15}]
[808,20259910013544,"2025-01-31","Persona natural","Virtual - Correo electrónico","Solicitud de documentos o información","Solicitud de información hidrometeorológica",null,"Grupo de Servicio al Ciudadano","2025-02-05","Correo electrónico","2025-02-14",null,"",null,{"$f":"IFERROR(WORKDAY(N818,Y818,Hoja1!F810:F926),\"\")","v":""},{"$f":"+IF(N818=\"\",\"\",IF(O818=\"\",\"SIN RESPUESTA\",(IF(O818<=P818,\"A TIEMPO\",\"FUERA DE TIEMPO\"))))","v":""},null,"A TIEMPO",3,0,null,null,{"$f":"IFERROR(VLOOKUP(F818,Hoja1!$A$50:$C$63,2),\"\")","v":5},{"$f":"IFERROR(VLOOKUP(F818,Hoja1!$A$50:$C$63,3),\"\")","v":5}]
[809,20259910013554,"2025-01-31","Persona jurídica","Virtual - Correo electrónico","Solicitud de documentos o información","Acreditación de laboratorios",null,"Subdirección de Estudios Ambientales","2025-02-14","Correo electrónico","2025-02-14",null,"",null,{"$f":"IFERROR(WORKDAY(N819,Y819,Hoja1!F811:F927),\"\")","v":""},{"$f":"+IF(N819=\"\",\"\",IF(O819=\"\",\"SIN RESPUESTA\",(IF(O819<=P819,\"A TIEMPO\",\"FUERA DE TIEMPO\"))))","v":""},null,"A TIEMPO",10,0,null,null,{"$f":"IFERROR(VLOOKUP(F819,Hoja1!$A$50:$C$63,2),\"\")","v":5},{"$f":"IFERROR(VLOOKUP(F819,Hoja1!$A$50:$C$63,3),\"\")","v":5}]
[810,20259050013614,"2025-01-31","Persona natural","Virtual - Formulario PQRSDF","Certificación de contrato","Administrativa",null,"Oficina Asesora Jurídica","2025-02-14","Correo electrónico","2025-02-14",null,"",null,{"$f":"IFERROR(WORKDAY(N820,Y820,Hoja1!F812:F928),\"\")","v":""},{"$f":"+IF(N820=\"\",\"\",IF(O820=\"\",\"SIN RESPUESTA\",(IF(O820<=P820,\"A TIEMPO\",\"FUERA DE TIEMPO\"))))","v":""},null,"A TIEMPO",10,0,null,null,{"$f":"IFERROR(VLOOKUP(F820,Hoja1!$A$50:$C$63,2),\"\")","v":15},{"$f":"IFERROR(VLOOKUP(F820,Hoja1!$A$50:$C$63,3),\"\")","v":15}]
[811,20259910013654,"2025-01-31","Persona jurídica","Virtual - Correo electrónico","Solicitud de documentos o información","Registros ambientales",null,"Subdirección de Estudios Ambientales","2025-02-03","Correo electrónico","2025-02-14",null,"",null,{"$f":"IFERROR(WORKDAY(N821,Y821,Hoja1!F813:F929),\"\")","v":""},{"$f":"+IF(N821=\"\",\"\",IF(O821=\"\",\"SIN RESPUESTA\",(IF(O821<=P821,\"A TIEMPO\",\"FUERA DE TIEMPO\"))))","v":""},null,"A TIEMPO",1,0,null,null,{"$f":"IFERROR(VLOOKUP(F821,Hoja1!$A$50:$C$63,2),\"\")","v":5},{"$f":"IFERROR(VLOOKUP(F821,Hoja1!$A$50:$C$63,3),\"\")","v":5}]
[812,20259910013684,"2025-01-31","Persona natural","Virtual - Correo electrónico","Solicitud de documentos o información","Sistema de información del recurso hídrico",null,"Subdirección de Hidrología","2025-02-07","Correo electrónico","2025-02-14",null,"",null,{"$f":"IFERROR(WORKDAY(N822,Y822,Hoja1!F814:F930),\"\")","v":""},{"$f":"+IF(N822=\"\",\"\",IF(O822=\"\",\"SIN RESPUESTA\",(IF(O822<=P822,\"A TIEMPO\",\"FUERA DE TIEMPO\"))))","v":""},null,"A TIEMPO",5,0,null,null,{"$f":"IFERROR(VLOOKUP(F822,Hoja1!$A$50:$C$63,2),\"\")","v":5},{"$f":"IFERROR(VLOOKUP(F822,Hoja1!$A$50:$C$63,3),\"\")","v":5}]
[813,20259910013714,"2025-01-31","Persona jurídica","Correo certificado","Petición entre autoridades","Registros ambientales",null,"Subdirección de Estudios Ambientales","2025-02-15","No aplica","2025-02-14",null,"",null,{"$f":"IFERROR(WORKDAY(N823,Y823,Hoja1!F815:F931),\"\")","v":""},{"$f":"+IF(N823=\"\",\"\",IF(O823=\"\",\"SIN RESPUESTA\",(IF(O823<=P823,\"A TIEMPO\",\"FUERA DE TIEMPO\"))))","v":""},null,{"$f":"+IF(C823=\"\",\"\",IF(J823=\"\",\"SIN RESPUESTA\",(IF(J823<=L823,\"A TIEMPO\",\"FUERA DE TIEMPO\"))))","v":"FUERA DE TIEMPO"},10,0,null,null,{"$f":"IFERROR(VLOOKUP(F823,Hoja1!$A$50:$C$63,2),\"\")","v":10},{"$f":"IFERROR(VLOOKUP(F823,Hoja1!$A$50:$C$63,3),\"\")","v":10}]
[814,20259050014044,"2025-02-03","Persona natural","Virtual - Formulario PQRSDF","Certificación laboral o pasantía","Administrativa",null,"Grupo de Administración y Desarrollo del Talento Humano","2025-02-14","Correo electrónico","2025-02-17",null,"",null,{"$f":"IFERROR(WORKDAY(N824,Y824,Hoja1!F816:F932),\"\")","v":""},{"$f":"+IF(N824=\"\",\"\",IF(O824=\"\",\"SIN RESPUESTA\",(IF(O824<=P824,\"A TIEMPO\",\"FUERA DE TIEMPO\"))))","v":""},null,"A TIEMPO",9,0,null,null,{"$f":"IFERROR(VLOOKUP(F824,Hoja1!$A$50:$C$63,2),\"\")","v":15},{"$f":"IFERROR(VLOOKUP(F824,Hoja1!$A$50:$C$63,3),\"\")","v":15}]
[815,20259910013834,"2025-01-31","Persona natural","Virtual - Correo electrónico","Certificación laboral o pasantía","Administrativa",null,"Grupo de Administración y Desarrollo del Talento Humano","2025-02-13","Correo electrónico","2025-02-14",null,"",null,{"$f":"IFERROR(WORKDAY(N825,Y825,Hoja1!F817:F933),\"\")","v":""},{"$f":"+IF(N825=\"\",\"\",IF(O825=\"\",\"SIN RESPUESTA\",(IF(O825<=P825,\"A TIEMPO\",\"FUERA DE TIEMPO\"))))","v":""},null,"A TIEMPO",9,0,null,null,{"$f":"IFERROR(VLOOKUP(F825,Hoja1!$A$50:$C$63,2),\"\")","v":15},{"$f":"IFERROR(VLOOKUP(F825,Hoja1!$A$50:$C$63,3),\"\")","v":15}]
[816,20259050013864,"2025-01-31","Persona natural","Virtual - Formulario PQRSDF","Certificación de tiempo, clima y eventos hidrológicos","Certificaciones del tiempo y clima",null,"Subdirección de Meteorología","2025-02-05","Correo electrónico","2025-03-14",null,"",null,{"$f":"IFERROR(WORKDAY(N826,Y826,Hoja1!F818:F934),\"\")","v":""},{"$f":"+IF(N826=\"\",\"\",IF(O826=\"\",\"SIN RESPUESTA\",(IF(O826<=P826,\"A TIEMPO\",\"FUERA DE TIEMPO\"))))","v":""},null,"A TIEMPO",3,0,null,null,{"$f":"IFERROR(VLOOKUP(F826,Hoja1!$A$50:$C$63,2),\"\")","v":15},{"$f":"IFERROR(VLOOKUP(F826,Hoja1!$A$50:$C$63,3),\"\")","v":15}]
[817,20259910013754,"2025-01-31","Persona jurídica","Virtual - Correo electrónico","Petición entre autoridades","Sistema de información del recurso hídrico",null,"Oficina Asesora Jurídica","2025-02-07","Correo electrónico","2025-02-14",null,"",null,{"$f":"IFERROR(WORKDAY(N827,Y827,Hoja1!F819:F935),\"\")","v":""},{"$f":"+IF(N827=\"\",\"\",IF(O827=\"\",\"SIN RESPUESTA\",(IF(O827<=P827,\"A TIEMPO\",\"FUERA DE TIEMPO\"))))","v":""},null,"A TIEMPO",5,0,null,null,{"$f":"IFERROR(VLOOKUP(F827,Hoja1!$A$50:$C$63,2),\"\")","v":10},{"$f":"IFERROR(VLOOKUP(F827,Hoja1!$A$50:$C$63,3),\"\")","v":10}]
[818,20259050013854,"2025-01-31","Persona jurídica","Virtual - Formulario PQRSDF","Solicitud de documentos o información","Registros ambientales",null,"Subdirección de Estudios Ambientales","2025-02-04","Correo electrónico","2025-02-14",null,"",null,{"$f":"IFERROR(WORKDAY(N828,Y828,Hoja1!F820:F936),\"\")","v":""},{"$f":"+IF(N828=\"\",\"\",IF(O828=\"\",\"SIN RESPUESTA\",(IF(O828<=P828,\"A TIEMPO\",\"FUERA DE TIEMPO\"))))","v":""},null,"A TIEMPO",2,0,null,null,{"$f":"IFERROR(VLOOKUP(F828,Hoja1!$A$50:$C$63,2),\"\")","v":5},{"$f":"IFERROR(VLOOKUP(F828,Hoja1!$A$50:$C$63,3),\"\")","v":5}]
[819,20259050013874,"2025-01-31","Persona natural","Virtual - Formulario PQRSDF","Solicitud de documentos o información","Solicitud de información hidrometeorológica",null,"Grupo de Servicio al Ciudadano","2025-02-05","Correo electrónico","2025-02-14",null,"",null,{"$f":"IFERROR(WORKDAY(N829,Y829,Hoja1!F821:F937),\"\")","v":""},{"$f":"+IF(N829=\"\",\"\",IF(O829=\"\",\"SIN RESPUESTA\",(IF(O829<=P829,\"A TIEMPO\",\"FUERA DE TIEMPO\"))))","v":""},null,"A TIEMPO",3,0,null,null,{"$f":"IFERROR(VLOOKUP(F829,Hoja1!$A$50:$C$63,2),\"\")","v":5},{"$f":"IFERROR(VLOOKUP(F829,Hoja1!$A$50:$C$63,3),\"\")","v":5}]
[820,20259050013884,"2025-02-01","Persona natural","Virtual - Formulario PQRSDF","Solicitud de documentos o información","Sistema de información ambiental",null,"Subdirección de Estudios Ambientales","2025-02-13","Correo electrónico","2025-02-14",null,"",null,{"$f":"IFERROR(WORKDAY(N830,Y830,Hoja1!F822:F938),\"\")","v":""},{"$f":"+IF(N830=\"\",\"\",IF(O830=\"\",\"SIN RESPUESTA\",(IF(O830<=P830,\"A TIEMPO\",\"FUERA DE TIEMPO\"))))","v":""},null,"A TIEMPO",8,0,null,null,{"$f":"IFERROR(VLOOKUP(F830,Hoja1!$A$50:$C$63,2),\"\")","v":5},{"$f":"IFERROR(VLOOKUP(F830,Hoja1!$A$50:$C$63,3),\"\")","v":5}]
[821,20259050014054,"2025-02-03","Persona natural","Virtual - Formulario PQRSDF","Solicitud de documentos o información","Administrativa",null,"Grupo de Administración y Desarrollo del Talento Humano","2025-02-13","Correo electrónico","2025-02-17",null,"",null,{"$f":"IFERROR(WORKDAY(N831,Y831,Hoja1!F823:F939),\"\")","v":""},{"$f":"+IF(N831=\"\",\"\",IF(O831=\"\",\"SIN RESPUESTA\",(IF(O831<=P831,\"A TIEMPO\",\"FUERA DE TIEMPO\"))))","v":""},null,"A TIEMPO",8,0,null,null,{"$f":"IFERROR(VLOOKUP(F831,Hoja1!$A$50:$C$63,2),\"\")","v":5},{"$f":"IFERROR(VLOOKUP(F831,Hoja1!$A$50:$C$63,3),\"\")","v":5}]
[822,20259910013734,"2025-01-31","Persona jurídica","Virtual - Correo electrónico","Petición entre entidades","Certificaciones hidrológicas",null,"Subdirección de Hidrología","2025-02-04","Correo electrónico","2025-02-14",null,"",null,{"$f":"IFERROR(WORKDAY(N832,Y832,Hoja1!F824:F940),\"\")","v":""},{"$f":"+IF(N832=\"\",\"\",IF(O832=\"\",\"SIN RESPUESTA\",(IF(O832<=P832,\"A TIEMPO\",\"FUERA DE TIEMPO\"))))","v":""},null,"A TIEMPO",2,0,null,null,{"$f":"IFERROR(VLOOKUP(F832,Hoja1!$A$50:$C$63,2),\"\")","v":10},{"$f":"IFERROR(VLOOKUP(F832,Hoja1!$A$50:$C$63,3),\"\")","v":10}]
[823,20259050014064,"2025-02-03","Persona jurídica","Virtual - Formulario PQRSDF","Solicitud de documentos o información","Pronósticos y alertas",null,"Subdirección de Estudios Ambientales","2025-02-14","Correo electrónico","2025-02-17",null,"",null,{"$f":"IFERROR(WORKDAY(N833,Y833,Hoja1!F825:F941),\"\")","v":""},{"$f":"+IF(N833=\"\",\"\",IF(O833=\"\",\"SIN RESPUESTA\",(IF(O833<=P833,\"A TIEMPO\",\"FUERA DE TIEMPO\"))))","v":""},null,"A TIEMPO",9,0,null,null,{"$f":"IFERROR(VLOOKUP(F833,Hoja1!$A$50:$C$63,2),\"\")","v":5},{"$f":"IFERROR(VLOOKUP(F833,Hoja1!$A$50:$C$63,3),\"\")","v":5}]
[824,20259910014084,"2025-02-03","Persona jurídica","Virtual - Correo electrónico","Solicitud de documentos o información","Sistema de información del recurso hídrico",null,"Subdirección de Hidrología","2025-02-07","Correo electrónico","2025-02-17",null,"",null,{"$f":"IFERROR(WORKDAY(N834,Y834,Hoja1!F826:F942),\"\")","v":""},{"$f":"+IF(N834=\"\",\"\",IF(O834=\"\",\"SIN RESPUESTA\",(IF(O834<=P834,\"A TIEMPO\",\"FUERA DE TIEMPO\"))))","v":""},null,"A TIEMPO",4,0,null,null,{"$f":"IFERROR(VLOOKUP(F834,Hoja1!$A$50:$C$63,2),\"\")","v":5},{"$f":"IFERROR(VLOOKUP(F834,Hoja1!$A$50:$C$63,3),\"\")","v":5}]
[825,20259050014094,"2025-02-03","Persona natural","Virtual - Formulario PQRSDF","Certificación de contrato","Administrativa",null,"Oficina Asesora Jurídica","2025-02-14","Correo electrónico","2025-02-17",null,"",null,{"$f":"IFERROR(WORKDAY(N835,Y835,Hoja1!F827:F943),\"\")","v":""},{"$f":"+IF(N835=\"\",\"\",IF(O835=\"\",\"SIN RESPUESTA\",(IF(O835<=P835,\"A TIEMPO\",\"FUERA DE TIEMPO\"))))","v":""},null,"A TIEMPO",9,0,null,null,{"$f":"IFERROR(VLOOKUP(F835,Hoja1!$A$50:$C$63,2),\"\")","v":15},{"$f":"IFERROR(VLOOKUP(F835,Hoja1!$A$50:$C$63,3),\"\")","v":15}]
[826,20259910014104,"2025-02-03","Persona jurídica","Virtual - Correo electrónico","Solicitud de documentos o información","Solicitud de información hidrometeorológica",null,"Grupo de Servicio al Ciudadano","2025-02-05","Correo electrónico","2025-02-17",null,"",null,{"$f":"IFERROR(WORKDAY(N836,Y836,Hoja1!F828:F944),\"\")","v":""},{"$f":"+IF(N836=\"\",\"\",IF(O836=\"\",\"SIN RESPUESTA\",(IF(O836<=P836,\"A TIEMPO\",\"FUERA DE TIEMPO\"))))","v":""},null,"A TIEMPO",2,0,null,null,{"$f":"IFERROR(VLOOKUP(F836,Hoja1!$A$50:$C$63,2),\"\")","v":5},{"$f":"IFERROR(VLOOKUP(F836,Hoja1!$A$50:$C$63,3),\"\")","v":5}]
[827,20259050014114,"2025-02-03","Persona natural","Virtual - Formulario PQRSDF","Solicitud de documentos o información","Solicitud de información hidrometeorológica",null,"Grupo de Servicio al Ciudadano","2025-02-11","Correo electrónico","2025-02-17",null,"",null,{"$f":"IFERROR(WORKDAY(N837,Y837,Hoja1!F829:F945),\"\")","v":""},{"$f":"+IF(N837=\"\",\"\",IF(O837=\"\",\"SIN RESPUESTA\",(IF(O837<=P837,\"A TIEMPO\",\"FUERA DE TIEMPO\"))))","v":""},null,"A TIEMPO",6,0,null,null,{"$f":"IFERROR(VLOOKUP(F837,Hoja1!$A$50:$C$63,2),\"\")","v":5},{"$f":"IFERROR(VLOOKUP(F837,Hoja1!$A$50:$C$63,3),\"\")","v":5}]
[828,20259910014144,"2025-02-03","Persona jurídica","Virtual - Correo electrónico","Certificación de tiempo, clima y eventos hidrológicos","Certificaciones del tiempo y clima",null,"Subdirección de Meteorología","2025-02-06","Correo electrónico","2025-03-17",null,"",null,{"$f":"IFERROR(WORKDAY(N838,Y838,Hoja1!F830:F946),\"\")","v":""},{"$f":"+IF(N838=\"\",\"\",IF(O838=\"\",\"SIN RESPUESTA\",(IF(O838<=P838,\"A TIEMPO\",\"FUERA DE TIEMPO\"))))","v":""},null,"A TIEMPO",3,0,null,null,{"$f":"IFERROR(VLOOKUP(F838,Hoja1!$A$50:$C$63,2),\"\")","v":15},{"$f":"IFERROR(VLOOKUP(F838,Hoja1!$A$50:$C$63,3),\"\")","v":15}]
[829,20259910014154,"2025-02-03","Persona natural","Virtual - Correo electrónico","Solicitud de documentos o información","Administrativa",null,"Grupo de Administración y Desarrollo del Talento Humano","2025-02-13","Correo electrónico","2025-02-17",null,"",null,{"$f":"IFERROR(WORKDAY(N839,Y839,Hoja1!F831:F947),\"\")","v":""},{"$f":"+IF(N839=\"\",\"\",IF(O839=\"\",\"SIN RESPUESTA\",(IF(O839<=P839,\"A TIEMPO\",\"FUERA DE TIEMPO\"))))","v":""},null,"A TIEMPO",8,0,null,null,{"$f":"IFERROR(VLOOKUP(F839,Hoja1!$A$50:$C$63,2),\"\")","v":5},{"$f":"IFERROR(VLOOKUP(F839,Hoja1!$A$50:$C$63,3),\"\")","v":5}]
[830,20259910014164,"2025-02-03","Persona jurídica","Virtual - Correo electrónico","Solicitud de documentos o información","Registros ambientales",null,"Subdirección de Estudios Ambientales","2025-02-14","Correo electrónico","2025-02-17",null,"",null,{"$f":"IFERROR(WORKDAY(N840,Y840,Hoja1!F832:F948),\"\")","v":""},{"$f":"+IF(N840=\"\",\"\",IF(O840=\"\",\"SIN RESPUESTA\",(IF(O840<=P840,\"A TIEMPO\",\"FUERA DE TIEMPO\"))))","v":""},null,"A TIEMPO",9,0,null,null,{"$f":"IFERROR(VLOOKUP(F840,Hoja1!$A$50:$C$63,2),\"\")","v":5},{"$f":"IFERROR(VLOOKUP(F840,Hoja1!$A$50:$C$63,3),\"\")","v":5}]
[831,20259910014174,"2025-02-03","Persona natural","Virtual - Correo electrónico","Solicitud de documentos o información","Sistema de información del recurso hídrico",null,"Grupo de Servicio al Ciudadano","2025-02-05","Correo electrónico","2025-02-17",null,"",null,{"$f":"IFERROR(WORKDAY(N841,Y841,Hoja1!F833:F949),\"\")","v":""},{"$f":"+IF(N841=\"\",\"\",IF(O841=\"\",\"SIN RESPUESTA\",(IF(O841<=P841,\"A TIEMPO\",\"FUERA DE TIEMPO\"))))","v":""},null,"A TIEMPO",2,0,null,null,{"$f":"IFERROR(VLOOKUP(F841,Hoja1!$A$50:$C$63,2),\"\")","v":5},{"$f":"IFERROR(VLOOKUP(F841,Hoja1!$A$50:$C$63,3),\"\")","v":5}]
[832,20259910014204,"2025-02-03","Persona jurídica","Virtual - Correo electrónico","Solicitud de documentos o información","Registros ambientales",null,"Subdirección de Estudios Ambientales","2025-02-14","Correo electrónico","2025-02-17",null,"",null,{"$f":"IFERROR(WORKDAY(N842,Y842,Hoja1!F834:F950),\"\")","v":""},{"$f":"+IF(N842=\"\",\"\",IF(O842=\"\",\"SIN RESPUESTA\",(IF(O842<=P842,\"A TIEMPO\",\"FUERA DE TIEMPO\"))))","v":""},null,"A TIEMPO",9,0,null,null,{"$f":"IFERROR(VLOOKUP(F842,Hoja1!$A$50:$C$63,2),\"\")","v":5},{"$f":"IFERROR(VLOOKUP(F842,Hoja1!$A$50:$C$63,3),\"\")","v":5}]
[833,20259910014324,"2025-02-03","Persona natural","Virtual - Correo electrónico","Certificación de contrato","Administrativa",null,"Oficina Asesora Jurídica","2025-02-06","Correo electrónico","2025-02-17",null,"",null,{"$f":"IFERROR(WORKDAY(N843,Y843,Hoja1!F835:F951),\"\")","v":""},{"$f":"+IF(N843=\"\",\"\",IF(O843=\"\",\"SIN RESPUESTA\",(IF(O843<=P843,\"A TIEMPO\",\"FUERA DE TIEMPO\"))))","v":""},null,"A TIEMPO",3,0,null,null,{"$f":"IFERROR(VLOOKUP(F843,Hoja1!$A$50:$C$63,2),\"\")","v":15},{"$f":"IFERROR(VLOOKUP(F843,Hoja1!$A$50:$C$63,3),\"\")","v":15}]
[834,20259910014224,"2025-02-03","Persona jurídica","Virtual - Correo electrónico","Solicitud de documentos o información","Registros ambientales",null,"Subdirección de Estudios Ambientales","2025-02-14","Correo electrónico","2025-02-17",null,"",null,{"$f":"IFERROR(WORKDAY(N844,Y844,Hoja1!F836:F952),\"\")","v":""},{"$f":"+IF(N844=\"\",\"\",IF(O844=\"\",\"SIN RESPUESTA\",(IF(O844<=P844,\"A TIEMPO\",\"FUERA DE TIEMPO\"))))","v":""},null,"A TIEMPO",9,0,null,null,{"$f":"IFERROR(VLOOKUP(F844,Hoja1!$A$50:$C$63,2),\"\")","v":5},{"$f":"IFERROR(VLOOKUP(F844,Hoja1!$A$50:$C$63,3),\"\")","v":5}]
[835,20259910014234,"2025-02-03","Persona jurídica","Virtual - Correo electrónico","Solicitud de documentos o información","Registros ambientales",null,"Subdirección de Estudios Ambientales","2025-02-10","Correo electrónico","2025-02-17",null,"",null,{"$f":"IFERROR(WORKDAY(N845,Y845,Hoja1!F837:F953),\"\")","v":""},{"$f":"+IF(N845=\"\",\"\",IF(O845=\"\",\"SIN RESPUESTA\",(IF(O845<=P845,\"A TIEMPO\",\"FUERA DE TIEMPO\"))))","v":""},null,"A TIEMPO",5,0,null,null,{"$f":"IFERROR(VLOOKUP(F845,Hoja1!$A$50:$C$63,2),\"\")","v":5},{"$f":"IFERROR(VLOOKUP(F845,Hoja1!$A$50:$C$63,3),\"\")","v":5}]
[836,20259910014254,"2025-02-03","Persona natural","Virtual - Correo electrónico","Solicitud de documentos o información","Sistema de información del recurso hídrico",null,"Subdirección de Hidrología","2025-02-05","Correo electrónico","2025-02-17",null,"",null,{"$f":"IFERROR(WORKDAY(N846,Y846,Hoja1!F838:F954),\"\")","v":""},{"$f":"+IF(N846=\"\",\"\",IF(O846=\"\",\"SIN RESPUESTA\",(IF(O846<=P846,\"A TIEMPO\",\"FUERA DE TIEMPO\"))))","v":""},null,"A TIEMPO",2,0,null,null,{"$f":"IFERROR(VLOOKUP(F846,Hoja1!$A$50:$C$63,2),\"\")","v":5},{"$f":"IFERROR(VLOOKUP(F846,Hoja1!$A$50:$C$63,3),\"\")","v":5}]
[837,20259910014264,"2025-02-03","Persona jurídica","Virtual - Correo electrónico","Solicitud de documentos o información","Registros ambientales",null,"Subdirección de Estudios Ambientales","2025-02-14","Correo electrónico","2025-02-17",null,"",null,{"$f":"IFERROR(WORKDAY(N847,Y847,Hoja1!F839:F955),\"\")","v":""},{"$f":"+IF(N847=\"\",\"\",IF(O847=\"\",\"SIN RESPUESTA\",(IF(O847<=P847,\"A TIEMPO\",\"FUERA DE TIEMPO\"))))","v":""},null,"A TIEMPO",9,0,null,null,{"$f":"IFERROR(VLOOKUP(F847,Hoja1!$A$50:$C$63,2),\"\")","v":5},{"$f":"IFERROR(VLOOKUP(F847,Hoja1!$A$50:$C$63,3),\"\")","v":5}]
[838,20259050014284,"2025-02-03","Persona natural","Virtual - Formulario PQRSDF","Solicitud de documentos o información","Sistema de información del recurso hídrico",null,"Subdirección de Hidrología","2025-02-07","Correo electrónico","2025-02-17",null,"",null,{"$f":"IFERROR(WORKDAY(N848,Y848,Hoja1!F840:F956),\"\")","v":""},{"$f":"+IF(N848=\"\",\"\",IF(O848=\"\",\"SIN RESPUESTA\",(IF(O848<=P848,\"A TIEMPO\",\"FUERA DE TIEMPO\"))))","v":""},null,"A TIEMPO",4,0,null,null,{"$f":"IFERROR(VLOOKUP(F848,Hoja1!$A$50:$C$63,2),\"\")","v":5},{"$f":"IFERROR(VLOOKUP(F848,Hoja1!$A$50:$C$63,3),\"\")","v":5}]
[{"$f":"IF(B849<>\"\",A848+1,\"\")","v":839},20259910014274,"2025-02-03","Persona jurídica","Virtual - Correo electrónico","Solicitud de documentos o información","Registros ambientales",null,"Subdirección de Estudios Ambientales","2025-02-17","Correo electrónico","2025-02-17",null,"",null,{"$f":"IFERROR(WORKDAY(N849,Y849,Hoja1!F841:F957),\"\")","v":""},{"$f":"+IF(N849=\"\",\"\",IF(O849=\"\",\"SIN RESPUESTA\",(IF(O849<=P849,\"A TIEMPO\",\"FUERA DE TIEMPO\"))))","v":""},null,"A TIEMPO",10,0,null,null,{"$f":"IFERROR(VLOOKUP(F849,Hoja1!$A$50:$C$63,2),\"\")","v":5},{"$f":"IFERROR(VLOOKUP(F849,Hoja1!$A$50:$C$63,3),\"\")","v":5}]
[840,20259910014294,"2025-02-03","Persona jurídica","Virtual - Correo electrónico","Petición entre autoridades","Sistema de información del recurso hídrico",null,"Subdirección de Hidrología","2025-02-14","Correo electrónico","2025-02-17",null,"",null,{"$f":"IFERROR(WORKDAY(N850,Y850,Hoja1!F842:F958),\"\")","v":""},{"$f":"+IF(N850=\"\",\"\",IF(O850=\"\",\"SIN RESPUESTA\",(IF(O850<=P850,\"A TIEMPO\",\"FUERA DE TIEMPO\"))))","v":""},null,"A TIEMPO",9,0,null,null,{"$f":"IFERROR(VLOOKUP(F850,Hoja1!$A$50:$C$63,2),\"\")","v":10},{"$f":"IFERROR(VLOOKUP(F850,Hoja1!$A$50:$C$63,3),\"\")","v":10}]
[841,20259910014304,"2025-02-03","Persona jurídica","Virtual - Correo electrónico","Solicitud de documentos o información","Administrativa",null,"Oficina Asesora de Planeación","2025-02-05","Correo electrónico","2025-02-17",null,"",null,{"$f":"IFERROR(WORKDAY(N851,Y851,Hoja1!F843:F959),\"\")","v":""},{"$f":"+IF(N851=\"\",\"\",IF(O851=\"\",\"SIN RESPUESTA\",(IF(O851<=P851,\"A TIEMPO\",\"FUERA DE TIEMPO\"))))","v":""},null,"A TIEMPO",2,0,null,null,{"$f":"IFERROR(VLOOKUP(F851,Hoja1!$A$50:$C$63,2),\"\")","v":5},{"$f":"IFERROR(VLOOKUP(F851,Hoja1!$A$50:$C$63,3),\"\")","v":5}]
[842,20259910014354,"2025-02-03","Persona jurídica","Virtual - Correo electrónico","Solicitud de documentos o información","Sistema de información ambiental",null,"Subdirección de Estudios Ambientales","2025-02-17","Correo electrónico","2025-02-17",null,"",null,{"$f":"IFERROR(WORKDAY(N852,Y852,Hoja1!F844:F960),\"\")","v":""},{"$f":"+IF(N852=\"\",\"\",IF(O852=\"\",\"SIN RESPUESTA\",(IF(O852<=P852,\"A TIEMPO\",\"FUERA DE TIEMPO\"))))","v":""},null,"A TIEMPO",10,0,null,null,{"$f":"IFERROR(VLOOKUP(F852,Hoja1!$A$50:$C$63,2),\"\")","v":5},{"$f":"IFERROR(VLOOKUP(F852,Hoja1!$A$50:$C$63,3),\"\")","v":5}]
[843,20259910014344,"2025-02-03","Persona jurídica","Virtual - Correo electrónico","Solicitud de documentos o información","Bosques",null,"Subdirección de Ecosistemas e Información Ambiental","2025-02-13","Correo electrónico","2025-02-17",null,"",null,{"$f":"IFERROR(WORKDAY(N853,Y853,Hoja1!F845:F961),\"\")","v":""},{"$f":"+IF(N853=\"\",\"\",IF(O853=\"\",\"SIN RESPUESTA\",(IF(O853<=P853,\"A TIEMPO\",\"FUERA DE TIEMPO\"))))","v":""},null,"A TIEMPO",8,0,null,null,{"$f":"IFERROR(VLOOKUP(F853,Hoja1!$A$50:$C$63,2),\"\")","v":5},{"$f":"IFERROR(VLOOKUP(F853,Hoja1!$A$50:$C$63,3),\"\")","v":5}]
[844,20259910014314,"2025-02-03","Persona jurídica","Virtual - Correo electrónico","Solicitud de documentos o información","Administrativa",null,"Grupo de Comunicaciones","2025-02-17","Correo electrónico","2025-02-17",null,"",null,{"$f":"IFERROR(WORKDAY(N854,Y854,Hoja1!F846:F962),\"\")","v":""},{"$f":"+IF(N854=\"\",\"\",IF(O854=\"\",\"SIN RESPUESTA\",(IF(O854<=P854,\"A TIEMPO\",\"FUERA DE TIEMPO\"))))","v":""},null,"A TIEMPO",10,0,null,null,{"$f":"IFERROR(VLOOKUP(F854,Hoja1!$A$50:$C$63,2),\"\")","v":5},{"$f":"IFERROR(VLOOKUP(F854,Hoja1!$A$50:$C$63,3),\"\")","v":5}]
[845,20259910014364,"2025-02-03","Persona jurídica","Virtual - Correo electrónico","Solicitud de documentos o información","Registros ambientales",null,"Subdirección de Estudios Ambientales","2025-02-17","Correo electrónico","2025-02-17",null,"",null,{"$f":"IFERROR(WORKDAY(N855,Y855,Hoja1!F847:F963),\"\")","v":""},{"$f":"+IF(N855=\"\",\"\",IF(O855=\"\",\"SIN RESPUESTA\",(IF(O855<=P855,\"A TIEMPO\",\"FUERA DE TIEMPO\"))))","v":""},null,"A TIEMPO",10,0,null,null,{"$f":"IFERROR(VLOOKUP(F855,Hoja1!$A$50:$C$63,2),\"\")","v":5},{"$f":"IFERROR(VLOOKUP(F855,Hoja1!$A$50:$C$63,3),\"\")","v":5}]
[846,20259910014374,"2025-02-03","Persona jurídica","Virtual - Correo electrónico","Solicitud de documentos o información","Registros ambientales",null,"Subdirección de Estudios Ambientales","2025-02-06","Correo electrónico","2025-02-17",null,"",null,{"$f":"IFERROR(WORKDAY(N856,Y856,Hoja1!F848:F964),\"\")","v":""},{"$f":"+IF(N856=\"\",\"\",IF(O856=\"\",\"SIN RESPUESTA\",(IF(O856<=P856,\"A TIEMPO\",\"FUERA DE TIEMPO\"))))","v":""},null,"A TIEMPO",3,0,null,null,{"$f":"IFERROR(VLOOKUP(F856,Hoja1!$A$50:$C$63,2),\"\")","v":5},{"$f":"IFERROR(VLOOKUP(F856,Hoja1!$A$50:$C$63,3),\"\")","v":5}]
[847,20259910014384,"2025-02-03","Persona natural","Virtual - Correo electrónico","Certificación laboral o pasantía","Administrativa",null,"Grupo de Administración y Desarrollo del Talento Humano","2025-02-14","Correo electrónico","2025-02-17",null,"",null,{"$f":"IFERROR(WORKDAY(N857,Y857,Hoja1!F849:F965),\"\")","v":""},{"$f":"+IF(N857=\"\",\"\",IF(O857=\"\",\"SIN RESPUESTA\",(IF(O857<=P857,\"A TIEMPO\",\"FUERA DE TIEMPO\"))))","v":""},null,"A TIEMPO",9,0,null,null,{"$f":"IFERROR(VLOOKUP(F857,Hoja1!$A$50:$C$63,2),\"\")","v":15},{"$f":"IFERROR(VLOOKUP(F857,Hoja1!$A$50:$C$63,3),\"\")","v":15}]
[848,20259910014574,"2025-02-03","Persona natural","Virtual - Correo electrónico","Certificación electrónica de tiempos laborados - CETIL","Administrativa",null,"Grupo de Administración y Desarrollo del Talento Humano","2025-02-21","Correo electrónico","2025-02-24",null,"",null,{"$f":"IFERROR(WORKDAY(N858,Y858,Hoja1!F850:F966),\"\")","v":""},{"$f":"+IF(N858=\"\",\"\",IF(O858=\"\",\"SIN RESPUESTA\",(IF(O858<=P858,\"A TIEMPO\",\"FUERA DE TIEMPO\"))))","v":""},null,"A TIEMPO",14,0,null,null,{"$f":"IFERROR(VLOOKUP(F858,Hoja1!$A$50:$C$63,2),\"\")","v":15},{"$f":"IFERROR(VLOOKUP(F858,Hoja1!$A$50:$C$63,3),\"\")","v":15}]
[849,20259910014474,"2025-02-03","Persona natural","Virtual - Correo electrónico","Certificación laboral o pasantía","Administrativa",null,"Grupo de Administración y Desarrollo del Talento Humano","2025-02-17","Correo electrónico","2025-02-17",null,"",null,{"$f":"IFERROR(WORKDAY(N859,Y859,Hoja1!F851:F967),\"\")","v":""},{"$f":"+IF(N859=\"\",\"\",IF(O859=\"\",\"SIN RESPUESTA\",(IF(O859<=P859,\"A TIEMPO\",\"FUERA DE TIEMPO\"))))","v":""},null,"A TIEMPO",10,0,null,null,{"$f":"IFERROR(VLOOKUP(F859,Hoja1!$A$50:$C$63,2),\"\")","v":15},{"$f":"IFERROR(VLOOKUP(F859,Hoja1!$A$50:$C$63,3),\"\")","v":15}]
[850,20259050014604,"2025-02-03","Persona natural","Virtual - Formulario PQRSDF","Certificación laboral o pasantía","Administrativa",null,"Grupo de Administración y Desarrollo del Talento Humano","2025-02-11","Correo electrónico","2025-02-17",null,"",null,{"$f":"IFERROR(WORKDAY(N860,Y860,Hoja1!F852:F968),\"\")","v":""},{"$f":"+IF(N860=\"\",\"\",IF(O860=\"\",\"SIN RESPUESTA\",(IF(O860<=P860,\"A TIEMPO\",\"FUERA DE TIEMPO\"))))","v":""},null,"A TIEMPO",6,0,null,null,{"$f":"IFERROR(VLOOKUP(F860,Hoja1!$A$50:$C$63,2),\"\")","v":15},{"$f":"IFERROR(VLOOKUP(F860,Hoja1!$A$50:$C$63,3),\"\")","v":15}]
[851,20259910014614,"2025-02-03","Persona natural","Virtual - Correo electrónico","Certificación laboral o pasantía","Administrativa",null,"Grupo de Administración y Desarrollo del Talento Humano","2025-02-14","Correo electrónico","2025-02-17",null,"",null,{"$f":"IFERROR(WORKDAY(N861,Y861,Hoja1!F853:F969),\"\")","v":""},{"$f":"+IF(N861=\"\",\"\",IF(O861=\"\",\"SIN RESPUESTA\",(IF(O861<=P861,\"A TIEMPO\",\"FUERA DE TIEMPO\"))))","v":""},null,"A TIEMPO",9,0,null,null,{"$f":"IFERROR(VLOOKUP(F861,Hoja1!$A$50:$C$63,2),\"\")","v":15},{"$f":"IFERROR(VLOOKUP(F861,Hoja1!$A$50:$C$63,3),\"\")","v":15}]
[852,20259910014624,"2025-02-03","Persona natural","Virtual - Correo electrónico","Certificación de contrato","Administrativa",null,"Oficina Asesora Jurídica","2025-02-14","Correo electrónico","2025-02-17",null,"",null,{"$f":"IFERROR(WORKDAY(N862,Y862,Hoja1!F854:F970),\"\")","v":""},{"$f":"+IF(N862=\"\",\"\",IF(O862=\"\",\"SIN RESPUESTA\",(IF(O862<=P862,\"A TIEMPO\",\"FUERA DE TIEMPO\"))))","v":""},null,"A TIEMPO",9,0,null,null,{"$f":"IFERROR(VLOOKUP(F862,Hoja1!$A$50:$C$63,2),\"\")","v":15},{"$f":"IFERROR(VLOOKUP(F862,Hoja1!$A$50:$C$63,3),\"\")","v":15}]
[853,20259910014414,"2025-02-03","Persona jurídica","Virtual - Correo electrónico","Solicitud de documentos o información","Sistema de información ambiental",null,"Subdirección de Ecosistemas e Información Ambiental","2025-02-11","Correo electrónico","2025-02-17",null,"",null,{"$f":"IFERROR(WORKDAY(N863,Y863,Hoja1!F855:F971),\"\")","v":""},{"$f":"+IF(N863=\"\",\"\",IF(O863=\"\",\"SIN RESPUESTA\",(IF(O863<=P863,\"A TIEMPO\",\"FUERA DE TIEMPO\"))))","v":""},null,"A TIEMPO",6,0,null,null,{"$f":"IFERROR(VLOOKUP(F863,Hoja1!$A$50:$C$63,2),\"\")","v":5},{"$f":"IFERROR(VLOOKUP(F863,Hoja1!$A$50:$C$63,3),\"\")","v":5}]
[854,20259910014434,"2025-02-03","Persona jurídica","Virtual - Correo electrónico","Solicitud de documentos o información","Registros ambientales",null,"Subdirección de Estudios Ambientales","2025-02-17","Correo electrónico","2025-02-17",null,"",null,{"$f":"IFERROR(WORKDAY(N864,Y864,Hoja1!F856:F972),\"\")","v":""},{"$f":"+IF(N864=\"\",\"\",IF(O864=\"\",\"SIN RESPUESTA\",(IF(O864<=P864,\"A TIEMPO\",\"FUERA DE TIEMPO\"))))","v":""},null,"A TIEMPO",10,0,null,null,{"$f":"IFERROR(VLOOKUP(F864,Hoja1!$A$50:$C$63,2),\"\")","v":5},{"$f":"IFERROR(VLOOKUP(F864,Hoja1!$A$50:$C$63,3),\"\")","v":5}]
[855,20259910014444,"2025-02-03","Persona jurídica","Virtual - Correo electrónico","Solicitud de documentos o información","Sistema de información del recurso hídrico",null,"Subdirección de Hidrología","2025-02-14","Correo electrónico","2025-02-17",null,"",null,{"$f":"IFERROR(WORKDAY(N865,Y865,Hoja1!F857:F973),\"\")","v":""},{"$f":"+IF(N865=\"\",\"\",IF(O865=\"\",\"SIN RESPUESTA\",(IF(O865<=P865,\"A TIEMPO\",\"FUERA DE TIEMPO\"))))","v":""},null,"A TIEMPO",9,0,null,null,{"$f":"IFERROR(VLOOKUP(F865,Hoja1!$A$50:$C$63,2),\"\")","v":5},{"$f":"IFERROR(VLOOKUP(F865,Hoja1!$A$50:$C$63,3),\"\")","v":5}]
[856,20259050014464,"2025-02-03","Persona jurídica","Virtual - Formulario PQRSDF","Solicitud de documentos o información","Sedimentos",null,"Subdirección de Estudios Ambientales","2025-02-17","Correo electrónico","2025-02-17",null,"",null,{"$f":"IFERROR(WORKDAY(N866,Y866,Hoja1!F858:F974),\"\")","v":""},{"$f":"+IF(N866=\"\",\"\",IF(O866=\"\",\"SIN RESPUESTA\",(IF(O866<=P866,\"A TIEMPO\",\"FUERA DE TIEMPO\"))))","v":""},null,"A TIEMPO",10,0,null,null,{"$f":"IFERROR(VLOOKUP(F866,Hoja1!$A$50:$C$63,2),\"\")","v":5},{"$f":"IFERROR(VLOOKUP(F866,Hoja1!$A$50:$C$63,3),\"\")","v":5}]
[857,20259910014514,"2025-02-03","Persona jurídica","Virtual - Correo electrónico","Petición entre autoridades","Sistema de información ambiental",null,"Subdirección de Estudios Ambientales","2025-02-10","Correo electrónico","2025-02-17",null,"",null,{"$f":"IFERROR(WORKDAY(N867,Y867,Hoja1!F859:F975),\"\")","v":""},{"$f":"+IF(N867=\"\",\"\",IF(O867=\"\",\"SIN RESPUESTA\",(IF(O867<=P867,\"A TIEMPO\",\"FUERA DE TIEMPO\"))))","v":""},null,"A TIEMPO",5,0,null,null,{"$f":"IFERROR(VLOOKUP(F867,Hoja1!$A$50:$C$63,2),\"\")","v":10},{"$f":"IFERROR(VLOOKUP(F867,Hoja1!$A$50:$C$63,3),\"\")","v":10}]
[858,20259910014534,"2025-02-03","Persona jurídica","Virtual - Correo electrónico","Solicitud de documentos o información","Cambio climático",null,"Grupo de Comunicaciones","2025-02-17","Correo electrónico","2025-02-17",null,"",null,{"$f":"IFERROR(WORKDAY(N868,Y868,Hoja1!F860:F976),\"\")","v":""},{"$f":"+IF(N868=\"\",\"\",IF(O868=\"\",\"SIN RESPUESTA\",(IF(O868<=P868,\"A TIEMPO\",\"FUERA DE TIEMPO\"))))","v":""},null,"A TIEMPO",10,0,null,null,{"$f":"IFERROR(VLOOKUP(F868,Hoja1!$A$50:$C$63,2),\"\")","v":5},{"$f":"IFERROR(VLOOKUP(F868,Hoja1!$A$50:$C$63,3),\"\")","v":5}]
[859,20259910014544,"2025-02-03","Persona jurídica","Virtual - Correo electrónico","Solicitud de documentos o información","Registros ambientales",null,"Subdirección de Estudios Ambientales","2025-02-17","Correo electrónico","2025-02-17",null,"",null,{"$f":"IFERROR(WORKDAY(N869,Y869,Hoja1!F861:F977),\"\")","v":""},{"$f":"+IF(N869=\"\",\"\",IF(O869=\"\",\"SIN RESPUESTA\",(IF(O869<=P869,\"A TIEMPO\",\"FUERA DE TIEMPO\"))))","v":""},null,"A TIEMPO",10,0,null,null,{"$f":"IFERROR(VLOOKUP(F869,Hoja1!$A$50:$C$63,2),\"\")","v":5},{"$f":"IFERROR(VLOOKUP(F869,Hoja1!$A$50:$C$63,3),\"\")","v":5}]
[860,20259910014554,"2025-02-03","Persona jurídica","Virtual - Correo electrónico","Solicitud de documentos o información","Solicitud de información hidrometeorológica",null,"Grupo de Servicio al Ciudadano","2025-02-11","Correo electrónico","2025-02-17",null,"",null,{"$f":"IFERROR(WORKDAY(N870,Y870,Hoja1!F862:F978),\"\")","v":""},{"$f":"+IF(N870=\"\",\"\",IF(O870=\"\",\"SIN RESPUESTA\",(IF(O870<=P870,\"A TIEMPO\",\"FUERA DE TIEMPO\"))))","v":""},null,"A TIEMPO",6,0,null,null,{"$f":"IFERROR(VLOOKUP(F870,Hoja1!$A$50:$C$63,2),\"\")","v":5},{"$f":"IFERROR(VLOOKUP(F870,Hoja1!$A$50:$C$63,3),\"\")","v":5}]
[861,20259910014564,"2025-02-03","Persona natural","Virtual - Correo electrónico","Solicitud de documentos o información","Informes ambientales",null,"Subdirección de Estudios Ambientales","2025-02-13","Correo electrónico","2025-02-17",null,"",null,{"$f":"IFERROR(WORKDAY(N871,Y871,Hoja1!F863:F979),\"\")","v":""},{"$f":"+IF(N871=\"\",\"\",IF(O871=\"\",\"SIN RESPUESTA\",(IF(O871<=P871,\"A TIEMPO\",\"FUERA DE TIEMPO\"))))","v":""},null,"A TIEMPO",8,0,null,null,{"$f":"IFERROR(VLOOKUP(F871,Hoja1!$A$50:$C$63,2),\"\")","v":5},{"$f":"IFERROR(VLOOKUP(F871,Hoja1!$A$50:$C$63,3),\"\")","v":5}]
[862,20259910014594,"2025-02-03","Persona jurídica","Virtual - Correo electrónico","Solicitud de documentos o información","Registros ambientales",null,"Subdirección de Estudios Ambientales","2025-02-10","Correo electrónico","2025-02-17",null,"",null,{"$f":"IFERROR(WORKDAY(N872,Y872,Hoja1!F864:F980),\"\")","v":""},{"$f":"+IF(N872=\"\",\"\",IF(O872=\"\",\"SIN RESPUESTA\",(IF(O872<=P872,\"A TIEMPO\",\"FUERA DE TIEMPO\"))))","v":""},null,"A TIEMPO",5,0,null,null,{"$f":"IFERROR(VLOOKUP(F872,Hoja1!$A$50:$C$63,2),\"\")","v":5},{"$f":"IFERROR(VLOOKUP(F872,Hoja1!$A$50:$C$63,3),\"\")","v":5}]
[863,20259910014634,"2025-02-03","Persona natural","Virtual - Correo electrónico","Solicitud de documentos o información","Laboratorio de calidad ambiental",null,"Subdirección de Hidrología","2025-02-17","Correo electrónico","2025-02-17",null,"",null,{"$f":"IFERROR(WORKDAY(N873,Y873,Hoja1!F865:F981),\"\")","v":""},{"$f":"+IF(N873=\"\",\"\",IF(O873=\"\",\"SIN RESPUESTA\",(IF(O873<=P873,\"A TIEMPO\",\"FUERA DE TIEMPO\"))))","v":""},null,"A TIEMPO",10,0,null,null,{"$f":"IFERROR(VLOOKUP(F873,Hoja1!$A$50:$C$63,2),\"\")","v":5},{"$f":"IFERROR(VLOOKUP(F873,Hoja1!$A$50:$C$63,3),\"\")","v":5}]
[864,20259910014644,"2025-02-03","Persona natural","Virtual - Correo electrónico","Certificación laboral o pasantía","Administrativa",null,"Grupo de Administración y Desarrollo del Talento Humano","2025-02-14","Correo electrónico","2025-02-17",null,"",null,{"$f":"IFERROR(WORKDAY(N874,Y874,Hoja1!F866:F982),\"\")","v":""},{"$f":"+IF(N874=\"\",\"\",IF(O874=\"\",\"SIN RESPUESTA\",(IF(O874<=P874,\"A TIEMPO\",\"FUERA DE TIEMPO\"))))","v":""},null,"A TIEMPO",9,0,null,null,{"$f":"IFERROR(VLOOKUP(F874,Hoja1!$A$50:$C$63,2),\"\")","v":15},{"$f":"IFERROR(VLOOKUP(F874,Hoja1!$A$50:$C$63,3),\"\")","v":15}]
[865,20259910014654,"2025-02-03","Persona natural","Virtual - Correo electrónico","Certificación laboral o pasantía","Administrativa",null,"Grupo de Administración y Desarrollo del Talento Humano","2025-02-13","Correo electrónico","2025-02-17",null,"",null,{"$f":"IFERROR(WORKDAY(N875,Y875,Hoja1!F867:F983),\"\")","v":""},{"$f":"+IF(N875=\"\",\"\",IF(O875=\"\",\"SIN RESPUESTA\",(IF(O875<=P875,\"A TIEMPO\",\"FUERA DE TIEMPO\"))))","v":""},null,"A TIEMPO",8,0,null,null,{"$f":"IFERROR(VLOOKUP(F875,Hoja1!$A$50:$C$63,2),\"\")","v":15},{"$f":"IFERROR(VLOOKUP(F875,Hoja1!$A$50:$C$63,3),\"\")","v":15}]
[866,20259910014664,"2025-02-03","Persona natural","Virtual - Correo electrónico","Certificación laboral o pasantía","Administrativa",null,"Grupo de Administración y Desarrollo del Talento Humano","2025-02-18","Correo electrónico","2025-02-17",null,"",null,{"$f":"IFERROR(WORKDAY(N876,Y876,Hoja1!F868:F984),\"\")","v":""},{"$f":"+IF(N876=\"\",\"\",IF(O876=\"\",\"SIN RESPUESTA\",(IF(O876<=P876,\"A TIEMPO\",\"FUERA DE TIEMPO\"))))","v":""},null,{"$f":"+IF(C876=\"\",\"\",IF(J876=\"\",\"SIN RESPUESTA\",(IF(J876<=L876,\"A TIEMPO\",\"FUERA DE TIEMPO\"))))","v":"FUERA DE TIEMPO"},11,1,null,null,{"$f":"IFERROR(VLOOKUP(F876,Hoja1!$A$50:$C$63,2),\"\")","v":15},{"$f":"IFERROR(VLOOKUP(F876,Hoja1!$A$50:$C$63,3),\"\")","v":15}]
[867,20259910014694,"2025-02-03","Persona natural","Virtual - Correo electrónico","Certificación laboral o pasantía","Administrativa",null,"Grupo de Administración y Desarrollo del Talento Humano","2025-02-14","Correo electrónico","2025-02-17",null,"",null,{"$f":"IFERROR(WORKDAY(N877,Y877,Hoja1!F869:F985),\"\")","v":""},{"$f":"+IF(N877=\"\",\"\",IF(O877=\"\",\"SIN RESPUESTA\",(IF(O877<=P877,\"A TIEMPO\",\"FUERA DE TIEMPO\"))))","v":""},null,"A TIEMPO",9,0,null,null,{"$f":"IFERROR(VLOOKUP(F877,Hoja1!$A$50:$C$63,2),\"\")","v":15},{"$f":"IFERROR(VLOOKUP(F877,Hoja1!$A$50:$C$63,3),\"\")","v":15}]
[868,20259910014752,"2025-02-03","Persona jurídica","Virtual - Correo electrónico","Petición de interés general o particular","Administrativa",null,"Grupo de Administración y Desarrollo del Talento Humano","2025-02-04","No aplica","2025-02-24",null,"",null,{"$f":"IFERROR(WORKDAY(N878,Y878,Hoja1!F870:F986),\"\")","v":""},{"$f":"+IF(N878=\"\",\"\",IF(O878=\"\",\"SIN RESPUESTA\",(IF(O878<=P878,\"A TIEMPO\",\"FUERA DE TIEMPO\"))))","v":""},null,"A TIEMPO",1,0,null,null,{"$f":"IFERROR(VLOOKUP(F878,Hoja1!$A$50:$C$63,2),\"\")","v":15},{"$f":"IFERROR(VLOOKUP(F878,Hoja1!$A$50:$C$63,3),\"\")","v":15}]
[869,20259910014714,"2025-02-03","Persona jurídica","Virtual - Correo electrónico","Petición entre autoridades","Solicitud de información hidrometeorológica",null,"Subdirección de Meteorología","2025-02-07","Correo electrónico","2025-02-17",null,"",null,{"$f":"IFERROR(WORKDAY(N879,Y879,Hoja1!F871:F987),\"\")","v":""},{"$f":"+IF(N879=\"\",\"\",IF(O879=\"\",\"SIN RESPUESTA\",(IF(O879<=P879,\"A TIEMPO\",\"FUERA DE TIEMPO\"))))","v":""},null,"A TIEMPO",4,0,null,null,{"$f":"IFERROR(VLOOKUP(F879,Hoja1!$A$50:$C$63,2),\"\")","v":10},{"$f":"IFERROR(VLOOKUP(F879,Hoja1!$A$50:$C$63,3),\"\")","v":10}]
[870,20259910014904,"2025-02-03","Persona jurídica","Virtual - Correo electrónico","Petición entre autoridades","Bosques",null,"Subdirección de Ecosistemas e Información Ambiental","2025-02-04","Correo electrónico","2025-02-17",null,"",null,{"$f":"IFERROR(WORKDAY(N880,Y880,Hoja1!F872:F988),\"\")","v":""},{"$f":"+IF(N880=\"\",\"\",IF(O880=\"\",\"SIN RESPUESTA\",(IF(O880<=P880,\"A TIEMPO\",\"FUERA DE TIEMPO\"))))","v":""},null,"A TIEMPO",1,0,null,null,{"$f":"IFERROR(VLOOKUP(F880,Hoja1!$A$50:$C$63,2),\"\")","v":10},{"$f":"IFERROR(VLOOKUP(F880,Hoja1!$A$50:$C$63,3),\"\")","v":10}]
[871,20259910014954,"2025-02-03","Persona jurídica","Virtual - Correo electrónico","Solicitud de documentos o información","Solicitud de información hidrometeorológica",null,"Subdirección de Hidrología","2025-02-11","Correo electrónico","2025-02-17",null,"",null,{"$f":"IFERROR(WORKDAY(N881,Y881,Hoja1!F873:F989),\"\")","v":""},{"$f":"+IF(N881=\"\",\"\",IF(O881=\"\",\"SIN RESPUESTA\",(IF(O881<=P881,\"A TIEMPO\",\"FUERA DE TIEMPO\"))))","v":""},null,"A TIEMPO",6,0,null,null,{"$f":"IFERROR(VLOOKUP(F881,Hoja1!$A$50:$C$63,2),\"\")","v":5},{"$f":"IFERROR(VLOOKUP(F881,Hoja1!$A$50:$C$63,3),\"\")","v":5}]
[872,20259910015014,"2025-02-03","Persona natural","Virtual - Correo electrónico","Certificación de contrato","Administrativa",null,"Oficina Asesora Jurídica","2025-02-17","Correo electrónico","2025-02-17",null,"",null,{"$f":"IFERROR(WORKDAY(N882,Y882,Hoja1!F874:F990),\"\")","v":""},{"$f":"+IF(N882=\"\",\"\",IF(O882=\"\",\"SIN RESPUESTA\",(IF(O882<=P882,\"A TIEMPO\",\"FUERA DE TIEMPO\"))))","v":""},null,"A TIEMPO",10,0,null,null,{"$f":"IFERROR(VLOOKUP(F882,Hoja1!$A$50:$C$63,2),\"\")","v":15},{"$f":"IFERROR(VLOOKUP(F882,Hoja1!$A$50:$C$63,3),\"\")","v":15}]
[873,20259910014964,"2025-02-03","Persona jurídica","Virtual - Correo electrónico","Solicitud de documentos o información","Solicitud de información hidrometeorológica",null,"Grupo de Servicio al Ciudadano","2025-02-11","Correo electrónico","2025-02-17",null,"",null,{"$f":"IFERROR(WORKDAY(N883,Y883,Hoja1!F875:F991),\"\")","v":""},{"$f":"+IF(N883=\"\",\"\",IF(O883=\"\",\"SIN RESPUESTA\",(IF(O883<=P883,\"A TIEMPO\",\"FUERA DE TIEMPO\"))))","v":""},null,"A TIEMPO",6,0,null,null,{"$f":"IFERROR(VLOOKUP(F883,Hoja1!$A$50:$C$63,2),\"\")","v":5},{"$f":"IFERROR(VLOOKUP(F883,Hoja1!$A$50:$C$63,3),\"\")","v":5}]
[874,20259910015004,"2025-02-03","Persona jurídica","Virtual - Correo electrónico","Solicitud de documentos o información","Registros ambientales",null,"Subdirección de Estudios Ambientales","2025-02-10","Correo electrónico","2025-02-17",null,"",null,{"$f":"IFERROR(WORKDAY(N884,Y884,Hoja1!F876:F992),\"\")","v":""},{"$f":"+IF(N884=\"\",\"\",IF(O884=\"\",\"SIN RESPUESTA\",(IF(O884<=P884,\"A TIEMPO\",\"FUERA DE TIEMPO\"))))","v":""},null,"A TIEMPO",5,0,null,null,{"$f":"IFERROR(VLOOKUP(F884,Hoja1!$A$50:$C$63,2),\"\")","v":5},{"$f":"IFERROR(VLOOKUP(F884,Hoja1!$A$50:$C$63,3),\"\")","v":5}]
[875,20259050015024,"2025-02-03","Persona natural","Virtual - Formulario PQRSDF","Solicitud de documentos o información","Sistema de información del recurso hídrico",null,"Subdirección de Hidrología","2025-02-11","Correo electrónico","2025-02-17",null,"",null,{"$f":"IFERROR(WORKDAY(N885,Y885,Hoja1!F877:F993),\"\")","v":""},{"$f":"+IF(N885=\"\",\"\",IF(O885=\"\",\"SIN RESPUESTA\",(IF(O885<=P885,\"A TIEMPO\",\"FUERA DE TIEMPO\"))))","v":""},null,"A TIEMPO",6,0,null,null,{"$f":"IFERROR(VLOOKUP(F885,Hoja1!$A$50:$C$63,2),\"\")","v":5},{"$f":"IFERROR(VLOOKUP(F885,Hoja1!$A$50:$C$63,3),\"\")","v":5}]
[876,20259050015034,"2025-02-03","Persona natural","Virtual - Formulario PQRSDF","Solicitud de documentos o información","Solicitud de información hidrometeorológica",null,"Grupo de Servicio al Ciudadano","2025-02-14","Correo electrónico","2025-02-17",null,"",null,{"$f":"IFERROR(WORKDAY(N886,Y886,Hoja1!F878:F994),\"\")","v":""},{"$f":"+IF(N886=\"\",\"\",IF(O886=\"\",\"SIN RESPUESTA\",(IF(O886<=P886,\"A TIEMPO\",\"FUERA DE TIEMPO\"))))","v":""},null,"A TIEMPO",9,0,null,null,{"$f":"IFERROR(VLOOKUP(F886,Hoja1!$A$50:$C$63,2),\"\")","v":5},{"$f":"IFERROR(VLOOKUP(F886,Hoja1!$A$50:$C$63,3),\"\")","v":5}]
[877,20259050015064,"2025-02-04","Persona natural","Virtual - Formulario PQRSDF","Solicitud de documentos o información","Bosques",null,"Subdirección de Ecosistemas e Información Ambiental","2025-02-18","Correo electrónico","2025-02-18",null,"",null,{"$f":"IFERROR(WORKDAY(N887,Y887,Hoja1!F879:F995),\"\")","v":""},{"$f":"+IF(N887=\"\",\"\",IF(O887=\"\",\"SIN RESPUESTA\",(IF(O887<=P887,\"A TIEMPO\",\"FUERA DE TIEMPO\"))))","v":""},null,"A TIEMPO",10,0,null,null,{"$f":"IFERROR(VLOOKUP(F887,Hoja1!$A$50:$C$63,2),\"\")","v":5},{"$f":"IFERROR(VLOOKUP(F887,Hoja1!$A$50:$C$63,3),\"\")","v":5}]
[878,20259910015124,"2025-02-04","Persona natural","Virtual - Correo electrónico","Solicitud de documentos o información","Sistema de información del recurso hídrico",null,"Subdirección de Hidrología","2025-02-11","Correo electrónico","2025-02-18",null,"",null,{"$f":"IFERROR(WORKDAY(N888,Y888,Hoja1!F880:F996),\"\")","v":""},{"$f":"+IF(N888=\"\",\"\",IF(O888=\"\",\"SIN RESPUESTA\",(IF(O888<=P888,\"A TIEMPO\",\"FUERA DE TIEMPO\"))))","v":""},null,"A TIEMPO",5,0,null,null,{"$f":"IFERROR(VLOOKUP(F888,Hoja1!$A$50:$C$63,2),\"\")","v":5},{"$f":"IFERROR(VLOOKUP(F888,Hoja1!$A$50:$C$63,3),\"\")","v":5}]
[879,20259910015164,"2025-02-04","Persona jurídica","Virtual - Correo electrónico","Solicitud de documentos o información","Administrativa",null,"Grupo de Administración y Desarrollo del Talento Humano","2025-02-18","Correo electrónico","2025-02-18",null,"",null,{"$f":"IFERROR(WORKDAY(N889,Y889,Hoja1!F881:F997),\"\")","v":""},{"$f":"+IF(N889=\"\",\"\",IF(O889=\"\",\"SIN RESPUESTA\",(IF(O889<=P889,\"A TIEMPO\",\"FUERA DE TIEMPO\"))))","v":""},null,"A TIEMPO",10,0,null,null,{"$f":"IFERROR(VLOOKUP(F889,Hoja1!$A$50:$C$63,2),\"\")","v":5},{"$f":"IFERROR(VLOOKUP(F889,Hoja1!$A$50:$C$63,3),\"\")","v":5}]
[880,20259050015194,"2025-02-04","Persona natural","Virtual - Formulario PQRSDF","Certificación laboral o pasantía","Administrativa",null,"Grupo de Administración y Desarrollo del Talento Humano","2025-02-18","Correo electrónico","2025-02-18",null,"",null,{"$f":"IFERROR(WORKDAY(N890,Y890,Hoja1!F882:F998),\"\")","v":""},{"$f":"+IF(N890=\"\",\"\",IF(O890=\"\",\"SIN RESPUESTA\",(IF(O890<=P890,\"A TIEMPO\",\"FUERA DE TIEMPO\"))))","v":""},null,"A TIEMPO",10,0,null,null,{"$f":"IFERROR(VLOOKUP(F890,Hoja1!$A$50:$C$63,2),\"\")","v":15},{"$f":"IFERROR(VLOOKUP(F890,Hoja1!$A$50:$C$63,3),\"\")","v":15}]
[881,20259910015214,"2025-02-04","Persona jurídica","Virtual - Correo electrónico","Solicitud de documentos o información","Sistema de información ambiental",null,"Subdirección de Estudios Ambientales","2025-02-24","Correo electrónico","2025-02-18",null,"",null,{"$f":"IFERROR(WORKDAY(N891,Y891,Hoja1!F883:F999),\"\")","v":""},{"$f":"+IF(N891=\"\",\"\",IF(O891=\"\",\"SIN RESPUESTA\",(IF(O891<=P891,\"A TIEMPO\",\"FUERA DE TIEMPO\"))))","v":""},null,{"$f":"+IF(C891=\"\",\"\",IF(J891=\"\",\"SIN RESPUESTA\",(IF(J891<=L891,\"A TIEMPO\",\"FUERA DE TIEMPO\"))))","v":"FUERA DE TIEMPO"},14,4,null,null,{"$f":"IFERROR(VLOOKUP(F891,Hoja1!$A$50:$C$63,2),\"\")","v":5},{"$f":"IFERROR(VLOOKUP(F891,Hoja1!$A$50:$C$63,3),\"\")","v":5}]
[882,20259050015224,"2025-02-04","Persona natural","Virtual - Formulario PQRSDF","Certificación de contrato","Administrativa",null,"Oficina Asesora Jurídica","2025-02-18","Correo electrónico","2025-02-18",null,"",null,{"$f":"IFERROR(WORKDAY(N892,Y892,Hoja1!F884:F1000),\"\")","v":""},{"$f":"+IF(N892=\"\",\"\",IF(O892=\"\",\"SIN RESPUESTA\",(IF(O892<=P892,\"A TIEMPO\",\"FUERA DE TIEMPO\"))))","v":""},null,"A TIEMPO",10,0,null,null,{"$f":"IFERROR(VLOOKUP(F892,Hoja1!$A$50:$C$63,2),\"\")","v":15},{"$f":"IFERROR(VLOOKUP(F892,Hoja1!$A$50:$C$63,3),\"\")","v":15}]
[883,20259050015204,"2025-02-04","Persona jurídica","Virtual - Formulario PQRSDF","Solicitud de documentos o información","Sistema de información ambiental",null,"Subdirección de Estudios Ambientales","2025-02-20","Correo electrónico","2025-02-18",null,"",null,{"$f":"IFERROR(WORKDAY(N893,Y893,Hoja1!F885:F1001),\"\")","v":""},{"$f":"+IF(N893=\"\",\"\",IF(O893=\"\",\"SIN RESPUESTA\",(IF(O893<=P893,\"A TIEMPO\",\"FUERA DE TIEMPO\"))))","v":""},null,{"$f":"+IF(C893=\"\",\"\",IF(J893=\"\",\"SIN RESPUESTA\",(IF(J893<=L893,\"A TIEMPO\",\"FUERA DE TIEMPO\"))))","v":"FUERA DE TIEMPO"},12,2,null,null,{"$f":"IFERROR(VLOOKUP(F893,Hoja1!$A$50:$C$63,2),\"\")","v":5},{"$f":"IFERROR(VLOOKUP(F893,Hoja1!$A$50:$C$63,3),\"\")","v":5}]
[884,20259910015234,"2025-02-04","Persona natural","Virtual - Correo electrónico","Certificación laboral o pasantía","Administrativa",null,"Grupo de Administración y Desarrollo del Talento Humano","2025-02-14","Correo electrónico","2025-02-18",null,"",null,{"$f":"IFERROR(WORKDAY(N894,Y894,Hoja1!F886:F1002),\"\")","v":""},{"$f":"+IF(N894=\"\",\"\",IF(O894=\"\",\"SIN RESPUESTA\",(IF(O894<=P894,\"A TIEMPO\",\"FUERA DE TIEMPO\"))))","v":""},null,"A TIEMPO",8,0,null,null,{"$f":"IFERROR(VLOOKUP(F894,Hoja1!$A$50:$C$63,2),\"\")","v":15},{"$f":"IFERROR(VLOOKUP(F894,Hoja1!$A$50:$C$63,3),\"\")","v":15}]
[885,20259910015254,"2025-02-04","Persona natural","Virtual - Correo electrónico","Certificación laboral o pasantía","Administrativa",null,"Grupo de Administración y Desarrollo del Talento Humano","2025-02-14","Correo electrónico","2025-02-18",null,"",null,{"$f":"IFERROR(WORKDAY(N895,Y895,Hoja1!F887:F1003),\"\")","v":""},{"$f":"+IF(N895=\"\",\"\",IF(O895=\"\",\"SIN RESPUESTA\",(IF(O895<=P895,\"A TIEMPO\",\"FUERA DE TIEMPO\"))))","v":""},null,"A TIEMPO",8,0,null,null,{"$f":"IFERROR(VLOOKUP(F895,Hoja1!$A$50:$C$63,2),\"\")","v":15},{"$f":"IFERROR(VLOOKUP(F895,Hoja1!$A$50:$C$63,3),\"\")","v":15}]
[886,20259050015174,"2025-02-04","Persona natural","Virtual - Formulario PQRSDF","Certificación de ingresos y retenciones","Administrativa",null,"Grupo de Tesorería","2025-02-05","Correo electrónico","2025-02-18",null,"",null,{"$f":"IFERROR(WORKDAY(N896,Y896,Hoja1!F888:F1004),\"\")","v":""},{"$f":"+IF(N896=\"\",\"\",IF(O896=\"\",\"SIN RESPUESTA\",(IF(O896<=P896,\"A TIEMPO\",\"FUERA DE TIEMPO\"))))","v":""},null,"A TIEMPO",1,0,null,null,{"$f":"IFERROR(VLOOKUP(F896,Hoja1!$A$50:$C$63,2),\"\")","v":15},{"$f":"IFERROR(VLOOKUP(F896,Hoja1!$A$50:$C$63,3),\"\")","v":15}]
[887,20259910015314,"2025-02-04","Persona jurídica","Virtual - Correo electrónico","Solicitud de documentos o información","Registros ambientales",null,"Subdirección de Estudios Ambientales","2025-02-06","Correo electrónico","2025-02-18",null,"",null,{"$f":"IFERROR(WORKDAY(N897,Y897,Hoja1!F889:F1005),\"\")","v":""},{"$f":"+IF(N897=\"\",\"\",IF(O897=\"\",\"SIN RESPUESTA\",(IF(O897<=P897,\"A TIEMPO\",\"FUERA DE TIEMPO\"))))","v":""},null,"A TIEMPO",2,0,null,null,{"$f":"IFERROR(VLOOKUP(F897,Hoja1!$A$50:$C$63,2),\"\")","v":5},{"$f":"IFERROR(VLOOKUP(F897,Hoja1!$A$50:$C$63,3),\"\")","v":5}]
[888,20259910015324,"2025-02-04","Persona jurídica","Virtual - Correo electrónico","Solicitud de documentos o información","Registros ambientales",null,"Subdirección de Estudios Ambientales","2025-02-06","Correo electrónico","2025-02-18",null,"",null,{"$f":"IFERROR(WORKDAY(N898,Y898,Hoja1!F890:F1006),\"\")","v":""},{"$f":"+IF(N898=\"\",\"\",IF(O898=\"\",\"SIN RESPUESTA\",(IF(O898<=P898,\"A TIEMPO\",\"FUERA DE TIEMPO\"))))","v":""},null,"A TIEMPO",2,0,null,null,{"$f":"IFERROR(VLOOKUP(F898,Hoja1!$A$50:$C$63,2),\"\")","v":5},{"$f":"IFERROR(VLOOKUP(F898,Hoja1!$A$50:$C$63,3),\"\")","v":5}]
[889,20259910015334,"2025-02-04","Persona natural","Virtual - Correo electrónico","Certificación laboral o pasantía","Administrativa",null,"Grupo de Administración y Desarrollo del Talento Humano","2025-02-14","Correo electrónico","2025-02-18",null,"",null,{"$f":"IFERROR(WORKDAY(N899,Y899,Hoja1!F891:F1007),\"\")","v":""},{"$f":"+IF(N899=\"\",\"\",IF(O899=\"\",\"SIN RESPUESTA\",(IF(O899<=P899,\"A TIEMPO\",\"FUERA DE TIEMPO\"))))","v":""},null,"A TIEMPO",8,0,null,null,{"$f":"IFERROR(VLOOKUP(F899,Hoja1!$A$50:$C$63,2),\"\")","v":15},{"$f":"IFERROR(VLOOKUP(F899,Hoja1!$A$50:$C$63,3),\"\")","v":15}]
[890,20259910015344,"2025-02-04","Persona jurídica","Virtual - Correo electrónico","Solicitud de documentos o información","Sistema de información del recurso hídrico",null,"Subdirección de Hidrología","2025-02-07","Correo electrónico","2025-02-18",null,"",null,{"$f":"IFERROR(WORKDAY(N900,Y900,Hoja1!F892:F1008),\"\")","v":""},{"$f":"+IF(N900=\"\",\"\",IF(O900=\"\",\"SIN RESPUESTA\",(IF(O900<=P900,\"A TIEMPO\",\"FUERA DE TIEMPO\"))))","v":""},null,"A TIEMPO",3,0,null,null,{"$f":"IFERROR(VLOOKUP(F900,Hoja1!$A$50:$C$63,2),\"\")","v":5},{"$f":"IFERROR(VLOOKUP(F900,Hoja1!$A$50:$C$63,3),\"\")","v":5}]
[891,20259910015414,"2025-02-04","Persona jurídica","Virtual - Correo electrónico","Certificación de contrato","Administrativa",null,"Oficina Asesora Jurídica","2025-02-18","Correo electrónico","2025-02-18",null,"",null,{"$f":"IFERROR(WORKDAY(N901,Y901,Hoja1!F893:F1009),\"\")","v":""},{"$f":"+IF(N901=\"\",\"\",IF(O901=\"\",\"SIN RESPUESTA\",(IF(O901<=P901,\"A TIEMPO\",\"FUERA DE TIEMPO\"))))","v":""},null,"A TIEMPO",10,0,null,null,{"$f":"IFERROR(VLOOKUP(F901,Hoja1!$A$50:$C$63,2),\"\")","v":15},{"$f":"IFERROR(VLOOKUP(F901,Hoja1!$A$50:$C$63,3),\"\")","v":15}]
[892,20259910015374,"2025-02-04","Persona natural","Virtual - Correo electrónico","Solicitud de documentos o información","Solicitud de información hidrometeorológica",null,"Grupo de Comunicaciones","2025-02-13","Correo electrónico","2025-02-18",null,"",null,{"$f":"IFERROR(WORKDAY(N902,Y902,Hoja1!F894:F1010),\"\")","v":""},{"$f":"+IF(N902=\"\",\"\",IF(O902=\"\",\"SIN RESPUESTA\",(IF(O902<=P902,\"A TIEMPO\",\"FUERA DE TIEMPO\"))))","v":""},null,"A TIEMPO",7,0,null,null,{"$f":"IFERROR(VLOOKUP(F902,Hoja1!$A$50:$C$63,2),\"\")","v":5},{"$f":"IFERROR(VLOOKUP(F902,Hoja1!$A$50:$C$63,3),\"\")","v":5}]
[893,20259910015474,"2025-02-04","Persona natural","Virtual - Correo electrónico","Solicitud de documentos o información","Bosques",null,"Subdirección de Ecosistemas e Información Ambiental","2025-02-17","Correo electrónico","2025-02-18",null,"",null,{"$f":"IFERROR(WORKDAY(N903,Y903,Hoja1!F895:F1011),\"\")","v":""},{"$f":"+IF(N903=\"\",\"\",IF(O903=\"\",\"SIN RESPUESTA\",(IF(O903<=P903,\"A TIEMPO\",\"FUERA DE TIEMPO\"))))","v":""},null,"A TIEMPO",9,0,null,null,{"$f":"IFERROR(VLOOKUP(F903,Hoja1!$A$50:$C$63,2),\"\")","v":5},{"$f":"IFERROR(VLOOKUP(F903,Hoja1!$A$50:$C$63,3),\"\")","v":5}]
[894,20259050015484,"2025-02-04","Anónimo","Virtual - Formulario PQRSDF","Solicitud de documentos o información","Administrativa",null,"Subdirección de Estudios Ambientales","2025-02-14","Página web","2025-02-18",null,"",null,{"$f":"IFERROR(WORKDAY(N904,Y904,Hoja1!F896:F1012),\"\")","v":""},{"$f":"+IF(N904=\"\",\"\",IF(O904=\"\",\"SIN RESPUESTA\",(IF(O904<=P904,\"A TIEMPO\",\"FUERA DE TIEMPO\"))))","v":""},null,"A TIEMPO",8,0,null,null,{"$f":"IFERROR(VLOOKUP(F904,Hoja1!$A$50:$C$63,2),\"\")","v":5},{"$f":"IFERROR(VLOOKUP(F904,Hoja1!$A$50:$C$63,3),\"\")","v":5}]
[895,20259910015494,"2025-02-04","Persona jurídica","Virtual - Correo electrónico","Solicitud de documentos o información","Registros ambientales",null,"Subdirección de Estudios Ambientales","2025-02-06","Correo electrónico","2025-02-18",null,"",null,{"$f":"IFERROR(WORKDAY(N905,Y905,Hoja1!F897:F1013),\"\")","v":""},{"$f":"+IF(N905=\"\",\"\",IF(O905=\"\",\"SIN RESPUESTA\",(IF(O905<=P905,\"A TIEMPO\",\"FUERA DE TIEMPO\"))))","v":""},null,"A TIEMPO",2,0,null,null,{"$f":"IFERROR(VLOOKUP(F905,Hoja1!$A$50:$C$63,2),\"\")","v":5},{"$f":"IFERROR(VLOOKUP(F905,Hoja1!$A$50:$C$63,3),\"\")","v":5}]
[896,20259910015504,"2025-02-04","Persona jurídica","Virtual - Correo electrónico","Solicitud de documentos o información","Administrativa",null,"Dirección General","2025-02-14","Correo electrónico","2025-02-18",null,"",null,{"$f":"IFERROR(WORKDAY(N906,Y906,Hoja1!F898:F1014),\"\")","v":""},{"$f":"+IF(N906=\"\",\"\",IF(O906=\"\",\"SIN RESPUESTA\",(IF(O906<=P906,\"A TIEMPO\",\"FUERA DE TIEMPO\"))))","v":""},null,"A TIEMPO",8,0,null,null,{"$f":"IFERROR(VLOOKUP(F906,Hoja1!$A$50:$C$63,2),\"\")","v":5},{"$f":"IFERROR(VLOOKUP(F906,Hoja1!$A$50:$C$63,3),\"\")","v":5}]
[897,20259910015514,"2025-02-04","Persona jurídica","Virtual - Correo electrónico","Petición entre autoridades","Registros ambientales",null,"Subdirección de Estudios Ambientales","2025-02-14","Correo electrónico","2025-02-18",null,"",null,{"$f":"IFERROR(WORKDAY(N907,Y907,Hoja1!F899:F1015),\"\")","v":""},{"$f":"+IF(N907=\"\",\"\",IF(O907=\"\",\"SIN RESPUESTA\",(IF(O907<=P907,\"A TIEMPO\",\"FUERA DE TIEMPO\"))))","v":""},null,"A TIEMPO",8,0,null,null,{"$f":"IFERROR(VLOOKUP(F907,Hoja1!$A$50:$C$63,2),\"\")","v":10},{"$f":"IFERROR(VLOOKUP(F907,Hoja1!$A$50:$C$63,3),\"\")","v":10}]
[898,20259910015524,"2025-02-04","Persona jurídica","Virtual - Correo electrónico","Solicitud de documentos o información","Acreditación de laboratorios",null,"Subdirección de Estudios Ambientales","2025-02-11","Correo electrónico","2025-02-18",null,"",null,{"$f":"IFERROR(WORKDAY(N908,Y908,Hoja1!F900:F1016),\"\")","v":""},{"$f":"+IF(N908=\"\",\"\",IF(O908=\"\",\"SIN RESPUESTA\",(IF(O908<=P908,\"A TIEMPO\",\"FUERA DE TIEMPO\"))))","v":""},null,"A TIEMPO",5,0,null,null,{"$f":"IFERROR(VLOOKUP(F908,Hoja1!$A$50:$C$63,2),\"\")","v":5},{"$f":"IFERROR(VLOOKUP(F908,Hoja1!$A$50:$C$63,3),\"\")","v":5}]
[899,20259910015144,"2025-02-04","Persona jurídica","Virtual - Correo electrónico","Petición entre autoridades","Visitas académicas",null,"Grupo de Administración y Desarrollo del Talento Humano","2025-02-11","Correo electrónico","2025-02-18",null,"",null,{"$f":"IFERROR(WORKDAY(N909,Y909,Hoja1!F901:F1017),\"\")","v":""},{"$f":"+IF(N909=\"\",\"\",IF(O909=\"\",\"SIN RESPUESTA\",(IF(O909<=P909,\"A TIEMPO\",\"FUERA DE TIEMPO\"))))","v":""},null,"A TIEMPO",5,0,null,null,{"$f":"IFERROR(VLOOKUP(F909,Hoja1!$A$50:$C$63,2),\"\")","v":10},{"$f":"IFERROR(VLOOKUP(F909,Hoja1!$A$50:$C$63,3),\"\")","v":10}]
[900,20259910015244,"2025-02-04","Persona natural","Virtual - Correo electrónico","Solicitud de documentos o información","Solicitud de información hidrometeorológica",null,"Oficina de Informática","2025-02-06","Correo electrónico","2025-02-18",null,"",null,{"$f":"IFERROR(WORKDAY(N910,Y910,Hoja1!F902:F1018),\"\")","v":""},{"$f":"+IF(N910=\"\",\"\",IF(O910=\"\",\"SIN RESPUESTA\",(IF(O910<=P910,\"A TIEMPO\",\"FUERA DE TIEMPO\"))))","v":""},null,"A TIEMPO",2,0,null,null,{"$f":"IFERROR(VLOOKUP(F910,Hoja1!$A$50:$C$63,2),\"\")","v":5},{"$f":"IFERROR(VLOOKUP(F910,Hoja1!$A$50:$C$63,3),\"\")","v":5}]
[901,20259050015424,"2025-02-04","Persona natural","Virtual - Formulario PQRSDF","Solicitud de documentos o información","Solicitud de información hidrometeorológica",null,"Grupo de Gestión Documental y Centro de Documentación","2025-02-24","Correo electrónico","2025-02-18",null,"",null,{"$f":"IFERROR(WORKDAY(N911,Y911,Hoja1!F903:F1019),\"\")","v":""},{"$f":"+IF(N911=\"\",\"\",IF(O911=\"\",\"SIN RESPUESTA\",(IF(O911<=P911,\"A TIEMPO\",\"FUERA DE TIEMPO\"))))","v":""},null,{"$f":"+IF(C911=\"\",\"\",IF(J911=\"\",\"SIN RESPUESTA\",(IF(J911<=L911,\"A TIEMPO\",\"FUERA DE TIEMPO\"))))","v":"FUERA DE TIEMPO"},14,4,null,null,{"$f":"IFERROR(VLOOKUP(F911,Hoja1!$A$50:$C$63,2),\"\")","v":5},{"$f":"IFERROR(VLOOKUP(F911,Hoja1!$A$50:$C$63,3),\"\")","v":5}]
[902,20259910015534,"2025-02-04","Persona jurídica","Virtual - Correo electrónico","Petición entre autoridades","Administrativa",null,"Oficina Asesora Jurídica","2025-02-05","Correo electrónico","2025-02-18",null,"",null,{"$f":"IFERROR(WORKDAY(N912,Y912,Hoja1!F904:F1020),\"\")","v":""},{"$f":"+IF(N912=\"\",\"\",IF(O912=\"\",\"SIN RESPUESTA\",(IF(O912<=P912,\"A TIEMPO\",\"FUERA DE TIEMPO\"))))","v":""},null,"A TIEMPO",1,0,null,null,{"$f":"IFERROR(VLOOKUP(F912,Hoja1!$A$50:$C$63,2),\"\")","v":10},{"$f":"IFERROR(VLOOKUP(F912,Hoja1!$A$50:$C$63,3),\"\")","v":10}]
[{"$f":"IF(B913<>\"\",A912+1,\"\")","v":903},20259910015604,"2025-02-04","Persona jurídica","Virtual - Correo electrónico","Solicitud de documentos o información","Registros ambientales",null,"Subdirección de Estudios Ambientales","2025-02-10","Correo electrónico","2025-02-18",null,"",null,{"$f":"IFERROR(WORKDAY(N913,Y913,Hoja1!F905:F1021),\"\")","v":""},{"$f":"+IF(N913=\"\",\"\",IF(O913=\"\",\"SIN RESPUESTA\",(IF(O913<=P913,\"A TIEMPO\",\"FUERA DE TIEMPO\"))))","v":""},null,"A TIEMPO",4,0,null,null,{"$f":"IFERROR(VLOOKUP(F913,Hoja1!$A$50:$C$63,2),\"\")","v":5},{"$f":"IFERROR(VLOOKUP(F913,Hoja1!$A$50:$C$63,3),\"\")","v":5}]
[904,20259910015614,"2025-02-04","Persona natural","Virtual - Correo electrónico","Certificación laboral o pasantía","Administrativa",null,"Grupo de Administración y Desarrollo del Talento Humano","2025-02-14","Correo electrónico","2025-02-18",null,"",null,{"$f":"IFERROR(WORKDAY(N914,Y914,Hoja1!F906:F1022),\"\")","v":""},{"$f":"+IF(N914=\"\",\"\",IF(O914=\"\",\"SIN RESPUESTA\",(IF(O914<=P914,\"A TIEMPO\",\"FUERA DE TIEMPO\"))))","v":""},null,"A TIEMPO",8,0,null,null,{"$f":"IFERROR(VLOOKUP(F914,Hoja1!$A$50:$C$63,2),\"\")","v":15},{"$f":"IFERROR(VLOOKUP(F914,Hoja1!$A$50:$C$63,3),\"\")","v":15}]
[905,20259910015624,"2025-02-04","Persona jurídica","Virtual - Correo electrónico","Solicitud de documentos o información","Acreditación de laboratorios",null,"Subdirección de Hidrología","2025-02-24","Correo electrónico","2025-02-18",null,"",null,{"$f":"IFERROR(WORKDAY(N915,Y915,Hoja1!F907:F1023),\"\")","v":""},{"$f":"+IF(N915=\"\",\"\",IF(O915=\"\",\"SIN RESPUESTA\",(IF(O915<=P915,\"A TIEMPO\",\"FUERA DE TIEMPO\"))))","v":""},null,{"$f":"+IF(C915=\"\",\"\",IF(J915=\"\",\"SIN RESPUESTA\",(IF(J915<=L915,\"A TIEMPO\",\"FUERA DE TIEMPO\"))))","v":"FUERA DE TIEMPO"},14,4,null,null,{"$f":"IFERROR(VLOOKUP(F915,Hoja1!$A$50:$C$63,2),\"\")","v":5},{"$f":"IFERROR(VLOOKUP(F915,Hoja1!$A$50:$C$63,3),\"\")","v":5}]
[906,20259910015634,"2025-02-04","Persona jurídica","Virtual - Correo electrónico","Solicitud de documentos o información","Registros ambientales",null,"Subdirección de Estudios Ambientales","2025-02-10","Correo electrónico","2025-02-18",null,"",null,{"$f":"IFERROR(WORKDAY(N916,Y916,Hoja1!F908:F1024),\"\")","v":""},{"$f":"+IF(N916=\"\",\"\",IF(O916=\"\",\"SIN RESPUESTA\",(IF(O916<=P916,\"A TIEMPO\",\"FUERA DE TIEMPO\"))))","v":""},null,"A TIEMPO",4,0,null,null,{"$f":"IFERROR(VLOOKUP(F916,Hoja1!$A$50:$C$63,2),\"\")","v":5},{"$f":"IFERROR(VLOOKUP(F916,Hoja1!$A$50:$C$63,3),\"\")","v":5}]
[907,20259050015764,"2025-02-04","Persona jurídica","Virtual - Formulario PQRSDF","Solicitud de documentos o información","Registros ambientales",null,"Subdirección de Estudios Ambientales","2025-02-10","Correo electrónico","2025-02-18",null,"",null,{"$f":"IFERROR(WORKDAY(N917,Y917,Hoja1!F909:F1025),\"\")","v":""},{"$f":"+IF(N917=\"\",\"\",IF(O917=\"\",\"SIN RESPUESTA\",(IF(O917<=P917,\"A TIEMPO\",\"FUERA DE TIEMPO\"))))","v":""},null,"A TIEMPO",4,0,null,null,{"$f":"IFERROR(VLOOKUP(F917,Hoja1!$A$50:$C$63,2),\"\")","v":5},{"$f":"IFERROR(VLOOKUP(F917,Hoja1!$A$50:$C$63,3),\"\")","v":5}]
[908,20259910015774,"2025-02-04","Persona jurídica","Virtual - Correo electrónico","Solicitud de documentos o información","Registros ambientales",null,"Subdirección de Estudios Ambientales","2025-02-18","Correo electrónico","2025-02-18",null,"",null,{"$f":"IFERROR(WORKDAY(N918,Y918,Hoja1!F910:F1026),\"\")","v":""},{"$f":"+IF(N918=\"\",\"\",IF(O918=\"\",\"SIN RESPUESTA\",(IF(O918<=P918,\"A TIEMPO\",\"FUERA DE TIEMPO\"))))","v":""},null,"A TIEMPO",10,0,null,null,{"$f":"IFERROR(VLOOKUP(F918,Hoja1!$A$50:$C$63,2),\"\")","v":5},{"$f":"IFERROR(VLOOKUP(F918,Hoja1!$A$50:$C$63,3),\"\")","v":5}]
[909,20259910015794,"2025-02-04","Persona jurídica","Virtual - Correo electrónico","Petición entre autoridades","Sistema de información ambiental",null,"Subdirección de Estudios Ambientales","2025-02-12","Correo electrónico","2025-02-18",null,"",null,{"$f":"IFERROR(WORKDAY(N919,Y919,Hoja1!F911:F1027),\"\")","v":""},{"$f":"+IF(N919=\"\",\"\",IF(O919=\"\",\"SIN RESPUESTA\",(IF(O919<=P919,\"A TIEMPO\",\"FUERA DE TIEMPO\"))))","v":""},null,"A TIEMPO",6,0,null,null,{"$f":"IFERROR(VLOOKUP(F919,Hoja1!$A$50:$C$63,2),\"\")","v":10},{"$f":"IFERROR(VLOOKUP(F919,Hoja1!$A$50:$C$63,3),\"\")","v":10}]
[910,20259910015804,"2025-02-04","Persona jurídica","Virtual - Correo electrónico","Solicitud de documentos o información","Registros ambientales",null,"Subdirección de Estudios Ambientales","2025-02-10","Correo electrónico","2025-02-18",null,"",null,{"$f":"IFERROR(WORKDAY(N920,Y920,Hoja1!F912:F1028),\"\")","v":""},{"$f":"+IF(N920=\"\",\"\",IF(O920=\"\",\"SIN RESPUESTA\",(IF(O920<=P920,\"A TIEMPO\",\"FUERA DE TIEMPO\"))))","v":""},null,"A TIEMPO",4,0,null,null,{"$f":"IFERROR(VLOOKUP(F920,Hoja1!$A$50:$C$63,2),\"\")","v":5},{"$f":"IFERROR(VLOOKUP(F920,Hoja1!$A$50:$C$63,3),\"\")","v":5}]
[911,20259910015814,"2025-02-04","Persona natural","Virtual - Correo electrónico","Solicitud de documentos o información","Administrativa",null,"Grupo de Administración y Desarrollo del Talento Humano","2025-02-13","Correo electrónico","2025-02-18",null,"",null,{"$f":"IFERROR(WORKDAY(N921,Y921,Hoja1!F913:F1029),\"\")","v":""},{"$f":"+IF(N921=\"\",\"\",IF(O921=\"\",\"SIN RESPUESTA\",(IF(O921<=P921,\"A TIEMPO\",\"FUERA DE TIEMPO\"))))","v":""},null,"A TIEMPO",7,0,null,null,{"$f":"IFERROR(VLOOKUP(F921,Hoja1!$A$50:$C$63,2),\"\")","v":5},{"$f":"IFERROR(VLOOKUP(F921,Hoja1!$A$50:$C$63,3),\"\")","v":5}]
[912,20259050016044,"2025-02-04","Persona natural","Virtual - Formulario PQRSDF","Certificación de contrato","Administrativa",null,"Oficina Asesora Jurídica","2025-02-18","Correo electrónico","2025-02-18",null,"",null,{"$f":"IFERROR(WORKDAY(N922,Y922,Hoja1!F914:F1030),\"\")","v":""},{"$f":"+IF(N922=\"\",\"\",IF(O922=\"\",\"SIN RESPUESTA\",(IF(O922<=P922,\"A TIEMPO\",\"FUERA DE TIEMPO\"))))","v":""},null,"A TIEMPO",10,0,null,null,{"$f":"IFERROR(VLOOKUP(F922,Hoja1!$A$50:$C$63,2),\"\")","v":15},{"$f":"IFERROR(VLOOKUP(F922,Hoja1!$A$50:$C$63,3),\"\")","v":15}]
[913,20259910015824,"2025-02-04","Persona jurídica","Virtual - Correo electrónico","Solicitud de documentos o información","Registros ambientales",null,"Subdirección de Estudios Ambientales","2025-02-06","Correo electrónico","2025-02-18",null,"",null,{"$f":"IFERROR(WORKDAY(N923,Y923,Hoja1!F915:F1031),\"\")","v":""},{"$f":"+IF(N923=\"\",\"\",IF(O923=\"\",\"SIN RESPUESTA\",(IF(O923<=P923,\"A TIEMPO\",\"FUERA DE TIEMPO\"))))","v":""},null,"A TIEMPO",2,0,null,null,{"$f":"IFERROR(VLOOKUP(F923,Hoja1!$A$50:$C$63,2),\"\")","v":5},{"$f":"IFERROR(VLOOKUP(F923,Hoja1!$A$50:$C$63,3),\"\")","v":5}]
[914,20259910015844,"2025-02-04","Persona jurídica","Virtual - Correo electrónico","Solicitud de documentos o información","Bosques",null,"Subdirección de Ecosistemas e Información Ambiental","2025-02-18","Correo electrónico","2025-02-18",null,"",null,{"$f":"IFERROR(WORKDAY(N924,Y924,Hoja1!F916:F1032),\"\")","v":""},{"$f":"+IF(N924=\"\",\"\",IF(O924=\"\",\"SIN RESPUESTA\",(IF(O924<=P924,\"A TIEMPO\",\"FUERA DE TIEMPO\"))))","v":""},null,"A TIEMPO",10,0,null,null,{"$f":"IFERROR(VLOOKUP(F924,Hoja1!$A$50:$C$63,2),\"\")","v":5},{"$f":"IFERROR(VLOOKUP(F924,Hoja1!$A$50:$C$63,3),\"\")","v":5}]
[915,20259910015864,"2025-02-04","Persona natural","Virtual - Correo electrónico","Solicitud de documentos o información","Sistema de información ambiental",null,"Subdirección de Estudios Ambientales","2025-02-18","Correo electrónico","2025-02-18",null,"",null,{"$f":"IFERROR(WORKDAY(N925,Y925,Hoja1!F917:F1033),\"\")","v":""},{"$f":"+IF(N925=\"\",\"\",IF(O925=\"\",\"SIN RESPUESTA\",(IF(O925<=P925,\"A TIEMPO\",\"FUERA DE TIEMPO\"))))","v":""},null,"A TIEMPO",10,0,null,null,{"$f":"IFERROR(VLOOKUP(F925,Hoja1!$A$50:$C$63,2),\"\")","v":5},{"$f":"IFERROR(VLOOKUP(F925,Hoja1!$A$50:$C$63,3),\"\")","v":5}]
[916,20259910015874,"2025-02-04","Persona natural","Virtual - Correo electrónico","Solicitud de documentos o información","Sistema de información del recurso hídrico",null,"Subdirección de Hidrología","2025-02-10","Correo electrónico","2025-02-18",null,"",null,{"$f":"IFERROR(WORKDAY(N926,Y926,Hoja1!F918:F1034),\"\")","v":""},{"$f":"+IF(N926=\"\",\"\",IF(O926=\"\",\"SIN RESPUESTA\",(IF(O926<=P926,\"A TIEMPO\",\"FUERA DE TIEMPO\"))))","v":""},null,"A TIEMPO",4,0,null,null,{"$f":"IFERROR(VLOOKUP(F926,Hoja1!$A$50:$C$63,2),\"\")","v":5},{"$f":"IFERROR(VLOOKUP(F926,Hoja1!$A$50:$C$63,3),\"\")","v":5}]
[917,20259910015884,"2025-02-04","Persona jurídica","Virtual - Correo electrónico","Petición entre autoridades","Registros ambientales",null,"Subdirección de Estudios Ambientales","2025-02-17","Correo electrónico","2025-02-18",null,"",null,{"$f":"IFERROR(WORKDAY(N927,Y927,Hoja1!F919:F1035),\"\")","v":""},{"$f":"+IF(N927=\"\",\"\",IF(O927=\"\",\"SIN RESPUESTA\",(IF(O927<=P927,\"A TIEMPO\",\"FUERA DE TIEMPO\"))))","v":""},null,"A TIEMPO",9,0,null,null,{"$f":"IFERROR(VLOOKUP(F927,Hoja1!$A$50:$C$63,2),\"\")","v":10},{"$f":"IFERROR(VLOOKUP(F927,Hoja1!$A$50:$C$63,3),\"\")","v":10}]
[918,20259050015894,"2025-02-04","Persona natural","Virtual - Formulario PQRSDF","Solicitud de documentos o información","Administrativa",null,"Oficina Asesora Jurídica","2025-02-18","Correo electrónico","2025-02-18",null,"",null,{"$f":"IFERROR(WORKDAY(N928,Y928,Hoja1!F920:F1036),\"\")","v":""},{"$f":"+IF(N928=\"\",\"\",IF(O928=\"\",\"SIN RESPUESTA\",(IF(O928<=P928,\"A TIEMPO\",\"FUERA DE TIEMPO\"))))","v":""},null,"A TIEMPO",10,0,null,null,{"$f":"IFERROR(VLOOKUP(F928,Hoja1!$A$50:$C$63,2),\"\")","v":5},{"$f":"IFERROR(VLOOKUP(F928,Hoja1!$A$50:$C$63,3),\"\")","v":5}]
[919,20259910015904,"2025-02-04","Persona jurídica","Virtual - Correo electrónico","Solicitud de documentos o información","Registros ambientales",null,"Subdirección de Estudios Ambientales","2025-02-11","Correo electrónico","2025-02-18",null,"",null,{"$f":"IFERROR(WORKDAY(N929,Y929,Hoja1!F921:F1037),\"\")","v":""},{"$f":"+IF(N929=\"\",\"\",IF(O929=\"\",\"SIN RESPUESTA\",(IF(O929<=P929,\"A TIEMPO\",\"FUERA DE TIEMPO\"))))","v":""},null,"A TIEMPO",5,0,null,null,{"$f":"IFERROR(VLOOKUP(F929,Hoja1!$A$50:$C$63,2),\"\")","v":5},{"$f":"IFERROR(VLOOKUP(F929,Hoja1!$A$50:$C$63,3),\"\")","v":5}]
[920,20259910015924,"2025-02-04","Persona natural","Virtual - Correo electrónico","Certificación de contrato","Administrativa",null,"Oficina Asesora Jurídica","2025-02-18","Correo electrónico","2025-02-18",null,"",null,{"$f":"IFERROR(WORKDAY(N930,Y930,Hoja1!F922:F1038),\"\")","v":""},{"$f":"+IF(N930=\"\",\"\",IF(O930=\"\",\"SIN RESPUESTA\",(IF(O930<=P930,\"A TIEMPO\",\"FUERA DE TIEMPO\"))))","v":""},null,"A TIEMPO",10,0,null,null,{"$f":"IFERROR(VLOOKUP(F930,Hoja1!$A$50:$C$63,2),\"\")","v":15},{"$f":"IFERROR(VLOOKUP(F930,Hoja1!$A$50:$C$63,3),\"\")","v":15}]
[921,20259910015934,"2025-02-04","Persona jurídica","Virtual - Correo electrónico","Solicitud de documentos o información","Registros ambientales",null,"Subdirección de Estudios Ambientales","2025-02-11","Correo electrónico","2025-02-18",null,"",null,{"$f":"IFERROR(WORKDAY(N931,Y931,Hoja1!F923:F1039),\"\")","v":""},{"$f":"+IF(N931=\"\",\"\",IF(O931=\"\",\"SIN RESPUESTA\",(IF(O931<=P931,\"A TIEMPO\",\"FUERA DE TIEMPO\"))))","v":""},null,"A TIEMPO",5,0,null,null,{"$f":"IFERROR(VLOOKUP(F931,Hoja1!$A$50:$C$63,2),\"\")","v":5},{"$f":"IFERROR(VLOOKUP(F931,Hoja1!$A$50:$C$63,3),\"\")","v":5}]
[922,20259910015954,"2025-02-04","Persona natural","Virtual - Correo electrónico","Solicitud de documentos o información","Solicitud de información hidrometeorológica",null,"Grupo de Servicio al Ciudadano","2025-02-11","Correo electrónico","2025-02-18",null,"",null,{"$f":"IFERROR(WORKDAY(N932,Y932,Hoja1!F924:F1040),\"\")","v":""},{"$f":"+IF(N932=\"\",\"\",IF(O932=\"\",\"SIN RESPUESTA\",(IF(O932<=P932,\"A TIEMPO\",\"FUERA DE TIEMPO\"))))","v":""},null,"A TIEMPO",5,0,null,null,{"$f":"IFERROR(VLOOKUP(F932,Hoja1!$A$50:$C$63,2),\"\")","v":5},{"$f":"IFERROR(VLOOKUP(F932,Hoja1!$A$50:$C$63,3),\"\")","v":5}]
[923,20259910015974,"2025-02-04","Persona natural","Virtual - Correo electrónico","Solicitud de documentos o información","Sistema de información ambiental",null,"Subdirección de Estudios Ambientales","2025-02-18","Correo electrónico","2025-02-18",null,"",null,{"$f":"IFERROR(WORKDAY(N933,Y933,Hoja1!F925:F1041),\"\")","v":""},{"$f":"+IF(N933=\"\",\"\",IF(O933=\"\",\"SIN RESPUESTA\",(IF(O933<=P933,\"A TIEMPO\",\"FUERA DE TIEMPO\"))))","v":""},null,"A TIEMPO",10,0,null,null,{"$f":"IFERROR(VLOOKUP(F933,Hoja1!$A$50:$C$63,2),\"\")","v":5},{"$f":"IFERROR(VLOOKUP(F933,Hoja1!$A$50:$C$63,3),\"\")","v":5}]
[924,20259910016084,"2025-02-05","Persona natural","Virtual - Correo electrónico","Certificación laboral o pasantía","Administrativa",null,"Grupo de Administración y Desarrollo del Talento Humano","2025-02-20","Correo electrónico","2025-02-19",null,"",null,{"$f":"IFERROR(WORKDAY(N934,Y934,Hoja1!F926:F1042),\"\")","v":""},{"$f":"+IF(N934=\"\",\"\",IF(O934=\"\",\"SIN RESPUESTA\",(IF(O934<=P934,\"A TIEMPO\",\"FUERA DE TIEMPO\"))))","v":""},null,{"$f":"+IF(C934=\"\",\"\",IF(J934=\"\",\"SIN RESPUESTA\",(IF(J934<=L934,\"A TIEMPO\",\"FUERA DE TIEMPO\"))))","v":"FUERA DE TIEMPO"},11,1,null,null,{"$f":"IFERROR(VLOOKUP(F934,Hoja1!$A$50:$C$63,2),\"\")","v":15},{"$f":"IFERROR(VLOOKUP(F934,Hoja1!$A$50:$C$63,3),\"\")","v":15}]
[925,20259910016104,"2025-02-05","Persona natural","Virtual - Correo electrónico","Solicitud de documentos o información","Solicitud de información hidrometeorológica",null,"Grupo de Servicio al Ciudadano","2025-02-11","Correo electrónico","2025-02-19",null,"",null,{"$f":"IFERROR(WORKDAY(N935,Y935,Hoja1!F927:F1043),\"\")","v":""},{"$f":"+IF(N935=\"\",\"\",IF(O935=\"\",\"SIN RESPUESTA\",(IF(O935<=P935,\"A TIEMPO\",\"FUERA DE TIEMPO\"))))","v":""},null,"A TIEMPO",4,0,null,null,{"$f":"IFERROR(VLOOKUP(F935,Hoja1!$A$50:$C$63,2),\"\")","v":5},{"$f":"IFERROR(VLOOKUP(F935,Hoja1!$A$50:$C$63,3),\"\")","v":5}]
[926,20259050016134,"2025-02-05","Persona jurídica","Virtual - Formulario PQRSDF","Solicitud de documentos o información","Registros ambientales",null,"Subdirección de Estudios Ambientales","2025-02-11","Correo electrónico","2025-02-19",null,"",null,{"$f":"IFERROR(WORKDAY(N936,Y936,Hoja1!F928:F1044),\"\")","v":""},{"$f":"+IF(N936=\"\",\"\",IF(O936=\"\",\"SIN RESPUESTA\",(IF(O936<=P936,\"A TIEMPO\",\"FUERA DE TIEMPO\"))))","v":""},null,"A TIEMPO",4,0,null,null,{"$f":"IFERROR(VLOOKUP(F936,Hoja1!$A$50:$C$63,2),\"\")","v":5},{"$f":"IFERROR(VLOOKUP(F936,Hoja1!$A$50:$C$63,3),\"\")","v":5}]
[927,20259910016244,"2025-02-05","Persona natural","Virtual - Correo electrónico","Certificación laboral o pasantía","Administrativa",null,"Grupo de Administración y Desarrollo del Talento Humano","2025-02-20","Correo electrónico","2025-02-19",null,"",null,{"$f":"IFERROR(WORKDAY(N937,Y937,Hoja1!F929:F1045),\"\")","v":""},{"$f":"+IF(N937=\"\",\"\",IF(O937=\"\",\"SIN RESPUESTA\",(IF(O937<=P937,\"A TIEMPO\",\"FUERA DE TIEMPO\"))))","v":""},null,{"$f":"+IF(C937=\"\",\"\",IF(J937=\"\",\"SIN RESPUESTA\",(IF(J937<=L937,\"A TIEMPO\",\"FUERA DE TIEMPO\"))))","v":"FUERA DE TIEMPO"},11,1,null,null,{"$f":"IFERROR(VLOOKUP(F937,Hoja1!$A$50:$C$63,2),\"\")","v":15},{"$f":"IFERROR(VLOOKUP(F937,Hoja1!$A$50:$C$63,3),\"\")","v":15}]
[928,20259910016174,"2025-02-05","Persona jurídica","Virtual - Correo electrónico","Solicitud de documentos o información","Registros ambientales",null,"Subdirección de Estudios Ambientales","2025-02-11","Correo electrónico","2025-02-19",null,"",null,{"$f":"IFERROR(WORKDAY(N938,Y938,Hoja1!F930:F1046),\"\")","v":""},{"$f":"+IF(N938=\"\",\"\",IF(O938=\"\",\"SIN RESPUESTA\",(IF(O938<=P938,\"A TIEMPO\",\"FUERA DE TIEMPO\"))))","v":""},null,"A TIEMPO",4,0,null,null,{"$f":"IFERROR(VLOOKUP(F938,Hoja1!$A$50:$C$63,2),\"\")","v":5},{"$f":"IFERROR(VLOOKUP(F938,Hoja1!$A$50:$C$63,3),\"\")","v":5}]
[929,20259910016194,"2025-02-05","Persona jurídica","Virtual - Correo electrónico","Petición entre autoridades","Administrativa",null,"Oficina Asesora Jurídica","2025-02-19","Correo electrónico","2025-02-19",null,"",null,{"$f":"IFERROR(WORKDAY(N939,Y939,Hoja1!F931:F1047),\"\")","v":""},{"$f":"+IF(N939=\"\",\"\",IF(O939=\"\",\"SIN RESPUESTA\",(IF(O939<=P939,\"A TIEMPO\",\"FUERA DE TIEMPO\"))))","v":""},null,"A TIEMPO",10,0,null,null,{"$f":"IFERROR(VLOOKUP(F939,Hoja1!$A$50:$C$63,2),\"\")","v":10},{"$f":"IFERROR(VLOOKUP(F939,Hoja1!$A$50:$C$63,3),\"\")","v":10}]
[930,20259910016214,"2025-02-05","Persona jurídica","Virtual - Correo electrónico","Solicitud de documentos o información","Administrativa",null,"Grupo de Servicio al Ciudadano","2025-02-14","Correo electrónico","2025-02-19",null,"",null,{"$f":"IFERROR(WORKDAY(N940,Y940,Hoja1!F932:F1048),\"\")","v":""},{"$f":"+IF(N940=\"\",\"\",IF(O940=\"\",\"SIN RESPUESTA\",(IF(O940<=P940,\"A TIEMPO\",\"FUERA DE TIEMPO\"))))","v":""},null,"A TIEMPO",7,0,null,null,{"$f":"IFERROR(VLOOKUP(F940,Hoja1!$A$50:$C$63,2),\"\")","v":5},{"$f":"IFERROR(VLOOKUP(F940,Hoja1!$A$50:$C$63,3),\"\")","v":5}]
[931,20259910016254,"2025-02-05","Persona natural","Virtual - Correo electrónico","Certificación de contrato","Administrativa",null,"Oficina Asesora Jurídica","2025-02-18","Correo certificado","2025-02-19",null,"",null,{"$f":"IFERROR(WORKDAY(N941,Y941,Hoja1!F933:F1049),\"\")","v":""},{"$f":"+IF(N941=\"\",\"\",IF(O941=\"\",\"SIN RESPUESTA\",(IF(O941<=P941,\"A TIEMPO\",\"FUERA DE TIEMPO\"))))","v":""},null,"A TIEMPO",9,0,null,null,{"$f":"IFERROR(VLOOKUP(F941,Hoja1!$A$50:$C$63,2),\"\")","v":15},{"$f":"IFERROR(VLOOKUP(F941,Hoja1!$A$50:$C$63,3),\"\")","v":15}]
[932,20259910016234,"2025-02-05","Persona jurídica","Virtual - Correo electrónico","Petición entre autoridades","Registros ambientales",null,"Subdirección de Estudios Ambientales","2025-02-17","Correo electrónico","2025-02-19",null,"",null,{"$f":"IFERROR(WORKDAY(N942,Y942,Hoja1!F934:F1050),\"\")","v":""},{"$f":"+IF(N942=\"\",\"\",IF(O942=\"\",\"SIN RESPUESTA\",(IF(O942<=P942,\"A TIEMPO\",\"FUERA DE TIEMPO\"))))","v":""},null,"A TIEMPO",8,0,null,null,{"$f":"IFERROR(VLOOKUP(F942,Hoja1!$A$50:$C$63,2),\"\")","v":10},{"$f":"IFERROR(VLOOKUP(F942,Hoja1!$A$50:$C$63,3),\"\")","v":10}]
[933,20259910016264,"2025-02-05","Persona jurídica","Virtual - Correo electrónico","Petición entre autoridades","Solicitud de información hidrometeorológica",null,"Área Operativa No. 10 - Ibagué","2025-02-14","Correo electrónico","2025-02-19",null,"",null,{"$f":"IFERROR(WORKDAY(N943,Y943,Hoja1!F935:F1051),\"\")","v":""},{"$f":"+IF(N943=\"\",\"\",IF(O943=\"\",\"SIN RESPUESTA\",(IF(O943<=P943,\"A TIEMPO\",\"FUERA DE TIEMPO\"))))","v":""},null,"A TIEMPO",7,0,null,null,{"$f":"IFERROR(VLOOKUP(F943,Hoja1!$A$50:$C$63,2),\"\")","v":10},{"$f":"IFERROR(VLOOKUP(F943,Hoja1!$A$50:$C$63,3),\"\")","v":10}]
[934,20259910016294,"2025-02-05","Persona jurídica","Virtual - Correo electrónico","Petición entre autoridades","Sistema de información ambiental",null,"Subdirección de Estudios Ambientales","2025-02-24","Correo electrónico","2025-02-19",null,"",null,{"$f":"IFERROR(WORKDAY(N944,Y944,Hoja1!F936:F1052),\"\")","v":""},{"$f":"+IF(N944=\"\",\"\",IF(O944=\"\",\"SIN RESPUESTA\",(IF(O944<=P944,\"A TIEMPO\",\"FUERA DE TIEMPO\"))))","v":""},null,{"$f":"+IF(C944=\"\",\"\",IF(J944=\"\",\"SIN RESPUESTA\",(IF(J944<=L944,\"A TIEMPO\",\"FUERA DE TIEMPO\"))))","v":"FUERA DE TIEMPO"},13,3,null,null,{"$f":"IFERROR(VLOOKUP(F944,Hoja1!$A$50:$C$63,2),\"\")","v":10},{"$f":"IFERROR(VLOOKUP(F944,Hoja1!$A$50:$C$63,3),\"\")","v":10}]
[935,20259910016324,"2025-02-05","Persona natural","Virtual - Correo electrónico","Solicitud de documentos o información","Sistema de información del recurso hídrico",null,"Subdirección de Meteorología","2025-02-12","Correo electrónico","2025-02-19",null,"",null,{"$f":"IFERROR(WORKDAY(N945,Y945,Hoja1!F937:F1053),\"\")","v":""},{"$f":"+IF(N945=\"\",\"\",IF(O945=\"\",\"SIN RESPUESTA\",(IF(O945<=P945,\"A TIEMPO\",\"FUERA DE TIEMPO\"))))","v":""},null,"A TIEMPO",5,0,null,null,{"$f":"IFERROR(VLOOKUP(F945,Hoja1!$A$50:$C$63,2),\"\")","v":5},{"$f":"IFERROR(VLOOKUP(F945,Hoja1!$A$50:$C$63,3),\"\")","v":5}]
[936,20259050016344,"2025-02-05","Persona natural","Virtual - Formulario PQRSDF","Solicitud de documentos o información","Solicitud de información hidrometeorológica",null,"Subdirección de Meteorología","2025-02-12","Correo electrónico","2025-02-19",null,"",null,{"$f":"IFERROR(WORKDAY(N946,Y946,Hoja1!F938:F1054),\"\")","v":""},{"$f":"+IF(N946=\"\",\"\",IF(O946=\"\",\"SIN RESPUESTA\",(IF(O946<=P946,\"A TIEMPO\",\"FUERA DE TIEMPO\"))))","v":""},null,"A TIEMPO",5,0,null,null,{"$f":"IFERROR(VLOOKUP(F946,Hoja1!$A$50:$C$63,2),\"\")","v":5},{"$f":"IFERROR(VLOOKUP(F946,Hoja1!$A$50:$C$63,3),\"\")","v":5}]
[937,20259910016424,"2025-02-05","Persona jurídica","Virtual - Correo electrónico","Solicitud judicial","Jurídico",null,"Subdirección de Meteorología","2025-02-07","Correo electrónico","2025-02-12",null,"",null,{"$f":"IFERROR(WORKDAY(N947,Y947,Hoja1!F939:F1055),\"\")","v":""},{"$f":"+IF(N947=\"\",\"\",IF(O947=\"\",\"SIN RESPUESTA\",(IF(O947<=P947,\"A TIEMPO\",\"FUERA DE TIEMPO\"))))","v":""},null,"A TIEMPO",2,0,null,null,{"$f":"IFERROR(VLOOKUP(F947,Hoja1!$A$50:$C$63,2),\"\")","v":5},{"$f":"IFERROR(VLOOKUP(F947,Hoja1!$A$50:$C$63,3),\"\")","v":5}]
[938,20259910016444,"2025-02-05","Persona natural","Virtual - Correo electrónico","Solicitud de documentos o información","Solicitud de información hidrometeorológica",null,"Subdirección de Meteorología","2025-02-06","Correo electrónico","2025-02-19",null,"",null,{"$f":"IFERROR(WORKDAY(N948,Y948,Hoja1!F940:F1056),\"\")","v":""},{"$f":"+IF(N948=\"\",\"\",IF(O948=\"\",\"SIN RESPUESTA\",(IF(O948<=P948,\"A TIEMPO\",\"FUERA DE TIEMPO\"))))","v":""},null,"A TIEMPO",1,0,null,null,{"$f":"IFERROR(VLOOKUP(F948,Hoja1!$A$50:$C$63,2),\"\")","v":5},{"$f":"IFERROR(VLOOKUP(F948,Hoja1!$A$50:$C$63,3),\"\")","v":5}]
[939,20259050016454,"2025-02-05","Persona natural","Virtual - Formulario PQRSDF","Certificación electrónica de tiempos laborados - CETIL","Administrativa",null,"Grupo de Administración y Desarrollo del Talento Humano","2025-03-20","Correo electrónico","2025-02-26","SI","2025-03-20","2025-03-20",{"$f":"IFERROR(WORKDAY(N949,Y949,Hoja1!F941:F1057),\"\")","v":"2025-04-10"},{"$f":"+IF(N949=\"\",\"\",IF(O949=\"\",\"SIN RESPUESTA\",(IF(O949<=P949,\"A TIEMPO\",\"FUERA DE TIEMPO\"))))","v":"A TIEMPO"},null,"A TIEMPO",30,0,null,null,{"$f":"IFERROR(VLOOKUP(F949,Hoja1!$A$50:$C$63,2),\"\")","v":15},{"$f":"IFERROR(VLOOKUP(F949,Hoja1!$A$50:$C$63,3),\"\")","v":15}]
[940,20259910016474,"2025-02-05","Persona jurídica","Virtual - Correo electrónico","Solicitud de documentos o información","Solicitud de información hidrometeorológica",null,"Subdirección de Estudios Ambientales","2025-02-11","Correo electrónico","2025-02-19",null,"",null,{"$f":"IFERROR(WORKDAY(N950,Y950,Hoja1!F942:F1058),\"\")","v":""},{"$f":"+IF(N950=\"\",\"\",IF(O950=\"\",\"SIN RESPUESTA\",(IF(O950<=P950,\"A TIEMPO\",\"FUERA DE TIEMPO\"))))","v":""},null,"A TIEMPO",4,0,null,null,{"$f":"IFERROR(VLOOKUP(F950,Hoja1!$A$50:$C$63,2),\"\")","v":5},{"$f":"IFERROR(VLOOKUP(F950,Hoja1!$A$50:$C$63,3),\"\")","v":5}]
[941,20259910016484,"2025-02-05","Persona natural","Virtual - Correo electrónico","Queja","Bosques",null,"Subdirección de Ecosistemas e Información Ambiental","2025-03-03","Correo electrónico","2025-02-26",null,"",null,{"$f":"IFERROR(WORKDAY(N951,Y951,Hoja1!F943:F1059),\"\")","v":""},{"$f":"+IF(N951=\"\",\"\",IF(O951=\"\",\"SIN RESPUESTA\",(IF(O951<=P951,\"A TIEMPO\",\"FUERA DE TIEMPO\"))))","v":""},null,{"$f":"+IF(C951=\"\",\"\",IF(J951=\"\",\"SIN RESPUESTA\",(IF(J951<=L951,\"A TIEMPO\",\"FUERA DE TIEMPO\"))))","v":"FUERA DE TIEMPO"},18,3,null,null,{"$f":"IFERROR(VLOOKUP(F951,Hoja1!$A$50:$C$63,2),\"\")","v":15},{"$f":"IFERROR(VLOOKUP(F951,Hoja1!$A$50:$C$63,3),\"\")","v":15}]
[942,20259050016494,"2025-02-05","Persona natural","Virtual - Formulario PQRSDF","Solicitud de documentos o información","Acreditación de laboratorios",null,"Subdirección de Estudios Ambientales","2025-02-12","Correo electrónico","2025-02-19",null,"",null,{"$f":"IFERROR(WORKDAY(N952,Y952,Hoja1!F944:F1060),\"\")","v":""},{"$f":"+IF(N952=\"\",\"\",IF(O952=\"\",\"SIN RESPUESTA\",(IF(O952<=P952,\"A TIEMPO\",\"FUERA DE TIEMPO\"))))","v":""},null,"A TIEMPO",5,0,null,null,{"$f":"IFERROR(VLOOKUP(F952,Hoja1!$A$50:$C$63,2),\"\")","v":5},{"$f":"IFERROR(VLOOKUP(F952,Hoja1!$A$50:$C$63,3),\"\")","v":5}]
[943,20259910016544,"2025-02-05","Persona natural","Virtual - Correo electrónico","Certificación laboral o pasantía","Administrativa",null,"Grupo de Administración y Desarrollo del Talento Humano","2025-02-17","Correo electrónico","2025-02-19",null,"",null,{"$f":"IFERROR(WORKDAY(N953,Y953,Hoja1!F945:F1061),\"\")","v":""},{"$f":"+IF(N953=\"\",\"\",IF(O953=\"\",\"SIN RESPUESTA\",(IF(O953<=P953,\"A TIEMPO\",\"FUERA DE TIEMPO\"))))","v":""},null,"A TIEMPO",8,0,null,null,{"$f":"IFERROR(VLOOKUP(F953,Hoja1!$A$50:$C$63,2),\"\")","v":15},{"$f":"IFERROR(VLOOKUP(F953,Hoja1!$A$50:$C$63,3),\"\")","v":15}]
[944,20259910016524,"2025-02-05","Persona natural","Virtual - Correo electrónico","Solicitud de documentos o información","Bosques",null,"Subdirección de Ecosistemas e Información Ambiental","2025-02-07","Correo electrónico","2025-02-19",null,"",null,{"$f":"IFERROR(WORKDAY(N954,Y954,Hoja1!F946:F1062),\"\")","v":""},{"$f":"+IF(N954=\"\",\"\",IF(O954=\"\",\"SIN RESPUESTA\",(IF(O954<=P954,\"A TIEMPO\",\"FUERA DE TIEMPO\"))))","v":""},null,"A TIEMPO",2,0,null,null,{"$f":"IFERROR(VLOOKUP(F954,Hoja1!$A$50:$C$63,2),\"\")","v":5},{"$f":"IFERROR(VLOOKUP(F954,Hoja1!$A$50:$C$63,3),\"\")","v":5}]
[945,20259910016534,"2025-02-05","Persona natural","Virtual - Correo electrónico","Solicitud de documentos o información","Administrativa",null,"Grupo de Administración y Desarrollo del Talento Humano","2025-02-13","Correo electrónico","2025-02-19",null,"",null,{"$f":"IFERROR(WORKDAY(N955,Y955,Hoja1!F947:F1063),\"\")","v":""},{"$f":"+IF(N955=\"\",\"\",IF(O955=\"\",\"SIN RESPUESTA\",(IF(O955<=P955,\"A TIEMPO\",\"FUERA DE TIEMPO\"))))","v":""},null,"A TIEMPO",6,0,null,null,{"$f":"IFERROR(VLOOKUP(F955,Hoja1!$A$50:$C$63,2),\"\")","v":5},{"$f":"IFERROR(VLOOKUP(F955,Hoja1!$A$50:$C$63,3),\"\")","v":5}]
[946,20259910016594,"2025-02-05","Persona jurídica","Virtual - Correo electrónico","Solicitud de documentos o información","Solicitud de información hidrometeorológica",null,"Subdirección de Meteorología","2025-02-12","Correo electrónico","2025-02-19",null,"",null,{"$f":"IFERROR(WORKDAY(N956,Y956,Hoja1!F948:F1064),\"\")","v":""},{"$f":"+IF(N956=\"\",\"\",IF(O956=\"\",\"SIN RESPUESTA\",(IF(O956<=P956,\"A TIEMPO\",\"FUERA DE TIEMPO\"))))","v":""},null,"A TIEMPO",5,0,null,null,{"$f":"IFERROR(VLOOKUP(F956,Hoja1!$A$50:$C$63,2),\"\")","v":5},{"$f":"IFERROR(VLOOKUP(F956,Hoja1!$A$50:$C$63,3),\"\")","v":5}]
[947,20259910016604,"2025-02-05","Persona natural","Virtual - Correo electrónico","Certificación electrónica de tiempos laborados - CETIL","Administrativa",null,"Grupo de Administración y Desarrollo del Talento Humano","2025-03-20","Correo electrónico","2025-02-26","SI","2025-03-20","2025-03-20",{"$f":"IFERROR(WORKDAY(N957,Y957,Hoja1!F949:F1065),\"\")","v":"2025-04-10"},{"$f":"+IF(N957=\"\",\"\",IF(O957=\"\",\"SIN RESPUESTA\",(IF(O957<=P957,\"A TIEMPO\",\"FUERA DE TIEMPO\"))))","v":"A TIEMPO"},null,"A TIEMPO",30,0,null,null,{"$f":"IFERROR(VLOOKUP(F957,Hoja1!$A$50:$C$63,2),\"\")","v":15},{"$f":"IFERROR(VLOOKUP(F957,Hoja1!$A$50:$C$63,3),\"\")","v":15}]
[948,20259910016614,"2025-02-05","Persona jurídica","Virtual - Correo electrónico","Solicitud de documentos o información","Registros ambientales",null,"Subdirección de Estudios Ambientales","2025-02-11","Correo electrónico","2025-02-19",null,"",null,{"$f":"IFERROR(WORKDAY(N958,Y958,Hoja1!F950:F1066),\"\")","v":""},{"$f":"+IF(N958=\"\",\"\",IF(O958=\"\",\"SIN RESPUESTA\",(IF(O958<=P958,\"A TIEMPO\",\"FUERA DE TIEMPO\"))))","v":""},null,"A TIEMPO",4,0,null,null,{"$f":"IFERROR(VLOOKUP(F958,Hoja1!$A$50:$C$63,2),\"\")","v":5},{"$f":"IFERROR(VLOOKUP(F958,Hoja1!$A$50:$C$63,3),\"\")","v":5}]
[949,20259910016624,"2025-02-05","Persona jurídica","Virtual - Correo electrónico","Solicitud de documentos o información","Registros ambientales",null,"Subdirección de Estudios Ambientales","2025-02-11","Correo electrónico","2025-02-19",null,"",null,{"$f":"IFERROR(WORKDAY(N959,Y959,Hoja1!F951:F1067),\"\")","v":""},{"$f":"+IF(N959=\"\",\"\",IF(O959=\"\",\"SIN RESPUESTA\",(IF(O959<=P959,\"A TIEMPO\",\"FUERA DE TIEMPO\"))))","v":""},null,"A TIEMPO",4,0,null,null,{"$f":"IFERROR(VLOOKUP(F959,Hoja1!$A$50:$C$63,2),\"\")","v":5},{"$f":"IFERROR(VLOOKUP(F959,Hoja1!$A$50:$C$63,3),\"\")","v":5}]
[950,20259910016654,"2025-02-05","Persona jurídica","Virtual - Correo electrónico","Solicitud de documentos o información","Registros ambientales",null,"Subdirección de Estudios Ambientales","2025-02-17","Correo electrónico","2025-02-19",null,"",null,{"$f":"IFERROR(WORKDAY(N960,Y960,Hoja1!F952:F1068),\"\")","v":""},{"$f":"+IF(N960=\"\",\"\",IF(O960=\"\",\"SIN RESPUESTA\",(IF(O960<=P960,\"A TIEMPO\",\"FUERA DE TIEMPO\"))))","v":""},null,"A TIEMPO",8,0,null,null,{"$f":"IFERROR(VLOOKUP(F960,Hoja1!$A$50:$C$63,2),\"\")","v":5},{"$f":"IFERROR(VLOOKUP(F960,Hoja1!$A$50:$C$63,3),\"\")","v":5}]
[951,20259050016684,"2025-02-05","Persona natural","Virtual - Formulario PQRSDF","Certificación laboral o pasantía","Administrativa",null,"Grupo de Administración y Desarrollo del Talento Humano","2025-02-20","Correo electrónico","2025-02-19",null,"",null,{"$f":"IFERROR(WORKDAY(N961,Y961,Hoja1!F953:F1069),\"\")","v":""},{"$f":"+IF(N961=\"\",\"\",IF(O961=\"\",\"SIN RESPUESTA\",(IF(O961<=P961,\"A TIEMPO\",\"FUERA DE TIEMPO\"))))","v":""},null,{"$f":"+IF(C961=\"\",\"\",IF(J961=\"\",\"SIN RESPUESTA\",(IF(J961<=L961,\"A TIEMPO\",\"FUERA DE TIEMPO\"))))","v":"FUERA DE TIEMPO"},11,1,null,null,{"$f":"IFERROR(VLOOKUP(F961,Hoja1!$A$50:$C$63,2),\"\")","v":15},{"$f":"IFERROR(VLOOKUP(F961,Hoja1!$A$50:$C$63,3),\"\")","v":15}]
[952,20259910016704,"2025-02-05","Persona natural","Virtual - Correo electrónico","Certificación laboral o pasantía","Administrativa",null,"Grupo de Administración y Desarrollo del Talento Humano","2025-02-20","Correo electrónico","2025-02-19",null,"",null,{"$f":"IFERROR(WORKDAY(N962,Y962,Hoja1!F954:F1070),\"\")","v":""},{"$f":"+IF(N962=\"\",\"\",IF(O962=\"\",\"SIN RESPUESTA\",(IF(O962<=P962,\"A TIEMPO\",\"FUERA DE TIEMPO\"))))","v":""},null,{"$f":"+IF(C962=\"\",\"\",IF(J962=\"\",\"SIN RESPUESTA\",(IF(J962<=L962,\"A TIEMPO\",\"FUERA DE TIEMPO\"))))","v":"FUERA DE TIEMPO"},11,1,null,null,{"$f":"IFERROR(VLOOKUP(F962,Hoja1!$A$50:$C$63,2),\"\")","v":15},{"$f":"IFERROR(VLOOKUP(F962,Hoja1!$A$50:$C$63,3),\"\")","v":15}]
[953,20259050016674,"2025-02-05","Persona natural","Virtual - Formulario PQRSDF","Solicitud de documentos o información","Administrativa",null,"Grupo de Administración y Desarrollo del Talento Humano","2025-02-07","Correo electrónico","2025-02-19",null,"",null,{"$f":"IFERROR(WORKDAY(N963,Y963,Hoja1!F955:F1071),\"\")","v":""},{"$f":"+IF(N963=\"\",\"\",IF(O963=\"\",\"SIN RESPUESTA\",(IF(O963<=P963,\"A TIEMPO\",\"FUERA DE TIEMPO\"))))","v":""},null,"A TIEMPO",2,0,null,null,{"$f":"IFERROR(VLOOKUP(F963,Hoja1!$A$50:$C$63,2),\"\")","v":5},{"$f":"IFERROR(VLOOKUP(F963,Hoja1!$A$50:$C$63,3),\"\")","v":5}]
[954,20259910016734,"2025-02-05","Persona jurídica","Virtual - Correo electrónico","Solicitud de documentos o información","Sistema de información del recurso hídrico",null,"Subdirección de Hidrología","2025-02-18","Correo electrónico","2025-02-19",null,"",null,{"$f":"IFERROR(WORKDAY(N964,Y964,Hoja1!F956:F1072),\"\")","v":""},{"$f":"+IF(N964=\"\",\"\",IF(O964=\"\",\"SIN RESPUESTA\",(IF(O964<=P964,\"A TIEMPO\",\"FUERA DE TIEMPO\"))))","v":""},null,"A TIEMPO",9,0,null,null,{"$f":"IFERROR(VLOOKUP(F964,Hoja1!$A$50:$C$63,2),\"\")","v":5},{"$f":"IFERROR(VLOOKUP(F964,Hoja1!$A$50:$C$63,3),\"\")","v":5}]
[955,20259910016814,"2025-02-05","Persona jurídica","Virtual - Correo electrónico","Petición entre autoridades","Solicitud de información hidrometeorológica",null,"Subdirección de Meteorología","2025-02-18","Correo electrónico","2025-02-19",null,"",null,{"$f":"IFERROR(WORKDAY(N965,Y965,Hoja1!F957:F1073),\"\")","v":""},{"$f":"+IF(N965=\"\",\"\",IF(O965=\"\",\"SIN RESPUESTA\",(IF(O965<=P965,\"A TIEMPO\",\"FUERA DE TIEMPO\"))))","v":""},null,"A TIEMPO",9,0,null,null,{"$f":"IFERROR(VLOOKUP(F965,Hoja1!$A$50:$C$63,2),\"\")","v":10},{"$f":"IFERROR(VLOOKUP(F965,Hoja1!$A$50:$C$63,3),\"\")","v":10}]
[956,20259910016864,"2025-02-05","Persona jurídica","Virtual - Correo electrónico","Certificación de tiempo, clima y eventos hidrológicos","Certificaciones del tiempo y clima",null,"Subdirección de Meteorología","2025-02-24","Correo electrónico","2025-03-20",null,"",null,{"$f":"IFERROR(WORKDAY(N966,Y966,Hoja1!F958:F1074),\"\")","v":""},{"$f":"+IF(N966=\"\",\"\",IF(O966=\"\",\"SIN RESPUESTA\",(IF(O966<=P966,\"A TIEMPO\",\"FUERA DE TIEMPO\"))))","v":""},null,"A TIEMPO",13,0,null,null,{"$f":"IFERROR(VLOOKUP(F966,Hoja1!$A$50:$C$63,2),\"\")","v":15},{"$f":"IFERROR(VLOOKUP(F966,Hoja1!$A$50:$C$63,3),\"\")","v":15}]
[957,20259910016874,"2025-02-05","Persona jurídica","Virtual - Correo electrónico","Solicitud de documentos o información","Registros ambientales",null,"Subdirección de Estudios Ambientales","2025-02-19","Correo electrónico","2025-02-19",null,"",null,{"$f":"IFERROR(WORKDAY(N967,Y967,Hoja1!F959:F1075),\"\")","v":""},{"$f":"+IF(N967=\"\",\"\",IF(O967=\"\",\"SIN RESPUESTA\",(IF(O967<=P967,\"A TIEMPO\",\"FUERA DE TIEMPO\"))))","v":""},null,"A TIEMPO",10,0,null,null,{"$f":"IFERROR(VLOOKUP(F967,Hoja1!$A$50:$C$63,2),\"\")","v":5},{"$f":"IFERROR(VLOOKUP(F967,Hoja1!$A$50:$C$63,3),\"\")","v":5}]
[958,20259910016894,"2025-02-05","Persona jurídica","Virtual - Correo electrónico","Solicitud de documentos o información","Solicitud de información hidrometeorológica",null,"Subdirección de Meteorología","2025-02-10","Correo electrónico","2025-02-19",null,"",null,{"$f":"IFERROR(WORKDAY(N968,Y968,Hoja1!F960:F1076),\"\")","v":""},{"$f":"+IF(N968=\"\",\"\",IF(O968=\"\",\"SIN RESPUESTA\",(IF(O968<=P968,\"A TIEMPO\",\"FUERA DE TIEMPO\"))))","v":""},null,"A TIEMPO",3,0,null,null,{"$f":"IFERROR(VLOOKUP(F968,Hoja1!$A$50:$C$63,2),\"\")","v":5},{"$f":"IFERROR(VLOOKUP(F968,Hoja1!$A$50:$C$63,3),\"\")","v":5}]
[959,20259910016694,"2025-02-05","Persona jurídica","Virtual - Correo electrónico","Certificación de ingresos y retenciones","Administrativa",null,"Grupo de Tesorería","2025-02-06","Correo electrónico","2025-02-19",null,"",null,{"$f":"IFERROR(WORKDAY(N969,Y969,Hoja1!F961:F1077),\"\")","v":""},{"$f":"+IF(N969=\"\",\"\",IF(O969=\"\",\"SIN RESPUESTA\",(IF(O969<=P969,\"A TIEMPO\",\"FUERA DE TIEMPO\"))))","v":""},null,"A TIEMPO",1,0,null,null,{"$f":"IFERROR(VLOOKUP(F969,Hoja1!$A$50:$C$63,2),\"\")","v":15},{"$f":"IFERROR(VLOOKUP(F969,Hoja1!$A$50:$C$63,3),\"\")","v":15}]
[960,20259910016934,"2025-02-05","Persona jurídica","Virtual - Correo electrónico","Petición entre autoridades","Bosques",null,"Subdirección de Ecosistemas e Información Ambiental","2025-02-07","Correo electrónico","2025-02-19",null,"",null,{"$f":"IFERROR(WORKDAY(N970,Y970,Hoja1!F962:F1078),\"\")","v":""},{"$f":"+IF(N970=\"\",\"\",IF(O970=\"\",\"SIN RESPUESTA\",(IF(O970<=P970,\"A TIEMPO\",\"FUERA DE TIEMPO\"))))","v":""},null,"A TIEMPO",2,0,null,null,{"$f":"IFERROR(VLOOKUP(F970,Hoja1!$A$50:$C$63,2),\"\")","v":10},{"$f":"IFERROR(VLOOKUP(F970,Hoja1!$A$50:$C$63,3),\"\")","v":10}]
[961,20259050016944,"2025-02-06","Persona natural","Virtual - Formulario PQRSDF","Solicitud de documentos o información","Solicitud de información hidrometeorológica",null,"Subdirección de Meteorología","2025-02-13","Correo electrónico","2025-02-20",null,"",null,{"$f":"IFERROR(WORKDAY(N971,Y971,Hoja1!F963:F1079),\"\")","v":""},{"$f":"+IF(N971=\"\",\"\",IF(O971=\"\",\"SIN RESPUESTA\",(IF(O971<=P971,\"A TIEMPO\",\"FUERA DE TIEMPO\"))))","v":""},null,"A TIEMPO",5,0,null,null,{"$f":"IFERROR(VLOOKUP(F971,Hoja1!$A$50:$C$63,2),\"\")","v":5},{"$f":"IFERROR(VLOOKUP(F971,Hoja1!$A$50:$C$63,3),\"\")","v":5}]
[962,20259910016974,"2025-02-06","Persona natural","Virtual - Correo electrónico","Certificación de contrato","Administrativa",null,"Oficina Asesora Jurídica","2025-02-20","Correo electrónico","2025-02-20",null,"",null,{"$f":"IFERROR(WORKDAY(N972,Y972,Hoja1!F964:F1080),\"\")","v":""},{"$f":"+IF(N972=\"\",\"\",IF(O972=\"\",\"SIN RESPUESTA\",(IF(O972<=P972,\"A TIEMPO\",\"FUERA DE TIEMPO\"))))","v":""},null,"A TIEMPO",10,0,null,null,{"$f":"IFERROR(VLOOKUP(F972,Hoja1!$A$50:$C$63,2),\"\")","v":15},{"$f":"IFERROR(VLOOKUP(F972,Hoja1!$A$50:$C$63,3),\"\")","v":15}]
[963,20259050016984,"2025-02-06","Persona natural","Virtual - Formulario PQRSDF","Certificación laboral o pasantía","Administrativa",null,"Grupo de Administración y Desarrollo del Talento Humano","2025-02-21","Correo electrónico","2025-02-20",null,"",null,{"$f":"IFERROR(WORKDAY(N973,Y973,Hoja1!F965:F1081),\"\")","v":""},{"$f":"+IF(N973=\"\",\"\",IF(O973=\"\",\"SIN RESPUESTA\",(IF(O973<=P973,\"A TIEMPO\",\"FUERA DE TIEMPO\"))))","v":""},null,{"$f":"+IF(C973=\"\",\"\",IF(J973=\"\",\"SIN RESPUESTA\",(IF(J973<=L973,\"A TIEMPO\",\"FUERA DE TIEMPO\"))))","v":"FUERA DE TIEMPO"},11,1,null,null,{"$f":"IFERROR(VLOOKUP(F973,Hoja1!$A$50:$C$63,2),\"\")","v":15},{"$f":"IFERROR(VLOOKUP(F973,Hoja1!$A$50:$C$63,3),\"\")","v":15}]
[964,20259910016854,"2025-02-05","Persona jurídica","Virtual - Correo electrónico","Petición entre autoridades","Visitas académicas",null,"Subdirección de Estudios Ambientales","2025-02-11","Correo electrónico","2025-02-19",null,"",null,{"$f":"IFERROR(WORKDAY(N974,Y974,Hoja1!F966:F1082),\"\")","v":""},{"$f":"+IF(N974=\"\",\"\",IF(O974=\"\",\"SIN RESPUESTA\",(IF(O974<=P974,\"A TIEMPO\",\"FUERA DE TIEMPO\"))))","v":""},null,"A TIEMPO",4,0,null,null,{"$f":"IFERROR(VLOOKUP(F974,Hoja1!$A$50:$C$63,2),\"\")","v":10},{"$f":"IFERROR(VLOOKUP(F974,Hoja1!$A$50:$C$63,3),\"\")","v":10}]
[965,20259910016994,"2025-02-06","Persona natural","Virtual - Correo electrónico","Certificación laboral o pasantía","Administrativa",null,"Grupo de Administración y Desarrollo del Talento Humano","2025-02-21","Correo electrónico","2025-02-20",null,"",null,{"$f":"IFERROR(WORKDAY(N975,Y975,Hoja1!F967:F1083),\"\")","v":""},{"$f":"+IF(N975=\"\",\"\",IF(O975=\"\",\"SIN RESPUESTA\",(IF(O975<=P975,\"A TIEMPO\",\"FUERA DE TIEMPO\"))))","v":""},null,{"$f":"+IF(C975=\"\",\"\",IF(J975=\"\",\"SIN RESPUESTA\",(IF(J975<=L975,\"A TIEMPO\",\"FUERA DE TIEMPO\"))))","v":"FUERA DE TIEMPO"},11,1,null,null,{"$f":"IFERROR(VLOOKUP(F975,Hoja1!$A$50:$C$63,2),\"\")","v":15},{"$f":"IFERROR(VLOOKUP(F975,Hoja1!$A$50:$C$63,3),\"\")","v":15}]
[966,20259910017004,"2025-02-06","Persona jurídica","Virtual - Correo electrónico","Solicitud de documentos o información","Administrativa",null,"Grupo de Contabilidad","2025-02-17","Correo electrónico","2025-02-20",null,"",null,{"$f":"IFERROR(WORKDAY(N976,Y976,Hoja1!F968:F1084),\"\")","v":""},{"$f":"+IF(N976=\"\",\"\",IF(O976=\"\",\"SIN RESPUESTA\",(IF(O976<=P976,\"A TIEMPO\",\"FUERA DE TIEMPO\"))))","v":""},null,"A TIEMPO",7,0,null,null,{"$f":"IFERROR(VLOOKUP(F976,Hoja1!$A$50:$C$63,2),\"\")","v":5},{"$f":"IFERROR(VLOOKUP(F976,Hoja1!$A$50:$C$63,3),\"\")","v":5}]
[{"$f":"IF(B977<>\"\",A976+1,\"\")","v":967},20259910017014,"2025-02-06","Persona natural","Virtual - Correo electrónico","Solicitud de documentos o información","Solicitud de información hidrometeorológica",null,"Grupo de Servicio al Ciudadano","2025-02-11","Correo electrónico","2025-02-20",null,"",null,{"$f":"IFERROR(WORKDAY(N977,Y977,Hoja1!F969:F1085),\"\")","v":""},{"$f":"+IF(N977=\"\",\"\",IF(O977=\"\",\"SIN RESPUESTA\",(IF(O977<=P977,\"A TIEMPO\",\"FUERA DE TIEMPO\"))))","v":""},null,"A TIEMPO",3,0,null,null,{"$f":"IFERROR(VLOOKUP(F977,Hoja1!$A$50:$C$63,2),\"\")","v":5},{"$f":"IFERROR(VLOOKUP(F977,Hoja1!$A$50:$C$63,3),\"\")","v":5}]
[968,20259910017024,"2025-02-06","Persona natural","Virtual - Correo electrónico","Certificación laboral o pasantía","Administrativa",null,"Grupo de Administración y Desarrollo del Talento Humano","2025-02-20","Correo electrónico","2025-02-20",null,"",null,{"$f":"IFERROR(WORKDAY(N978,Y978,Hoja1!F970:F1086),\"\")","v":""},{"$f":"+IF(N978=\"\",\"\",IF(O978=\"\",\"SIN RESPUESTA\",(IF(O978<=P978,\"A TIEMPO\",\"FUERA DE TIEMPO\"))))","v":""},null,"A TIEMPO",10,0,null,null,{"$f":"IFERROR(VLOOKUP(F978,Hoja1!$A$50:$C$63,2),\"\")","v":15},{"$f":"IFERROR(VLOOKUP(F978,Hoja1!$A$50:$C$63,3),\"\")","v":15}]
[969,20259910017124,"2025-02-06","Persona jurídica","Virtual - Correo electrónico","Petición entre autoridades","Registros ambientales",null,"Subdirección de Estudios Ambientales","2025-02-11","Correo electrónico","2025-02-20",null,"",null,{"$f":"IFERROR(WORKDAY(N979,Y979,Hoja1!F971:F1087),\"\")","v":""},{"$f":"+IF(N979=\"\",\"\",IF(O979=\"\",\"SIN RESPUESTA\",(IF(O979<=P979,\"A TIEMPO\",\"FUERA DE TIEMPO\"))))","v":""},null,"A TIEMPO",3,0,null,null,{"$f":"IFERROR(VLOOKUP(F979,Hoja1!$A$50:$C$63,2),\"\")","v":10},{"$f":"IFERROR(VLOOKUP(F979,Hoja1!$A$50:$C$63,3),\"\")","v":10}]
[970,20259910017134,"2025-02-06","Persona natural","Virtual - Correo electrónico","Certificación laboral o pasantía","Administrativa",null,"Grupo de Administración y Desarrollo del Talento Humano","2025-02-21","Correo electrónico","2025-02-20",null,"",null,{"$f":"IFERROR(WORKDAY(N980,Y980,Hoja1!F972:F1088),\"\")","v":""},{"$f":"+IF(N980=\"\",\"\",IF(O980=\"\",\"SIN RESPUESTA\",(IF(O980<=P980,\"A TIEMPO\",\"FUERA DE TIEMPO\"))))","v":""},null,{"$f":"+IF(C980=\"\",\"\",IF(J980=\"\",\"SIN RESPUESTA\",(IF(J980<=L980,\"A TIEMPO\",\"FUERA DE TIEMPO\"))))","v":"FUERA DE TIEMPO"},11,1,null,null,{"$f":"IFERROR(VLOOKUP(F980,Hoja1!$A$50:$C$63,2),\"\")","v":15},{"$f":"IFERROR(VLOOKUP(F980,Hoja1!$A$50:$C$63,3),\"\")","v":15}]
[971,20259050017154,"2025-02-06","Persona natural","Virtual - Formulario PQRSDF","Solicitud de documentos o información","Solicitud de información hidrometeorológica",null,"Grupo de Servicio al Ciudadano","2025-02-11","Correo electrónico","2025-02-20",null,"",null,{"$f":"IFERROR(WORKDAY(N981,Y981,Hoja1!F973:F1089),\"\")","v":""},{"$f":"+IF(N981=\"\",\"\",IF(O981=\"\",\"SIN RESPUESTA\",(IF(O981<=P981,\"A TIEMPO\",\"FUERA DE TIEMPO\"))))","v":""},null,"A TIEMPO",3,0,null,null,{"$f":"IFERROR(VLOOKUP(F981,Hoja1!$A$50:$C$63,2),\"\")","v":5},{"$f":"IFERROR(VLOOKUP(F981,Hoja1!$A$50:$C$63,3),\"\")","v":5}]
[972,20259910017184,"2025-02-06","Persona jurídica","Virtual - Correo electrónico","Solicitud de documentos o información","Solicitud de información hidrometeorológica",null,"Grupo de Servicio al Ciudadano","2025-02-11","Correo electrónico","2025-02-20",null,"",null,{"$f":"IFERROR(WORKDAY(N982,Y982,Hoja1!F974:F1090),\"\")","v":""},{"$f":"+IF(N982=\"\",\"\",IF(O982=\"\",\"SIN RESPUESTA\",(IF(O982<=P982,\"A TIEMPO\",\"FUERA DE TIEMPO\"))))","v":""},null,"A TIEMPO",3,0,null,null,{"$f":"IFERROR(VLOOKUP(F982,Hoja1!$A$50:$C$63,2),\"\")","v":5},{"$f":"IFERROR(VLOOKUP(F982,Hoja1!$A$50:$C$63,3),\"\")","v":5}]
[973,20259910017194,"2025-02-06","Persona jurídica","Virtual - Correo electrónico","Solicitud de documentos o información","Solicitud de información hidrometeorológica",null,"Grupo de Servicio al Ciudadano","2025-02-10","Correo electrónico","2025-02-20",null,"",null,{"$f":"IFERROR(WORKDAY(N983,Y983,Hoja1!F975:F1091),\"\")","v":""},{"$f":"+IF(N983=\"\",\"\",IF(O983=\"\",\"SIN RESPUESTA\",(IF(O983<=P983,\"A TIEMPO\",\"FUERA DE TIEMPO\"))))","v":""},null,"A TIEMPO",2,0,null,null,{"$f":"IFERROR(VLOOKUP(F983,Hoja1!$A$50:$C$63,2),\"\")","v":5},{"$f":"IFERROR(VLOOKUP(F983,Hoja1!$A$50:$C$63,3),\"\")","v":5}]
[974,20259050017214,"2025-02-06","Persona natural","Virtual - Formulario PQRSDF","Certificación de contrato","Administrativa",null,"Oficina Asesora Jurídica","2025-02-20","Correo electrónico","2025-02-20",null,"",null,{"$f":"IFERROR(WORKDAY(N984,Y984,Hoja1!F976:F1092),\"\")","v":""},{"$f":"+IF(N984=\"\",\"\",IF(O984=\"\",\"SIN RESPUESTA\",(IF(O984<=P984,\"A TIEMPO\",\"FUERA DE TIEMPO\"))))","v":""},null,"A TIEMPO",10,0,null,null,{"$f":"IFERROR(VLOOKUP(F984,Hoja1!$A$50:$C$63,2),\"\")","v":15},{"$f":"IFERROR(VLOOKUP(F984,Hoja1!$A$50:$C$63,3),\"\")","v":15}]
[975,20259910017294,"2025-02-06","Persona natural","Virtual - Correo electrónico","Solicitud de documentos o información","Solicitud de información hidrometeorológica",null,"Grupo de Servicio al Ciudadano","2025-02-13","Correo electrónico","2025-02-20",null,"",null,{"$f":"IFERROR(WORKDAY(N985,Y985,Hoja1!F977:F1093),\"\")","v":""},{"$f":"+IF(N985=\"\",\"\",IF(O985=\"\",\"SIN RESPUESTA\",(IF(O985<=P985,\"A TIEMPO\",\"FUERA DE TIEMPO\"))))","v":""},null,"A TIEMPO",5,0,null,null,{"$f":"IFERROR(VLOOKUP(F985,Hoja1!$A$50:$C$63,2),\"\")","v":5},{"$f":"IFERROR(VLOOKUP(F985,Hoja1!$A$50:$C$63,3),\"\")","v":5}]
[976,20259910017304,"2025-02-06","Persona natural","Virtual - Correo electrónico","Certificación de contrato","Administrativa",null,"Oficina Asesora Jurídica","2025-02-20","Correo electrónico","2025-02-20",null,"",null,{"$f":"IFERROR(WORKDAY(N986,Y986,Hoja1!F978:F1094),\"\")","v":""},{"$f":"+IF(N986=\"\",\"\",IF(O986=\"\",\"SIN RESPUESTA\",(IF(O986<=P986,\"A TIEMPO\",\"FUERA DE TIEMPO\"))))","v":""},null,"A TIEMPO",10,0,null,null,{"$f":"IFERROR(VLOOKUP(F986,Hoja1!$A$50:$C$63,2),\"\")","v":15},{"$f":"IFERROR(VLOOKUP(F986,Hoja1!$A$50:$C$63,3),\"\")","v":15}]
[977,20259050017314,"2025-02-06","Persona jurídica","Virtual - Formulario PQRSDF","Solicitud de documentos o información","Registros ambientales",null,"Subdirección de Estudios Ambientales","2025-02-17","Correo electrónico","2025-02-20",null,"",null,{"$f":"IFERROR(WORKDAY(N987,Y987,Hoja1!F979:F1095),\"\")","v":""},{"$f":"+IF(N987=\"\",\"\",IF(O987=\"\",\"SIN RESPUESTA\",(IF(O987<=P987,\"A TIEMPO\",\"FUERA DE TIEMPO\"))))","v":""},null,"A TIEMPO",7,0,null,null,{"$f":"IFERROR(VLOOKUP(F987,Hoja1!$A$50:$C$63,2),\"\")","v":5},{"$f":"IFERROR(VLOOKUP(F987,Hoja1!$A$50:$C$63,3),\"\")","v":5}]
[978,20259050017324,"2025-02-06","Persona jurídica","Virtual - Formulario PQRSDF","Certificación de ingresos y retenciones","Administrativa",null,"Grupo de Contabilidad","2025-02-17","Correo electrónico","2025-02-20",null,"",null,{"$f":"IFERROR(WORKDAY(N988,Y988,Hoja1!F980:F1096),\"\")","v":""},{"$f":"+IF(N988=\"\",\"\",IF(O988=\"\",\"SIN RESPUESTA\",(IF(O988<=P988,\"A TIEMPO\",\"FUERA DE TIEMPO\"))))","v":""},null,"A TIEMPO",7,0,null,null,{"$f":"IFERROR(VLOOKUP(F988,Hoja1!$A$50:$C$63,2),\"\")","v":15},{"$f":"IFERROR(VLOOKUP(F988,Hoja1!$A$50:$C$63,3),\"\")","v":15}]
[979,20259910017334,"2025-02-06","Persona natural","Virtual - Correo electrónico","Certificación de ingresos y retenciones","Administrativa",null,"Grupo de Tesorería","2025-02-06","Correo electrónico","2025-02-20",null,"",null,{"$f":"IFERROR(WORKDAY(N989,Y989,Hoja1!F981:F1097),\"\")","v":""},{"$f":"+IF(N989=\"\",\"\",IF(O989=\"\",\"SIN RESPUESTA\",(IF(O989<=P989,\"A TIEMPO\",\"FUERA DE TIEMPO\"))))","v":""},null,"A TIEMPO",0,0,null,null,{"$f":"IFERROR(VLOOKUP(F989,Hoja1!$A$50:$C$63,2),\"\")","v":15},{"$f":"IFERROR(VLOOKUP(F989,Hoja1!$A$50:$C$63,3),\"\")","v":15}]
[980,20259910017344,"2025-02-06","Persona jurídica","Virtual - Correo electrónico","Solicitud de documentos o información","Registros ambientales",null,"Subdirección de Estudios Ambientales","2025-02-12","Correo electrónico","2025-02-20",null,"",null,{"$f":"IFERROR(WORKDAY(N990,Y990,Hoja1!F982:F1098),\"\")","v":""},{"$f":"+IF(N990=\"\",\"\",IF(O990=\"\",\"SIN RESPUESTA\",(IF(O990<=P990,\"A TIEMPO\",\"FUERA DE TIEMPO\"))))","v":""},null,"A TIEMPO",4,0,null,null,{"$f":"IFERROR(VLOOKUP(F990,Hoja1!$A$50:$C$63,2),\"\")","v":5},{"$f":"IFERROR(VLOOKUP(F990,Hoja1!$A$50:$C$63,3),\"\")","v":5}]
[981,20259910017354,"2025-02-06","Persona jurídica","Virtual - Correo electrónico","Solicitud de documentos o información","Bosques",null,"Grupo de Servicio al Ciudadano","2025-02-17","Correo electrónico","2025-02-20",null,"",null,{"$f":"IFERROR(WORKDAY(N991,Y991,Hoja1!F983:F1099),\"\")","v":""},{"$f":"+IF(N991=\"\",\"\",IF(O991=\"\",\"SIN RESPUESTA\",(IF(O991<=P991,\"A TIEMPO\",\"FUERA DE TIEMPO\"))))","v":""},null,"A TIEMPO",7,0,null,null,{"$f":"IFERROR(VLOOKUP(F991,Hoja1!$A$50:$C$63,2),\"\")","v":5},{"$f":"IFERROR(VLOOKUP(F991,Hoja1!$A$50:$C$63,3),\"\")","v":5}]
[982,20259910017364,"2025-02-06","Persona jurídica","Virtual - Correo electrónico","Petición entre autoridades","Bosques",null,"Subdirección de Ecosistemas e Información Ambiental","2025-02-20","Correo electrónico","2025-02-20",null,"",null,{"$f":"IFERROR(WORKDAY(N992,Y992,Hoja1!F984:F1100),\"\")","v":""},{"$f":"+IF(N992=\"\",\"\",IF(O992=\"\",\"SIN RESPUESTA\",(IF(O992<=P992,\"A TIEMPO\",\"FUERA DE TIEMPO\"))))","v":""},null,"A TIEMPO",10,0,null,null,{"$f":"IFERROR(VLOOKUP(F992,Hoja1!$A$50:$C$63,2),\"\")","v":10},{"$f":"IFERROR(VLOOKUP(F992,Hoja1!$A$50:$C$63,3),\"\")","v":10}]
[983,20259910017374,"2025-02-06","Persona jurídica","Virtual - Correo electrónico","Certificación de contrato","Administrativa",null,"Oficina Asesora Jurídica","2025-02-20","Correo electrónico","2025-02-20",null,"",null,{"$f":"IFERROR(WORKDAY(N993,Y993,Hoja1!F985:F1101),\"\")","v":""},{"$f":"+IF(N993=\"\",\"\",IF(O993=\"\",\"SIN RESPUESTA\",(IF(O993<=P993,\"A TIEMPO\",\"FUERA DE TIEMPO\"))))","v":""},null,"A TIEMPO",10,0,null,null,{"$f":"IFERROR(VLOOKUP(F993,Hoja1!$A$50:$C$63,2),\"\")","v":15},{"$f":"IFERROR(VLOOKUP(F993,Hoja1!$A$50:$C$63,3),\"\")","v":15}]
[984,20259910017394,"2025-02-06","Persona natural","Virtual - Correo electrónico","Certificación de contrato","Administrativa",null,"Oficina Asesora Jurídica","2025-02-12","Correo electrónico","2025-02-20",null,"",null,{"$f":"IFERROR(WORKDAY(N994,Y994,Hoja1!F986:F1102),\"\")","v":""},{"$f":"+IF(N994=\"\",\"\",IF(O994=\"\",\"SIN RESPUESTA\",(IF(O994<=P994,\"A TIEMPO\",\"FUERA DE TIEMPO\"))))","v":""},null,"A TIEMPO",4,0,null,null,{"$f":"IFERROR(VLOOKUP(F994,Hoja1!$A$50:$C$63,2),\"\")","v":15},{"$f":"IFERROR(VLOOKUP(F994,Hoja1!$A$50:$C$63,3),\"\")","v":15}]
[985,20259050017404,"2025-02-06","Persona natural","Virtual - Formulario PQRSDF","Certificación de ingresos y retenciones","Administrativa",null,"Grupo de Tesorería","2025-02-10","Correo electrónico","2025-02-20",null,"",null,{"$f":"IFERROR(WORKDAY(N995,Y995,Hoja1!F987:F1103),\"\")","v":""},{"$f":"+IF(N995=\"\",\"\",IF(O995=\"\",\"SIN RESPUESTA\",(IF(O995<=P995,\"A TIEMPO\",\"FUERA DE TIEMPO\"))))","v":""},null,"A TIEMPO",2,0,null,null,{"$f":"IFERROR(VLOOKUP(F995,Hoja1!$A$50:$C$63,2),\"\")","v":15},{"$f":"IFERROR(VLOOKUP(F995,Hoja1!$A$50:$C$63,3),\"\")","v":15}]
[986,20259910017434,"2025-02-06","Persona jurídica","Virtual - Correo electrónico","Solicitud de documentos o información","Solicitud de información hidrometeorológica",null,"Grupo de Servicio al Ciudadano","2025-02-11","Correo electrónico","2025-02-20",null,"",null,{"$f":"IFERROR(WORKDAY(N996,Y996,Hoja1!F988:F1104),\"\")","v":""},{"$f":"+IF(N996=\"\",\"\",IF(O996=\"\",\"SIN RESPUESTA\",(IF(O996<=P996,\"A TIEMPO\",\"FUERA DE TIEMPO\"))))","v":""},null,"A TIEMPO",3,0,null,null,{"$f":"IFERROR(VLOOKUP(F996,Hoja1!$A$50:$C$63,2),\"\")","v":5},{"$f":"IFERROR(VLOOKUP(F996,Hoja1!$A$50:$C$63,3),\"\")","v":5}]
[987,20259910017444,"2025-02-06","Persona jurídica","Virtual - Correo electrónico","Solicitud de documentos o información","Acreditación de laboratorios",null,"Subdirección de Estudios Ambientales","2025-02-12","Correo electrónico","2025-02-20",null,"",null,{"$f":"IFERROR(WORKDAY(N997,Y997,Hoja1!F989:F1105),\"\")","v":""},{"$f":"+IF(N997=\"\",\"\",IF(O997=\"\",\"SIN RESPUESTA\",(IF(O997<=P997,\"A TIEMPO\",\"FUERA DE TIEMPO\"))))","v":""},null,"A TIEMPO",4,0,null,null,{"$f":"IFERROR(VLOOKUP(F997,Hoja1!$A$50:$C$63,2),\"\")","v":5},{"$f":"IFERROR(VLOOKUP(F997,Hoja1!$A$50:$C$63,3),\"\")","v":5}]
[988,20259910017484,"2025-02-06","Persona jurídica","Virtual - Correo electrónico","Certificación de contrato","Administrativa",null,"Oficina Asesora Jurídica","2025-02-13","Correo electrónico","2025-02-20",null,"",null,{"$f":"IFERROR(WORKDAY(N998,Y998,Hoja1!F990:F1106),\"\")","v":""},{"$f":"+IF(N998=\"\",\"\",IF(O998=\"\",\"SIN RESPUESTA\",(IF(O998<=P998,\"A TIEMPO\",\"FUERA DE TIEMPO\"))))","v":""},null,"A TIEMPO",5,0,null,null,{"$f":"IFERROR(VLOOKUP(F998,Hoja1!$A$50:$C$63,2),\"\")","v":15},{"$f":"IFERROR(VLOOKUP(F998,Hoja1!$A$50:$C$63,3),\"\")","v":15}]
[989,20259050017504,"2025-02-06","Persona jurídica","Virtual - Formulario PQRSDF","Solicitud de documentos o información","Registros ambientales",null,"Subdirección de Estudios Ambientales","2025-02-11","Correo electrónico","2025-02-20",null,"",null,{"$f":"IFERROR(WORKDAY(N999,Y999,Hoja1!F991:F1107),\"\")","v":""},{"$f":"+IF(N999=\"\",\"\",IF(O999=\"\",\"SIN RESPUESTA\",(IF(O999<=P999,\"A TIEMPO\",\"FUERA DE TIEMPO\"))))","v":""},null,"A TIEMPO",3,0,null,null,{"$f":"IFERROR(VLOOKUP(F999,Hoja1!$A$50:$C$63,2),\"\")","v":5},{"$f":"IFERROR(VLOOKUP(F999,Hoja1!$A$50:$C$63,3),\"\")","v":5}]
[990,20259050017524,"2025-02-06","Anónimo","Virtual - Formulario PQRSDF","Solicitud de documentos o información","Administrativa",null,"Secretaría General","2025-03-26","Página web","2025-02-20",null,"",null,{"$f":"IFERROR(WORKDAY(N1000,Y1000,Hoja1!F992:F1108),\"\")","v":""},{"$f":"+IF(N1000=\"\",\"\",IF(O1000=\"\",\"SIN RESPUESTA\",(IF(O1000<=P1000,\"A TIEMPO\",\"FUERA DE TIEMPO\"))))","v":""},null,{"$f":"+IF(C1000=\"\",\"\",IF(J1000=\"\",\"SIN RESPUESTA\",(IF(J1000<=L1000,\"A TIEMPO\",\"FUERA DE TIEMPO\"))))","v":"FUERA DE TIEMPO"},32,22,null,null,{"$f":"IFERROR(VLOOKUP(F1000,Hoja1!$A$50:$C$63,2),\"\")","v":5},{"$f":"IFERROR(VLOOKUP(F1000,Hoja1!$A$50:$C$63,3),\"\")","v":5}]
[991,20259050017564,"2025-02-06","Persona natural","Virtual - Formulario PQRSDF","Certificación laboral o pasantía","Administrativa",null,"Grupo de Administración y Desarrollo del Talento Humano","2025-02-14","Correo electrónico","2025-02-20",null,"",null,{"$f":"IFERROR(WORKDAY(N1001,Y1001,Hoja1!F993:F1109),\"\")","v":""},{"$f":"+IF(N1001=\"\",\"\",IF(O1001=\"\",\"SIN RESPUESTA\",(IF(O1001<=P1001,\"A TIEMPO\",\"FUERA DE TIEMPO\"))))","v":""},null,"A TIEMPO",6,0,null,null,{"$f":"IFERROR(VLOOKUP(F1001,Hoja1!$A$50:$C$63,2),\"\")","v":15},{"$f":"IFERROR(VLOOKUP(F1001,Hoja1!$A$50:$C$63,3),\"\")","v":15}]
[992,20259050017574,"2025-02-06","Persona natural","Virtual - Formulario PQRSDF","Solicitud de documentos o información","Solicitud de información hidrometeorológica",null,"Grupo de Servicio al Ciudadano","2025-02-11","Correo electrónico","2025-02-20",null,"",null,{"$f":"IFERROR(WORKDAY(N1002,Y1002,Hoja1!F994:F1110),\"\")","v":""},{"$f":"+IF(N1002=\"\",\"\",IF(O1002=\"\",\"SIN RESPUESTA\",(IF(O1002<=P1002,\"A TIEMPO\",\"FUERA DE TIEMPO\"))))","v":""},null,"A TIEMPO",3,0,null,null,{"$f":"IFERROR(VLOOKUP(F1002,Hoja1!$A$50:$C$63,2),\"\")","v":5},{"$f":"IFERROR(VLOOKUP(F1002,Hoja1!$A$50:$C$63,3),\"\")","v":5}]
[993,20259910017594,"2025-02-06","Persona jurídica","Virtual - Correo electrónico","Certificación de tiempo, clima y eventos hidrológicos","Certificaciones del tiempo y clima",null,"Subdirección de Meteorología","2025-02-17","Correo electrónico","2025-03-21",null,"",null,{"$f":"IFERROR(WORKDAY(N1003,Y1003,Hoja1!F995:F1111),\"\")","v":""},{"$f":"+IF(N1003=\"\",\"\",IF(O1003=\"\",\"SIN RESPUESTA\",(IF(O1003<=P1003,\"A TIEMPO\",\"FUERA DE TIEMPO\"))))","v":""},null,"A TIEMPO",7,0,null,null,{"$f":"IFERROR(VLOOKUP(F1003,Hoja1!$A$50:$C$63,2),\"\")","v":15},{"$f":"IFERROR(VLOOKUP(F1003,Hoja1!$A$50:$C$63,3),\"\")","v":15}]
[994,20259050017704,"2025-02-06","Persona natural","Virtual - Formulario PQRSDF","Certificación de contrato","Administrativa",null,"Oficina Asesora Jurídica","2025-02-11","Correo electrónico","2025-02-20",null,"",null,{"$f":"IFERROR(WORKDAY(N1004,Y1004,Hoja1!F996:F1112),\"\")","v":""},{"$f":"+IF(N1004=\"\",\"\",IF(O1004=\"\",\"SIN RESPUESTA\",(IF(O1004<=P1004,\"A TIEMPO\",\"FUERA DE TIEMPO\"))))","v":""},null,"A TIEMPO",3,0,null,null,{"$f":"IFERROR(VLOOKUP(F1004,Hoja1!$A$50:$C$63,2),\"\")","v":15},{"$f":"IFERROR(VLOOKUP(F1004,Hoja1!$A$50:$C$63,3),\"\")","v":15}]
[995,20259910017604,"2025-02-06","Persona jurídica","Virtual - Correo electrónico","Solicitud de documentos o información","Registros ambientales",null,"Subdirección de Estudios Ambientales","2025-02-11","Correo electrónico","2025-02-20",null,"",null,{"$f":"IFERROR(WORKDAY(N1005,Y1005,Hoja1!F997:F1113),\"\")","v":""},{"$f":"+IF(N1005=\"\",\"\",IF(O1005=\"\",\"SIN RESPUESTA\",(IF(O1005<=P1005,\"A TIEMPO\",\"FUERA DE TIEMPO\"))))","v":""},null,"A TIEMPO",3,0,null,null,{"$f":"IFERROR(VLOOKUP(F1005,Hoja1!$A$50:$C$63,2),\"\")","v":5},{"$f":"IFERROR(VLOOKUP(F1005,Hoja1!$A$50:$C$63,3),\"\")","v":5}]
[996,20259050017694,"2025-02-06","Persona natural","Virtual - Formulario PQRSDF","Certificación de contrato","Administrativa",null,"Oficina Asesora Jurídica","2025-02-20","Correo electrónico","2025-02-20",null,"",null,{"$f":"IFERROR(WORKDAY(N1006,Y1006,Hoja1!F998:F1114),\"\")","v":""},{"$f":"+IF(N1006=\"\",\"\",IF(O1006=\"\",\"SIN RESPUESTA\",(IF(O1006<=P1006,\"A TIEMPO\",\"FUERA DE TIEMPO\"))))","v":""},null,"A TIEMPO",10,0,null,null,{"$f":"IFERROR(VLOOKUP(F1006,Hoja1!$A$50:$C$63,2),\"\")","v":15},{"$f":"IFERROR(VLOOKUP(F1006,Hoja1!$A$50:$C$63,3),\"\")","v":15}]
[997,20259910017614,"2025-02-06","Persona jurídica","Virtual - Correo electrónico","Petición entre autoridades","Sistema de información del recurso hídrico",null,"Subdirección de Hidrología","2025-02-28","Correo electrónico","2025-02-20",null,"",null,{"$f":"IFERROR(WORKDAY(N1007,Y1007,Hoja1!F999:F1115),\"\")","v":""},{"$f":"+IF(N1007=\"\",\"\",IF(O1007=\"\",\"SIN RESPUESTA\",(IF(O1007<=P1007,\"A TIEMPO\",\"FUERA DE TIEMPO\"))))","v":""},null,{"$f":"+IF(C1007=\"\",\"\",IF(J1007=\"\",\"SIN RESPUESTA\",(IF(J1007<=L1007,\"A TIEMPO\",\"FUERA DE TIEMPO\"))))","v":"FUERA DE TIEMPO"},16,6,null,null,{"$f":"IFERROR(VLOOKUP(F1007,Hoja1!$A$50:$C$63,2),\"\")","v":10},{"$f":"IFERROR(VLOOKUP(F1007,Hoja1!$A$50:$C$63,3),\"\")","v":10}]
[998,20259910017634,"2025-02-06","Persona jurídica","Virtual - Correo electrónico","Solicitud de documentos o información","Solicitud de información hidrometeorológica",null,"Subdirección de Meteorología","2025-02-11","Correo electrónico","2025-02-20",null,"",null,{"$f":"IFERROR(WORKDAY(N1008,Y1008,Hoja1!F1000:F1116),\"\")","v":""},{"$f":"+IF(N1008=\"\",\"\",IF(O1008=\"\",\"SIN RESPUESTA\",(IF(O1008<=P1008,\"A TIEMPO\",\"FUERA DE TIEMPO\"))))","v":""},null,"A TIEMPO",3,0,null,null,{"$f":"IFERROR(VLOOKUP(F1008,Hoja1!$A$50:$C$63,2),\"\")","v":5},{"$f":"IFERROR(VLOOKUP(F1008,Hoja1!$A$50:$C$63,3),\"\")","v":5}]
[999,20259050017674,"2025-02-06","Persona natural","Virtual - Formulario PQRSDF","Solicitud de documentos o información","Solicitud de información hidrometeorológica",null,"Grupo de Servicio al Ciudadano","2025-02-11","Correo electrónico","2025-02-20",null,"",null,{"$f":"IFERROR(WORKDAY(N1009,Y1009,Hoja1!F1001:F1117),\"\")","v":""},{"$f":"+IF(N1009=\"\",\"\",IF(O1009=\"\",\"SIN RESPUESTA\",(IF(O1009<=P1009,\"A TIEMPO\",\"FUERA DE TIEMPO\"))))","v":""},null,"A TIEMPO",3,0,null,null,{"$f":"IFERROR(VLOOKUP(F1009,Hoja1!$A$50:$C$63,2),\"\")","v":5},{"$f":"IFERROR(VLOOKUP(F1009,Hoja1!$A$50:$C$63,3),\"\")","v":5}]
[1000,20259910017664,"2025-02-06","Persona jurídica","Virtual - Correo electrónico","Solicitud de documentos o información","Registros ambientales",null,"Subdirección de Estudios Ambientales","2025-02-11","Correo electrónico","2025-02-20",null,"",null,{"$f":"IFERROR(WORKDAY(N1010,Y1010,Hoja1!F1002:F1118),\"\")","v":""},{"$f":"+IF(N1010=\"\",\"\",IF(O1010=\"\",\"SIN RESPUESTA\",(IF(O1010<=P1010,\"A TIEMPO\",\"FUERA DE TIEMPO\"))))","v":""},null,"A TIEMPO",3,0,null,null,{"$f":"IFERROR(VLOOKUP(F1010,Hoja1!$A$50:$C$63,2),\"\")","v":5},{"$f":"IFERROR(VLOOKUP(F1010,Hoja1!$A$50:$C$63,3),\"\")","v":5}]
[1001,20259910017724,"2025-02-06","Persona jurídica","Virtual - Correo electrónico","Solicitud de documentos o información","Registros ambientales",null,"Subdirección de Estudios Ambientales","2025-02-19","Correo electrónico","2025-02-20",null,"",null,{"$f":"IFERROR(WORKDAY(N1011,Y1011,Hoja1!F1003:F1119),\"\")","v":""},{"$f":"+IF(N1011=\"\",\"\",IF(O1011=\"\",\"SIN RESPUESTA\",(IF(O1011<=P1011,\"A TIEMPO\",\"FUERA DE TIEMPO\"))))","v":""},null,"A TIEMPO",9,0,null,null,{"$f":"IFERROR(VLOOKUP(F1011,Hoja1!$A$50:$C$63,2),\"\")","v":5},{"$f":"IFERROR(VLOOKUP(F1011,Hoja1!$A$50:$C$63,3),\"\")","v":5}]
[1002,20259910017714,"2025-02-06","Persona jurídica","Virtual - Correo electrónico","Solicitud de documentos o información","Administrativa",null,"Grupo de Contabilidad","2025-02-17","Correo electrónico","2025-02-20",null,"",null,{"$f":"IFERROR(WORKDAY(N1012,Y1012,Hoja1!F1004:F1120),\"\")","v":""},{"$f":"+IF(N1012=\"\",\"\",IF(O1012=\"\",\"SIN RESPUESTA\",(IF(O1012<=P1012,\"A TIEMPO\",\"FUERA DE TIEMPO\"))))","v":""},null,"A TIEMPO",7,0,null,null,{"$f":"IFERROR(VLOOKUP(F1012,Hoja1!$A$50:$C$63,2),\"\")","v":5},{"$f":"IFERROR(VLOOKUP(F1012,Hoja1!$A$50:$C$63,3),\"\")","v":5}]
[1003,20259910017734,"2025-02-06","Persona jurídica","Virtual - Correo electrónico","Solicitud de documentos o información","Solicitud de información hidrometeorológica",null,"Subdirección de Meteorología","2025-02-14","Correo electrónico","2025-02-20",null,"",null,{"$f":"IFERROR(WORKDAY(N1013,Y1013,Hoja1!F1005:F1121),\"\")","v":""},{"$f":"+IF(N1013=\"\",\"\",IF(O1013=\"\",\"SIN RESPUESTA\",(IF(O1013<=P1013,\"A TIEMPO\",\"FUERA DE TIEMPO\"))))","v":""},null,"A TIEMPO",6,0,null,null,{"$f":"IFERROR(VLOOKUP(F1013,Hoja1!$A$50:$C$63,2),\"\")","v":5},{"$f":"IFERROR(VLOOKUP(F1013,Hoja1!$A$50:$C$63,3),\"\")","v":5}]
[1004,20259050017864,"2025-02-07","Persona natural","Virtual - Formulario PQRSDF","Certificación de contrato","Administrativa",null,"Oficina Asesora Jurídica","2025-02-21","Correo electrónico","2025-02-21",null,"",null,{"$f":"IFERROR(WORKDAY(N1014,Y1014,Hoja1!F1006:F1122),\"\")","v":""},{"$f":"+IF(N1014=\"\",\"\",IF(O1014=\"\",\"SIN RESPUESTA\",(IF(O1014<=P1014,\"A TIEMPO\",\"FUERA DE TIEMPO\"))))","v":""},null,"A TIEMPO",10,0,null,null,{"$f":"IFERROR(VLOOKUP(F1014,Hoja1!$A$50:$C$63,2),\"\")","v":15},{"$f":"IFERROR(VLOOKUP(F1014,Hoja1!$A$50:$C$63,3),\"\")","v":15}]
[1005,20259050017874,"2025-02-07","Persona natural","Virtual - Formulario PQRSDF","Certificación de contrato","Administrativa",null,"Oficina Asesora Jurídica","2025-02-21","Correo electrónico","2025-02-21",null,"",null,{"$f":"IFERROR(WORKDAY(N1015,Y1015,Hoja1!F1007:F1123),\"\")","v":""},{"$f":"+IF(N1015=\"\",\"\",IF(O1015=\"\",\"SIN RESPUESTA\",(IF(O1015<=P1015,\"A TIEMPO\",\"FUERA DE TIEMPO\"))))","v":""},null,"A TIEMPO",10,0,null,null,{"$f":"IFERROR(VLOOKUP(F1015,Hoja1!$A$50:$C$63,2),\"\")","v":15},{"$f":"IFERROR(VLOOKUP(F1015,Hoja1!$A$50:$C$63,3),\"\")","v":15}]
[1006,20259050017904,"2025-02-07","Persona natural","Virtual - Formulario PQRSDF","Certificación de contrato","Administrativa",null,"Oficina Asesora Jurídica","2025-02-21","Correo electrónico","2025-02-21",null,"",null,{"$f":"IFERROR(WORKDAY(N1016,Y1016,Hoja1!F1008:F1124),\"\")","v":""},{"$f":"+IF(N1016=\"\",\"\",IF(O1016=\"\",\"SIN RESPUESTA\",(IF(O1016<=P1016,\"A TIEMPO\",\"FUERA DE TIEMPO\"))))","v":""},null,"A TIEMPO",10,0,null,null,{"$f":"IFERROR(VLOOKUP(F1016,Hoja1!$A$50:$C$63,2),\"\")","v":15},{"$f":"IFERROR(VLOOKUP(F1016,Hoja1!$A$50:$C$63,3),\"\")","v":15}]
[1007,20259050017924,"2025-02-07","Persona jurídica","Virtual - Formulario PQRSDF","Solicitud de documentos o información","Solicitud de información hidrometeorológica",null,"Oficina del Servicio de Pronósticos y Alertas","2025-02-13","Correo electrónico","2025-02-21",null,"",null,{"$f":"IFERROR(WORKDAY(N1017,Y1017,Hoja1!F1009:F1125),\"\")","v":""},{"$f":"+IF(N1017=\"\",\"\",IF(O1017=\"\",\"SIN RESPUESTA\",(IF(O1017<=P1017,\"A TIEMPO\",\"FUERA DE TIEMPO\"))))","v":""},null,"A TIEMPO",4,0,null,null,{"$f":"IFERROR(VLOOKUP(F1017,Hoja1!$A$50:$C$63,2),\"\")","v":5},{"$f":"IFERROR(VLOOKUP(F1017,Hoja1!$A$50:$C$63,3),\"\")","v":5}]
[1008,20259910017934,"2025-02-07","Persona natural","Virtual - Correo electrónico","Solicitud de documentos o información","Visitas académicas",null,"Grupo de Servicio al Ciudadano","2025-02-11","Correo electrónico","2025-02-21",null,"",null,{"$f":"IFERROR(WORKDAY(N1018,Y1018,Hoja1!F1010:F1126),\"\")","v":""},{"$f":"+IF(N1018=\"\",\"\",IF(O1018=\"\",\"SIN RESPUESTA\",(IF(O1018<=P1018,\"A TIEMPO\",\"FUERA DE TIEMPO\"))))","v":""},null,"A TIEMPO",2,0,null,null,{"$f":"IFERROR(VLOOKUP(F1018,Hoja1!$A$50:$C$63,2),\"\")","v":5},{"$f":"IFERROR(VLOOKUP(F1018,Hoja1!$A$50:$C$63,3),\"\")","v":5}]
[1009,20259910017964,"2025-02-07","Persona jurídica","Virtual - Correo electrónico","Certificación de tiempo, clima y eventos hidrológicos","Certificaciones del tiempo y clima",null,"Subdirección de Meteorología","2025-02-17","Correo electrónico","2025-03-25",null,"",null,{"$f":"IFERROR(WORKDAY(N1019,Y1019,Hoja1!F1011:F1127),\"\")","v":""},{"$f":"+IF(N1019=\"\",\"\",IF(O1019=\"\",\"SIN RESPUESTA\",(IF(O1019<=P1019,\"A TIEMPO\",\"FUERA DE TIEMPO\"))))","v":""},null,"A TIEMPO",6,0,null,null,{"$f":"IFERROR(VLOOKUP(F1019,Hoja1!$A$50:$C$63,2),\"\")","v":15},{"$f":"IFERROR(VLOOKUP(F1019,Hoja1!$A$50:$C$63,3),\"\")","v":15}]
[1010,20259910017974,"2025-02-07","Persona jurídica","Virtual - Correo electrónico","Solicitud de documentos o información","Sistema de información ambiental",null,"Subdirección de Estudios Ambientales","2025-02-19","Correo electrónico","2025-02-21",null,"",null,{"$f":"IFERROR(WORKDAY(N1020,Y1020,Hoja1!F1012:F1128),\"\")","v":""},{"$f":"+IF(N1020=\"\",\"\",IF(O1020=\"\",\"SIN RESPUESTA\",(IF(O1020<=P1020,\"A TIEMPO\",\"FUERA DE TIEMPO\"))))","v":""},null,"A TIEMPO",8,0,null,null,{"$f":"IFERROR(VLOOKUP(F1020,Hoja1!$A$50:$C$63,2),\"\")","v":5},{"$f":"IFERROR(VLOOKUP(F1020,Hoja1!$A$50:$C$63,3),\"\")","v":5}]
[1011,20259050018014,"2025-02-07","Persona natural","Virtual - Formulario PQRSDF","Solicitud de documentos o información","Solicitud de información hidrometeorológica",null,"Grupo de Servicio al Ciudadano","2025-02-11","Correo electrónico","2025-02-21",null,"",null,{"$f":"IFERROR(WORKDAY(N1021,Y1021,Hoja1!F1013:F1129),\"\")","v":""},{"$f":"+IF(N1021=\"\",\"\",IF(O1021=\"\",\"SIN RESPUESTA\",(IF(O1021<=P1021,\"A TIEMPO\",\"FUERA DE TIEMPO\"))))","v":""},null,"A TIEMPO",2,0,null,null,{"$f":"IFERROR(VLOOKUP(F1021,Hoja1!$A$50:$C$63,2),\"\")","v":5},{"$f":"IFERROR(VLOOKUP(F1021,Hoja1!$A$50:$C$63,3),\"\")","v":5}]
[1012,20259910018054,"2025-02-07","Persona jurídica","Virtual - Correo electrónico","Solicitud de documentos o información","Registros ambientales",null,"Subdirección de Estudios Ambientales","2025-02-11","Correo electrónico","2025-02-21",null,"",null,{"$f":"IFERROR(WORKDAY(N1022,Y1022,Hoja1!F1014:F1130),\"\")","v":""},{"$f":"+IF(N1022=\"\",\"\",IF(O1022=\"\",\"SIN RESPUESTA\",(IF(O1022<=P1022,\"A TIEMPO\",\"FUERA DE TIEMPO\"))))","v":""},null,"A TIEMPO",2,0,null,null,{"$f":"IFERROR(VLOOKUP(F1022,Hoja1!$A$50:$C$63,2),\"\")","v":5},{"$f":"IFERROR(VLOOKUP(F1022,Hoja1!$A$50:$C$63,3),\"\")","v":5}]
[1013,20259910018074,"2025-02-07","Persona jurídica","Virtual - Correo electrónico","Certificación de ingresos y retenciones","Administrativa",null,"Grupo de Tesorería","2025-02-07","Correo certificado","2025-02-21",null,"",null,{"$f":"IFERROR(WORKDAY(N1023,Y1023,Hoja1!F1015:F1131),\"\")","v":""},{"$f":"+IF(N1023=\"\",\"\",IF(O1023=\"\",\"SIN RESPUESTA\",(IF(O1023<=P1023,\"A TIEMPO\",\"FUERA DE TIEMPO\"))))","v":""},null,"A TIEMPO",0,0,null,null,{"$f":"IFERROR(VLOOKUP(F1023,Hoja1!$A$50:$C$63,2),\"\")","v":15},{"$f":"IFERROR(VLOOKUP(F1023,Hoja1!$A$50:$C$63,3),\"\")","v":15}]
[1014,20259910018024,"2025-02-07","Persona natural","Virtual - Correo electrónico","Queja","Administrativa",null,"Grupo de Administración y Desarrollo del Talento Humano","2025-02-18","Correo electrónico","2025-02-28",null,"",null,{"$f":"IFERROR(WORKDAY(N1024,Y1024,Hoja1!F1016:F1132),\"\")","v":""},{"$f":"+IF(N1024=\"\",\"\",IF(O1024=\"\",\"SIN RESPUESTA\",(IF(O1024<=P1024,\"A TIEMPO\",\"FUERA DE TIEMPO\"))))","v":""},null,"A TIEMPO",7,0,null,null,{"$f":"IFERROR(VLOOKUP(F1024,Hoja1!$A$50:$C$63,2),\"\")","v":15},{"$f":"IFERROR(VLOOKUP(F1024,Hoja1!$A$50:$C$63,3),\"\")","v":15}]
[1015,20259910018104,"2025-02-07","Persona jurídica","Virtual - Correo electrónico","Solicitud de documentos o información","Registros ambientales",null,"Subdirección de Estudios Ambientales","2025-02-19","Correo electrónico","2025-02-21",null,"",null,{"$f":"IFERROR(WORKDAY(N1025,Y1025,Hoja1!F1017:F1133),\"\")","v":""},{"$f":"+IF(N1025=\"\",\"\",IF(O1025=\"\",\"SIN RESPUESTA\",(IF(O1025<=P1025,\"A TIEMPO\",\"FUERA DE TIEMPO\"))))","v":""},null,"A TIEMPO",8,0,null,null,{"$f":"IFERROR(VLOOKUP(F1025,Hoja1!$A$50:$C$63,2),\"\")","v":5},{"$f":"IFERROR(VLOOKUP(F1025,Hoja1!$A$50:$C$63,3),\"\")","v":5}]
[1016,20259050018134,"2025-02-07","Persona natural","Virtual - Formulario PQRSDF","Certificación de contrato","Administrativa",null,"Oficina Asesora Jurídica","2025-02-21","Correo electrónico","2025-02-21",null,"",null,{"$f":"IFERROR(WORKDAY(N1026,Y1026,Hoja1!F1018:F1134),\"\")","v":""},{"$f":"+IF(N1026=\"\",\"\",IF(O1026=\"\",\"SIN RESPUESTA\",(IF(O1026<=P1026,\"A TIEMPO\",\"FUERA DE TIEMPO\"))))","v":""},null,"A TIEMPO",10,0,null,null,{"$f":"IFERROR(VLOOKUP(F1026,Hoja1!$A$50:$C$63,2),\"\")","v":15},{"$f":"IFERROR(VLOOKUP(F1026,Hoja1!$A$50:$C$63,3),\"\")","v":15}]
[1017,20259050017844,"2025-02-06","Persona natural","Virtual - Formulario PQRSDF","Certificación de tiempo, clima y eventos hidrológicos","Certificaciones del tiempo y clima",null,"Subdirección de Meteorología","2025-02-17","Correo electrónico","2025-03-21",null,"",null,{"$f":"IFERROR(WORKDAY(N1027,Y1027,Hoja1!F1019:F1135),\"\")","v":""},{"$f":"+IF(N1027=\"\",\"\",IF(O1027=\"\",\"SIN RESPUESTA\",(IF(O1027<=P1027,\"A TIEMPO\",\"FUERA DE TIEMPO\"))))","v":""},null,"A TIEMPO",7,0,null,null,{"$f":"IFERROR(VLOOKUP(F1027,Hoja1!$A$50:$C$63,2),\"\")","v":15},{"$f":"IFERROR(VLOOKUP(F1027,Hoja1!$A$50:$C$63,3),\"\")","v":15}]
[1018,20259050018144,"2025-02-07","Persona natural","Virtual - Formulario PQRSDF","Solicitud de documentos o información","Acreditación de laboratorios",null,"Subdirección de Estudios Ambientales","2025-02-19","Correo electrónico","2025-02-21",null,"",null,{"$f":"IFERROR(WORKDAY(N1028,Y1028,Hoja1!F1020:F1136),\"\")","v":""},{"$f":"+IF(N1028=\"\",\"\",IF(O1028=\"\",\"SIN RESPUESTA\",(IF(O1028<=P1028,\"A TIEMPO\",\"FUERA DE TIEMPO\"))))","v":""},null,"A TIEMPO",8,0,null,null,{"$f":"IFERROR(VLOOKUP(F1028,Hoja1!$A$50:$C$63,2),\"\")","v":5},{"$f":"IFERROR(VLOOKUP(F1028,Hoja1!$A$50:$C$63,3),\"\")","v":5}]
[1019,20259910017654,"2025-02-06","Persona jurídica","Virtual - Correo electrónico","Certificación de ingresos y retenciones","Administrativa",null,"Grupo de Tesorería","2025-02-07","Correo electrónico","2025-02-20",null,"",null,{"$f":"IFERROR(WORKDAY(N1029,Y1029,Hoja1!F1021:F1137),\"\")","v":""},{"$f":"+IF(N1029=\"\",\"\",IF(O1029=\"\",\"SIN RESPUESTA\",(IF(O1029<=P1029,\"A TIEMPO\",\"FUERA DE TIEMPO\"))))","v":""},null,"A TIEMPO",1,0,null,null,{"$f":"IFERROR(VLOOKUP(F1029,Hoja1!$A$50:$C$63,2),\"\")","v":15},{"$f":"IFERROR(VLOOKUP(F1029,Hoja1!$A$50:$C$63,3),\"\")","v":15}]
[1020,20259910018214,"2025-02-07","Persona jurídica","Virtual - Correo electrónico","Solicitud de documentos o información","Pronósticos y alertas",null,"Subdirección de Meteorología","2025-02-14","Correo electrónico","2025-02-21",null,"",null,{"$f":"IFERROR(WORKDAY(N1030,Y1030,Hoja1!F1022:F1138),\"\")","v":""},{"$f":"+IF(N1030=\"\",\"\",IF(O1030=\"\",\"SIN RESPUESTA\",(IF(O1030<=P1030,\"A TIEMPO\",\"FUERA DE TIEMPO\"))))","v":""},null,"A TIEMPO",5,0,null,null,{"$f":"IFERROR(VLOOKUP(F1030,Hoja1!$A$50:$C$63,2),\"\")","v":5},{"$f":"IFERROR(VLOOKUP(F1030,Hoja1!$A$50:$C$63,3),\"\")","v":5}]
[1021,20259050018234,"2025-02-07","Persona natural","Virtual - Formulario PQRSDF","Certificación de tiempo, clima y eventos hidrológicos","Certificaciones del tiempo y clima",null,"Subdirección de Meteorología","2025-02-14","Correo electrónico","2025-03-25",null,"",null,{"$f":"IFERROR(WORKDAY(N1031,Y1031,Hoja1!F1023:F1139),\"\")","v":""},{"$f":"+IF(N1031=\"\",\"\",IF(O1031=\"\",\"SIN RESPUESTA\",(IF(O1031<=P1031,\"A TIEMPO\",\"FUERA DE TIEMPO\"))))","v":""},null,"A TIEMPO",5,0,null,null,{"$f":"IFERROR(VLOOKUP(F1031,Hoja1!$A$50:$C$63,2),\"\")","v":15},{"$f":"IFERROR(VLOOKUP(F1031,Hoja1!$A$50:$C$63,3),\"\")","v":15}]
[1022,20259910018194,"2025-02-07","Persona jurídica","Virtual - Correo electrónico","Solicitud de documentos o información","Sistema de información del recurso hídrico",null,"Grupo de Comunicaciones","2025-02-21","Correo electrónico","2025-02-21",null,"",null,{"$f":"IFERROR(WORKDAY(N1032,Y1032,Hoja1!F1024:F1140),\"\")","v":""},{"$f":"+IF(N1032=\"\",\"\",IF(O1032=\"\",\"SIN RESPUESTA\",(IF(O1032<=P1032,\"A TIEMPO\",\"FUERA DE TIEMPO\"))))","v":""},null,"A TIEMPO",10,0,null,null,{"$f":"IFERROR(VLOOKUP(F1032,Hoja1!$A$50:$C$63,2),\"\")","v":5},{"$f":"IFERROR(VLOOKUP(F1032,Hoja1!$A$50:$C$63,3),\"\")","v":5}]
[1023,20259050018254,"2025-02-07","Persona natural","Virtual - Formulario PQRSDF","Solicitud de documentos o información","Administrativa",null,"Grupo de Administración y Desarrollo del Talento Humano","2025-02-10","Correo electrónico","2025-02-21",null,"",null,{"$f":"IFERROR(WORKDAY(N1033,Y1033,Hoja1!F1025:F1141),\"\")","v":""},{"$f":"+IF(N1033=\"\",\"\",IF(O1033=\"\",\"SIN RESPUESTA\",(IF(O1033<=P1033,\"A TIEMPO\",\"FUERA DE TIEMPO\"))))","v":""},null,"A TIEMPO",1,0,null,null,{"$f":"IFERROR(VLOOKUP(F1033,Hoja1!$A$50:$C$63,2),\"\")","v":5},{"$f":"IFERROR(VLOOKUP(F1033,Hoja1!$A$50:$C$63,3),\"\")","v":5}]
[1024,20259910018264,"2025-02-07","Persona jurídica","Virtual - Correo electrónico","Solicitud de documentos o información","Sistema de información ambiental",null,"Subdirección de Estudios Ambientales","2025-02-24","Correo electrónico","2025-02-21",null,"",null,{"$f":"IFERROR(WORKDAY(N1034,Y1034,Hoja1!F1026:F1142),\"\")","v":""},{"$f":"+IF(N1034=\"\",\"\",IF(O1034=\"\",\"SIN RESPUESTA\",(IF(O1034<=P1034,\"A TIEMPO\",\"FUERA DE TIEMPO\"))))","v":""},null,{"$f":"+IF(C1034=\"\",\"\",IF(J1034=\"\",\"SIN RESPUESTA\",(IF(J1034<=L1034,\"A TIEMPO\",\"FUERA DE TIEMPO\"))))","v":"FUERA DE TIEMPO"},11,1,null,null,{"$f":"IFERROR(VLOOKUP(F1034,Hoja1!$A$50:$C$63,2),\"\")","v":5},{"$f":"IFERROR(VLOOKUP(F1034,Hoja1!$A$50:$C$63,3),\"\")","v":5}]
[1025,20259050018274,"2025-02-07","Persona natural","Virtual - Formulario PQRSDF","Certificación de contrato","Administrativa",null,"Oficina Asesora Jurídica","2025-02-21","Correo electrónico","2025-02-21",null,"",null,{"$f":"IFERROR(WORKDAY(N1035,Y1035,Hoja1!F1027:F1143),\"\")","v":""},{"$f":"+IF(N1035=\"\",\"\",IF(O1035=\"\",\"SIN RESPUESTA\",(IF(O1035<=P1035,\"A TIEMPO\",\"FUERA DE TIEMPO\"))))","v":""},null,"A TIEMPO",10,0,null,null,{"$f":"IFERROR(VLOOKUP(F1035,Hoja1!$A$50:$C$63,2),\"\")","v":15},{"$f":"IFERROR(VLOOKUP(F1035,Hoja1!$A$50:$C$63,3),\"\")","v":15}]
[1026,20259910018284,"2025-02-07","Persona natural","Virtual - Correo electrónico","Certificación de tiempo, clima y eventos hidrológicos","Certificaciones del tiempo y clima",null,"Subdirección de Meteorología","2025-02-14","Correo electrónico","2025-03-25",null,"",null,{"$f":"IFERROR(WORKDAY(N1036,Y1036,Hoja1!F1028:F1144),\"\")","v":""},{"$f":"+IF(N1036=\"\",\"\",IF(O1036=\"\",\"SIN RESPUESTA\",(IF(O1036<=P1036,\"A TIEMPO\",\"FUERA DE TIEMPO\"))))","v":""},null,"A TIEMPO",5,0,null,null,{"$f":"IFERROR(VLOOKUP(F1036,Hoja1!$A$50:$C$63,2),\"\")","v":15},{"$f":"IFERROR(VLOOKUP(F1036,Hoja1!$A$50:$C$63,3),\"\")","v":15}]
[1027,20259910018294,"2025-02-07","Persona natural","Virtual - Correo electrónico","Solicitud de documentos o información","Solicitud de información hidrometeorológica",null,"Subdirección de Meteorología","2025-02-14","Correo electrónico","2025-02-21",null,"",null,{"$f":"IFERROR(WORKDAY(N1037,Y1037,Hoja1!F1029:F1145),\"\")","v":""},{"$f":"+IF(N1037=\"\",\"\",IF(O1037=\"\",\"SIN RESPUESTA\",(IF(O1037<=P1037,\"A TIEMPO\",\"FUERA DE TIEMPO\"))))","v":""},null,"A TIEMPO",5,0,null,null,{"$f":"IFERROR(VLOOKUP(F1037,Hoja1!$A$50:$C$63,2),\"\")","v":5},{"$f":"IFERROR(VLOOKUP(F1037,Hoja1!$A$50:$C$63,3),\"\")","v":5}]
[1028,20259910018304,"2025-02-07","Persona jurídica","Virtual - Correo electrónico","Solicitud de documentos o información","Registros ambientales",null,"Subdirección de Estudios Ambientales","2025-02-19","Correo electrónico","2025-02-21",null,"",null,{"$f":"IFERROR(WORKDAY(N1038,Y1038,Hoja1!F1030:F1146),\"\")","v":""},{"$f":"+IF(N1038=\"\",\"\",IF(O1038=\"\",\"SIN RESPUESTA\",(IF(O1038<=P1038,\"A TIEMPO\",\"FUERA DE TIEMPO\"))))","v":""},null,"A TIEMPO",8,0,null,null,{"$f":"IFERROR(VLOOKUP(F1038,Hoja1!$A$50:$C$63,2),\"\")","v":5},{"$f":"IFERROR(VLOOKUP(F1038,Hoja1!$A$50:$C$63,3),\"\")","v":5}]
[1029,20259050018314,"2025-02-07","Persona jurídica","Virtual - Formulario PQRSDF","Solicitud de documentos o información","Registros ambientales",null,"Subdirección de Estudios Ambientales","2025-02-19","Correo electrónico","2025-02-21",null,"",null,{"$f":"IFERROR(WORKDAY(N1039,Y1039,Hoja1!F1031:F1147),\"\")","v":""},{"$f":"+IF(N1039=\"\",\"\",IF(O1039=\"\",\"SIN RESPUESTA\",(IF(O1039<=P1039,\"A TIEMPO\",\"FUERA DE TIEMPO\"))))","v":""},null,"A TIEMPO",8,0,null,null,{"$f":"IFERROR(VLOOKUP(F1039,Hoja1!$A$50:$C$63,2),\"\")","v":5},{"$f":"IFERROR(VLOOKUP(F1039,Hoja1!$A$50:$C$63,3),\"\")","v":5}]
[1030,20259910018334,"2025-02-07","Persona natural","Virtual - Correo electrónico","Certificación laboral o pasantía","Administrativa",null,"Grupo de Administración y Desarrollo del Talento Humano","2025-02-18","Correo electrónico","2025-02-21",null,"",null,{"$f":"IFERROR(WORKDAY(N1040,Y1040,Hoja1!F1032:F1148),\"\")","v":""},{"$f":"+IF(N1040=\"\",\"\",IF(O1040=\"\",\"SIN RESPUESTA\",(IF(O1040<=P1040,\"A TIEMPO\",\"FUERA DE TIEMPO\"))))","v":""},null,"A TIEMPO",7,0,null,null,{"$f":"IFERROR(VLOOKUP(F1040,Hoja1!$A$50:$C$63,2),\"\")","v":15},{"$f":"IFERROR(VLOOKUP(F1040,Hoja1!$A$50:$C$63,3),\"\")","v":15}]
[{"$f":"IF(B1041<>\"\",A1040+1,\"\")","v":1031},20259050018444,"2025-02-08","Persona natural","Virtual - Formulario PQRSDF","Certificación laboral o pasantía","Administrativa",null,"Grupo de Administración y Desarrollo del Talento Humano","2025-03-07","Correo electrónico","2025-02-21",null,"",null,{"$f":"IFERROR(WORKDAY(N1041,Y1041,Hoja1!F1033:F1149),\"\")","v":""},{"$f":"+IF(N1041=\"\",\"\",IF(O1041=\"\",\"SIN RESPUESTA\",(IF(O1041<=P1041,\"A TIEMPO\",\"FUERA DE TIEMPO\"))))","v":""},null,{"$f":"+IF(C1041=\"\",\"\",IF(J1041=\"\",\"SIN RESPUESTA\",(IF(J1041<=L1041,\"A TIEMPO\",\"FUERA DE TIEMPO\"))))","v":"FUERA DE TIEMPO"},19,10,null,null,{"$f":"IFERROR(VLOOKUP(F1041,Hoja1!$A$50:$C$63,2),\"\")","v":15},{"$f":"IFERROR(VLOOKUP(F1041,Hoja1!$A$50:$C$63,3),\"\")","v":15}]
[1032,20259910018324,"2025-02-07","Persona jurídica","Virtual - Correo electrónico","Solicitud de documentos o información","Solicitud de información hidrometeorológica",null,"Grupo de Servicio al Ciudadano","2025-02-11","Correo electrónico","2025-02-21",null,"",null,{"$f":"IFERROR(WORKDAY(N1042,Y1042,Hoja1!F1034:F1150),\"\")","v":""},{"$f":"+IF(N1042=\"\",\"\",IF(O1042=\"\",\"SIN RESPUESTA\",(IF(O1042<=P1042,\"A TIEMPO\",\"FUERA DE TIEMPO\"))))","v":""},null,"A TIEMPO",2,0,null,null,{"$f":"IFERROR(VLOOKUP(F1042,Hoja1!$A$50:$C$63,2),\"\")","v":5},{"$f":"IFERROR(VLOOKUP(F1042,Hoja1!$A$50:$C$63,3),\"\")","v":5}]
[1033,20259050018454,"2025-02-08","Persona natural","Virtual - Formulario PQRSDF","Solicitud de documentos o información","Solicitud de información hidrometeorológica",null,"Grupo de Servicio al Ciudadano","2025-02-14","Correo electrónico","2025-02-21",null,"",null,{"$f":"IFERROR(WORKDAY(N1043,Y1043,Hoja1!F1035:F1151),\"\")","v":""},{"$f":"+IF(N1043=\"\",\"\",IF(O1043=\"\",\"SIN RESPUESTA\",(IF(O1043<=P1043,\"A TIEMPO\",\"FUERA DE TIEMPO\"))))","v":""},null,"A TIEMPO",4,0,null,null,{"$f":"IFERROR(VLOOKUP(F1043,Hoja1!$A$50:$C$63,2),\"\")","v":5},{"$f":"IFERROR(VLOOKUP(F1043,Hoja1!$A$50:$C$63,3),\"\")","v":5}]
[1034,20259910018344,"2025-02-07","Persona natural","Virtual - Correo electrónico","Solicitud de documentos o información","Bosques",null,"Subdirección de Ecosistemas e Información Ambiental","2025-02-13","Correo electrónico","2025-02-21",null,"",null,{"$f":"IFERROR(WORKDAY(N1044,Y1044,Hoja1!F1036:F1152),\"\")","v":""},{"$f":"+IF(N1044=\"\",\"\",IF(O1044=\"\",\"SIN RESPUESTA\",(IF(O1044<=P1044,\"A TIEMPO\",\"FUERA DE TIEMPO\"))))","v":""},null,"A TIEMPO",4,0,null,null,{"$f":"IFERROR(VLOOKUP(F1044,Hoja1!$A$50:$C$63,2),\"\")","v":5},{"$f":"IFERROR(VLOOKUP(F1044,Hoja1!$A$50:$C$63,3),\"\")","v":5}]
[1035,20259050018464,"2025-02-10","Persona natural","Virtual - Formulario PQRSDF","Certificación laboral o pasantía","Administrativa",null,"Grupo de Administración y Desarrollo del Talento Humano","2025-02-17","Correo electrónico","2025-02-24",null,"",null,{"$f":"IFERROR(WORKDAY(N1045,Y1045,Hoja1!F1037:F1153),\"\")","v":""},{"$f":"+IF(N1045=\"\",\"\",IF(O1045=\"\",\"SIN RESPUESTA\",(IF(O1045<=P1045,\"A TIEMPO\",\"FUERA DE TIEMPO\"))))","v":""},null,"A TIEMPO",5,0,null,null,{"$f":"IFERROR(VLOOKUP(F1045,Hoja1!$A$50:$C$63,2),\"\")","v":15},{"$f":"IFERROR(VLOOKUP(F1045,Hoja1!$A$50:$C$63,3),\"\")","v":15}]
[1036,20259050018474,"2025-02-10","Persona natural","Virtual - Formulario PQRSDF","Certificación laboral o pasantía","Administrativa",null,"Grupo de Administración y Desarrollo del Talento Humano","2025-02-18","Correo electrónico","2025-02-24",null,"",null,{"$f":"IFERROR(WORKDAY(N1046,Y1046,Hoja1!F1038:F1154),\"\")","v":""},{"$f":"+IF(N1046=\"\",\"\",IF(O1046=\"\",\"SIN RESPUESTA\",(IF(O1046<=P1046,\"A TIEMPO\",\"FUERA DE TIEMPO\"))))","v":""},null,"A TIEMPO",6,0,null,null,{"$f":"IFERROR(VLOOKUP(F1046,Hoja1!$A$50:$C$63,2),\"\")","v":15},{"$f":"IFERROR(VLOOKUP(F1046,Hoja1!$A$50:$C$63,3),\"\")","v":15}]
[1037,20259910018534,"2025-02-10","Persona jurídica","Virtual - Correo electrónico","Solicitud de documentos o información","Web y correo",null,"Subdirección de Estudios Ambientales","2025-02-17","Correo electrónico","2025-02-24",null,"",null,{"$f":"IFERROR(WORKDAY(N1047,Y1047,Hoja1!F1039:F1155),\"\")","v":""},{"$f":"+IF(N1047=\"\",\"\",IF(O1047=\"\",\"SIN RESPUESTA\",(IF(O1047<=P1047,\"A TIEMPO\",\"FUERA DE TIEMPO\"))))","v":""},null,"A TIEMPO",5,0,null,null,{"$f":"IFERROR(VLOOKUP(F1047,Hoja1!$A$50:$C$63,2),\"\")","v":5},{"$f":"IFERROR(VLOOKUP(F1047,Hoja1!$A$50:$C$63,3),\"\")","v":5}]
[1038,20259910018544,"2025-02-10","Persona natural","Virtual - Correo electrónico","Solicitud de documentos o información","Sistema de información del recurso hídrico",null,"Subdirección de Hidrología","2025-02-24","Correo electrónico","2025-02-24",null,"",null,{"$f":"IFERROR(WORKDAY(N1048,Y1048,Hoja1!F1040:F1156),\"\")","v":""},{"$f":"+IF(N1048=\"\",\"\",IF(O1048=\"\",\"SIN RESPUESTA\",(IF(O1048<=P1048,\"A TIEMPO\",\"FUERA DE TIEMPO\"))))","v":""},null,"A TIEMPO",10,0,null,null,{"$f":"IFERROR(VLOOKUP(F1048,Hoja1!$A$50:$C$63,2),\"\")","v":5},{"$f":"IFERROR(VLOOKUP(F1048,Hoja1!$A$50:$C$63,3),\"\")","v":5}]
[1039,20259910018564,"2025-02-10","Persona jurídica","Virtual - Correo electrónico","Solicitud de documentos o información","Web y correo",null,"Subdirección de Estudios Ambientales","2025-02-19","Correo electrónico","2025-02-24",null,"",null,{"$f":"IFERROR(WORKDAY(N1049,Y1049,Hoja1!F1041:F1157),\"\")","v":""},{"$f":"+IF(N1049=\"\",\"\",IF(O1049=\"\",\"SIN RESPUESTA\",(IF(O1049<=P1049,\"A TIEMPO\",\"FUERA DE TIEMPO\"))))","v":""},null,"A TIEMPO",7,0,null,null,{"$f":"IFERROR(VLOOKUP(F1049,Hoja1!$A$50:$C$63,2),\"\")","v":5},{"$f":"IFERROR(VLOOKUP(F1049,Hoja1!$A$50:$C$63,3),\"\")","v":5}]
[1040,20259910018584,"2025-02-10","Persona natural","Virtual - Correo electrónico","Solicitud de documentos o información","Solicitud de información hidrometeorológica",null,"Subdirección de Meteorología","2025-02-12","Correo electrónico","2025-02-24",null,"",null,{"$f":"IFERROR(WORKDAY(N1050,Y1050,Hoja1!F1042:F1158),\"\")","v":""},{"$f":"+IF(N1050=\"\",\"\",IF(O1050=\"\",\"SIN RESPUESTA\",(IF(O1050<=P1050,\"A TIEMPO\",\"FUERA DE TIEMPO\"))))","v":""},null,"A TIEMPO",2,0,null,null,{"$f":"IFERROR(VLOOKUP(F1050,Hoja1!$A$50:$C$63,2),\"\")","v":5},{"$f":"IFERROR(VLOOKUP(F1050,Hoja1!$A$50:$C$63,3),\"\")","v":5}]
[1041,20259910018524,"2025-02-10","Persona jurídica","Virtual - Correo electrónico","Solicitud de documentos o información","Administrativa",null,"Oficina Asesora de Planeación","2025-02-11","Correo electrónico","2025-02-24",null,"",null,{"$f":"IFERROR(WORKDAY(N1051,Y1051,Hoja1!F1043:F1159),\"\")","v":""},{"$f":"+IF(N1051=\"\",\"\",IF(O1051=\"\",\"SIN RESPUESTA\",(IF(O1051<=P1051,\"A TIEMPO\",\"FUERA DE TIEMPO\"))))","v":""},null,"A TIEMPO",1,0,null,null,{"$f":"IFERROR(VLOOKUP(F1051,Hoja1!$A$50:$C$63,2),\"\")","v":5},{"$f":"IFERROR(VLOOKUP(F1051,Hoja1!$A$50:$C$63,3),\"\")","v":5}]
[1042,20259910018594,"2025-02-10","Persona natural","Virtual - Correo electrónico","Certificación de tiempo, clima y eventos hidrológicos","Certificaciones del tiempo y clima",null,"Subdirección de Meteorología","2025-02-24","Correo electrónico","2025-03-26",null,"",null,{"$f":"IFERROR(WORKDAY(N1052,Y1052,Hoja1!F1044:F1160),\"\")","v":""},{"$f":"+IF(N1052=\"\",\"\",IF(O1052=\"\",\"SIN RESPUESTA\",(IF(O1052<=P1052,\"A TIEMPO\",\"FUERA DE TIEMPO\"))))","v":""},null,"A TIEMPO",10,0,null,null,{"$f":"IFERROR(VLOOKUP(F1052,Hoja1!$A$50:$C$63,2),\"\")","v":15},{"$f":"IFERROR(VLOOKUP(F1052,Hoja1!$A$50:$C$63,3),\"\")","v":15}]
[1043,20259910018634,"2025-02-10","Persona natural","Virtual - Correo electrónico","Certificación de contrato","Administrativa",null,"Oficina Asesora Jurídica","2025-02-24","Correo electrónico","2025-02-24",null,"",null,{"$f":"IFERROR(WORKDAY(N1053,Y1053,Hoja1!F1045:F1161),\"\")","v":""},{"$f":"+IF(N1053=\"\",\"\",IF(O1053=\"\",\"SIN RESPUESTA\",(IF(O1053<=P1053,\"A TIEMPO\",\"FUERA DE TIEMPO\"))))","v":""},null,"A TIEMPO",10,0,null,null,{"$f":"IFERROR(VLOOKUP(F1053,Hoja1!$A$50:$C$63,2),\"\")","v":15},{"$f":"IFERROR(VLOOKUP(F1053,Hoja1!$A$50:$C$63,3),\"\")","v":15}]
[1044,20259910018774,"2025-02-10","Persona natural","Virtual - Correo electrónico","Certificación laboral o pasantía","Administrativa",null,"Grupo de Administración y Desarrollo del Talento Humano","2025-02-24","Correo electrónico","2025-02-24",null,"",null,{"$f":"IFERROR(WORKDAY(N1054,Y1054,Hoja1!F1046:F1162),\"\")","v":""},{"$f":"+IF(N1054=\"\",\"\",IF(O1054=\"\",\"SIN RESPUESTA\",(IF(O1054<=P1054,\"A TIEMPO\",\"FUERA DE TIEMPO\"))))","v":""},null,"A TIEMPO",10,0,null,null,{"$f":"IFERROR(VLOOKUP(F1054,Hoja1!$A$50:$C$63,2),\"\")","v":15},{"$f":"IFERROR(VLOOKUP(F1054,Hoja1!$A$50:$C$63,3),\"\")","v":15}]
[1045,20259910018744,"2025-02-10","Persona natural","Virtual - Correo electrónico","Certificación laboral o pasantía","Administrativa",null,"Grupo de Administración y Desarrollo del Talento Humano","2025-02-24","Correo electrónico","2025-02-24",null,"",null,{"$f":"IFERROR(WORKDAY(N1055,Y1055,Hoja1!F1047:F1163),\"\")","v":""},{"$f":"+IF(N1055=\"\",\"\",IF(O1055=\"\",\"SIN RESPUESTA\",(IF(O1055<=P1055,\"A TIEMPO\",\"FUERA DE TIEMPO\"))))","v":""},null,"A TIEMPO",10,0,null,null,{"$f":"IFERROR(VLOOKUP(F1055,Hoja1!$A$50:$C$63,2),\"\")","v":15},{"$f":"IFERROR(VLOOKUP(F1055,Hoja1!$A$50:$C$63,3),\"\")","v":15}]
[1046,20259910018684,"2025-02-10","Persona natural","Virtual - Correo electrónico","Solicitud de documentos o información","Solicitud de información hidrometeorológica",null,"Grupo de Servicio al Ciudadano","2025-02-14","Correo electrónico","2025-02-24",null,"",null,{"$f":"IFERROR(WORKDAY(N1056,Y1056,Hoja1!F1048:F1164),\"\")","v":""},{"$f":"+IF(N1056=\"\",\"\",IF(O1056=\"\",\"SIN RESPUESTA\",(IF(O1056<=P1056,\"A TIEMPO\",\"FUERA DE TIEMPO\"))))","v":""},null,"A TIEMPO",4,0,null,null,{"$f":"IFERROR(VLOOKUP(F1056,Hoja1!$A$50:$C$63,2),\"\")","v":5},{"$f":"IFERROR(VLOOKUP(F1056,Hoja1!$A$50:$C$63,3),\"\")","v":5}]
[1047,20259910018604,"2025-02-10","Persona jurídica","Virtual - Correo electrónico","Solicitud de documentos o información","Web y correo",null,"Subdirección de Estudios Ambientales","2025-02-17","Correo electrónico","2025-02-24",null,"",null,{"$f":"IFERROR(WORKDAY(N1057,Y1057,Hoja1!F1049:F1165),\"\")","v":""},{"$f":"+IF(N1057=\"\",\"\",IF(O1057=\"\",\"SIN RESPUESTA\",(IF(O1057<=P1057,\"A TIEMPO\",\"FUERA DE TIEMPO\"))))","v":""},null,"A TIEMPO",5,0,null,null,{"$f":"IFERROR(VLOOKUP(F1057,Hoja1!$A$50:$C$63,2),\"\")","v":5},{"$f":"IFERROR(VLOOKUP(F1057,Hoja1!$A$50:$C$63,3),\"\")","v":5}]
[1048,20259910018624,"2025-02-10","Persona jurídica","Virtual - Correo electrónico","Solicitud de documentos o información","Web y correo",null,"Subdirección de Estudios Ambientales","2025-02-18","Correo electrónico","2025-02-24",null,"",null,{"$f":"IFERROR(WORKDAY(N1058,Y1058,Hoja1!F1050:F1166),\"\")","v":""},{"$f":"+IF(N1058=\"\",\"\",IF(O1058=\"\",\"SIN RESPUESTA\",(IF(O1058<=P1058,\"A TIEMPO\",\"FUERA DE TIEMPO\"))))","v":""},null,"A TIEMPO",6,0,null,null,{"$f":"IFERROR(VLOOKUP(F1058,Hoja1!$A$50:$C$63,2),\"\")","v":5},{"$f":"IFERROR(VLOOKUP(F1058,Hoja1!$A$50:$C$63,3),\"\")","v":5}]
[1049,20259910018664,"2025-02-10","Persona jurídica","Virtual - Correo electrónico","Petición entre autoridades","Sistema de información ambiental",null,"Subdirección de Estudios Ambientales","2025-02-25","Correo electrónico","2025-02-24",null,"",null,{"$f":"IFERROR(WORKDAY(N1059,Y1059,Hoja1!F1051:F1167),\"\")","v":""},{"$f":"+IF(N1059=\"\",\"\",IF(O1059=\"\",\"SIN RESPUESTA\",(IF(O1059<=P1059,\"A TIEMPO\",\"FUERA DE TIEMPO\"))))","v":""},null,{"$f":"+IF(C1059=\"\",\"\",IF(J1059=\"\",\"SIN RESPUESTA\",(IF(J1059<=L1059,\"A TIEMPO\",\"FUERA DE TIEMPO\"))))","v":"FUERA DE TIEMPO"},11,1,null,null,{"$f":"IFERROR(VLOOKUP(F1059,Hoja1!$A$50:$C$63,2),\"\")","v":10},{"$f":"IFERROR(VLOOKUP(F1059,Hoja1!$A$50:$C$63,3),\"\")","v":10}]
[1050,20259910018674,"2025-02-10","Persona natural","Virtual - Correo electrónico","Solicitud de documentos o información","Bosques",null,"Subdirección de Ecosistemas e Información Ambiental","2025-02-11","Correo electrónico","2025-02-24",null,"",null,{"$f":"IFERROR(WORKDAY(N1060,Y1060,Hoja1!F1052:F1168),\"\")","v":""},{"$f":"+IF(N1060=\"\",\"\",IF(O1060=\"\",\"SIN RESPUESTA\",(IF(O1060<=P1060,\"A TIEMPO\",\"FUERA DE TIEMPO\"))))","v":""},null,"A TIEMPO",1,0,null,null,{"$f":"IFERROR(VLOOKUP(F1060,Hoja1!$A$50:$C$63,2),\"\")","v":5},{"$f":"IFERROR(VLOOKUP(F1060,Hoja1!$A$50:$C$63,3),\"\")","v":5}]
[1051,20259910018694,"2025-02-10","Persona natural","Virtual - Correo electrónico","Solicitud de documentos o información","Administrativa",null,"Dirección General","2025-03-06","Correo electrónico","2025-02-24",null,"",null,{"$f":"IFERROR(WORKDAY(N1061,Y1061,Hoja1!F1053:F1169),\"\")","v":""},{"$f":"+IF(N1061=\"\",\"\",IF(O1061=\"\",\"SIN RESPUESTA\",(IF(O1061<=P1061,\"A TIEMPO\",\"FUERA DE TIEMPO\"))))","v":""},null,{"$f":"+IF(C1061=\"\",\"\",IF(J1061=\"\",\"SIN RESPUESTA\",(IF(J1061<=L1061,\"A TIEMPO\",\"FUERA DE TIEMPO\"))))","v":"FUERA DE TIEMPO"},18,8,null,null,{"$f":"IFERROR(VLOOKUP(F1061,Hoja1!$A$50:$C$63,2),\"\")","v":5},{"$f":"IFERROR(VLOOKUP(F1061,Hoja1!$A$50:$C$63,3),\"\")","v":5}]
[1052,20259910018714,"2025-02-10","Persona jurídica","Virtual - Correo electrónico","Petición entre autoridades","Registros ambientales",null,"Subdirección de Estudios Ambientales","2025-02-20","Correo electrónico","2025-02-24",null,"",null,{"$f":"IFERROR(WORKDAY(N1062,Y1062,Hoja1!F1054:F1170),\"\")","v":""},{"$f":"+IF(N1062=\"\",\"\",IF(O1062=\"\",\"SIN RESPUESTA\",(IF(O1062<=P1062,\"A TIEMPO\",\"FUERA DE TIEMPO\"))))","v":""},null,"A TIEMPO",8,0,null,null,{"$f":"IFERROR(VLOOKUP(F1062,Hoja1!$A$50:$C$63,2),\"\")","v":10},{"$f":"IFERROR(VLOOKUP(F1062,Hoja1!$A$50:$C$63,3),\"\")","v":10}]
[1053,20259910018704,"2025-02-10","Persona natural","Virtual - Correo electrónico","Solicitud de documentos o información","Sistema de información del recurso hídrico",null,"Subdirección de Hidrología","2025-02-10",null,"2025-02-24",null,"",null,{"$f":"IFERROR(WORKDAY(N1063,Y1063,Hoja1!F1055:F1171),\"\")","v":""},{"$f":"+IF(N1063=\"\",\"\",IF(O1063=\"\",\"SIN RESPUESTA\",(IF(O1063<=P1063,\"A TIEMPO\",\"FUERA DE TIEMPO\"))))","v":""},null,"A TIEMPO",0,0,null,null,{"$f":"IFERROR(VLOOKUP(F1063,Hoja1!$A$50:$C$63,2),\"\")","v":5},{"$f":"IFERROR(VLOOKUP(F1063,Hoja1!$A$50:$C$63,3),\"\")","v":5}]
[1054,20259050018724,"2025-02-10","Persona natural","Virtual - Formulario PQRSDF","Solicitud de documentos o información","Solicitud de información hidrometeorológica",null,"Grupo de Servicio al Ciudadano","2025-02-14","Correo electrónico","2025-02-24",null,"",null,{"$f":"IFERROR(WORKDAY(N1064,Y1064,Hoja1!F1056:F1172),\"\")","v":""},{"$f":"+IF(N1064=\"\",\"\",IF(O1064=\"\",\"SIN RESPUESTA\",(IF(O1064<=P1064,\"A TIEMPO\",\"FUERA DE TIEMPO\"))))","v":""},null,"A TIEMPO",4,0,null,null,{"$f":"IFERROR(VLOOKUP(F1064,Hoja1!$A$50:$C$63,2),\"\")","v":5},{"$f":"IFERROR(VLOOKUP(F1064,Hoja1!$A$50:$C$63,3),\"\")","v":5}]
[1055,20259910018734,"2025-02-10","Persona natural","Virtual - Correo electrónico","Solicitud de documentos o información","Pronósticos y alertas",null,"Oficina del Servicio de Pronósticos y Alertas","2025-02-11","Correo electrónico","2025-02-24",null,"",null,{"$f":"IFERROR(WORKDAY(N1065,Y1065,Hoja1!F1057:F1173),\"\")","v":""},{"$f":"+IF(N1065=\"\",\"\",IF(O1065=\"\",\"SIN RESPUESTA\",(IF(O1065<=P1065,\"A TIEMPO\",\"FUERA DE TIEMPO\"))))","v":""},null,"A TIEMPO",1,0,null,null,{"$f":"IFERROR(VLOOKUP(F1065,Hoja1!$A$50:$C$63,2),\"\")","v":5},{"$f":"IFERROR(VLOOKUP(F1065,Hoja1!$A$50:$C$63,3),\"\")","v":5}]
[1056,20259910018764,"2025-02-10","Persona jurídica","Virtual - Correo electrónico","Solicitud de documentos o información","Web y correo",null,"Subdirección de Estudios Ambientales","2025-02-13","Correo electrónico","2025-02-24",null,"",null,{"$f":"IFERROR(WORKDAY(N1066,Y1066,Hoja1!F1058:F1174),\"\")","v":""},{"$f":"+IF(N1066=\"\",\"\",IF(O1066=\"\",\"SIN RESPUESTA\",(IF(O1066<=P1066,\"A TIEMPO\",\"FUERA DE TIEMPO\"))))","v":""},null,"A TIEMPO",3,0,null,null,{"$f":"IFERROR(VLOOKUP(F1066,Hoja1!$A$50:$C$63,2),\"\")","v":5},{"$f":"IFERROR(VLOOKUP(F1066,Hoja1!$A$50:$C$63,3),\"\")","v":5}]
[1057,20259050018794,"2025-02-10","Persona natural","Virtual - Formulario PQRSDF","Solicitud de documentos o información","Sistema de información del recurso hídrico",null,"Subdirección de Meteorología","2025-02-14","Correo electrónico","2025-02-24",null,"",null,{"$f":"IFERROR(WORKDAY(N1067,Y1067,Hoja1!F1059:F1175),\"\")","v":""},{"$f":"+IF(N1067=\"\",\"\",IF(O1067=\"\",\"SIN RESPUESTA\",(IF(O1067<=P1067,\"A TIEMPO\",\"FUERA DE TIEMPO\"))))","v":""},null,"A TIEMPO",4,0,null,null,{"$f":"IFERROR(VLOOKUP(F1067,Hoja1!$A$50:$C$63,2),\"\")","v":5},{"$f":"IFERROR(VLOOKUP(F1067,Hoja1!$A$50:$C$63,3),\"\")","v":5}]
[1058,20259910018814,"2025-02-10","Persona jurídica","Virtual - Correo electrónico","Solicitud de documentos o información","Sistema de información del recurso hídrico",null,"Subdirección de Hidrología","2025-03-04","Correo electrónico","2025-02-24",null,"",null,{"$f":"IFERROR(WORKDAY(N1068,Y1068,Hoja1!F1060:F1176),\"\")","v":""},{"$f":"+IF(N1068=\"\",\"\",IF(O1068=\"\",\"SIN RESPUESTA\",(IF(O1068<=P1068,\"A TIEMPO\",\"FUERA DE TIEMPO\"))))","v":""},null,{"$f":"+IF(C1068=\"\",\"\",IF(J1068=\"\",\"SIN RESPUESTA\",(IF(J1068<=L1068,\"A TIEMPO\",\"FUERA DE TIEMPO\"))))","v":"FUERA DE TIEMPO"},16,6,null,null,{"$f":"IFERROR(VLOOKUP(F1068,Hoja1!$A$50:$C$63,2),\"\")","v":5},{"$f":"IFERROR(VLOOKUP(F1068,Hoja1!$A$50:$C$63,3),\"\")","v":5}]
[1059,20259050018834,"2025-02-10","Persona jurídica","Virtual - Formulario PQRSDF","Certificación de ingresos y retenciones","Administrativa",null,"Grupo de Tesorería","2025-02-10","Correo electrónico","2025-02-24",null,"",null,{"$f":"IFERROR(WORKDAY(N1069,Y1069,Hoja1!F1061:F1177),\"\")","v":""},{"$f":"+IF(N1069=\"\",\"\",IF(O1069=\"\",\"SIN RESPUESTA\",(IF(O1069<=P1069,\"A TIEMPO\",\"FUERA DE TIEMPO\"))))","v":""},null,"A TIEMPO",0,0,null,null,{"$f":"IFERROR(VLOOKUP(F1069,Hoja1!$A$50:$C$63,2),\"\")","v":15},{"$f":"IFERROR(VLOOKUP(F1069,Hoja1!$A$50:$C$63,3),\"\")","v":15}]
[1060,20259050018844,"2025-02-10","Persona natural","Virtual - Formulario PQRSDF","Certificación de contrato","Administrativa",null,"Oficina Asesora Jurídica","2025-02-12","Correo electrónico","2025-02-24",null,"",null,{"$f":"IFERROR(WORKDAY(N1070,Y1070,Hoja1!F1062:F1178),\"\")","v":""},{"$f":"+IF(N1070=\"\",\"\",IF(O1070=\"\",\"SIN RESPUESTA\",(IF(O1070<=P1070,\"A TIEMPO\",\"FUERA DE TIEMPO\"))))","v":""},null,"A TIEMPO",2,0,null,null,{"$f":"IFERROR(VLOOKUP(F1070,Hoja1!$A$50:$C$63,2),\"\")","v":15},{"$f":"IFERROR(VLOOKUP(F1070,Hoja1!$A$50:$C$63,3),\"\")","v":15}]
[1061,20259050018854,"2025-02-10","Anónimo","Virtual - Formulario PQRSDF","Solicitud de documentos o información","Solicitud de información hidrometeorológica",null,"Grupo de Servicio al Ciudadano","2025-02-14","Página web","2025-02-24",null,"",null,{"$f":"IFERROR(WORKDAY(N1071,Y1071,Hoja1!F1063:F1179),\"\")","v":""},{"$f":"+IF(N1071=\"\",\"\",IF(O1071=\"\",\"SIN RESPUESTA\",(IF(O1071<=P1071,\"A TIEMPO\",\"FUERA DE TIEMPO\"))))","v":""},null,"A TIEMPO",4,0,null,null,{"$f":"IFERROR(VLOOKUP(F1071,Hoja1!$A$50:$C$63,2),\"\")","v":5},{"$f":"IFERROR(VLOOKUP(F1071,Hoja1!$A$50:$C$63,3),\"\")","v":5}]
[1062,20259910018864,"2025-02-10","Persona natural","Virtual - Correo electrónico","Queja","Bosques",null,"Subdirección de Ecosistemas e Información Ambiental","2025-03-03","Correo electrónico","2025-03-03",null,"",null,{"$f":"IFERROR(WORKDAY(N1072,Y1072,Hoja1!F1064:F1180),\"\")","v":""},{"$f":"+IF(N1072=\"\",\"\",IF(O1072=\"\",\"SIN RESPUESTA\",(IF(O1072<=P1072,\"A TIEMPO\",\"FUERA DE TIEMPO\"))))","v":""},null,"A TIEMPO",15,0,null,null,{"$f":"IFERROR(VLOOKUP(F1072,Hoja1!$A$50:$C$63,2),\"\")","v":15},{"$f":"IFERROR(VLOOKUP(F1072,Hoja1!$A$50:$C$63,3),\"\")","v":15}]
[1063,20259910018874,"2025-02-10","Persona jurídica","Virtual - Correo electrónico","Solicitud de documentos o información","Sistema de información del recurso hídrico",null,"Subdirección de Ecosistemas e Información Ambiental","2025-02-19","Correo electrónico","2025-02-24",null,"",null,{"$f":"IFERROR(WORKDAY(N1073,Y1073,Hoja1!F1065:F1181),\"\")","v":""},{"$f":"+IF(N1073=\"\",\"\",IF(O1073=\"\",\"SIN RESPUESTA\",(IF(O1073<=P1073,\"A TIEMPO\",\"FUERA DE TIEMPO\"))))","v":""},null,"A TIEMPO",7,0,null,null,{"$f":"IFERROR(VLOOKUP(F1073,Hoja1!$A$50:$C$63,2),\"\")","v":5},{"$f":"IFERROR(VLOOKUP(F1073,Hoja1!$A$50:$C$63,3),\"\")","v":5}]
[1064,20259910018884,"2025-02-10","Persona natural","Virtual - Correo electrónico","Certificación laboral o pasantía","Administrativa",null,"Grupo de Administración y Desarrollo del Talento Humano","2025-02-27","Correo electrónico","2025-02-24",null,"",null,{"$f":"IFERROR(WORKDAY(N1074,Y1074,Hoja1!F1066:F1182),\"\")","v":""},{"$f":"+IF(N1074=\"\",\"\",IF(O1074=\"\",\"SIN RESPUESTA\",(IF(O1074<=P1074,\"A TIEMPO\",\"FUERA DE TIEMPO\"))))","v":""},null,{"$f":"+IF(C1074=\"\",\"\",IF(J1074=\"\",\"SIN RESPUESTA\",(IF(J1074<=L1074,\"A TIEMPO\",\"FUERA DE TIEMPO\"))))","v":"FUERA DE TIEMPO"},13,3,null,null,{"$f":"IFERROR(VLOOKUP(F1074,Hoja1!$A$50:$C$63,2),\"\")","v":15},{"$f":"IFERROR(VLOOKUP(F1074,Hoja1!$A$50:$C$63,3),\"\")","v":15}]
[1065,20259910018904,"2025-02-10","Persona jurídica","Virtual - Correo electrónico","Solicitud de documentos o información","Registros ambientales",null,"Subdirección de Estudios Ambientales","2025-02-13","Correo electrónico","2025-02-24",null,"",null,{"$f":"IFERROR(WORKDAY(N1075,Y1075,Hoja1!F1067:F1183),\"\")","v":""},{"$f":"+IF(N1075=\"\",\"\",IF(O1075=\"\",\"SIN RESPUESTA\",(IF(O1075<=P1075,\"A TIEMPO\",\"FUERA DE TIEMPO\"))))","v":""},null,"A TIEMPO",3,0,null,null,{"$f":"IFERROR(VLOOKUP(F1075,Hoja1!$A$50:$C$63,2),\"\")","v":5},{"$f":"IFERROR(VLOOKUP(F1075,Hoja1!$A$50:$C$63,3),\"\")","v":5}]
[1066,20259910018914,"2025-02-10","Persona jurídica","Virtual - Correo electrónico","Petición entre autoridades","Sistema de información ambiental",null,"Subdirección de Estudios Ambientales","2025-02-12","Correo electrónico","2025-02-24",null,"",null,{"$f":"IFERROR(WORKDAY(N1076,Y1076,Hoja1!F1068:F1184),\"\")","v":""},{"$f":"+IF(N1076=\"\",\"\",IF(O1076=\"\",\"SIN RESPUESTA\",(IF(O1076<=P1076,\"A TIEMPO\",\"FUERA DE TIEMPO\"))))","v":""},null,"A TIEMPO",2,0,null,null,{"$f":"IFERROR(VLOOKUP(F1076,Hoja1!$A$50:$C$63,2),\"\")","v":10},{"$f":"IFERROR(VLOOKUP(F1076,Hoja1!$A$50:$C$63,3),\"\")","v":10}]
[1067,20259910018944,"2025-02-10","Persona jurídica","Virtual - Correo electrónico","Solicitud judicial","Jurídico",null,"Grupo de Contabilidad","2025-02-17","Correo electrónico","2025-02-17",null,"",null,{"$f":"IFERROR(WORKDAY(N1077,Y1077,Hoja1!F1069:F1185),\"\")","v":""},{"$f":"+IF(N1077=\"\",\"\",IF(O1077=\"\",\"SIN RESPUESTA\",(IF(O1077<=P1077,\"A TIEMPO\",\"FUERA DE TIEMPO\"))))","v":""},null,"A TIEMPO",5,0,null,null,{"$f":"IFERROR(VLOOKUP(F1077,Hoja1!$A$50:$C$63,2),\"\")","v":5},{"$f":"IFERROR(VLOOKUP(F1077,Hoja1!$A$50:$C$63,3),\"\")","v":5}]
[1068,20259910018954,"2025-02-10","Persona jurídica","Virtual - Correo electrónico","Petición entre autoridades","Sistema de información del recurso hídrico",null,"Subdirección de Hidrología","2025-02-24","Correo electrónico","2025-02-24",null,"",null,{"$f":"IFERROR(WORKDAY(N1078,Y1078,Hoja1!F1070:F1186),\"\")","v":""},{"$f":"+IF(N1078=\"\",\"\",IF(O1078=\"\",\"SIN RESPUESTA\",(IF(O1078<=P1078,\"A TIEMPO\",\"FUERA DE TIEMPO\"))))","v":""},null,"A TIEMPO",10,0,null,null,{"$f":"IFERROR(VLOOKUP(F1078,Hoja1!$A$50:$C$63,2),\"\")","v":10},{"$f":"IFERROR(VLOOKUP(F1078,Hoja1!$A$50:$C$63,3),\"\")","v":10}]
[1069,20259910018984,"2025-02-10","Persona natural","Virtual - Correo electrónico","Certificación de contrato","Administrativa",null,"Oficina Asesora Jurídica","2025-02-24","Correo electrónico","2025-02-24",null,"",null,{"$f":"IFERROR(WORKDAY(N1079,Y1079,Hoja1!F1071:F1187),\"\")","v":""},{"$f":"+IF(N1079=\"\",\"\",IF(O1079=\"\",\"SIN RESPUESTA\",(IF(O1079<=P1079,\"A TIEMPO\",\"FUERA DE TIEMPO\"))))","v":""},null,"A TIEMPO",10,0,null,null,{"$f":"IFERROR(VLOOKUP(F1079,Hoja1!$A$50:$C$63,2),\"\")","v":15},{"$f":"IFERROR(VLOOKUP(F1079,Hoja1!$A$50:$C$63,3),\"\")","v":15}]
[1070,20259910018964,"2025-02-10","Persona natural","Virtual - Correo electrónico","Solicitud de documentos o información","Bosques",null,"Subdirección de Ecosistemas e Información Ambiental","2025-02-19","Correo electrónico","2025-02-24",null,"",null,{"$f":"IFERROR(WORKDAY(N1080,Y1080,Hoja1!F1072:F1188),\"\")","v":""},{"$f":"+IF(N1080=\"\",\"\",IF(O1080=\"\",\"SIN RESPUESTA\",(IF(O1080<=P1080,\"A TIEMPO\",\"FUERA DE TIEMPO\"))))","v":""},null,"A TIEMPO",7,0,null,null,{"$f":"IFERROR(VLOOKUP(F1080,Hoja1!$A$50:$C$63,2),\"\")","v":5},{"$f":"IFERROR(VLOOKUP(F1080,Hoja1!$A$50:$C$63,3),\"\")","v":5}]
[1071,20259910019024,"2025-02-10","Persona jurídica","Virtual - Correo electrónico","Solicitud de documentos o información","Acreditación de laboratorios",null,"Subdirección de Estudios Ambientales","2025-02-13","Correo electrónico","2025-02-24",null,"",null,{"$f":"IFERROR(WORKDAY(N1081,Y1081,Hoja1!F1073:F1189),\"\")","v":""},{"$f":"+IF(N1081=\"\",\"\",IF(O1081=\"\",\"SIN RESPUESTA\",(IF(O1081<=P1081,\"A TIEMPO\",\"FUERA DE TIEMPO\"))))","v":""},null,"A TIEMPO",3,0,null,null,{"$f":"IFERROR(VLOOKUP(F1081,Hoja1!$A$50:$C$63,2),\"\")","v":5},{"$f":"IFERROR(VLOOKUP(F1081,Hoja1!$A$50:$C$63,3),\"\")","v":5}]
[1072,20259910019034,"2025-02-10","Persona jurídica","Virtual - Correo electrónico","Solicitud de documentos o información","Sistema de información ambiental",null,"Subdirección de Estudios Ambientales","2025-02-10","Correo electrónico","2025-02-24",null,"",null,{"$f":"IFERROR(WORKDAY(N1082,Y1082,Hoja1!F1074:F1190),\"\")","v":""},{"$f":"+IF(N1082=\"\",\"\",IF(O1082=\"\",\"SIN RESPUESTA\",(IF(O1082<=P1082,\"A TIEMPO\",\"FUERA DE TIEMPO\"))))","v":""},null,"A TIEMPO",0,0,null,null,{"$f":"IFERROR(VLOOKUP(F1082,Hoja1!$A$50:$C$63,2),\"\")","v":5},{"$f":"IFERROR(VLOOKUP(F1082,Hoja1!$A$50:$C$63,3),\"\")","v":5}]
[1073,20259910019094,"2025-02-10","Persona jurídica","Virtual - Correo electrónico","Solicitud de documentos o información","Registros ambientales",null,"Subdirección de Estudios Ambientales","2025-02-20","Correo electrónico","2025-02-24",null,"",null,{"$f":"IFERROR(WORKDAY(N1083,Y1083,Hoja1!F1075:F1191),\"\")","v":""},{"$f":"+IF(N1083=\"\",\"\",IF(O1083=\"\",\"SIN RESPUESTA\",(IF(O1083<=P1083,\"A TIEMPO\",\"FUERA DE TIEMPO\"))))","v":""},null,"A TIEMPO",8,0,null,null,{"$f":"IFERROR(VLOOKUP(F1083,Hoja1!$A$50:$C$63,2),\"\")","v":5},{"$f":"IFERROR(VLOOKUP(F1083,Hoja1!$A$50:$C$63,3),\"\")","v":5}]
[1074,20259910019054,"2025-02-10","Persona jurídica","Virtual - Correo electrónico","Solicitud de documentos o información","Registros ambientales",null,"Subdirección de Estudios Ambientales","2025-02-20","Correo electrónico","2025-02-24",null,"",null,{"$f":"IFERROR(WORKDAY(N1084,Y1084,Hoja1!F1076:F1192),\"\")","v":""},{"$f":"+IF(N1084=\"\",\"\",IF(O1084=\"\",\"SIN RESPUESTA\",(IF(O1084<=P1084,\"A TIEMPO\",\"FUERA DE TIEMPO\"))))","v":""},null,"A TIEMPO",8,0,null,null,{"$f":"IFERROR(VLOOKUP(F1084,Hoja1!$A$50:$C$63,2),\"\")","v":5},{"$f":"IFERROR(VLOOKUP(F1084,Hoja1!$A$50:$C$63,3),\"\")","v":5}]
[1075,20259910019144,"2025-02-10","Persona natural","Virtual - Correo electrónico","Certificación de contrato","Administrativa",null,"Oficina Asesora Jurídica","2025-02-10","Correo electrónico","2025-02-24",null,"",null,{"$f":"IFERROR(WORKDAY(N1085,Y1085,Hoja1!F1077:F1193),\"\")","v":""},{"$f":"+IF(N1085=\"\",\"\",IF(O1085=\"\",\"SIN RESPUESTA\",(IF(O1085<=P1085,\"A TIEMPO\",\"FUERA DE TIEMPO\"))))","v":""},null,"A TIEMPO",0,0,null,null,{"$f":"IFERROR(VLOOKUP(F1085,Hoja1!$A$50:$C$63,2),\"\")","v":15},{"$f":"IFERROR(VLOOKUP(F1085,Hoja1!$A$50:$C$63,3),\"\")","v":15}]
[1076,20259050019064,"2025-02-10","Persona natural","Virtual - Formulario PQRSDF","Solicitud de documentos o información","Solicitud de información hidrometeorológica",null,"Grupo de Servicio al Ciudadano","2025-02-14","Correo electrónico","2025-02-24",null,"",null,{"$f":"IFERROR(WORKDAY(N1086,Y1086,Hoja1!F1078:F1194),\"\")","v":""},{"$f":"+IF(N1086=\"\",\"\",IF(O1086=\"\",\"SIN RESPUESTA\",(IF(O1086<=P1086,\"A TIEMPO\",\"FUERA DE TIEMPO\"))))","v":""},null,"A TIEMPO",4,0,null,null,{"$f":"IFERROR(VLOOKUP(F1086,Hoja1!$A$50:$C$63,2),\"\")","v":5},{"$f":"IFERROR(VLOOKUP(F1086,Hoja1!$A$50:$C$63,3),\"\")","v":5}]
[1077,20259910019074,"2025-02-10","Persona natural","Virtual - Correo electrónico","Solicitud de documentos o información","Sistema de información del recurso hídrico",null,"Grupo de Servicio al Ciudadano","2025-02-14","Correo electrónico","2025-02-24",null,"",null,{"$f":"IFERROR(WORKDAY(N1087,Y1087,Hoja1!F1079:F1195),\"\")","v":""},{"$f":"+IF(N1087=\"\",\"\",IF(O1087=\"\",\"SIN RESPUESTA\",(IF(O1087<=P1087,\"A TIEMPO\",\"FUERA DE TIEMPO\"))))","v":""},null,"A TIEMPO",4,0,null,null,{"$f":"IFERROR(VLOOKUP(F1087,Hoja1!$A$50:$C$63,2),\"\")","v":5},{"$f":"IFERROR(VLOOKUP(F1087,Hoja1!$A$50:$C$63,3),\"\")","v":5}]
[1078,20259910019084,"2025-02-10","Persona jurídica","Virtual - Correo electrónico","Solicitud de documentos o información","Registros ambientales",null,"Subdirección de Estudios Ambientales","2025-02-20","Correo electrónico","2025-02-24",null,"",null,{"$f":"IFERROR(WORKDAY(N1088,Y1088,Hoja1!F1080:F1196),\"\")","v":""},{"$f":"+IF(N1088=\"\",\"\",IF(O1088=\"\",\"SIN RESPUESTA\",(IF(O1088<=P1088,\"A TIEMPO\",\"FUERA DE TIEMPO\"))))","v":""},null,"A TIEMPO",8,0,null,null,{"$f":"IFERROR(VLOOKUP(F1088,Hoja1!$A$50:$C$63,2),\"\")","v":5},{"$f":"IFERROR(VLOOKUP(F1088,Hoja1!$A$50:$C$63,3),\"\")","v":5}]
[1079,20259910019104,"2025-02-10","Persona natural","Virtual - Correo electrónico","Solicitud de documentos o información","Bosques",null,"Subdirección de Ecosistemas e Información Ambiental","2025-02-24","Correo electrónico","2025-02-24",null,"",null,{"$f":"IFERROR(WORKDAY(N1089,Y1089,Hoja1!F1081:F1197),\"\")","v":""},{"$f":"+IF(N1089=\"\",\"\",IF(O1089=\"\",\"SIN RESPUESTA\",(IF(O1089<=P1089,\"A TIEMPO\",\"FUERA DE TIEMPO\"))))","v":""},null,"A TIEMPO",10,0,null,null,{"$f":"IFERROR(VLOOKUP(F1089,Hoja1!$A$50:$C$63,2),\"\")","v":5},{"$f":"IFERROR(VLOOKUP(F1089,Hoja1!$A$50:$C$63,3),\"\")","v":5}]
[1080,20259910019114,"2025-02-10","Persona natural","Virtual - Correo electrónico","Solicitud de documentos o información","Sistema de información ambiental",null,"Subdirección de Estudios Ambientales","2025-02-24","Correo electrónico","2025-02-24",null,"",null,{"$f":"IFERROR(WORKDAY(N1090,Y1090,Hoja1!F1082:F1198),\"\")","v":""},{"$f":"+IF(N1090=\"\",\"\",IF(O1090=\"\",\"SIN RESPUESTA\",(IF(O1090<=P1090,\"A TIEMPO\",\"FUERA DE TIEMPO\"))))","v":""},null,"A TIEMPO",10,0,null,null,{"$f":"IFERROR(VLOOKUP(F1090,Hoja1!$A$50:$C$63,2),\"\")","v":5},{"$f":"IFERROR(VLOOKUP(F1090,Hoja1!$A$50:$C$63,3),\"\")","v":5}]
[1081,20259910019124,"2025-02-10","Persona jurídica","Virtual - Correo electrónico","Solicitud de documentos o información","Registros ambientales",null,"Subdirección de Estudios Ambientales","2025-02-20","Correo electrónico","2025-02-24",null,"",null,{"$f":"IFERROR(WORKDAY(N1091,Y1091,Hoja1!F1083:F1199),\"\")","v":""},{"$f":"+IF(N1091=\"\",\"\",IF(O1091=\"\",\"SIN RESPUESTA\",(IF(O1091<=P1091,\"A TIEMPO\",\"FUERA DE TIEMPO\"))))","v":""},null,"A TIEMPO",8,0,null,null,{"$f":"IFERROR(VLOOKUP(F1091,Hoja1!$A$50:$C$63,2),\"\")","v":5},{"$f":"IFERROR(VLOOKUP(F1091,Hoja1!$A$50:$C$63,3),\"\")","v":5}]
[1082,20259910019134,"2025-02-10","Persona natural","Virtual - Correo electrónico","Solicitud de documentos o información","Sistema de información del recurso hídrico",null,"Subdirección de Estudios Ambientales","2025-03-10","Correo electrónico","2025-02-24","Si","2025-03-10","2025-03-10",{"$f":"IFERROR(WORKDAY(N1092,Y1092,Hoja1!F1084:F1200),\"\")","v":"2025-03-17"},{"$f":"+IF(N1092=\"\",\"\",IF(O1092=\"\",\"SIN RESPUESTA\",(IF(O1092<=P1092,\"A TIEMPO\",\"FUERA DE TIEMPO\"))))","v":"A TIEMPO"},null,"A TIEMPO",20,0,null,null,{"$f":"IFERROR(VLOOKUP(F1092,Hoja1!$A$50:$C$63,2),\"\")","v":5},{"$f":"IFERROR(VLOOKUP(F1092,Hoja1!$A$50:$C$63,3),\"\")","v":5}]
[1083,20259050019174,"2025-02-11","Persona natural","Virtual - Formulario PQRSDF","Certificación laboral o pasantía","Administrativa",null,"Grupo de Administración y Desarrollo del Talento Humano","2025-02-24","Correo electrónico","2025-02-25",null,"",null,{"$f":"IFERROR(WORKDAY(N1093,Y1093,Hoja1!F1085:F1201),\"\")","v":""},{"$f":"+IF(N1093=\"\",\"\",IF(O1093=\"\",\"SIN RESPUESTA\",(IF(O1093<=P1093,\"A TIEMPO\",\"FUERA DE TIEMPO\"))))","v":""},null,"A TIEMPO",9,0,null,null,{"$f":"IFERROR(VLOOKUP(F1093,Hoja1!$A$50:$C$63,2),\"\")","v":15},{"$f":"IFERROR(VLOOKUP(F1093,Hoja1!$A$50:$C$63,3),\"\")","v":15}]
[1084,20259050019164,"2025-02-11","Persona jurídica","Virtual - Formulario PQRSDF","Solicitud de documentos o información","Solicitud de información hidrometeorológica",null,"Grupo de Servicio al Ciudadano","2025-02-14","Correo electrónico","2025-02-25",null,"",null,{"$f":"IFERROR(WORKDAY(N1094,Y1094,Hoja1!F1086:F1202),\"\")","v":""},{"$f":"+IF(N1094=\"\",\"\",IF(O1094=\"\",\"SIN RESPUESTA\",(IF(O1094<=P1094,\"A TIEMPO\",\"FUERA DE TIEMPO\"))))","v":""},null,"A TIEMPO",3,0,null,null,{"$f":"IFERROR(VLOOKUP(F1094,Hoja1!$A$50:$C$63,2),\"\")","v":5},{"$f":"IFERROR(VLOOKUP(F1094,Hoja1!$A$50:$C$63,3),\"\")","v":5}]
[1085,20259050019184,"2025-02-11","Persona jurídica","Virtual - Formulario PQRSDF","Solicitud de documentos o información","Registros ambientales",null,"Subdirección de Estudios Ambientales","2025-02-13","Correo electrónico","2025-02-25",null,"",null,{"$f":"IFERROR(WORKDAY(N1095,Y1095,Hoja1!F1087:F1203),\"\")","v":""},{"$f":"+IF(N1095=\"\",\"\",IF(O1095=\"\",\"SIN RESPUESTA\",(IF(O1095<=P1095,\"A TIEMPO\",\"FUERA DE TIEMPO\"))))","v":""},null,"A TIEMPO",2,0,null,null,{"$f":"IFERROR(VLOOKUP(F1095,Hoja1!$A$50:$C$63,2),\"\")","v":5},{"$f":"IFERROR(VLOOKUP(F1095,Hoja1!$A$50:$C$63,3),\"\")","v":5}]
[1086,20259910019234,"2025-02-11","Persona jurídica","Virtual - Correo electrónico","Solicitud de documentos o información","Registros ambientales",null,"Subdirección de Estudios Ambientales","2025-02-14","Correo electrónico","2025-02-25",null,"",null,{"$f":"IFERROR(WORKDAY(N1096,Y1096,Hoja1!F1088:F1204),\"\")","v":""},{"$f":"+IF(N1096=\"\",\"\",IF(O1096=\"\",\"SIN RESPUESTA\",(IF(O1096<=P1096,\"A TIEMPO\",\"FUERA DE TIEMPO\"))))","v":""},null,"A TIEMPO",3,0,null,null,{"$f":"IFERROR(VLOOKUP(F1096,Hoja1!$A$50:$C$63,2),\"\")","v":5},{"$f":"IFERROR(VLOOKUP(F1096,Hoja1!$A$50:$C$63,3),\"\")","v":5}]
[1087,20259910019264,"2025-02-11","Persona jurídica","Virtual - Correo electrónico","Solicitud de documentos o información","Registros ambientales",null,"Subdirección de Estudios Ambientales","2025-02-18","Correo electrónico","2025-02-25",null,"",null,{"$f":"IFERROR(WORKDAY(N1097,Y1097,Hoja1!F1089:F1205),\"\")","v":""},{"$f":"+IF(N1097=\"\",\"\",IF(O1097=\"\",\"SIN RESPUESTA\",(IF(O1097<=P1097,\"A TIEMPO\",\"FUERA DE TIEMPO\"))))","v":""},null,"A TIEMPO",5,0,null,null,{"$f":"IFERROR(VLOOKUP(F1097,Hoja1!$A$50:$C$63,2),\"\")","v":5},{"$f":"IFERROR(VLOOKUP(F1097,Hoja1!$A$50:$C$63,3),\"\")","v":5}]
[1088,20259910019284,"2025-02-11","Persona jurídica","Virtual - Correo electrónico","Petición entre autoridades","Bosques",null,"Subdirección de Ecosistemas e Información Ambiental","2025-02-25","Correo electrónico","2025-02-25",null,"",null,{"$f":"IFERROR(WORKDAY(N1098,Y1098,Hoja1!F1090:F1206),\"\")","v":""},{"$f":"+IF(N1098=\"\",\"\",IF(O1098=\"\",\"SIN RESPUESTA\",(IF(O1098<=P1098,\"A TIEMPO\",\"FUERA DE TIEMPO\"))))","v":""},null,"A TIEMPO",10,0,null,null,{"$f":"IFERROR(VLOOKUP(F1098,Hoja1!$A$50:$C$63,2),\"\")","v":10},{"$f":"IFERROR(VLOOKUP(F1098,Hoja1!$A$50:$C$63,3),\"\")","v":10}]
[1089,20259910019294,"2025-02-11","Persona natural","Virtual - Correo electrónico","Solicitud de documentos o información","Sistema de información del recurso hídrico",null,"Subdirección de Hidrología","2025-02-17","Correo electrónico","2025-02-25",null,"",null,{"$f":"IFERROR(WORKDAY(N1099,Y1099,Hoja1!F1091:F1207),\"\")","v":""},{"$f":"+IF(N1099=\"\",\"\",IF(O1099=\"\",\"SIN RESPUESTA\",(IF(O1099<=P1099,\"A TIEMPO\",\"FUERA DE TIEMPO\"))))","v":""},null,"A TIEMPO",4,0,null,null,{"$f":"IFERROR(VLOOKUP(F1099,Hoja1!$A$50:$C$63,2),\"\")","v":5},{"$f":"IFERROR(VLOOKUP(F1099,Hoja1!$A$50:$C$63,3),\"\")","v":5}]
[1090,20259910019324,"2025-02-11","Persona jurídica","Virtual - Correo electrónico","Solicitud de documentos o información","Suelos y tierras",null,"Subdirección de Hidrología","2025-02-21","Correo electrónico","2025-02-25",null,"",null,{"$f":"IFERROR(WORKDAY(N1100,Y1100,Hoja1!F1092:F1208),\"\")","v":""},{"$f":"+IF(N1100=\"\",\"\",IF(O1100=\"\",\"SIN RESPUESTA\",(IF(O1100<=P1100,\"A TIEMPO\",\"FUERA DE TIEMPO\"))))","v":""},null,"A TIEMPO",8,0,null,null,{"$f":"IFERROR(VLOOKUP(F1100,Hoja1!$A$50:$C$63,2),\"\")","v":5},{"$f":"IFERROR(VLOOKUP(F1100,Hoja1!$A$50:$C$63,3),\"\")","v":5}]
[1091,20259910019314,"2025-02-11","Persona jurídica","Virtual - Correo electrónico","Solicitud de documentos o información","Acreditación de laboratorios",null,"Subdirección de Estudios Ambientales","2025-02-19","Correo electrónico","2025-02-25",null,"",null,{"$f":"IFERROR(WORKDAY(N1101,Y1101,Hoja1!F1093:F1209),\"\")","v":""},{"$f":"+IF(N1101=\"\",\"\",IF(O1101=\"\",\"SIN RESPUESTA\",(IF(O1101<=P1101,\"A TIEMPO\",\"FUERA DE TIEMPO\"))))","v":""},null,"A TIEMPO",6,0,null,null,{"$f":"IFERROR(VLOOKUP(F1101,Hoja1!$A$50:$C$63,2),\"\")","v":5},{"$f":"IFERROR(VLOOKUP(F1101,Hoja1!$A$50:$C$63,3),\"\")","v":5}]
[1092,20259910019334,"2025-02-11","Persona natural","Virtual - Correo electrónico","Solicitud de documentos o información","Solicitud de información hidrometeorológica",null,"Grupo de Servicio al Ciudadano","2025-02-14","Correo electrónico","2025-02-25",null,"",null,{"$f":"IFERROR(WORKDAY(N1102,Y1102,Hoja1!F1094:F1210),\"\")","v":""},{"$f":"+IF(N1102=\"\",\"\",IF(O1102=\"\",\"SIN RESPUESTA\",(IF(O1102<=P1102,\"A TIEMPO\",\"FUERA DE TIEMPO\"))))","v":""},null,"A TIEMPO",3,0,null,null,{"$f":"IFERROR(VLOOKUP(F1102,Hoja1!$A$50:$C$63,2),\"\")","v":5},{"$f":"IFERROR(VLOOKUP(F1102,Hoja1!$A$50:$C$63,3),\"\")","v":5}]
[1093,20259910019354,"2025-02-11","Persona jurídica","Virtual - Correo electrónico","Solicitud de documentos o información","Sistema de información del recurso hídrico",null,"Subdirección de Meteorología","2025-02-14","Correo electrónico","2025-02-25",null,"",null,{"$f":"IFERROR(WORKDAY(N1103,Y1103,Hoja1!F1095:F1211),\"\")","v":""},{"$f":"+IF(N1103=\"\",\"\",IF(O1103=\"\",\"SIN RESPUESTA\",(IF(O1103<=P1103,\"A TIEMPO\",\"FUERA DE TIEMPO\"))))","v":""},null,"A TIEMPO",3,0,null,null,{"$f":"IFERROR(VLOOKUP(F1103,Hoja1!$A$50:$C$63,2),\"\")","v":5},{"$f":"IFERROR(VLOOKUP(F1103,Hoja1!$A$50:$C$63,3),\"\")","v":5}]
[1094,20259910019344,"2025-02-11","Persona natural","Virtual - Correo electrónico","Solicitud de documentos o información","Solicitud de información hidrometeorológica",null,"Grupo de Servicio al Ciudadano","2025-02-14","Correo electrónico","2025-02-25",null,"",null,{"$f":"IFERROR(WORKDAY(N1104,Y1104,Hoja1!F1096:F1212),\"\")","v":""},{"$f":"+IF(N1104=\"\",\"\",IF(O1104=\"\",\"SIN RESPUESTA\",(IF(O1104<=P1104,\"A TIEMPO\",\"FUERA DE TIEMPO\"))))","v":""},null,"A TIEMPO",3,0,null,null,{"$f":"IFERROR(VLOOKUP(F1104,Hoja1!$A$50:$C$63,2),\"\")","v":5},{"$f":"IFERROR(VLOOKUP(F1104,Hoja1!$A$50:$C$63,3),\"\")","v":5}]
[{"$f":"IF(B1105<>\"\",A1104+1,\"\")","v":1095},20259910019404,"2025-02-11","Persona natural","Virtual - Correo electrónico","Certificación de contrato","Administrativa",null,"Oficina Asesora Jurídica","2025-02-25","Correo electrónico","2025-02-25",null,"",null,{"$f":"IFERROR(WORKDAY(N1105,Y1105,Hoja1!F1097:F1213),\"\")","v":""},{"$f":"+IF(N1105=\"\",\"\",IF(O1105=\"\",\"SIN RESPUESTA\",(IF(O1105<=P1105,\"A TIEMPO\",\"FUERA DE TIEMPO\"))))","v":""},null,"A TIEMPO",10,0,null,null,{"$f":"IFERROR(VLOOKUP(F1105,Hoja1!$A$50:$C$63,2),\"\")","v":15},{"$f":"IFERROR(VLOOKUP(F1105,Hoja1!$A$50:$C$63,3),\"\")","v":15}]
[1096,20259910019364,"2025-02-11","Persona jurídica","Virtual - Correo electrónico","Petición entre autoridades","Sistema de información del recurso hídrico",null,"Subdirección de Hidrología","2025-02-25","Correo electrónico","2025-02-25",null,"",null,{"$f":"IFERROR(WORKDAY(N1106,Y1106,Hoja1!F1098:F1214),\"\")","v":""},{"$f":"+IF(N1106=\"\",\"\",IF(O1106=\"\",\"SIN RESPUESTA\",(IF(O1106<=P1106,\"A TIEMPO\",\"FUERA DE TIEMPO\"))))","v":""},null,"A TIEMPO",10,0,null,null,{"$f":"IFERROR(VLOOKUP(F1106,Hoja1!$A$50:$C$63,2),\"\")","v":10},{"$f":"IFERROR(VLOOKUP(F1106,Hoja1!$A$50:$C$63,3),\"\")","v":10}]
[1097,20259910019384,"2025-02-11","Persona jurídica","Virtual - Correo electrónico","Solicitud de documentos o información","Registros ambientales",null,"Subdirección de Estudios Ambientales","2025-02-13","Correo electrónico","2025-02-25",null,"",null,{"$f":"IFERROR(WORKDAY(N1107,Y1107,Hoja1!F1099:F1215),\"\")","v":""},{"$f":"+IF(N1107=\"\",\"\",IF(O1107=\"\",\"SIN RESPUESTA\",(IF(O1107<=P1107,\"A TIEMPO\",\"FUERA DE TIEMPO\"))))","v":""},null,"A TIEMPO",2,0,null,null,{"$f":"IFERROR(VLOOKUP(F1107,Hoja1!$A$50:$C$63,2),\"\")","v":5},{"$f":"IFERROR(VLOOKUP(F1107,Hoja1!$A$50:$C$63,3),\"\")","v":5}]
[1098,20259050019684,"2025-02-11","Persona natural","Virtual - Formulario PQRSDF","Certificación de contrato","Administrativa",null,"Oficina Asesora Jurídica","2025-02-25","Correo electrónico","2025-02-25",null,"",null,{"$f":"IFERROR(WORKDAY(N1108,Y1108,Hoja1!F1100:F1216),\"\")","v":""},{"$f":"+IF(N1108=\"\",\"\",IF(O1108=\"\",\"SIN RESPUESTA\",(IF(O1108<=P1108,\"A TIEMPO\",\"FUERA DE TIEMPO\"))))","v":""},null,"A TIEMPO",10,0,null,null,{"$f":"IFERROR(VLOOKUP(F1108,Hoja1!$A$50:$C$63,2),\"\")","v":15},{"$f":"IFERROR(VLOOKUP(F1108,Hoja1!$A$50:$C$63,3),\"\")","v":15}]
[1099,20259910019654,"2025-02-11","Persona natural","Virtual - Correo electrónico","Certificación laboral o pasantía","Administrativa",null,"Grupo de Administración y Desarrollo del Talento Humano","2025-02-17","Correo electrónico","2025-02-25",null,"",null,{"$f":"IFERROR(WORKDAY(N1109,Y1109,Hoja1!F1101:F1217),\"\")","v":""},{"$f":"+IF(N1109=\"\",\"\",IF(O1109=\"\",\"SIN RESPUESTA\",(IF(O1109<=P1109,\"A TIEMPO\",\"FUERA DE TIEMPO\"))))","v":""},null,"A TIEMPO",4,0,null,null,{"$f":"IFERROR(VLOOKUP(F1109,Hoja1!$A$50:$C$63,2),\"\")","v":15},{"$f":"IFERROR(VLOOKUP(F1109,Hoja1!$A$50:$C$63,3),\"\")","v":15}]
[1100,20259050019514,"2025-02-11","Persona natural","Virtual - Formulario PQRSDF","Certificación laboral o pasantía","Administrativa",null,"Grupo de Administración y Desarrollo del Talento Humano","2025-02-25","Correo electrónico","2025-02-25",null,"",null,{"$f":"IFERROR(WORKDAY(N1110,Y1110,Hoja1!F1102:F1218),\"\")","v":""},{"$f":"+IF(N1110=\"\",\"\",IF(O1110=\"\",\"SIN RESPUESTA\",(IF(O1110<=P1110,\"A TIEMPO\",\"FUERA DE TIEMPO\"))))","v":""},null,"A TIEMPO",10,0,null,null,{"$f":"IFERROR(VLOOKUP(F1110,Hoja1!$A$50:$C$63,2),\"\")","v":15},{"$f":"IFERROR(VLOOKUP(F1110,Hoja1!$A$50:$C$63,3),\"\")","v":15}]
[1101,20259050019544,"2025-02-11","Anónimo","Virtual - Formulario PQRSDF","Solicitud de documentos o información","Registros ambientales",null,"Subdirección de Estudios Ambientales","2025-02-14","Página web","2025-02-25",null,"",null,{"$f":"IFERROR(WORKDAY(N1111,Y1111,Hoja1!F1103:F1219),\"\")","v":""},{"$f":"+IF(N1111=\"\",\"\",IF(O1111=\"\",\"SIN RESPUESTA\",(IF(O1111<=P1111,\"A TIEMPO\",\"FUERA DE TIEMPO\"))))","v":""},null,"A TIEMPO",3,0,null,null,{"$f":"IFERROR(VLOOKUP(F1111,Hoja1!$A$50:$C$63,2),\"\")","v":5},{"$f":"IFERROR(VLOOKUP(F1111,Hoja1!$A$50:$C$63,3),\"\")","v":5}]
[1102,20259910019484,"2025-02-11","Persona jurídica","Virtual - Correo electrónico","Solicitud de documentos o información","Solicitud de información hidrometeorológica",null,"Subdirección de Meteorología","2025-02-17","Correo electrónico","2025-02-25",null,"",null,{"$f":"IFERROR(WORKDAY(N1112,Y1112,Hoja1!F1104:F1220),\"\")","v":""},{"$f":"+IF(N1112=\"\",\"\",IF(O1112=\"\",\"SIN RESPUESTA\",(IF(O1112<=P1112,\"A TIEMPO\",\"FUERA DE TIEMPO\"))))","v":""},null,"A TIEMPO",4,0,null,null,{"$f":"IFERROR(VLOOKUP(F1112,Hoja1!$A$50:$C$63,2),\"\")","v":5},{"$f":"IFERROR(VLOOKUP(F1112,Hoja1!$A$50:$C$63,3),\"\")","v":5}]
[1103,20259050019524,"2025-02-11","Persona jurídica","Virtual - Formulario PQRSDF","Petición entre autoridades","Solicitud de información hidrometeorológica",null,"Grupo de Servicio al Ciudadano","2025-02-14","Correo electrónico","2025-02-25",null,"",null,{"$f":"IFERROR(WORKDAY(N1113,Y1113,Hoja1!F1105:F1221),\"\")","v":""},{"$f":"+IF(N1113=\"\",\"\",IF(O1113=\"\",\"SIN RESPUESTA\",(IF(O1113<=P1113,\"A TIEMPO\",\"FUERA DE TIEMPO\"))))","v":""},null,"A TIEMPO",3,0,null,null,{"$f":"IFERROR(VLOOKUP(F1113,Hoja1!$A$50:$C$63,2),\"\")","v":10},{"$f":"IFERROR(VLOOKUP(F1113,Hoja1!$A$50:$C$63,3),\"\")","v":10}]
[1104,20259910019554,"2025-02-11","Persona jurídica","Virtual - Correo electrónico","Solicitud de documentos o información","Registros ambientales",null,"Subdirección de Estudios Ambientales","2025-02-13","Correo electrónico","2025-02-25",null,"",null,{"$f":"IFERROR(WORKDAY(N1114,Y1114,Hoja1!F1106:F1222),\"\")","v":""},{"$f":"+IF(N1114=\"\",\"\",IF(O1114=\"\",\"SIN RESPUESTA\",(IF(O1114<=P1114,\"A TIEMPO\",\"FUERA DE TIEMPO\"))))","v":""},null,"A TIEMPO",2,0,null,null,{"$f":"IFERROR(VLOOKUP(F1114,Hoja1!$A$50:$C$63,2),\"\")","v":5},{"$f":"IFERROR(VLOOKUP(F1114,Hoja1!$A$50:$C$63,3),\"\")","v":5}]
[1105,20259910019634,"2025-02-11","Persona jurídica","Virtual - Correo electrónico","Solicitud de documentos o información","Registros ambientales",null,"Subdirección de Estudios Ambientales","2025-02-17","Correo electrónico","2025-02-25",null,"",null,{"$f":"IFERROR(WORKDAY(N1115,Y1115,Hoja1!F1107:F1223),\"\")","v":""},{"$f":"+IF(N1115=\"\",\"\",IF(O1115=\"\",\"SIN RESPUESTA\",(IF(O1115<=P1115,\"A TIEMPO\",\"FUERA DE TIEMPO\"))))","v":""},null,"A TIEMPO",4,0,null,null,{"$f":"IFERROR(VLOOKUP(F1115,Hoja1!$A$50:$C$63,2),\"\")","v":5},{"$f":"IFERROR(VLOOKUP(F1115,Hoja1!$A$50:$C$63,3),\"\")","v":5}]
[1106,20259050019644,"2025-02-11","Persona jurídica","Virtual - Formulario PQRSDF","Solicitud de documentos o información","Solicitud de información hidrometeorológica",null,"Grupo de Servicio al Ciudadano","2025-02-14","Correo electrónico","2025-02-25",null,"",null,{"$f":"IFERROR(WORKDAY(N1116,Y1116,Hoja1!F1108:F1224),\"\")","v":""},{"$f":"+IF(N1116=\"\",\"\",IF(O1116=\"\",\"SIN RESPUESTA\",(IF(O1116<=P1116,\"A TIEMPO\",\"FUERA DE TIEMPO\"))))","v":""},null,"A TIEMPO",3,0,null,null,{"$f":"IFERROR(VLOOKUP(F1116,Hoja1!$A$50:$C$63,2),\"\")","v":5},{"$f":"IFERROR(VLOOKUP(F1116,Hoja1!$A$50:$C$63,3),\"\")","v":5}]
[1107,20259910019674,"2025-02-11","Persona jurídica","Virtual - Correo electrónico","Certificación de ingresos y retenciones","Administrativa",null,"Grupo de Tesorería","2025-02-11","Correo electrónico","2025-02-25",null,"",null,{"$f":"IFERROR(WORKDAY(N1117,Y1117,Hoja1!F1109:F1225),\"\")","v":""},{"$f":"+IF(N1117=\"\",\"\",IF(O1117=\"\",\"SIN RESPUESTA\",(IF(O1117<=P1117,\"A TIEMPO\",\"FUERA DE TIEMPO\"))))","v":""},null,"A TIEMPO",0,0,null,null,{"$f":"IFERROR(VLOOKUP(F1117,Hoja1!$A$50:$C$63,2),\"\")","v":15},{"$f":"IFERROR(VLOOKUP(F1117,Hoja1!$A$50:$C$63,3),\"\")","v":15}]
[1108,20259910019714,"2025-02-11","Persona jurídica","Virtual - Correo electrónico","Petición entre autoridades","Registros ambientales",null,"Subdirección de Estudios Ambientales","2025-02-18","Correo electrónico","2025-02-25",null,"",null,{"$f":"IFERROR(WORKDAY(N1118,Y1118,Hoja1!F1110:F1226),\"\")","v":""},{"$f":"+IF(N1118=\"\",\"\",IF(O1118=\"\",\"SIN RESPUESTA\",(IF(O1118<=P1118,\"A TIEMPO\",\"FUERA DE TIEMPO\"))))","v":""},null,"A TIEMPO",5,0,null,null,{"$f":"IFERROR(VLOOKUP(F1118,Hoja1!$A$50:$C$63,2),\"\")","v":10},{"$f":"IFERROR(VLOOKUP(F1118,Hoja1!$A$50:$C$63,3),\"\")","v":10}]
[1109,20259910019734,"2025-02-11","Persona jurídica","Virtual - Correo electrónico","Solicitud de documentos o información","Registros ambientales",null,"Subdirección de Estudios Ambientales","2025-02-21","Correo electrónico","2025-02-25",null,"",null,{"$f":"IFERROR(WORKDAY(N1119,Y1119,Hoja1!F1111:F1227),\"\")","v":""},{"$f":"+IF(N1119=\"\",\"\",IF(O1119=\"\",\"SIN RESPUESTA\",(IF(O1119<=P1119,\"A TIEMPO\",\"FUERA DE TIEMPO\"))))","v":""},null,"A TIEMPO",8,0,null,null,{"$f":"IFERROR(VLOOKUP(F1119,Hoja1!$A$50:$C$63,2),\"\")","v":5},{"$f":"IFERROR(VLOOKUP(F1119,Hoja1!$A$50:$C$63,3),\"\")","v":5}]
[1110,20259050019744,"2025-02-11","Persona natural","Virtual - Formulario PQRSDF","Solicitud de documentos o información","Registros ambientales",null,"Subdirección de Estudios Ambientales","2025-02-21","Correo electrónico","2025-02-25",null,"",null,{"$f":"IFERROR(WORKDAY(N1120,Y1120,Hoja1!F1112:F1228),\"\")","v":""},{"$f":"+IF(N1120=\"\",\"\",IF(O1120=\"\",\"SIN RESPUESTA\",(IF(O1120<=P1120,\"A TIEMPO\",\"FUERA DE TIEMPO\"))))","v":""},null,"A TIEMPO",8,0,null,null,{"$f":"IFERROR(VLOOKUP(F1120,Hoja1!$A$50:$C$63,2),\"\")","v":5},{"$f":"IFERROR(VLOOKUP(F1120,Hoja1!$A$50:$C$63,3),\"\")","v":5}]
[1111,20259050019814,"2025-02-11","Persona natural","Virtual - Formulario PQRSDF","Certificación laboral o pasantía","Administrativa",null,"Grupo de Administración y Desarrollo del Talento Humano","2025-02-25","Correo electrónico","2025-02-25",null,"",null,{"$f":"IFERROR(WORKDAY(N1121,Y1121,Hoja1!F1113:F1229),\"\")","v":""},{"$f":"+IF(N1121=\"\",\"\",IF(O1121=\"\",\"SIN RESPUESTA\",(IF(O1121<=P1121,\"A TIEMPO\",\"FUERA DE TIEMPO\"))))","v":""},null,"A TIEMPO",10,0,null,null,{"$f":"IFERROR(VLOOKUP(F1121,Hoja1!$A$50:$C$63,2),\"\")","v":15},{"$f":"IFERROR(VLOOKUP(F1121,Hoja1!$A$50:$C$63,3),\"\")","v":15}]
[1112,20259910019794,"2025-02-11","Persona jurídica","Virtual - Correo electrónico","Solicitud de bienes y/o servicios","Registros ambientales",null,"Subdirección de Estudios Ambientales","2025-02-13","Correo electrónico","2025-03-04",null,"",null,{"$f":"IFERROR(WORKDAY(N1122,Y1122,Hoja1!F1114:F1230),\"\")","v":""},{"$f":"+IF(N1122=\"\",\"\",IF(O1122=\"\",\"SIN RESPUESTA\",(IF(O1122<=P1122,\"A TIEMPO\",\"FUERA DE TIEMPO\"))))","v":""},null,"A TIEMPO",2,0,null,null,{"$f":"IFERROR(VLOOKUP(F1122,Hoja1!$A$50:$C$63,2),\"\")","v":5},{"$f":"IFERROR(VLOOKUP(F1122,Hoja1!$A$50:$C$63,3),\"\")","v":5}]
[1113,20259910019804,"2025-02-11","Persona jurídica","Virtual - Correo electrónico","Solicitud de documentos o información","Acreditación de laboratorios",null,"Subdirección de Estudios Ambientales","2025-02-19","Correo electrónico","2025-02-25",null,"",null,{"$f":"IFERROR(WORKDAY(N1123,Y1123,Hoja1!F1115:F1231),\"\")","v":""},{"$f":"+IF(N1123=\"\",\"\",IF(O1123=\"\",\"SIN RESPUESTA\",(IF(O1123<=P1123,\"A TIEMPO\",\"FUERA DE TIEMPO\"))))","v":""},null,"A TIEMPO",6,0,null,null,{"$f":"IFERROR(VLOOKUP(F1123,Hoja1!$A$50:$C$63,2),\"\")","v":5},{"$f":"IFERROR(VLOOKUP(F1123,Hoja1!$A$50:$C$63,3),\"\")","v":5}]
[1114,20259910019934,"2025-02-11","Persona natural","Virtual - Correo electrónico","Certificación laboral o pasantía","Administrativa",null,"Grupo de Administración y Desarrollo del Talento Humano","2025-02-26","Correo certificado","2025-02-25",null,"",null,{"$f":"IFERROR(WORKDAY(N1124,Y1124,Hoja1!F1116:F1232),\"\")","v":""},{"$f":"+IF(N1124=\"\",\"\",IF(O1124=\"\",\"SIN RESPUESTA\",(IF(O1124<=P1124,\"A TIEMPO\",\"FUERA DE TIEMPO\"))))","v":""},null,{"$f":"+IF(C1124=\"\",\"\",IF(J1124=\"\",\"SIN RESPUESTA\",(IF(J1124<=L1124,\"A TIEMPO\",\"FUERA DE TIEMPO\"))))","v":"FUERA DE TIEMPO"},11,1,null,null,{"$f":"IFERROR(VLOOKUP(F1124,Hoja1!$A$50:$C$63,2),\"\")","v":15},{"$f":"IFERROR(VLOOKUP(F1124,Hoja1!$A$50:$C$63,3),\"\")","v":15}]
[1115,20259910019994,"2025-02-11","Persona natural","Virtual - Correo electrónico","Certificación laboral o pasantía","Administrativa",null,"Grupo de Administración y Desarrollo del Talento Humano","2025-02-26","Correo electrónico","2025-02-25",null,"",null,{"$f":"IFERROR(WORKDAY(N1125,Y1125,Hoja1!F1117:F1233),\"\")","v":""},{"$f":"+IF(N1125=\"\",\"\",IF(O1125=\"\",\"SIN RESPUESTA\",(IF(O1125<=P1125,\"A TIEMPO\",\"FUERA DE TIEMPO\"))))","v":""},null,{"$f":"+IF(C1125=\"\",\"\",IF(J1125=\"\",\"SIN RESPUESTA\",(IF(J1125<=L1125,\"A TIEMPO\",\"FUERA DE TIEMPO\"))))","v":"FUERA DE TIEMPO"},11,1,null,null,{"$f":"IFERROR(VLOOKUP(F1125,Hoja1!$A$50:$C$63,2),\"\")","v":15},{"$f":"IFERROR(VLOOKUP(F1125,Hoja1!$A$50:$C$63,3),\"\")","v":15}]
[1116,20259910019914,"2025-02-11","Persona jurídica","Virtual - Correo electrónico","Solicitud de documentos o información","Registros ambientales",null,"Subdirección de Estudios Ambientales","2025-02-21","Correo electrónico","2025-02-25",null,"",null,{"$f":"IFERROR(WORKDAY(N1126,Y1126,Hoja1!F1118:F1234),\"\")","v":""},{"$f":"+IF(N1126=\"\",\"\",IF(O1126=\"\",\"SIN RESPUESTA\",(IF(O1126<=P1126,\"A TIEMPO\",\"FUERA DE TIEMPO\"))))","v":""},null,"A TIEMPO",8,0,null,null,{"$f":"IFERROR(VLOOKUP(F1126,Hoja1!$A$50:$C$63,2),\"\")","v":5},{"$f":"IFERROR(VLOOKUP(F1126,Hoja1!$A$50:$C$63,3),\"\")","v":5}]
[1117,20259910019924,"2025-02-11","Persona natural","Virtual - Correo electrónico","Solicitud de documentos o información","Solicitud de información hidrometeorológica",null,"Grupo de Servicio al Ciudadano","2025-02-14","Correo electrónico","2025-02-25",null,"",null,{"$f":"IFERROR(WORKDAY(N1127,Y1127,Hoja1!F1119:F1235),\"\")","v":""},{"$f":"+IF(N1127=\"\",\"\",IF(O1127=\"\",\"SIN RESPUESTA\",(IF(O1127<=P1127,\"A TIEMPO\",\"FUERA DE TIEMPO\"))))","v":""},null,"A TIEMPO",3,0,null,null,{"$f":"IFERROR(VLOOKUP(F1127,Hoja1!$A$50:$C$63,2),\"\")","v":5},{"$f":"IFERROR(VLOOKUP(F1127,Hoja1!$A$50:$C$63,3),\"\")","v":5}]
[1118,20259910019954,"2025-02-11","Persona jurídica","Virtual - Correo electrónico","Solicitud de documentos o información","Acreditación de laboratorios",null,"Subdirección de Estudios Ambientales","2025-02-13","Correo electrónico","2025-02-25",null,"",null,{"$f":"IFERROR(WORKDAY(N1128,Y1128,Hoja1!F1120:F1236),\"\")","v":""},{"$f":"+IF(N1128=\"\",\"\",IF(O1128=\"\",\"SIN RESPUESTA\",(IF(O1128<=P1128,\"A TIEMPO\",\"FUERA DE TIEMPO\"))))","v":""},null,"A TIEMPO",2,0,null,null,{"$f":"IFERROR(VLOOKUP(F1128,Hoja1!$A$50:$C$63,2),\"\")","v":5},{"$f":"IFERROR(VLOOKUP(F1128,Hoja1!$A$50:$C$63,3),\"\")","v":5}]
[1119,20259050019944,"2025-02-11","Persona jurídica","Virtual - Formulario PQRSDF","Solicitud de documentos o información","Registros ambientales",null,"Subdirección de Estudios Ambientales","2025-02-13","Correo electrónico","2025-02-25",null,"",null,{"$f":"IFERROR(WORKDAY(N1129,Y1129,Hoja1!F1121:F1237),\"\")","v":""},{"$f":"+IF(N1129=\"\",\"\",IF(O1129=\"\",\"SIN RESPUESTA\",(IF(O1129<=P1129,\"A TIEMPO\",\"FUERA DE TIEMPO\"))))","v":""},null,"A TIEMPO",2,0,null,null,{"$f":"IFERROR(VLOOKUP(F1129,Hoja1!$A$50:$C$63,2),\"\")","v":5},{"$f":"IFERROR(VLOOKUP(F1129,Hoja1!$A$50:$C$63,3),\"\")","v":5}]
[1120,20259910019974,"2025-02-11","Persona jurídica","Virtual - Correo electrónico","Solicitud de documentos o información","Solicitud de información hidrometeorológica",null,"Grupo de Servicio al Ciudadano","2025-02-19","Correo electrónico","2025-02-25",null,"",null,{"$f":"IFERROR(WORKDAY(N1130,Y1130,Hoja1!F1122:F1238),\"\")","v":""},{"$f":"+IF(N1130=\"\",\"\",IF(O1130=\"\",\"SIN RESPUESTA\",(IF(O1130<=P1130,\"A TIEMPO\",\"FUERA DE TIEMPO\"))))","v":""},null,"A TIEMPO",6,0,null,null,{"$f":"IFERROR(VLOOKUP(F1130,Hoja1!$A$50:$C$63,2),\"\")","v":5},{"$f":"IFERROR(VLOOKUP(F1130,Hoja1!$A$50:$C$63,3),\"\")","v":5}]
[1121,20259910020014,"2025-02-11","Persona natural","Virtual - Correo electrónico","Certificación laboral o pasantía","Administrativa",null,"Grupo de Administración y Desarrollo del Talento Humano","2025-02-26","Correo electrónico","2025-02-25",null,"",null,{"$f":"IFERROR(WORKDAY(N1131,Y1131,Hoja1!F1123:F1239),\"\")","v":""},{"$f":"+IF(N1131=\"\",\"\",IF(O1131=\"\",\"SIN RESPUESTA\",(IF(O1131<=P1131,\"A TIEMPO\",\"FUERA DE TIEMPO\"))))","v":""},null,{"$f":"+IF(C1131=\"\",\"\",IF(J1131=\"\",\"SIN RESPUESTA\",(IF(J1131<=L1131,\"A TIEMPO\",\"FUERA DE TIEMPO\"))))","v":"FUERA DE TIEMPO"},11,1,null,null,{"$f":"IFERROR(VLOOKUP(F1131,Hoja1!$A$50:$C$63,2),\"\")","v":15},{"$f":"IFERROR(VLOOKUP(F1131,Hoja1!$A$50:$C$63,3),\"\")","v":15}]
[1122,20259050020064,"2025-02-11","Persona natural","Virtual - Formulario PQRSDF","Certificación de contrato","Administrativa",null,"Oficina Asesora Jurídica","2025-02-13","Correo electrónico","2025-02-25",null,"",null,{"$f":"IFERROR(WORKDAY(N1132,Y1132,Hoja1!F1124:F1240),\"\")","v":""},{"$f":"+IF(N1132=\"\",\"\",IF(O1132=\"\",\"SIN RESPUESTA\",(IF(O1132<=P1132,\"A TIEMPO\",\"FUERA DE TIEMPO\"))))","v":""},null,"A TIEMPO",2,0,null,null,{"$f":"IFERROR(VLOOKUP(F1132,Hoja1!$A$50:$C$63,2),\"\")","v":15},{"$f":"IFERROR(VLOOKUP(F1132,Hoja1!$A$50:$C$63,3),\"\")","v":15}]
[1123,20259910020074,"2025-02-11","Persona natural","Virtual - Correo electrónico","Certificación electrónica de tiempos laborados - CETIL","Administrativa",null,"Grupo de Administración y Desarrollo del Talento Humano","2025-03-30","Correo electrónico","2025-03-04","Si","2025-03-27","2025-03-30",{"$f":"IFERROR(WORKDAY(N1133,Y1133,Hoja1!F1125:F1241),\"\")","v":"2025-04-17"},{"$f":"+IF(N1133=\"\",\"\",IF(O1133=\"\",\"SIN RESPUESTA\",(IF(O1133<=P1133,\"A TIEMPO\",\"FUERA DE TIEMPO\"))))","v":"A TIEMPO"},null,"A TIEMPO",31,1,null,null,{"$f":"IFERROR(VLOOKUP(F1133,Hoja1!$A$50:$C$63,2),\"\")","v":15},{"$f":"IFERROR(VLOOKUP(F1133,Hoja1!$A$50:$C$63,3),\"\")","v":15}]
[1124,20259050020114,"2025-02-11","Persona natural","Virtual - Formulario PQRSDF","Certificación de contrato","Administrativa",null,"Oficina Asesora Jurídica","2025-02-13","Correo electrónico","2025-02-25",null,"",null,{"$f":"IFERROR(WORKDAY(N1134,Y1134,Hoja1!F1126:F1242),\"\")","v":""},{"$f":"+IF(N1134=\"\",\"\",IF(O1134=\"\",\"SIN RESPUESTA\",(IF(O1134<=P1134,\"A TIEMPO\",\"FUERA DE TIEMPO\"))))","v":""},null,"A TIEMPO",2,0,null,null,{"$f":"IFERROR(VLOOKUP(F1134,Hoja1!$A$50:$C$63,2),\"\")","v":15},{"$f":"IFERROR(VLOOKUP(F1134,Hoja1!$A$50:$C$63,3),\"\")","v":15}]
[1125,20259050020224,"2025-02-11","Persona natural","Virtual - Formulario PQRSDF","Solicitud de documentos o información","Solicitud de información hidrometeorológica",null,"Grupo de Servicio al Ciudadano","2025-02-14","Correo electrónico","2025-02-25",null,"",null,{"$f":"IFERROR(WORKDAY(N1135,Y1135,Hoja1!F1127:F1243),\"\")","v":""},{"$f":"+IF(N1135=\"\",\"\",IF(O1135=\"\",\"SIN RESPUESTA\",(IF(O1135<=P1135,\"A TIEMPO\",\"FUERA DE TIEMPO\"))))","v":""},null,"A TIEMPO",3,0,null,null,{"$f":"IFERROR(VLOOKUP(F1135,Hoja1!$A$50:$C$63,2),\"\")","v":5},{"$f":"IFERROR(VLOOKUP(F1135,Hoja1!$A$50:$C$63,3),\"\")","v":5}]
[1126,20259910020184,"2025-02-11","Persona jurídica","Virtual - Correo electrónico","Petición entre autoridades","Administrativa",null,"Grupo de Administración y Desarrollo del Talento Humano","2025-02-24","Correo electrónico","2025-02-25",null,"",null,{"$f":"IFERROR(WORKDAY(N1136,Y1136,Hoja1!F1128:F1244),\"\")","v":""},{"$f":"+IF(N1136=\"\",\"\",IF(O1136=\"\",\"SIN RESPUESTA\",(IF(O1136<=P1136,\"A TIEMPO\",\"FUERA DE TIEMPO\"))))","v":""},null,"A TIEMPO",9,0,null,null,{"$f":"IFERROR(VLOOKUP(F1136,Hoja1!$A$50:$C$63,2),\"\")","v":10},{"$f":"IFERROR(VLOOKUP(F1136,Hoja1!$A$50:$C$63,3),\"\")","v":10}]
[1127,20259910020124,"2025-02-11","Persona natural","Virtual - Correo electrónico","Solicitud de documentos o información","Informes ambientales",null,"Subdirección de Estudios Ambientales","2025-02-24","Correo electrónico","2025-02-25","Si","2025-03-11","2025-02-24",{"$f":"IFERROR(WORKDAY(N1137,Y1137,Hoja1!F1129:F1245),\"\")","v":"2025-03-18"},{"$f":"+IF(N1137=\"\",\"\",IF(O1137=\"\",\"SIN RESPUESTA\",(IF(O1137<=P1137,\"A TIEMPO\",\"FUERA DE TIEMPO\"))))","v":"A TIEMPO"},null,"A TIEMPO",9,0,null,null,{"$f":"IFERROR(VLOOKUP(F1137,Hoja1!$A$50:$C$63,2),\"\")","v":5},{"$f":"IFERROR(VLOOKUP(F1137,Hoja1!$A$50:$C$63,3),\"\")","v":5}]
[1128,20259910020144,"2025-02-11","Persona natural","Virtual - Correo electrónico","Solicitud de documentos o información","Solicitud de información hidrometeorológica",null,"Grupo de Servicio al Ciudadano","2025-02-19","Correo electrónico","2025-02-25",null,"",null,{"$f":"IFERROR(WORKDAY(N1138,Y1138,Hoja1!F1130:F1246),\"\")","v":""},{"$f":"+IF(N1138=\"\",\"\",IF(O1138=\"\",\"SIN RESPUESTA\",(IF(O1138<=P1138,\"A TIEMPO\",\"FUERA DE TIEMPO\"))))","v":""},null,"A TIEMPO",6,0,null,null,{"$f":"IFERROR(VLOOKUP(F1138,Hoja1!$A$50:$C$63,2),\"\")","v":5},{"$f":"IFERROR(VLOOKUP(F1138,Hoja1!$A$50:$C$63,3),\"\")","v":5}]
[1129,20259910020154,"2025-02-11","Persona jurídica","Virtual - Correo electrónico","Petición entre autoridades","Registros ambientales",null,"Subdirección de Estudios Ambientales",null,null,"2025-02-25","Si","2025-03-11",null,{"$f":"IFERROR(WORKDAY(N1139,Y1139,Hoja1!F1131:F1247),\"\")","v":"2025-03-25"},{"$f":"+IF(N1139=\"\",\"\",IF(O1139=\"\",\"SIN RESPUESTA\",(IF(O1139<=P1139,\"A TIEMPO\",\"FUERA DE TIEMPO\"))))","v":"SIN RESPUESTA"},null,{"$f":"+IF(C1139=\"\",\"\",IF(J1139=\"\",\"SIN RESPUESTA\",(IF(J1139<=L1139,\"A TIEMPO\",\"FUERA DE TIEMPO\"))))","v":"SIN RESPUESTA"},0,0,null,null,{"$f":"IFERROR(VLOOKUP(F1139,Hoja1!$A$50:$C$63,2),\"\")","v":10},{"$f":"IFERROR(VLOOKUP(F1139,Hoja1!$A$50:$C$63,3),\"\")","v":10}]
[1130,20259910020164,"2025-02-11","Persona jurídica","Virtual - Correo electrónico","Solicitud de documentos o información","Registros ambientales",null,"Subdirección de Estudios Ambientales","2025-02-25","Correo electrónico","2025-02-25",null,"",null,{"$f":"IFERROR(WORKDAY(N1140,Y1140,Hoja1!F1132:F1248),\"\")","v":""},{"$f":"+IF(N1140=\"\",\"\",IF(O1140=\"\",\"SIN RESPUESTA\",(IF(O1140<=P1140,\"A TIEMPO\",\"FUERA DE TIEMPO\"))))","v":""},null,"A TIEMPO",10,0,null,null,{"$f":"IFERROR(VLOOKUP(F1140,Hoja1!$A$50:$C$63,2),\"\")","v":5},{"$f":"IFERROR(VLOOKUP(F1140,Hoja1!$A$50:$C$63,3),\"\")","v":5}]
[1131,20259050020214,"2025-02-11","Persona natural","Virtual - Formulario PQRSDF","Solicitud de documentos o información","Sistema de información del recurso hídrico",null,"Subdirección de Meteorología","2025-04-25","Correo electrónico","2025-02-25","Si","2025-03-11","2025-04-25",{"$f":"IFERROR(WORKDAY(N1141,Y1141,Hoja1!F1133:F1249),\"\")","v":"2025-03-18"},{"$f":"+IF(N1141=\"\",\"\",IF(O1141=\"\",\"SIN RESPUESTA\",(IF(O1141<=P1141,\"A TIEMPO\",\"FUERA DE TIEMPO\"))))","v":"FUERA DE TIEMPO"},null,{"$f":"+IF(C1141=\"\",\"\",IF(J1141=\"\",\"SIN RESPUESTA\",(IF(J1141<=L1141,\"A TIEMPO\",\"FUERA DE TIEMPO\"))))","v":"FUERA DE TIEMPO"},49,29,null,null,{"$f":"IFERROR(VLOOKUP(F1141,Hoja1!$A$50:$C$63,2),\"\")","v":5},{"$f":"IFERROR(VLOOKUP(F1141,Hoja1!$A$50:$C$63,3),\"\")","v":5}]
[1132,20259050020234,"2025-02-12","Persona jurídica","Virtual - Formulario PQRSDF","Certificación de ingresos y retenciones","Administrativa",null,"Grupo de Tesorería","2025-02-12","Correo electrónico","2025-02-26",null,"",null,{"$f":"IFERROR(WORKDAY(N1142,Y1142,Hoja1!F1134:F1250),\"\")","v":""},{"$f":"+IF(N1142=\"\",\"\",IF(O1142=\"\",\"SIN RESPUESTA\",(IF(O1142<=P1142,\"A TIEMPO\",\"FUERA DE TIEMPO\"))))","v":""},null,"A TIEMPO",0,0,null,null,{"$f":"IFERROR(VLOOKUP(F1142,Hoja1!$A$50:$C$63,2),\"\")","v":15},{"$f":"IFERROR(VLOOKUP(F1142,Hoja1!$A$50:$C$63,3),\"\")","v":15}]
[1133,20259910020104,"2025-02-11","Persona jurídica","Virtual - Correo electrónico","Petición entre autoridades","Sistema de información ambiental",null,"Subdirección de Ecosistemas e Información Ambiental","2025-02-19","Correo electrónico","2025-02-25",null,"",null,{"$f":"IFERROR(WORKDAY(N1143,Y1143,Hoja1!F1135:F1251),\"\")","v":""},{"$f":"+IF(N1143=\"\",\"\",IF(O1143=\"\",\"SIN RESPUESTA\",(IF(O1143<=P1143,\"A TIEMPO\",\"FUERA DE TIEMPO\"))))","v":""},null,"A TIEMPO",6,0,null,null,{"$f":"IFERROR(VLOOKUP(F1143,Hoja1!$A$50:$C$63,2),\"\")","v":10},{"$f":"IFERROR(VLOOKUP(F1143,Hoja1!$A$50:$C$63,3),\"\")","v":10}]
[1134,20259910020244,"2025-02-12","Persona jurídica","Virtual - Correo electrónico","Petición entre autoridades","Sistema de información del recurso hídrico",null,"Subdirección de Meteorología","2025-03-06","Correo electrónico","2025-02-26","Si","2025-03-12","2025-03-06",{"$f":"IFERROR(WORKDAY(N1144,Y1144,Hoja1!F1136:F1252),\"\")","v":"2025-03-26"},{"$f":"+IF(N1144=\"\",\"\",IF(O1144=\"\",\"SIN RESPUESTA\",(IF(O1144<=P1144,\"A TIEMPO\",\"FUERA DE TIEMPO\"))))","v":"A TIEMPO"},null,"A TIEMPO",16,0,null,null,{"$f":"IFERROR(VLOOKUP(F1144,Hoja1!$A$50:$C$63,2),\"\")","v":10},{"$f":"IFERROR(VLOOKUP(F1144,Hoja1!$A$50:$C$63,3),\"\")","v":10}]
[1135,20259910020254,"2025-02-12","Persona natural","Virtual - Correo electrónico","Solicitud de documentos o información","Solicitud de información hidrometeorológica",null,"Grupo de Servicio al Ciudadano","2025-02-14","Correo electrónico","2025-02-26",null,"",null,{"$f":"IFERROR(WORKDAY(N1145,Y1145,Hoja1!F1137:F1253),\"\")","v":""},{"$f":"+IF(N1145=\"\",\"\",IF(O1145=\"\",\"SIN RESPUESTA\",(IF(O1145<=P1145,\"A TIEMPO\",\"FUERA DE TIEMPO\"))))","v":""},null,"A TIEMPO",2,0,null,null,{"$f":"IFERROR(VLOOKUP(F1145,Hoja1!$A$50:$C$63,2),\"\")","v":5},{"$f":"IFERROR(VLOOKUP(F1145,Hoja1!$A$50:$C$63,3),\"\")","v":5}]
[1136,20259910020274,"2025-02-12","Persona natural","Virtual - Correo electrónico","Solicitud de documentos o información","Bosques",null,"Subdirección de Ecosistemas e Información Ambiental","2025-02-13","Correo electrónico","2025-02-26",null,"",null,{"$f":"IFERROR(WORKDAY(N1146,Y1146,Hoja1!F1138:F1254),\"\")","v":""},{"$f":"+IF(N1146=\"\",\"\",IF(O1146=\"\",\"SIN RESPUESTA\",(IF(O1146<=P1146,\"A TIEMPO\",\"FUERA DE TIEMPO\"))))","v":""},null,"A TIEMPO",1,0,null,null,{"$f":"IFERROR(VLOOKUP(F1146,Hoja1!$A$50:$C$63,2),\"\")","v":5},{"$f":"IFERROR(VLOOKUP(F1146,Hoja1!$A$50:$C$63,3),\"\")","v":5}]
[1137,20259910020284,"2025-02-12","Persona jurídica","Virtual - Correo electrónico","Consulta (Información técnica)","Bosques",null,"Subdirección de Ecosistemas e Información Ambiental","2025-03-07","Correo electrónico","2025-03-28",null,"",null,{"$f":"IFERROR(WORKDAY(N1147,Y1147,Hoja1!F1139:F1255),\"\")","v":""},{"$f":"+IF(N1147=\"\",\"\",IF(O1147=\"\",\"SIN RESPUESTA\",(IF(O1147<=P1147,\"A TIEMPO\",\"FUERA DE TIEMPO\"))))","v":""},null,"A TIEMPO",17,0,null,null,{"$f":"IFERROR(VLOOKUP(F1147,Hoja1!$A$50:$C$63,2),\"\")","v":30},{"$f":"IFERROR(VLOOKUP(F1147,Hoja1!$A$50:$C$63,3),\"\")","v":30}]
[1138,20259910020294,"2025-02-12","Persona natural","Virtual - Correo electrónico","Solicitud de documentos o información","Acreditación de laboratorios",null,"Subdirección de Estudios Ambientales","2025-02-18","Correo electrónico","2025-02-26",null,"",null,{"$f":"IFERROR(WORKDAY(N1148,Y1148,Hoja1!F1140:F1256),\"\")","v":""},{"$f":"+IF(N1148=\"\",\"\",IF(O1148=\"\",\"SIN RESPUESTA\",(IF(O1148<=P1148,\"A TIEMPO\",\"FUERA DE TIEMPO\"))))","v":""},null,"A TIEMPO",4,0,null,null,{"$f":"IFERROR(VLOOKUP(F1148,Hoja1!$A$50:$C$63,2),\"\")","v":5},{"$f":"IFERROR(VLOOKUP(F1148,Hoja1!$A$50:$C$63,3),\"\")","v":5}]
[1139,20259910020304,"2025-02-12","Persona jurídica","Virtual - Correo electrónico","Solicitud de documentos o información","Registros ambientales",null,"Subdirección de Estudios Ambientales","2025-02-24","Correo electrónico","2025-02-26",null,"",null,{"$f":"IFERROR(WORKDAY(N1149,Y1149,Hoja1!F1141:F1257),\"\")","v":""},{"$f":"+IF(N1149=\"\",\"\",IF(O1149=\"\",\"SIN RESPUESTA\",(IF(O1149<=P1149,\"A TIEMPO\",\"FUERA DE TIEMPO\"))))","v":""},null,"A TIEMPO",8,0,null,null,{"$f":"IFERROR(VLOOKUP(F1149,Hoja1!$A$50:$C$63,2),\"\")","v":5},{"$f":"IFERROR(VLOOKUP(F1149,Hoja1!$A$50:$C$63,3),\"\")","v":5}]
[1140,20259910020314,"2025-02-12","Persona jurídica","Virtual - Correo electrónico","Solicitud de documentos o información","Registros ambientales",null,"Subdirección de Estudios Ambientales","2025-02-18","Correo electrónico","2025-02-26",null,"",null,{"$f":"IFERROR(WORKDAY(N1150,Y1150,Hoja1!F1142:F1258),\"\")","v":""},{"$f":"+IF(N1150=\"\",\"\",IF(O1150=\"\",\"SIN RESPUESTA\",(IF(O1150<=P1150,\"A TIEMPO\",\"FUERA DE TIEMPO\"))))","v":""},null,"A TIEMPO",4,0,null,null,{"$f":"IFERROR(VLOOKUP(F1150,Hoja1!$A$50:$C$63,2),\"\")","v":5},{"$f":"IFERROR(VLOOKUP(F1150,Hoja1!$A$50:$C$63,3),\"\")","v":5}]
[1141,20259910020264,"2025-02-12","Persona jurídica","Virtual - Correo electrónico","Certificación de ingresos y retenciones","Administrativa",null,"Grupo de Tesorería","2025-02-12","Correo electrónico","2025-02-26",null,"",null,{"$f":"IFERROR(WORKDAY(N1151,Y1151,Hoja1!F1143:F1259),\"\")","v":""},{"$f":"+IF(N1151=\"\",\"\",IF(O1151=\"\",\"SIN RESPUESTA\",(IF(O1151<=P1151,\"A TIEMPO\",\"FUERA DE TIEMPO\"))))","v":""},null,"A TIEMPO",0,0,null,null,{"$f":"IFERROR(VLOOKUP(F1151,Hoja1!$A$50:$C$63,2),\"\")","v":15},{"$f":"IFERROR(VLOOKUP(F1151,Hoja1!$A$50:$C$63,3),\"\")","v":15}]
[1142,20259050020324,"2025-02-12","Persona natural","Virtual - Formulario PQRSDF","Solicitud de documentos o información","Solicitud de información hidrometeorológica",null,"Grupo de Servicio al Ciudadano","2025-02-19","Correo electrónico","2025-02-26",null,"",null,{"$f":"IFERROR(WORKDAY(N1152,Y1152,Hoja1!F1144:F1260),\"\")","v":""},{"$f":"+IF(N1152=\"\",\"\",IF(O1152=\"\",\"SIN RESPUESTA\",(IF(O1152<=P1152,\"A TIEMPO\",\"FUERA DE TIEMPO\"))))","v":""},null,"A TIEMPO",5,0,null,null,{"$f":"IFERROR(VLOOKUP(F1152,Hoja1!$A$50:$C$63,2),\"\")","v":5},{"$f":"IFERROR(VLOOKUP(F1152,Hoja1!$A$50:$C$63,3),\"\")","v":5}]
[1143,20259050020364,"2025-02-12","Persona jurídica","Virtual - Formulario PQRSDF","Solicitud de documentos o información","Registros ambientales",null,"Subdirección de Estudios Ambientales","2025-02-14","Correo electrónico","2025-02-26",null,"",null,{"$f":"IFERROR(WORKDAY(N1153,Y1153,Hoja1!F1145:F1261),\"\")","v":""},{"$f":"+IF(N1153=\"\",\"\",IF(O1153=\"\",\"SIN RESPUESTA\",(IF(O1153<=P1153,\"A TIEMPO\",\"FUERA DE TIEMPO\"))))","v":""},null,"A TIEMPO",2,0,null,null,{"$f":"IFERROR(VLOOKUP(F1153,Hoja1!$A$50:$C$63,2),\"\")","v":5},{"$f":"IFERROR(VLOOKUP(F1153,Hoja1!$A$50:$C$63,3),\"\")","v":5}]
[1144,20259910020374,"2025-02-12","Persona jurídica","Virtual - Correo electrónico","Solicitud de documentos o información","Registros ambientales",null,"Subdirección de Estudios Ambientales","2025-02-20","Correo electrónico","2025-02-26",null,"",null,{"$f":"IFERROR(WORKDAY(N1154,Y1154,Hoja1!F1146:F1262),\"\")","v":""},{"$f":"+IF(N1154=\"\",\"\",IF(O1154=\"\",\"SIN RESPUESTA\",(IF(O1154<=P1154,\"A TIEMPO\",\"FUERA DE TIEMPO\"))))","v":""},null,"A TIEMPO",6,0,null,null,{"$f":"IFERROR(VLOOKUP(F1154,Hoja1!$A$50:$C$63,2),\"\")","v":5},{"$f":"IFERROR(VLOOKUP(F1154,Hoja1!$A$50:$C$63,3),\"\")","v":5}]
[1145,20259910020384,"2025-02-12","Persona jurídica","Virtual - Correo electrónico","Petición entre autoridades","Registros ambientales",null,"Subdirección de Estudios Ambientales","2025-02-25","Página web","2025-02-26",null,"",null,{"$f":"IFERROR(WORKDAY(N1155,Y1155,Hoja1!F1147:F1263),\"\")","v":""},{"$f":"+IF(N1155=\"\",\"\",IF(O1155=\"\",\"SIN RESPUESTA\",(IF(O1155<=P1155,\"A TIEMPO\",\"FUERA DE TIEMPO\"))))","v":""},null,"A TIEMPO",9,0,null,null,{"$f":"IFERROR(VLOOKUP(F1155,Hoja1!$A$50:$C$63,2),\"\")","v":10},{"$f":"IFERROR(VLOOKUP(F1155,Hoja1!$A$50:$C$63,3),\"\")","v":10}]
[1146,20259050020424,"2025-02-12","Persona natural","Virtual - Formulario PQRSDF","Solicitud de documentos o información","Solicitud de información hidrometeorológica",null,"Grupo de Servicio al Ciudadano","2025-02-14","Correo electrónico","2025-02-26",null,"",null,{"$f":"IFERROR(WORKDAY(N1156,Y1156,Hoja1!F1148:F1264),\"\")","v":""},{"$f":"+IF(N1156=\"\",\"\",IF(O1156=\"\",\"SIN RESPUESTA\",(IF(O1156<=P1156,\"A TIEMPO\",\"FUERA DE TIEMPO\"))))","v":""},null,"A TIEMPO",2,0,null,null,{"$f":"IFERROR(VLOOKUP(F1156,Hoja1!$A$50:$C$63,2),\"\")","v":5},{"$f":"IFERROR(VLOOKUP(F1156,Hoja1!$A$50:$C$63,3),\"\")","v":5}]
[1147,20259910020344,"2025-02-12","Persona jurídica","Virtual - Correo electrónico","Solicitud de documentos o información","Solicitud de información hidrometeorológica",null,"Subdirección de Estudios Ambientales","2025-02-14","Correo electrónico","2025-02-26",null,"",null,{"$f":"IFERROR(WORKDAY(N1157,Y1157,Hoja1!F1149:F1265),\"\")","v":""},{"$f":"+IF(N1157=\"\",\"\",IF(O1157=\"\",\"SIN RESPUESTA\",(IF(O1157<=P1157,\"A TIEMPO\",\"FUERA DE TIEMPO\"))))","v":""},null,"A TIEMPO",2,0,null,null,{"$f":"IFERROR(VLOOKUP(F1157,Hoja1!$A$50:$C$63,2),\"\")","v":5},{"$f":"IFERROR(VLOOKUP(F1157,Hoja1!$A$50:$C$63,3),\"\")","v":5}]
[1148,20259910020514,"2025-02-12","Persona natural","Virtual - Correo electrónico","Certificación laboral o pasantía","Administrativa",null,"Grupo de Administración y Desarrollo del Talento Humano","2025-02-26","Correo electrónico","2025-02-26",null,"",null,{"$f":"IFERROR(WORKDAY(N1158,Y1158,Hoja1!F1150:F1266),\"\")","v":""},{"$f":"+IF(N1158=\"\",\"\",IF(O1158=\"\",\"SIN RESPUESTA\",(IF(O1158<=P1158,\"A TIEMPO\",\"FUERA DE TIEMPO\"))))","v":""},null,"A TIEMPO",10,0,null,null,{"$f":"IFERROR(VLOOKUP(F1158,Hoja1!$A$50:$C$63,2),\"\")","v":15},{"$f":"IFERROR(VLOOKUP(F1158,Hoja1!$A$50:$C$63,3),\"\")","v":15}]
[1149,20259050020544,"2025-02-12","Persona natural","Virtual - Formulario PQRSDF","Solicitud de documentos o información","Solicitud de información hidrometeorológica",null,"Grupo de Servicio al Ciudadano","2025-02-19","Correo electrónico","2025-02-26",null,"",null,{"$f":"IFERROR(WORKDAY(N1159,Y1159,Hoja1!F1151:F1267),\"\")","v":""},{"$f":"+IF(N1159=\"\",\"\",IF(O1159=\"\",\"SIN RESPUESTA\",(IF(O1159<=P1159,\"A TIEMPO\",\"FUERA DE TIEMPO\"))))","v":""},null,"A TIEMPO",5,0,null,null,{"$f":"IFERROR(VLOOKUP(F1159,Hoja1!$A$50:$C$63,2),\"\")","v":5},{"$f":"IFERROR(VLOOKUP(F1159,Hoja1!$A$50:$C$63,3),\"\")","v":5}]
[1150,20259910020564,"2025-02-12","Persona natural","Virtual - Correo electrónico","Solicitud de documentos o información","Visitas académicas",null,"Grupo de Servicio al Ciudadano","2025-02-19","Correo electrónico","2025-02-26",null,"",null,{"$f":"IFERROR(WORKDAY(N1160,Y1160,Hoja1!F1152:F1268),\"\")","v":""},{"$f":"+IF(N1160=\"\",\"\",IF(O1160=\"\",\"SIN RESPUESTA\",(IF(O1160<=P1160,\"A TIEMPO\",\"FUERA DE TIEMPO\"))))","v":""},null,"A TIEMPO",5,0,null,null,{"$f":"IFERROR(VLOOKUP(F1160,Hoja1!$A$50:$C$63,2),\"\")","v":5},{"$f":"IFERROR(VLOOKUP(F1160,Hoja1!$A$50:$C$63,3),\"\")","v":5}]
[1151,20259050020584,"2025-02-12","Persona natural","Virtual - Formulario PQRSDF","Certificación de tiempo, clima y eventos hidrológicos","Certificaciones del tiempo y clima",null,"Subdirección de Meteorología","2025-03-26","Correo electrónico","2025-03-28",null,"",null,{"$f":"IFERROR(WORKDAY(N1161,Y1161,Hoja1!F1153:F1269),\"\")","v":""},{"$f":"+IF(N1161=\"\",\"\",IF(O1161=\"\",\"SIN RESPUESTA\",(IF(O1161<=P1161,\"A TIEMPO\",\"FUERA DE TIEMPO\"))))","v":""},null,"A TIEMPO",28,0,null,null,{"$f":"IFERROR(VLOOKUP(F1161,Hoja1!$A$50:$C$63,2),\"\")","v":15},{"$f":"IFERROR(VLOOKUP(F1161,Hoja1!$A$50:$C$63,3),\"\")","v":15}]
[1152,20259910020604,"2025-02-12","Persona natural","Virtual - Correo electrónico","Certificación de contrato","Administrativa",null,"Oficina Asesora Jurídica","2025-02-25","Correo electrónico","2025-02-26",null,"",null,{"$f":"IFERROR(WORKDAY(N1162,Y1162,Hoja1!F1154:F1270),\"\")","v":""},{"$f":"+IF(N1162=\"\",\"\",IF(O1162=\"\",\"SIN RESPUESTA\",(IF(O1162<=P1162,\"A TIEMPO\",\"FUERA DE TIEMPO\"))))","v":""},null,"A TIEMPO",9,0,null,null,{"$f":"IFERROR(VLOOKUP(F1162,Hoja1!$A$50:$C$63,2),\"\")","v":15},{"$f":"IFERROR(VLOOKUP(F1162,Hoja1!$A$50:$C$63,3),\"\")","v":15}]
[1153,20259910020574,"2025-02-12","Persona jurídica","Virtual - Correo electrónico","Solicitud de documentos o información","Solicitud de información hidrometeorológica",null,"Subdirección de Meteorología","2025-02-17","Correo electrónico","2025-02-26",null,"",null,{"$f":"IFERROR(WORKDAY(N1163,Y1163,Hoja1!F1155:F1271),\"\")","v":""},{"$f":"+IF(N1163=\"\",\"\",IF(O1163=\"\",\"SIN RESPUESTA\",(IF(O1163<=P1163,\"A TIEMPO\",\"FUERA DE TIEMPO\"))))","v":""},null,"A TIEMPO",3,0,null,null,{"$f":"IFERROR(VLOOKUP(F1163,Hoja1!$A$50:$C$63,2),\"\")","v":5},{"$f":"IFERROR(VLOOKUP(F1163,Hoja1!$A$50:$C$63,3),\"\")","v":5}]
[1154,20259910020614,"2025-02-12","Persona natural","Virtual - Correo electrónico","Solicitud de documentos o información","Registros ambientales",null,"Subdirección de Estudios Ambientales","2025-02-21","Correo electrónico","2025-02-26",null,"",null,{"$f":"IFERROR(WORKDAY(N1164,Y1164,Hoja1!F1156:F1272),\"\")","v":""},{"$f":"+IF(N1164=\"\",\"\",IF(O1164=\"\",\"SIN RESPUESTA\",(IF(O1164<=P1164,\"A TIEMPO\",\"FUERA DE TIEMPO\"))))","v":""},null,"A TIEMPO",7,0,null,null,{"$f":"IFERROR(VLOOKUP(F1164,Hoja1!$A$50:$C$63,2),\"\")","v":5},{"$f":"IFERROR(VLOOKUP(F1164,Hoja1!$A$50:$C$63,3),\"\")","v":5}]
[1155,20259050020624,"2025-02-12","Persona jurídica","Virtual - Formulario PQRSDF","Petición entre autoridades","Solicitud de información hidrometeorológica",null,"Grupo de Servicio al Ciudadano","2025-02-24","Correo electrónico","2025-02-26",null,"",null,{"$f":"IFERROR(WORKDAY(N1165,Y1165,Hoja1!F1157:F1273),\"\")","v":""},{"$f":"+IF(N1165=\"\",\"\",IF(O1165=\"\",\"SIN RESPUESTA\",(IF(O1165<=P1165,\"A TIEMPO\",\"FUERA DE TIEMPO\"))))","v":""},null,"A TIEMPO",8,0,null,null,{"$f":"IFERROR(VLOOKUP(F1165,Hoja1!$A$50:$C$63,2),\"\")","v":10},{"$f":"IFERROR(VLOOKUP(F1165,Hoja1!$A$50:$C$63,3),\"\")","v":10}]
[1156,20259050020644,"2025-02-12","Persona natural","Virtual - Formulario PQRSDF","Solicitud de documentos o información","Solicitud de información hidrometeorológica",null,"Grupo de Servicio al Ciudadano","2025-02-19","Correo electrónico","2025-02-26",null,"",null,{"$f":"IFERROR(WORKDAY(N1166,Y1166,Hoja1!F1158:F1274),\"\")","v":""},{"$f":"+IF(N1166=\"\",\"\",IF(O1166=\"\",\"SIN RESPUESTA\",(IF(O1166<=P1166,\"A TIEMPO\",\"FUERA DE TIEMPO\"))))","v":""},null,"A TIEMPO",5,0,null,null,{"$f":"IFERROR(VLOOKUP(F1166,Hoja1!$A$50:$C$63,2),\"\")","v":5},{"$f":"IFERROR(VLOOKUP(F1166,Hoja1!$A$50:$C$63,3),\"\")","v":5}]
[1157,20259910020724,"2025-02-12","Persona jurídica","Virtual - Correo electrónico","Solicitud de documentos o información","Registros ambientales",null,"Subdirección de Estudios Ambientales","2025-02-21","Correo electrónico","2025-02-26",null,"",null,{"$f":"IFERROR(WORKDAY(N1167,Y1167,Hoja1!F1159:F1275),\"\")","v":""},{"$f":"+IF(N1167=\"\",\"\",IF(O1167=\"\",\"SIN RESPUESTA\",(IF(O1167<=P1167,\"A TIEMPO\",\"FUERA DE TIEMPO\"))))","v":""},null,"A TIEMPO",7,0,null,null,{"$f":"IFERROR(VLOOKUP(F1167,Hoja1!$A$50:$C$63,2),\"\")","v":5},{"$f":"IFERROR(VLOOKUP(F1167,Hoja1!$A$50:$C$63,3),\"\")","v":5}]
[1158,20259910020734,"2025-02-12","Persona jurídica","Virtual - Correo electrónico","Solicitud de documentos o información","Registros ambientales",null,"Subdirección de Estudios Ambientales","2025-02-17","Correo electrónico","2025-02-26",null,"",null,{"$f":"IFERROR(WORKDAY(N1168,Y1168,Hoja1!F1160:F1276),\"\")","v":""},{"$f":"+IF(N1168=\"\",\"\",IF(O1168=\"\",\"SIN RESPUESTA\",(IF(O1168<=P1168,\"A TIEMPO\",\"FUERA DE TIEMPO\"))))","v":""},null,"A TIEMPO",3,0,null,null,{"$f":"IFERROR(VLOOKUP(F1168,Hoja1!$A$50:$C$63,2),\"\")","v":5},{"$f":"IFERROR(VLOOKUP(F1168,Hoja1!$A$50:$C$63,3),\"\")","v":5}]
[{"$f":"IF(B1169<>\"\",A1168+1,\"\")","v":1159},20259910020754,"2025-02-12","Persona jurídica","Virtual - Correo electrónico","Solicitud de documentos o información","Registros ambientales",null,"Subdirección de Estudios Ambientales","2025-02-25","Correo electrónico","2025-02-26",null,"",null,{"$f":"IFERROR(WORKDAY(N1169,Y1169,Hoja1!F1161:F1277),\"\")","v":""},{"$f":"+IF(N1169=\"\",\"\",IF(O1169=\"\",\"SIN RESPUESTA\",(IF(O1169<=P1169,\"A TIEMPO\",\"FUERA DE TIEMPO\"))))","v":""},null,"A TIEMPO",9,0,null,null,{"$f":"IFERROR(VLOOKUP(F1169,Hoja1!$A$50:$C$63,2),\"\")","v":5},{"$f":"IFERROR(VLOOKUP(F1169,Hoja1!$A$50:$C$63,3),\"\")","v":5}]
[1160,20259910020764,"2025-02-12","Persona jurídica","Virtual - Correo electrónico","Solicitud de documentos o información","Registros ambientales",null,"Subdirección de Estudios Ambientales","2025-02-18","Correo electrónico","2025-02-26",null,"",null,{"$f":"IFERROR(WORKDAY(N1170,Y1170,Hoja1!F1162:F1278),\"\")","v":""},{"$f":"+IF(N1170=\"\",\"\",IF(O1170=\"\",\"SIN RESPUESTA\",(IF(O1170<=P1170,\"A TIEMPO\",\"FUERA DE TIEMPO\"))))","v":""},null,"A TIEMPO",4,0,null,null,{"$f":"IFERROR(VLOOKUP(F1170,Hoja1!$A$50:$C$63,2),\"\")","v":5},{"$f":"IFERROR(VLOOKUP(F1170,Hoja1!$A$50:$C$63,3),\"\")","v":5}]
[1161,20259910020774,"2025-02-12","Persona natural","Virtual - Correo electrónico","Certificación laboral o pasantía","Administrativa",null,"Grupo de Administración y Desarrollo del Talento Humano","2025-02-26","Correo electrónico","2025-02-26",null,"",null,{"$f":"IFERROR(WORKDAY(N1171,Y1171,Hoja1!F1163:F1279),\"\")","v":""},{"$f":"+IF(N1171=\"\",\"\",IF(O1171=\"\",\"SIN RESPUESTA\",(IF(O1171<=P1171,\"A TIEMPO\",\"FUERA DE TIEMPO\"))))","v":""},null,"A TIEMPO",10,0,null,null,{"$f":"IFERROR(VLOOKUP(F1171,Hoja1!$A$50:$C$63,2),\"\")","v":15},{"$f":"IFERROR(VLOOKUP(F1171,Hoja1!$A$50:$C$63,3),\"\")","v":15}]
[1162,20259910020784,"2025-02-12","Persona natural","Virtual - Correo electrónico","Solicitud de documentos o información","Sistema de información ambiental",null,"Subdirección de Estudios Ambientales","2025-02-12","Correo electrónico","2025-02-26",null,"",null,{"$f":"IFERROR(WORKDAY(N1172,Y1172,Hoja1!F1164:F1280),\"\")","v":""},{"$f":"+IF(N1172=\"\",\"\",IF(O1172=\"\",\"SIN RESPUESTA\",(IF(O1172<=P1172,\"A TIEMPO\",\"FUERA DE TIEMPO\"))))","v":""},null,"A TIEMPO",0,0,null,null,{"$f":"IFERROR(VLOOKUP(F1172,Hoja1!$A$50:$C$63,2),\"\")","v":5},{"$f":"IFERROR(VLOOKUP(F1172,Hoja1!$A$50:$C$63,3),\"\")","v":5}]
[1163,20259910020804,"2025-02-12","Persona jurídica","Virtual - Correo electrónico","Solicitud de documentos o información","Registros ambientales",null,"Subdirección de Estudios Ambientales","2025-02-18","Correo electrónico","2025-02-26",null,"",null,{"$f":"IFERROR(WORKDAY(N1173,Y1173,Hoja1!F1165:F1281),\"\")","v":""},{"$f":"+IF(N1173=\"\",\"\",IF(O1173=\"\",\"SIN RESPUESTA\",(IF(O1173<=P1173,\"A TIEMPO\",\"FUERA DE TIEMPO\"))))","v":""},null,"A TIEMPO",4,0,null,null,{"$f":"IFERROR(VLOOKUP(F1173,Hoja1!$A$50:$C$63,2),\"\")","v":5},{"$f":"IFERROR(VLOOKUP(F1173,Hoja1!$A$50:$C$63,3),\"\")","v":5}]
[1164,20259050020914,"2025-02-12","Persona jurídica","Virtual - Formulario PQRSDF","Certificación de contrato","Administrativa",null,"Oficina Asesora Jurídica","2025-03-27","Correo electrónico","2025-02-26","Si","2025-03-12","2025-03-27",{"$f":"IFERROR(WORKDAY(N1174,Y1174,Hoja1!F1166:F1282),\"\")","v":"2025-04-02"},{"$f":"+IF(N1174=\"\",\"\",IF(O1174=\"\",\"SIN RESPUESTA\",(IF(O1174<=P1174,\"A TIEMPO\",\"FUERA DE TIEMPO\"))))","v":"A TIEMPO"},null,"A TIEMPO",29,9,null,null,{"$f":"IFERROR(VLOOKUP(F1174,Hoja1!$A$50:$C$63,2),\"\")","v":15},{"$f":"IFERROR(VLOOKUP(F1174,Hoja1!$A$50:$C$63,3),\"\")","v":15}]
[1165,20259910020954,"2025-02-12","Persona natural","Virtual - Correo electrónico","Certificación laboral o pasantía","Administrativa",null,"Grupo de Administración y Desarrollo del Talento Humano","2025-02-26","Correo electrónico","2025-02-26",null,"",null,{"$f":"IFERROR(WORKDAY(N1175,Y1175,Hoja1!F1167:F1283),\"\")","v":""},{"$f":"+IF(N1175=\"\",\"\",IF(O1175=\"\",\"SIN RESPUESTA\",(IF(O1175<=P1175,\"A TIEMPO\",\"FUERA DE TIEMPO\"))))","v":""},null,"A TIEMPO",10,0,null,null,{"$f":"IFERROR(VLOOKUP(F1175,Hoja1!$A$50:$C$63,2),\"\")","v":15},{"$f":"IFERROR(VLOOKUP(F1175,Hoja1!$A$50:$C$63,3),\"\")","v":15}]
[1166,20259910021004,"2025-02-12","Persona jurídica","Virtual - Correo electrónico","Solicitud de documentos o información","Solicitud de información hidrometeorológica",null,"Grupo de Servicio al Ciudadano","2025-02-19","Correo electrónico","2025-02-26",null,"",null,{"$f":"IFERROR(WORKDAY(N1176,Y1176,Hoja1!F1168:F1284),\"\")","v":""},{"$f":"+IF(N1176=\"\",\"\",IF(O1176=\"\",\"SIN RESPUESTA\",(IF(O1176<=P1176,\"A TIEMPO\",\"FUERA DE TIEMPO\"))))","v":""},null,"A TIEMPO",5,0,null,null,{"$f":"IFERROR(VLOOKUP(F1176,Hoja1!$A$50:$C$63,2),\"\")","v":5},{"$f":"IFERROR(VLOOKUP(F1176,Hoja1!$A$50:$C$63,3),\"\")","v":5}]
[1167,20259910021024,"2025-02-12","Persona jurídica","Virtual - Correo electrónico","Petición entre autoridades","Registros ambientales",null,"Subdirección de Estudios Ambientales","2025-02-20","Correo electrónico","2025-02-26",null,"",null,{"$f":"IFERROR(WORKDAY(N1177,Y1177,Hoja1!F1169:F1285),\"\")","v":""},{"$f":"+IF(N1177=\"\",\"\",IF(O1177=\"\",\"SIN RESPUESTA\",(IF(O1177<=P1177,\"A TIEMPO\",\"FUERA DE TIEMPO\"))))","v":""},null,"A TIEMPO",6,0,null,null,{"$f":"IFERROR(VLOOKUP(F1177,Hoja1!$A$50:$C$63,2),\"\")","v":10},{"$f":"IFERROR(VLOOKUP(F1177,Hoja1!$A$50:$C$63,3),\"\")","v":10}]
[1168,20259910021044,"2025-02-12","Persona natural","Virtual - Correo electrónico","Solicitud de documentos o información","Sistema de información del recurso hídrico",null,"Subdirección de Hidrología","2025-02-24","Correo electrónico","2025-02-26",null,"",null,{"$f":"IFERROR(WORKDAY(N1178,Y1178,Hoja1!F1170:F1286),\"\")","v":""},{"$f":"+IF(N1178=\"\",\"\",IF(O1178=\"\",\"SIN RESPUESTA\",(IF(O1178<=P1178,\"A TIEMPO\",\"FUERA DE TIEMPO\"))))","v":""},null,"A TIEMPO",8,0,null,null,{"$f":"IFERROR(VLOOKUP(F1178,Hoja1!$A$50:$C$63,2),\"\")","v":5},{"$f":"IFERROR(VLOOKUP(F1178,Hoja1!$A$50:$C$63,3),\"\")","v":5}]
[1169,20259910021054,"2025-02-12","Persona jurídica","Virtual - Correo electrónico","Certificación de ingresos y retenciones","Administrativa",null,"Grupo de Tesorería","2025-02-13","Correo electrónico","2025-02-26",null,"",null,{"$f":"IFERROR(WORKDAY(N1179,Y1179,Hoja1!F1171:F1287),\"\")","v":""},{"$f":"+IF(N1179=\"\",\"\",IF(O1179=\"\",\"SIN RESPUESTA\",(IF(O1179<=P1179,\"A TIEMPO\",\"FUERA DE TIEMPO\"))))","v":""},null,"A TIEMPO",1,0,null,null,{"$f":"IFERROR(VLOOKUP(F1179,Hoja1!$A$50:$C$63,2),\"\")","v":15},{"$f":"IFERROR(VLOOKUP(F1179,Hoja1!$A$50:$C$63,3),\"\")","v":15}]
[1170,20259910021074,"2025-02-12","Persona jurídica","Virtual - Correo electrónico","Solicitud de documentos o información","Registros ambientales",null,"Subdirección de Estudios Ambientales","2025-02-24","Correo electrónico","2025-02-26",null,"",null,{"$f":"IFERROR(WORKDAY(N1180,Y1180,Hoja1!F1172:F1288),\"\")","v":""},{"$f":"+IF(N1180=\"\",\"\",IF(O1180=\"\",\"SIN RESPUESTA\",(IF(O1180<=P1180,\"A TIEMPO\",\"FUERA DE TIEMPO\"))))","v":""},null,"A TIEMPO",8,0,null,null,{"$f":"IFERROR(VLOOKUP(F1180,Hoja1!$A$50:$C$63,2),\"\")","v":5},{"$f":"IFERROR(VLOOKUP(F1180,Hoja1!$A$50:$C$63,3),\"\")","v":5}]
[1171,20259910021084,"2025-02-12","Persona jurídica","Virtual - Correo electrónico","Solicitud de documentos o información","Registros ambientales",null,"Subdirección de Estudios Ambientales","2025-02-18","Correo electrónico","2025-02-26",null,"",null,{"$f":"IFERROR(WORKDAY(N1181,Y1181,Hoja1!F1173:F1289),\"\")","v":""},{"$f":"+IF(N1181=\"\",\"\",IF(O1181=\"\",\"SIN RESPUESTA\",(IF(O1181<=P1181,\"A TIEMPO\",\"FUERA DE TIEMPO\"))))","v":""},null,"A TIEMPO",4,0,null,null,{"$f":"IFERROR(VLOOKUP(F1181,Hoja1!$A$50:$C$63,2),\"\")","v":5},{"$f":"IFERROR(VLOOKUP(F1181,Hoja1!$A$50:$C$63,3),\"\")","v":5}]
[1172,20259050021094,"2025-02-12","Persona natural","Virtual - Formulario PQRSDF","Solicitud de documentos o información","Solicitud de información hidrometeorológica",null,"Grupo de Servicio al Ciudadano","2025-02-19","Correo electrónico","2025-02-26",null,"",null,{"$f":"IFERROR(WORKDAY(N1182,Y1182,Hoja1!F1174:F1290),\"\")","v":""},{"$f":"+IF(N1182=\"\",\"\",IF(O1182=\"\",\"SIN RESPUESTA\",(IF(O1182<=P1182,\"A TIEMPO\",\"FUERA DE TIEMPO\"))))","v":""},null,"A TIEMPO",5,0,null,null,{"$f":"IFERROR(VLOOKUP(F1182,Hoja1!$A$50:$C$63,2),\"\")","v":5},{"$f":"IFERROR(VLOOKUP(F1182,Hoja1!$A$50:$C$63,3),\"\")","v":5}]
[1173,20259050021104,"2025-02-12","Persona jurídica","Virtual - Formulario PQRSDF","Certificación de ingresos y retenciones","Administrativa",null,"Grupo de Contabilidad","2025-02-21","Correo electrónico","2025-02-26",null,"",null,{"$f":"IFERROR(WORKDAY(N1183,Y1183,Hoja1!F1175:F1291),\"\")","v":""},{"$f":"+IF(N1183=\"\",\"\",IF(O1183=\"\",\"SIN RESPUESTA\",(IF(O1183<=P1183,\"A TIEMPO\",\"FUERA DE TIEMPO\"))))","v":""},null,"A TIEMPO",7,0,null,null,{"$f":"IFERROR(VLOOKUP(F1183,Hoja1!$A$50:$C$63,2),\"\")","v":15},{"$f":"IFERROR(VLOOKUP(F1183,Hoja1!$A$50:$C$63,3),\"\")","v":15}]
[1174,20259910021164,"2025-02-13","Persona jurídica","Virtual - Correo electrónico","Solicitud de documentos o información","Pronósticos y alertas",null,"Subdirección de Estudios Ambientales","2025-02-24","Correo electrónico","2025-02-27",null,"",null,{"$f":"IFERROR(WORKDAY(N1184,Y1184,Hoja1!F1176:F1292),\"\")","v":""},{"$f":"+IF(N1184=\"\",\"\",IF(O1184=\"\",\"SIN RESPUESTA\",(IF(O1184<=P1184,\"A TIEMPO\",\"FUERA DE TIEMPO\"))))","v":""},null,"A TIEMPO",7,0,null,null,{"$f":"IFERROR(VLOOKUP(F1184,Hoja1!$A$50:$C$63,2),\"\")","v":5},{"$f":"IFERROR(VLOOKUP(F1184,Hoja1!$A$50:$C$63,3),\"\")","v":5}]
[1175,20259910021174,"2025-02-13","Persona jurídica","Virtual - Correo electrónico","Solicitud de documentos o información","Registros ambientales",null,"Subdirección de Estudios Ambientales","2025-02-26","Correo electrónico","2025-02-27",null,"",null,{"$f":"IFERROR(WORKDAY(N1185,Y1185,Hoja1!F1177:F1293),\"\")","v":""},{"$f":"+IF(N1185=\"\",\"\",IF(O1185=\"\",\"SIN RESPUESTA\",(IF(O1185<=P1185,\"A TIEMPO\",\"FUERA DE TIEMPO\"))))","v":""},null,"A TIEMPO",9,0,null,null,{"$f":"IFERROR(VLOOKUP(F1185,Hoja1!$A$50:$C$63,2),\"\")","v":5},{"$f":"IFERROR(VLOOKUP(F1185,Hoja1!$A$50:$C$63,3),\"\")","v":5}]
[1176,20259910021194,"2025-02-13","Persona jurídica","Virtual - Correo electrónico","Consulta (Información técnica)","Sistema de información ambiental",null,"Subdirección de Estudios Ambientales",null,null,"2025-03-31",null,"",null,{"$f":"IFERROR(WORKDAY(N1186,Y1186,Hoja1!F1178:F1294),\"\")","v":""},{"$f":"+IF(N1186=\"\",\"\",IF(O1186=\"\",\"SIN RESPUESTA\",(IF(O1186<=P1186,\"A TIEMPO\",\"FUERA DE TIEMPO\"))))","v":""},null,{"$f":"+IF(C1186=\"\",\"\",IF(J1186=\"\",\"SIN RESPUESTA\",(IF(J1186<=L1186,\"A TIEMPO\",\"FUERA DE TIEMPO\"))))","v":"SIN RESPUESTA"},0,0,null,null,{"$f":"IFERROR(VLOOKUP(F1186,Hoja1!$A$50:$C$63,2),\"\")","v":30},{"$f":"IFERROR(VLOOKUP(F1186,Hoja1!$A$50:$C$63,3),\"\")","v":30}]
[1177,20259910021204,"2025-02-13","Persona jurídica","Virtual - Correo electrónico","Solicitud de documentos o información","Acreditación de laboratorios",null,"Subdirección de Estudios Ambientales","2025-02-19","Correo electrónico","2025-02-27",null,"",null,{"$f":"IFERROR(WORKDAY(N1187,Y1187,Hoja1!F1179:F1295),\"\")","v":""},{"$f":"+IF(N1187=\"\",\"\",IF(O1187=\"\",\"SIN RESPUESTA\",(IF(O1187<=P1187,\"A TIEMPO\",\"FUERA DE TIEMPO\"))))","v":""},null,"A TIEMPO",4,0,null,null,{"$f":"IFERROR(VLOOKUP(F1187,Hoja1!$A$50:$C$63,2),\"\")","v":5},{"$f":"IFERROR(VLOOKUP(F1187,Hoja1!$A$50:$C$63,3),\"\")","v":5}]
[1178,20259910021224,"2025-02-13","Persona natural","Virtual - Correo electrónico","Solicitud de documentos o información","Administrativa",null,"Subdirección de Estudios Ambientales","2025-02-13","Correo electrónico","2025-02-27",null,"",null,{"$f":"IFERROR(WORKDAY(N1188,Y1188,Hoja1!F1180:F1296),\"\")","v":""},{"$f":"+IF(N1188=\"\",\"\",IF(O1188=\"\",\"SIN RESPUESTA\",(IF(O1188<=P1188,\"A TIEMPO\",\"FUERA DE TIEMPO\"))))","v":""},null,"A TIEMPO",0,0,null,null,{"$f":"IFERROR(VLOOKUP(F1188,Hoja1!$A$50:$C$63,2),\"\")","v":5},{"$f":"IFERROR(VLOOKUP(F1188,Hoja1!$A$50:$C$63,3),\"\")","v":5}]
[1179,20259910021234,"2025-02-13","Persona natural","Virtual - Correo electrónico","Solicitud de documentos o información","Solicitud de información hidrometeorológica",null,"Subdirección de Meteorología","2025-02-26","Correo electrónico","2025-02-27",null,"",null,{"$f":"IFERROR(WORKDAY(N1189,Y1189,Hoja1!F1181:F1297),\"\")","v":""},{"$f":"+IF(N1189=\"\",\"\",IF(O1189=\"\",\"SIN RESPUESTA\",(IF(O1189<=P1189,\"A TIEMPO\",\"FUERA DE TIEMPO\"))))","v":""},null,"A TIEMPO",9,0,null,null,{"$f":"IFERROR(VLOOKUP(F1189,Hoja1!$A$50:$C$63,2),\"\")","v":5},{"$f":"IFERROR(VLOOKUP(F1189,Hoja1!$A$50:$C$63,3),\"\")","v":5}]
[1180,20259910021274,"2025-02-13","Persona natural","Virtual - Correo electrónico","Certificación de contrato","Administrativa",null,"Oficina Asesora Jurídica","2025-02-26","Correo electrónico","2025-02-27",null,"",null,{"$f":"IFERROR(WORKDAY(N1190,Y1190,Hoja1!F1182:F1298),\"\")","v":""},{"$f":"+IF(N1190=\"\",\"\",IF(O1190=\"\",\"SIN RESPUESTA\",(IF(O1190<=P1190,\"A TIEMPO\",\"FUERA DE TIEMPO\"))))","v":""},null,"A TIEMPO",9,0,null,null,{"$f":"IFERROR(VLOOKUP(F1190,Hoja1!$A$50:$C$63,2),\"\")","v":15},{"$f":"IFERROR(VLOOKUP(F1190,Hoja1!$A$50:$C$63,3),\"\")","v":15}]
[1181,20259050021324,"2025-02-13","Persona natural","Virtual - Formulario PQRSDF","Certificación laboral o pasantía","Administrativa",null,"Grupo de Administración y Desarrollo del Talento Humano","2025-02-26","Correo electrónico","2025-02-27",null,"",null,{"$f":"IFERROR(WORKDAY(N1191,Y1191,Hoja1!F1183:F1299),\"\")","v":""},{"$f":"+IF(N1191=\"\",\"\",IF(O1191=\"\",\"SIN RESPUESTA\",(IF(O1191<=P1191,\"A TIEMPO\",\"FUERA DE TIEMPO\"))))","v":""},null,"A TIEMPO",9,0,null,null,{"$f":"IFERROR(VLOOKUP(F1191,Hoja1!$A$50:$C$63,2),\"\")","v":15},{"$f":"IFERROR(VLOOKUP(F1191,Hoja1!$A$50:$C$63,3),\"\")","v":15}]
[1182,20259910021244,"2025-02-13","Persona jurídica","Virtual - Correo electrónico","Solicitud de documentos o información","Registros ambientales",null,"Subdirección de Estudios Ambientales","2025-02-26","Correo electrónico","2025-02-27",null,"",null,{"$f":"IFERROR(WORKDAY(N1192,Y1192,Hoja1!F1184:F1300),\"\")","v":""},{"$f":"+IF(N1192=\"\",\"\",IF(O1192=\"\",\"SIN RESPUESTA\",(IF(O1192<=P1192,\"A TIEMPO\",\"FUERA DE TIEMPO\"))))","v":""},null,"A TIEMPO",9,0,null,null,{"$f":"IFERROR(VLOOKUP(F1192,Hoja1!$A$50:$C$63,2),\"\")","v":5},{"$f":"IFERROR(VLOOKUP(F1192,Hoja1!$A$50:$C$63,3),\"\")","v":5}]
[1183,20259910021264,"2025-02-13","Persona natural","Virtual - Correo electrónico","Solicitud de documentos o información","Bosques",null,"Subdirección de Ecosistemas e Información Ambiental","2025-02-17","Correo electrónico","2025-02-27",null,"",null,{"$f":"IFERROR(WORKDAY(N1193,Y1193,Hoja1!F1185:F1301),\"\")","v":""},{"$f":"+IF(N1193=\"\",\"\",IF(O1193=\"\",\"SIN RESPUESTA\",(IF(O1193<=P1193,\"A TIEMPO\",\"FUERA DE TIEMPO\"))))","v":""},null,"A TIEMPO",2,0,null,null,{"$f":"IFERROR(VLOOKUP(F1193,Hoja1!$A$50:$C$63,2),\"\")","v":5},{"$f":"IFERROR(VLOOKUP(F1193,Hoja1!$A$50:$C$63,3),\"\")","v":5}]
[1184,20259910021354,"2025-02-13","Persona jurídica","Virtual - Correo electrónico","Solicitud judicial","Jurídico",null,"Subdirección de Ecosistemas e Información Ambiental","2025-02-21","Correo electrónico","2025-02-20",null,"",null,{"$f":"IFERROR(WORKDAY(N1194,Y1194,Hoja1!F1186:F1302),\"\")","v":""},{"$f":"+IF(N1194=\"\",\"\",IF(O1194=\"\",\"SIN RESPUESTA\",(IF(O1194<=P1194,\"A TIEMPO\",\"FUERA DE TIEMPO\"))))","v":""},null,{"$f":"+IF(C1194=\"\",\"\",IF(J1194=\"\",\"SIN RESPUESTA\",(IF(J1194<=L1194,\"A TIEMPO\",\"FUERA DE TIEMPO\"))))","v":"FUERA DE TIEMPO"},6,1,null,null,{"$f":"IFERROR(VLOOKUP(F1194,Hoja1!$A$50:$C$63,2),\"\")","v":5},{"$f":"IFERROR(VLOOKUP(F1194,Hoja1!$A$50:$C$63,3),\"\")","v":5}]
[1185,20259910021294,"2025-02-13","Persona jurídica","Virtual - Correo electrónico","Solicitud judicial","Certificaciones del tiempo y clima",null,"Subdirección de Meteorología","2025-02-13","Correo electrónico","2025-02-20",null,"",null,{"$f":"IFERROR(WORKDAY(N1195,Y1195,Hoja1!F1187:F1303),\"\")","v":""},{"$f":"+IF(N1195=\"\",\"\",IF(O1195=\"\",\"SIN RESPUESTA\",(IF(O1195<=P1195,\"A TIEMPO\",\"FUERA DE TIEMPO\"))))","v":""},null,"A TIEMPO",0,0,null,null,{"$f":"IFERROR(VLOOKUP(F1195,Hoja1!$A$50:$C$63,2),\"\")","v":5},{"$f":"IFERROR(VLOOKUP(F1195,Hoja1!$A$50:$C$63,3),\"\")","v":5}]
[1186,20259910021154,"2025-02-13","Persona jurídica","Virtual - Correo electrónico","Solicitud judicial","Jurídico",null,"Subdirección de Hidrología","2025-02-18","Correo electrónico","2025-02-20",null,"",null,{"$f":"IFERROR(WORKDAY(N1196,Y1196,Hoja1!F1188:F1304),\"\")","v":""},{"$f":"+IF(N1196=\"\",\"\",IF(O1196=\"\",\"SIN RESPUESTA\",(IF(O1196<=P1196,\"A TIEMPO\",\"FUERA DE TIEMPO\"))))","v":""},null,"A TIEMPO",3,0,null,null,{"$f":"IFERROR(VLOOKUP(F1196,Hoja1!$A$50:$C$63,2),\"\")","v":5},{"$f":"IFERROR(VLOOKUP(F1196,Hoja1!$A$50:$C$63,3),\"\")","v":5}]
[1187,20259910021624,"2025-02-13","Persona natural","Virtual - Correo electrónico","Certificación laboral o pasantía","Administrativa",null,"Grupo de Administración y Desarrollo del Talento Humano","2025-02-26","Correo electrónico","2025-02-27",null,"",null,{"$f":"IFERROR(WORKDAY(N1197,Y1197,Hoja1!F1189:F1305),\"\")","v":""},{"$f":"+IF(N1197=\"\",\"\",IF(O1197=\"\",\"SIN RESPUESTA\",(IF(O1197<=P1197,\"A TIEMPO\",\"FUERA DE TIEMPO\"))))","v":""},null,"A TIEMPO",9,0,null,null,{"$f":"IFERROR(VLOOKUP(F1197,Hoja1!$A$50:$C$63,2),\"\")","v":15},{"$f":"IFERROR(VLOOKUP(F1197,Hoja1!$A$50:$C$63,3),\"\")","v":15}]
[1188,20259910021644,"2025-02-13","Persona natural","Virtual - Correo electrónico","Certificación de contrato","Administrativa",null,"Oficina Asesora Jurídica","2025-02-26","Correo electrónico","2025-02-27",null,"",null,{"$f":"IFERROR(WORKDAY(N1198,Y1198,Hoja1!F1190:F1306),\"\")","v":""},{"$f":"+IF(N1198=\"\",\"\",IF(O1198=\"\",\"SIN RESPUESTA\",(IF(O1198<=P1198,\"A TIEMPO\",\"FUERA DE TIEMPO\"))))","v":""},null,"A TIEMPO",9,0,null,null,{"$f":"IFERROR(VLOOKUP(F1198,Hoja1!$A$50:$C$63,2),\"\")","v":15},{"$f":"IFERROR(VLOOKUP(F1198,Hoja1!$A$50:$C$63,3),\"\")","v":15}]
[1189,20259910021554,"2025-02-13","Persona jurídica","Virtual - Correo electrónico","Certificación de contrato","Administrativa",null,"Oficina Asesora Jurídica","2025-02-26","Correo electrónico","2025-02-27",null,"",null,{"$f":"IFERROR(WORKDAY(N1199,Y1199,Hoja1!F1191:F1307),\"\")","v":""},{"$f":"+IF(N1199=\"\",\"\",IF(O1199=\"\",\"SIN RESPUESTA\",(IF(O1199<=P1199,\"A TIEMPO\",\"FUERA DE TIEMPO\"))))","v":""},null,"A TIEMPO",9,0,null,null,{"$f":"IFERROR(VLOOKUP(F1199,Hoja1!$A$50:$C$63,2),\"\")","v":15},{"$f":"IFERROR(VLOOKUP(F1199,Hoja1!$A$50:$C$63,3),\"\")","v":15}]
[1190,20259910021574,"2025-02-13","Persona jurídica","Virtual - Correo electrónico","Solicitud de documentos o información","Solicitud de información hidrometeorológica",null,"Grupo de Servicio al Ciudadano","2025-02-19","Correo electrónico","2025-02-27",null,"",null,{"$f":"IFERROR(WORKDAY(N1200,Y1200,Hoja1!F1192:F1308),\"\")","v":""},{"$f":"+IF(N1200=\"\",\"\",IF(O1200=\"\",\"SIN RESPUESTA\",(IF(O1200<=P1200,\"A TIEMPO\",\"FUERA DE TIEMPO\"))))","v":""},null,"A TIEMPO",4,0,null,null,{"$f":"IFERROR(VLOOKUP(F1200,Hoja1!$A$50:$C$63,2),\"\")","v":5},{"$f":"IFERROR(VLOOKUP(F1200,Hoja1!$A$50:$C$63,3),\"\")","v":5}]
[1191,20259910021584,"2025-02-13","Persona natural","Virtual - Correo electrónico","Certificación de contrato","Administrativa",null,"Oficina Asesora Jurídica","2025-02-25","Correo electrónico","2025-02-27",null,"",null,{"$f":"IFERROR(WORKDAY(N1201,Y1201,Hoja1!F1193:F1309),\"\")","v":""},{"$f":"+IF(N1201=\"\",\"\",IF(O1201=\"\",\"SIN RESPUESTA\",(IF(O1201<=P1201,\"A TIEMPO\",\"FUERA DE TIEMPO\"))))","v":""},null,"A TIEMPO",8,0,null,null,{"$f":"IFERROR(VLOOKUP(F1201,Hoja1!$A$50:$C$63,2),\"\")","v":15},{"$f":"IFERROR(VLOOKUP(F1201,Hoja1!$A$50:$C$63,3),\"\")","v":15}]
[1192,20259910021614,"2025-02-13","Persona natural","Virtual - Correo electrónico","Certificación de contrato","Administrativa",null,"Oficina Asesora Jurídica","2025-02-25",null,"2025-02-27",null,"",null,{"$f":"IFERROR(WORKDAY(N1202,Y1202,Hoja1!F1194:F1310),\"\")","v":""},{"$f":"+IF(N1202=\"\",\"\",IF(O1202=\"\",\"SIN RESPUESTA\",(IF(O1202<=P1202,\"A TIEMPO\",\"FUERA DE TIEMPO\"))))","v":""},null,"A TIEMPO",8,0,null,null,{"$f":"IFERROR(VLOOKUP(F1202,Hoja1!$A$50:$C$63,2),\"\")","v":15},{"$f":"IFERROR(VLOOKUP(F1202,Hoja1!$A$50:$C$63,3),\"\")","v":15}]
[1193,20259050021664,"2025-02-13","Persona jurídica","Virtual - Formulario PQRSDF","Certificación de ingresos y retenciones","Administrativa",null,"Grupo de Contabilidad","2025-02-21","Correo electrónico","2025-02-27",null,"",null,{"$f":"IFERROR(WORKDAY(N1203,Y1203,Hoja1!F1195:F1311),\"\")","v":""},{"$f":"+IF(N1203=\"\",\"\",IF(O1203=\"\",\"SIN RESPUESTA\",(IF(O1203<=P1203,\"A TIEMPO\",\"FUERA DE TIEMPO\"))))","v":""},null,"A TIEMPO",6,0,null,null,{"$f":"IFERROR(VLOOKUP(F1203,Hoja1!$A$50:$C$63,2),\"\")","v":15},{"$f":"IFERROR(VLOOKUP(F1203,Hoja1!$A$50:$C$63,3),\"\")","v":15}]
[1194,20259910021674,"2025-02-13","Persona jurídica","Virtual - Correo electrónico","Petición entre autoridades","Solicitud de información hidrometeorológica",null,"Subdirección de Hidrología","2025-02-17","Correo electrónico","2025-02-27",null,"",null,{"$f":"IFERROR(WORKDAY(N1204,Y1204,Hoja1!F1196:F1312),\"\")","v":""},{"$f":"+IF(N1204=\"\",\"\",IF(O1204=\"\",\"SIN RESPUESTA\",(IF(O1204<=P1204,\"A TIEMPO\",\"FUERA DE TIEMPO\"))))","v":""},null,"A TIEMPO",2,0,null,null,{"$f":"IFERROR(VLOOKUP(F1204,Hoja1!$A$50:$C$63,2),\"\")","v":10},{"$f":"IFERROR(VLOOKUP(F1204,Hoja1!$A$50:$C$63,3),\"\")","v":10}]
[1195,20259050021684,"2025-02-13","Anónimo","Virtual - Formulario PQRSDF","Solicitud de documentos o información","Solicitud de información hidrometeorológica",null,"Subdirección de Hidrología","2025-02-24","Correo electrónico","2025-02-27",null,"",null,{"$f":"IFERROR(WORKDAY(N1205,Y1205,Hoja1!F1197:F1313),\"\")","v":""},{"$f":"+IF(N1205=\"\",\"\",IF(O1205=\"\",\"SIN RESPUESTA\",(IF(O1205<=P1205,\"A TIEMPO\",\"FUERA DE TIEMPO\"))))","v":""},null,"A TIEMPO",7,0,null,null,{"$f":"IFERROR(VLOOKUP(F1205,Hoja1!$A$50:$C$63,2),\"\")","v":5},{"$f":"IFERROR(VLOOKUP(F1205,Hoja1!$A$50:$C$63,3),\"\")","v":5}]
[1196,20259910021704,"2025-02-13","Anónimo","Virtual - Correo electrónico","Petición entre autoridades","Bosques",null,"Subdirección de Ecosistemas e Información Ambiental","2025-02-27","Correo electrónico","2025-02-27",null,"",null,{"$f":"IFERROR(WORKDAY(N1206,Y1206,Hoja1!F1198:F1314),\"\")","v":""},{"$f":"+IF(N1206=\"\",\"\",IF(O1206=\"\",\"SIN RESPUESTA\",(IF(O1206<=P1206,\"A TIEMPO\",\"FUERA DE TIEMPO\"))))","v":""},null,"A TIEMPO",10,0,null,null,{"$f":"IFERROR(VLOOKUP(F1206,Hoja1!$A$50:$C$63,2),\"\")","v":10},{"$f":"IFERROR(VLOOKUP(F1206,Hoja1!$A$50:$C$63,3),\"\")","v":10}]
[1197,20259910021714,"2025-02-13","Persona natural","Virtual - Correo electrónico","Certificación de contrato","Administrativa",null,"Oficina Asesora Jurídica","2025-02-26","Correo electrónico","2025-02-27",null,"",null,{"$f":"IFERROR(WORKDAY(N1207,Y1207,Hoja1!F1199:F1315),\"\")","v":""},{"$f":"+IF(N1207=\"\",\"\",IF(O1207=\"\",\"SIN RESPUESTA\",(IF(O1207<=P1207,\"A TIEMPO\",\"FUERA DE TIEMPO\"))))","v":""},null,"A TIEMPO",9,0,null,null,{"$f":"IFERROR(VLOOKUP(F1207,Hoja1!$A$50:$C$63,2),\"\")","v":15},{"$f":"IFERROR(VLOOKUP(F1207,Hoja1!$A$50:$C$63,3),\"\")","v":15}]
[1198,20259050021724,"2025-02-13","Persona natural","Virtual - Formulario PQRSDF","Solicitud de documentos o información","Informes ambientales",null,"Subdirección de Estudios Ambientales","2025-03-06","Correo electrónico","2025-02-27",null,"",null,{"$f":"IFERROR(WORKDAY(N1208,Y1208,Hoja1!F1200:F1316),\"\")","v":""},{"$f":"+IF(N1208=\"\",\"\",IF(O1208=\"\",\"SIN RESPUESTA\",(IF(O1208<=P1208,\"A TIEMPO\",\"FUERA DE TIEMPO\"))))","v":""},null,{"$f":"+IF(C1208=\"\",\"\",IF(J1208=\"\",\"SIN RESPUESTA\",(IF(J1208<=L1208,\"A TIEMPO\",\"FUERA DE TIEMPO\"))))","v":"FUERA DE TIEMPO"},15,5,null,null,{"$f":"IFERROR(VLOOKUP(F1208,Hoja1!$A$50:$C$63,2),\"\")","v":5},{"$f":"IFERROR(VLOOKUP(F1208,Hoja1!$A$50:$C$63,3),\"\")","v":5}]
[1199,20259910021744,"2025-02-13","Persona jurídica","Virtual - Correo electrónico","Solicitud de documentos o información","Solicitud de información hidrometeorológica",null,"Grupo de Servicio al Ciudadano","2025-02-19","Correo electrónico","2025-02-27",null,"",null,{"$f":"IFERROR(WORKDAY(N1209,Y1209,Hoja1!F1201:F1317),\"\")","v":""},{"$f":"+IF(N1209=\"\",\"\",IF(O1209=\"\",\"SIN RESPUESTA\",(IF(O1209<=P1209,\"A TIEMPO\",\"FUERA DE TIEMPO\"))))","v":""},null,"A TIEMPO",4,0,null,null,{"$f":"IFERROR(VLOOKUP(F1209,Hoja1!$A$50:$C$63,2),\"\")","v":5},{"$f":"IFERROR(VLOOKUP(F1209,Hoja1!$A$50:$C$63,3),\"\")","v":5}]
[1200,20259050021854,"2025-02-13","Persona natural","Virtual - Formulario PQRSDF","Solicitud de documentos o información","Solicitud de información hidrometeorológica",null,"Subdirección de Hidrología","2025-02-25","Correo electrónico","2025-02-27",null,"",null,{"$f":"IFERROR(WORKDAY(N1210,Y1210,Hoja1!F1202:F1318),\"\")","v":""},{"$f":"+IF(N1210=\"\",\"\",IF(O1210=\"\",\"SIN RESPUESTA\",(IF(O1210<=P1210,\"A TIEMPO\",\"FUERA DE TIEMPO\"))))","v":""},null,"A TIEMPO",8,0,null,null,{"$f":"IFERROR(VLOOKUP(F1210,Hoja1!$A$50:$C$63,2),\"\")","v":5},{"$f":"IFERROR(VLOOKUP(F1210,Hoja1!$A$50:$C$63,3),\"\")","v":5}]
[1201,20259910021864,"2025-02-13","Persona natural","Virtual - Correo electrónico","Solicitud de documentos o información","Solicitud de información hidrometeorológica",null,"Grupo de Servicio al Ciudadano","2025-02-19","Correo electrónico","2025-02-27",null,"",null,{"$f":"IFERROR(WORKDAY(N1211,Y1211,Hoja1!F1203:F1319),\"\")","v":""},{"$f":"+IF(N1211=\"\",\"\",IF(O1211=\"\",\"SIN RESPUESTA\",(IF(O1211<=P1211,\"A TIEMPO\",\"FUERA DE TIEMPO\"))))","v":""},null,"A TIEMPO",4,0,null,null,{"$f":"IFERROR(VLOOKUP(F1211,Hoja1!$A$50:$C$63,2),\"\")","v":5},{"$f":"IFERROR(VLOOKUP(F1211,Hoja1!$A$50:$C$63,3),\"\")","v":5}]
[1202,20259910021874,"2025-02-13","Persona natural","Virtual - Correo electrónico","Solicitud de documentos o información","Visitas académicas",null,"Grupo de Servicio al Ciudadano","2025-02-25","Correo electrónico","2025-02-27",null,"",null,{"$f":"IFERROR(WORKDAY(N1212,Y1212,Hoja1!F1204:F1320),\"\")","v":""},{"$f":"+IF(N1212=\"\",\"\",IF(O1212=\"\",\"SIN RESPUESTA\",(IF(O1212<=P1212,\"A TIEMPO\",\"FUERA DE TIEMPO\"))))","v":""},null,"A TIEMPO",8,0,null,null,{"$f":"IFERROR(VLOOKUP(F1212,Hoja1!$A$50:$C$63,2),\"\")","v":5},{"$f":"IFERROR(VLOOKUP(F1212,Hoja1!$A$50:$C$63,3),\"\")","v":5}]
[1203,20259910021884,"2025-02-13","Persona natural","Virtual - Correo electrónico","Solicitud de documentos o información","Registros ambientales",null,"Subdirección de Estudios Ambientales","2025-02-19","Correo electrónico","2025-02-27",null,"",null,{"$f":"IFERROR(WORKDAY(N1213,Y1213,Hoja1!F1205:F1321),\"\")","v":""},{"$f":"+IF(N1213=\"\",\"\",IF(O1213=\"\",\"SIN RESPUESTA\",(IF(O1213<=P1213,\"A TIEMPO\",\"FUERA DE TIEMPO\"))))","v":""},null,"A TIEMPO",4,0,null,null,{"$f":"IFERROR(VLOOKUP(F1213,Hoja1!$A$50:$C$63,2),\"\")","v":5},{"$f":"IFERROR(VLOOKUP(F1213,Hoja1!$A$50:$C$63,3),\"\")","v":5}]
[1204,20259050021894,"2025-02-13","Persona natural","Virtual - Formulario PQRSDF","Solicitud de documentos o información","Solicitud de información hidrometeorológica",null,"Grupo de Servicio al Ciudadano","2025-02-19","Correo electrónico","2025-02-27",null,"",null,{"$f":"IFERROR(WORKDAY(N1214,Y1214,Hoja1!F1206:F1322),\"\")","v":""},{"$f":"+IF(N1214=\"\",\"\",IF(O1214=\"\",\"SIN RESPUESTA\",(IF(O1214<=P1214,\"A TIEMPO\",\"FUERA DE TIEMPO\"))))","v":""},null,"A TIEMPO",4,0,null,null,{"$f":"IFERROR(VLOOKUP(F1214,Hoja1!$A$50:$C$63,2),\"\")","v":5},{"$f":"IFERROR(VLOOKUP(F1214,Hoja1!$A$50:$C$63,3),\"\")","v":5}]
[1205,20259910021904,"2025-02-13","Persona natural","Virtual - Correo electrónico","Solicitud de documentos o información","Administrativa",null,"Grupo de Servicio al Ciudadano","2025-02-19","Correo electrónico","2025-02-27",null,"",null,{"$f":"IFERROR(WORKDAY(N1215,Y1215,Hoja1!F1207:F1323),\"\")","v":""},{"$f":"+IF(N1215=\"\",\"\",IF(O1215=\"\",\"SIN RESPUESTA\",(IF(O1215<=P1215,\"A TIEMPO\",\"FUERA DE TIEMPO\"))))","v":""},null,"A TIEMPO",4,0,null,null,{"$f":"IFERROR(VLOOKUP(F1215,Hoja1!$A$50:$C$63,2),\"\")","v":5},{"$f":"IFERROR(VLOOKUP(F1215,Hoja1!$A$50:$C$63,3),\"\")","v":5}]
[1206,20259910021914,"2025-02-13","Persona natural","Virtual - Correo electrónico","Petición de interés general o particular","Registros ambientales",null,"Subdirección de Estudios Ambientales","2025-03-03","Correo electrónico","2025-03-06",null,"",null,{"$f":"IFERROR(WORKDAY(N1216,Y1216,Hoja1!F1208:F1324),\"\")","v":""},{"$f":"+IF(N1216=\"\",\"\",IF(O1216=\"\",\"SIN RESPUESTA\",(IF(O1216<=P1216,\"A TIEMPO\",\"FUERA DE TIEMPO\"))))","v":""},null,"A TIEMPO",12,0,null,null,{"$f":"IFERROR(VLOOKUP(F1216,Hoja1!$A$50:$C$63,2),\"\")","v":15},{"$f":"IFERROR(VLOOKUP(F1216,Hoja1!$A$50:$C$63,3),\"\")","v":15}]
[1207,20259910021974,"2025-02-13","Persona jurídica","Virtual - Correo electrónico","Solicitud de documentos o información","Registros ambientales",null,"Subdirección de Estudios Ambientales","2025-02-25","Correo electrónico","2025-02-27",null,"",null,{"$f":"IFERROR(WORKDAY(N1217,Y1217,Hoja1!F1209:F1325),\"\")","v":""},{"$f":"+IF(N1217=\"\",\"\",IF(O1217=\"\",\"SIN RESPUESTA\",(IF(O1217<=P1217,\"A TIEMPO\",\"FUERA DE TIEMPO\"))))","v":""},null,"A TIEMPO",8,0,null,null,{"$f":"IFERROR(VLOOKUP(F1217,Hoja1!$A$50:$C$63,2),\"\")","v":5},{"$f":"IFERROR(VLOOKUP(F1217,Hoja1!$A$50:$C$63,3),\"\")","v":5}]
[1208,20259910021964,"2025-02-13","Persona jurídica","Virtual - Correo electrónico","Consulta (Información técnica)","Registros ambientales",null,"Subdirección de Estudios Ambientales",null,null,"2025-03-31",null,"",null,{"$f":"IFERROR(WORKDAY(N1218,Y1218,Hoja1!F1210:F1326),\"\")","v":""},{"$f":"+IF(N1218=\"\",\"\",IF(O1218=\"\",\"SIN RESPUESTA\",(IF(O1218<=P1218,\"A TIEMPO\",\"FUERA DE TIEMPO\"))))","v":""},null,{"$f":"+IF(C1218=\"\",\"\",IF(J1218=\"\",\"SIN RESPUESTA\",(IF(J1218<=L1218,\"A TIEMPO\",\"FUERA DE TIEMPO\"))))","v":"SIN RESPUESTA"},0,0,null,null,{"$f":"IFERROR(VLOOKUP(F1218,Hoja1!$A$50:$C$63,2),\"\")","v":30},{"$f":"IFERROR(VLOOKUP(F1218,Hoja1!$A$50:$C$63,3),\"\")","v":30}]
[1209,20259050021994,"2025-02-13","Persona jurídica","Virtual - Formulario PQRSDF","Consulta (Información técnica)","Sistema de información ambiental",null,"Subdirección de Estudios Ambientales",null,null,"2025-03-31",null,"",null,{"$f":"IFERROR(WORKDAY(N1219,Y1219,Hoja1!F1211:F1327),\"\")","v":""},{"$f":"+IF(N1219=\"\",\"\",IF(O1219=\"\",\"SIN RESPUESTA\",(IF(O1219<=P1219,\"A TIEMPO\",\"FUERA DE TIEMPO\"))))","v":""},null,{"$f":"+IF(C1219=\"\",\"\",IF(J1219=\"\",\"SIN RESPUESTA\",(IF(J1219<=L1219,\"A TIEMPO\",\"FUERA DE TIEMPO\"))))","v":"SIN RESPUESTA"},0,0,null,null,{"$f":"IFERROR(VLOOKUP(F1219,Hoja1!$A$50:$C$63,2),\"\")","v":30},{"$f":"IFERROR(VLOOKUP(F1219,Hoja1!$A$50:$C$63,3),\"\")","v":30}]
[1210,20259050022004,"2025-02-13","Persona jurídica","Virtual - Formulario PQRSDF","Consulta (Información técnica)","Sistema de información ambiental",null,"Subdirección de Estudios Ambientales",null,null,"2025-03-31",null,"",null,{"$f":"IFERROR(WORKDAY(N1220,Y1220,Hoja1!F1212:F1328),\"\")","v":""},{"$f":"+IF(N1220=\"\",\"\",IF(O1220=\"\",\"SIN RESPUESTA\",(IF(O1220<=P1220,\"A TIEMPO\",\"FUERA DE TIEMPO\"))))","v":""},null,{"$f":"+IF(C1220=\"\",\"\",IF(J1220=\"\",\"SIN RESPUESTA\",(IF(J1220<=L1220,\"A TIEMPO\",\"FUERA DE TIEMPO\"))))","v":"SIN RESPUESTA"},0,0,null,null,{"$f":"IFERROR(VLOOKUP(F1220,Hoja1!$A$50:$C$63,2),\"\")","v":30},{"$f":"IFERROR(VLOOKUP(F1220,Hoja1!$A$50:$C$63,3),\"\")","v":30}]
[1211,20259050022014,"2025-02-13","Persona jurídica","Virtual - Formulario PQRSDF","Consulta (Información técnica)","Sistema de información ambiental",null,"Subdirección de Estudios Ambientales",null,null,"2025-03-31",null,"",null,{"$f":"IFERROR(WORKDAY(N1221,Y1221,Hoja1!F1213:F1329),\"\")","v":""},{"$f":"+IF(N1221=\"\",\"\",IF(O1221=\"\",\"SIN RESPUESTA\",(IF(O1221<=P1221,\"A TIEMPO\",\"FUERA DE TIEMPO\"))))","v":""},null,{"$f":"+IF(C1221=\"\",\"\",IF(J1221=\"\",\"SIN RESPUESTA\",(IF(J1221<=L1221,\"A TIEMPO\",\"FUERA DE TIEMPO\"))))","v":"SIN RESPUESTA"},0,0,null,null,{"$f":"IFERROR(VLOOKUP(F1221,Hoja1!$A$50:$C$63,2),\"\")","v":30},{"$f":"IFERROR(VLOOKUP(F1221,Hoja1!$A$50:$C$63,3),\"\")","v":30}]
[1212,20259050022024,"2025-02-13","Persona jurídica","Virtual - Formulario PQRSDF","Consulta (Información técnica)","Sistema de información ambiental",null,"Subdirección de Estudios Ambientales",null,null,"2025-03-31",null,"",null,{"$f":"IFERROR(WORKDAY(N1222,Y1222,Hoja1!F1214:F1330),\"\")","v":""},{"$f":"+IF(N1222=\"\",\"\",IF(O1222=\"\",\"SIN RESPUESTA\",(IF(O1222<=P1222,\"A TIEMPO\",\"FUERA DE TIEMPO\"))))","v":""},null,{"$f":"+IF(C1222=\"\",\"\",IF(J1222=\"\",\"SIN RESPUESTA\",(IF(J1222<=L1222,\"A TIEMPO\",\"FUERA DE TIEMPO\"))))","v":"SIN RESPUESTA"},0,0,null,null,{"$f":"IFERROR(VLOOKUP(F1222,Hoja1!$A$50:$C$63,2),\"\")","v":30},{"$f":"IFERROR(VLOOKUP(F1222,Hoja1!$A$50:$C$63,3),\"\")","v":30}]
[1213,20259910021944,"2025-02-13","Persona jurídica","Virtual - Correo electrónico","Petición entre autoridades","Informes ambientales",null,"Dirección General","2025-02-14","Correo electrónico","2025-02-27",null,"",null,{"$f":"IFERROR(WORKDAY(N1223,Y1223,Hoja1!F1215:F1331),\"\")","v":""},{"$f":"+IF(N1223=\"\",\"\",IF(O1223=\"\",\"SIN RESPUESTA\",(IF(O1223<=P1223,\"A TIEMPO\",\"FUERA DE TIEMPO\"))))","v":""},null,"A TIEMPO",1,0,null,null,{"$f":"IFERROR(VLOOKUP(F1223,Hoja1!$A$50:$C$63,2),\"\")","v":10},{"$f":"IFERROR(VLOOKUP(F1223,Hoja1!$A$50:$C$63,3),\"\")","v":10}]
[1214,20259910022044,"2025-02-14","Persona natural","Virtual - Correo electrónico","Certificación laboral o pasantía","Administrativa",null,"Grupo de Administración y Desarrollo del Talento Humano","2025-02-27","Correo electrónico","2025-02-28",null,"",null,{"$f":"IFERROR(WORKDAY(N1224,Y1224,Hoja1!F1216:F1332),\"\")","v":""},{"$f":"+IF(N1224=\"\",\"\",IF(O1224=\"\",\"SIN RESPUESTA\",(IF(O1224<=P1224,\"A TIEMPO\",\"FUERA DE TIEMPO\"))))","v":""},null,"A TIEMPO",9,0,null,null,{"$f":"IFERROR(VLOOKUP(F1224,Hoja1!$A$50:$C$63,2),\"\")","v":15},{"$f":"IFERROR(VLOOKUP(F1224,Hoja1!$A$50:$C$63,3),\"\")","v":15}]
[1215,20259910022094,"2025-02-14","Persona natural","Virtual - Correo electrónico","Certificación de contrato","Administrativa",null,"Oficina Asesora Jurídica","2025-02-26","Correo electrónico","2025-02-28",null,"",null,{"$f":"IFERROR(WORKDAY(N1225,Y1225,Hoja1!F1217:F1333),\"\")","v":""},{"$f":"+IF(N1225=\"\",\"\",IF(O1225=\"\",\"SIN RESPUESTA\",(IF(O1225<=P1225,\"A TIEMPO\",\"FUERA DE TIEMPO\"))))","v":""},null,"A TIEMPO",8,0,null,null,{"$f":"IFERROR(VLOOKUP(F1225,Hoja1!$A$50:$C$63,2),\"\")","v":15},{"$f":"IFERROR(VLOOKUP(F1225,Hoja1!$A$50:$C$63,3),\"\")","v":15}]
[1216,20259910022154,"2025-02-14","Persona natural","Virtual - Correo electrónico","Certificación laboral o pasantía","Administrativa",null,"Grupo de Administración y Desarrollo del Talento Humano","2025-02-28","Correo electrónico","2025-02-28",null,"",null,{"$f":"IFERROR(WORKDAY(N1226,Y1226,Hoja1!F1218:F1334),\"\")","v":""},{"$f":"+IF(N1226=\"\",\"\",IF(O1226=\"\",\"SIN RESPUESTA\",(IF(O1226<=P1226,\"A TIEMPO\",\"FUERA DE TIEMPO\"))))","v":""},null,"A TIEMPO",10,0,null,null,{"$f":"IFERROR(VLOOKUP(F1226,Hoja1!$A$50:$C$63,2),\"\")","v":15},{"$f":"IFERROR(VLOOKUP(F1226,Hoja1!$A$50:$C$63,3),\"\")","v":15}]
[1217,20259910022074,"2025-02-14","Persona jurídica","Virtual - Correo electrónico","Consulta (Información técnica)","Bosques",null,"Subdirección de Ecosistemas e Información Ambiental","2025-03-07","Correo electrónico","2025-04-01",null,"",null,{"$f":"IFERROR(WORKDAY(N1227,Y1227,Hoja1!F1219:F1335),\"\")","v":""},{"$f":"+IF(N1227=\"\",\"\",IF(O1227=\"\",\"SIN RESPUESTA\",(IF(O1227<=P1227,\"A TIEMPO\",\"FUERA DE TIEMPO\"))))","v":""},null,"A TIEMPO",15,0,null,null,{"$f":"IFERROR(VLOOKUP(F1227,Hoja1!$A$50:$C$63,2),\"\")","v":30},{"$f":"IFERROR(VLOOKUP(F1227,Hoja1!$A$50:$C$63,3),\"\")","v":30}]
[1218,20259910022134,"2025-02-14","Persona jurídica","Virtual - Correo electrónico","Solicitud de documentos o información","Registros ambientales",null,"Subdirección de Estudios Ambientales","2025-02-18","Correo electrónico","2025-02-28",null,"",null,{"$f":"IFERROR(WORKDAY(N1228,Y1228,Hoja1!F1220:F1336),\"\")","v":""},{"$f":"+IF(N1228=\"\",\"\",IF(O1228=\"\",\"SIN RESPUESTA\",(IF(O1228<=P1228,\"A TIEMPO\",\"FUERA DE TIEMPO\"))))","v":""},null,"A TIEMPO",2,0,null,null,{"$f":"IFERROR(VLOOKUP(F1228,Hoja1!$A$50:$C$63,2),\"\")","v":5},{"$f":"IFERROR(VLOOKUP(F1228,Hoja1!$A$50:$C$63,3),\"\")","v":5}]
[1219,20259910022114,"2025-02-14","Persona natural","Virtual - Correo electrónico","Solicitud de documentos o información","Sistema de información del recurso hídrico",null,"Subdirección de Hidrología","2025-02-24","Correo electrónico","2025-02-28",null,"",null,{"$f":"IFERROR(WORKDAY(N1229,Y1229,Hoja1!F1221:F1337),\"\")","v":""},{"$f":"+IF(N1229=\"\",\"\",IF(O1229=\"\",\"SIN RESPUESTA\",(IF(O1229<=P1229,\"A TIEMPO\",\"FUERA DE TIEMPO\"))))","v":""},null,"A TIEMPO",6,0,null,null,{"$f":"IFERROR(VLOOKUP(F1229,Hoja1!$A$50:$C$63,2),\"\")","v":5},{"$f":"IFERROR(VLOOKUP(F1229,Hoja1!$A$50:$C$63,3),\"\")","v":5}]
[1220,20259910022144,"2025-02-14","Persona jurídica","Virtual - Correo electrónico","Petición entre autoridades","Registros ambientales",null,"Subdirección de Estudios Ambientales","2025-02-18","Correo electrónico","2025-02-28",null,"",null,{"$f":"IFERROR(WORKDAY(N1230,Y1230,Hoja1!F1222:F1338),\"\")","v":""},{"$f":"+IF(N1230=\"\",\"\",IF(O1230=\"\",\"SIN RESPUESTA\",(IF(O1230<=P1230,\"A TIEMPO\",\"FUERA DE TIEMPO\"))))","v":""},null,"A TIEMPO",2,0,null,null,{"$f":"IFERROR(VLOOKUP(F1230,Hoja1!$A$50:$C$63,2),\"\")","v":10},{"$f":"IFERROR(VLOOKUP(F1230,Hoja1!$A$50:$C$63,3),\"\")","v":10}]
[1221,20259910022194,"2025-02-14","Persona jurídica","Virtual - Correo electrónico","Solicitud judicial","Bosques",null,"Subdirección de Ecosistemas e Información Ambiental","2025-02-19","Correo electrónico","2025-02-21",null,"",null,{"$f":"IFERROR(WORKDAY(N1231,Y1231,Hoja1!F1223:F1339),\"\")","v":""},{"$f":"+IF(N1231=\"\",\"\",IF(O1231=\"\",\"SIN RESPUESTA\",(IF(O1231<=P1231,\"A TIEMPO\",\"FUERA DE TIEMPO\"))))","v":""},null,"A TIEMPO",3,0,null,null,{"$f":"IFERROR(VLOOKUP(F1231,Hoja1!$A$50:$C$63,2),\"\")","v":5},{"$f":"IFERROR(VLOOKUP(F1231,Hoja1!$A$50:$C$63,3),\"\")","v":5}]
[1222,20259910022214,"2025-02-14","Persona jurídica","Virtual - Correo electrónico","Solicitud de documentos o información","Registros ambientales",null,"Subdirección de Estudios Ambientales","2025-02-18","Correo electrónico","2025-02-28",null,"",null,{"$f":"IFERROR(WORKDAY(N1232,Y1232,Hoja1!F1224:F1340),\"\")","v":""},{"$f":"+IF(N1232=\"\",\"\",IF(O1232=\"\",\"SIN RESPUESTA\",(IF(O1232<=P1232,\"A TIEMPO\",\"FUERA DE TIEMPO\"))))","v":""},null,"A TIEMPO",2,0,null,null,{"$f":"IFERROR(VLOOKUP(F1232,Hoja1!$A$50:$C$63,2),\"\")","v":5},{"$f":"IFERROR(VLOOKUP(F1232,Hoja1!$A$50:$C$63,3),\"\")","v":5}]
[{"$f":"IF(B1233<>\"\",A1232+1,\"\")","v":1223},20259910022224,"2025-02-14","Persona jurídica","Virtual - Correo electrónico","Solicitud de documentos o información","Solicitud de información hidrometeorológica",null,"Subdirección de Ecosistemas e Información Ambiental","2025-02-28","Correo electrónico","2025-02-28",null,"",null,{"$f":"IFERROR(WORKDAY(N1233,Y1233,Hoja1!F1225:F1341),\"\")","v":""},{"$f":"+IF(N1233=\"\",\"\",IF(O1233=\"\",\"SIN RESPUESTA\",(IF(O1233<=P1233,\"A TIEMPO\",\"FUERA DE TIEMPO\"))))","v":""},null,"A TIEMPO",10,0,null,null,{"$f":"IFERROR(VLOOKUP(F1233,Hoja1!$A$50:$C$63,2),\"\")","v":5},{"$f":"IFERROR(VLOOKUP(F1233,Hoja1!$A$50:$C$63,3),\"\")","v":5}]
[1224,20259910022234,"2025-02-14","Persona natural","Virtual - Correo electrónico","Solicitud de documentos o información","Acreditación de laboratorios",null,"Subdirección de Estudios Ambientales","2025-02-18","Correo electrónico","2025-02-28",null,"",null,{"$f":"IFERROR(WORKDAY(N1234,Y1234,Hoja1!F1226:F1342),\"\")","v":""},{"$f":"+IF(N1234=\"\",\"\",IF(O1234=\"\",\"SIN RESPUESTA\",(IF(O1234<=P1234,\"A TIEMPO\",\"FUERA DE TIEMPO\"))))","v":""},null,"A TIEMPO",2,0,null,null,{"$f":"IFERROR(VLOOKUP(F1234,Hoja1!$A$50:$C$63,2),\"\")","v":5},{"$f":"IFERROR(VLOOKUP(F1234,Hoja1!$A$50:$C$63,3),\"\")","v":5}]
[1225,20259910022244,"2025-02-14","Persona jurídica","Virtual - Correo electrónico","Petición entre autoridades","Solicitud de información hidrometeorológica",null,"Subdirección de Meteorología","2025-02-21","Correo electrónico","2025-02-28",null,"",null,{"$f":"IFERROR(WORKDAY(N1235,Y1235,Hoja1!F1227:F1343),\"\")","v":""},{"$f":"+IF(N1235=\"\",\"\",IF(O1235=\"\",\"SIN RESPUESTA\",(IF(O1235<=P1235,\"A TIEMPO\",\"FUERA DE TIEMPO\"))))","v":""},null,"A TIEMPO",5,0,null,null,{"$f":"IFERROR(VLOOKUP(F1235,Hoja1!$A$50:$C$63,2),\"\")","v":10},{"$f":"IFERROR(VLOOKUP(F1235,Hoja1!$A$50:$C$63,3),\"\")","v":10}]
[1226,20259910022254,"2025-02-14","Persona natural","Virtual - Correo electrónico","Solicitud de documentos o información","Acreditación de laboratorios",null,"Subdirección de Estudios Ambientales","2025-02-18","Correo electrónico","2025-02-28",null,"",null,{"$f":"IFERROR(WORKDAY(N1236,Y1236,Hoja1!F1228:F1344),\"\")","v":""},{"$f":"+IF(N1236=\"\",\"\",IF(O1236=\"\",\"SIN RESPUESTA\",(IF(O1236<=P1236,\"A TIEMPO\",\"FUERA DE TIEMPO\"))))","v":""},null,"A TIEMPO",2,0,null,null,{"$f":"IFERROR(VLOOKUP(F1236,Hoja1!$A$50:$C$63,2),\"\")","v":5},{"$f":"IFERROR(VLOOKUP(F1236,Hoja1!$A$50:$C$63,3),\"\")","v":5}]
[1227,20259910022304,"2025-02-14","Persona natural","Virtual - Correo electrónico","Solicitud de documentos o información","Visitas académicas",null,"Grupo de Servicio al Ciudadano","2025-02-25","Correo electrónico","2025-02-28",null,"",null,{"$f":"IFERROR(WORKDAY(N1237,Y1237,Hoja1!F1229:F1345),\"\")","v":""},{"$f":"+IF(N1237=\"\",\"\",IF(O1237=\"\",\"SIN RESPUESTA\",(IF(O1237<=P1237,\"A TIEMPO\",\"FUERA DE TIEMPO\"))))","v":""},null,"A TIEMPO",7,0,null,null,{"$f":"IFERROR(VLOOKUP(F1237,Hoja1!$A$50:$C$63,2),\"\")","v":5},{"$f":"IFERROR(VLOOKUP(F1237,Hoja1!$A$50:$C$63,3),\"\")","v":5}]
[1228,20259910022314,"2025-02-14","Persona jurídica","Virtual - Correo electrónico","Solicitud de documentos o información","Registros ambientales",null,"Subdirección de Estudios Ambientales","2025-02-27","Correo electrónico","2025-02-28",null,"",null,{"$f":"IFERROR(WORKDAY(N1238,Y1238,Hoja1!F1230:F1346),\"\")","v":""},{"$f":"+IF(N1238=\"\",\"\",IF(O1238=\"\",\"SIN RESPUESTA\",(IF(O1238<=P1238,\"A TIEMPO\",\"FUERA DE TIEMPO\"))))","v":""},null,"A TIEMPO",9,0,null,null,{"$f":"IFERROR(VLOOKUP(F1238,Hoja1!$A$50:$C$63,2),\"\")","v":5},{"$f":"IFERROR(VLOOKUP(F1238,Hoja1!$A$50:$C$63,3),\"\")","v":5}]
[1229,20259910022274,"2025-02-14","Persona jurídica","Virtual - Correo electrónico","Solicitud de documentos o información","Registros ambientales",null,"Subdirección de Estudios Ambientales","2025-02-24","Correo electrónico","2025-02-28",null,"",null,{"$f":"IFERROR(WORKDAY(N1239,Y1239,Hoja1!F1231:F1347),\"\")","v":""},{"$f":"+IF(N1239=\"\",\"\",IF(O1239=\"\",\"SIN RESPUESTA\",(IF(O1239<=P1239,\"A TIEMPO\",\"FUERA DE TIEMPO\"))))","v":""},null,"A TIEMPO",6,0,null,null,{"$f":"IFERROR(VLOOKUP(F1239,Hoja1!$A$50:$C$63,2),\"\")","v":5},{"$f":"IFERROR(VLOOKUP(F1239,Hoja1!$A$50:$C$63,3),\"\")","v":5}]
[1230,20259050022374,"2025-02-14","Persona natural","Virtual - Formulario PQRSDF","Certificación de contrato","Administrativa",null,"Oficina Asesora Jurídica","2025-02-26","Correo electrónico","2025-02-28",null,"",null,{"$f":"IFERROR(WORKDAY(N1240,Y1240,Hoja1!F1232:F1348),\"\")","v":""},{"$f":"+IF(N1240=\"\",\"\",IF(O1240=\"\",\"SIN RESPUESTA\",(IF(O1240<=P1240,\"A TIEMPO\",\"FUERA DE TIEMPO\"))))","v":""},null,"A TIEMPO",8,0,null,null,{"$f":"IFERROR(VLOOKUP(F1240,Hoja1!$A$50:$C$63,2),\"\")","v":15},{"$f":"IFERROR(VLOOKUP(F1240,Hoja1!$A$50:$C$63,3),\"\")","v":15}]
[1231,20259910022384,"2025-02-14","Persona jurídica","Virtual - Correo electrónico","Solicitud de documentos o información","Pronósticos y alertas",null,"Subdirección de Estudios Ambientales","2025-02-27","Correo electrónico","2025-02-28",null,"",null,{"$f":"IFERROR(WORKDAY(N1241,Y1241,Hoja1!F1233:F1349),\"\")","v":""},{"$f":"+IF(N1241=\"\",\"\",IF(O1241=\"\",\"SIN RESPUESTA\",(IF(O1241<=P1241,\"A TIEMPO\",\"FUERA DE TIEMPO\"))))","v":""},null,"A TIEMPO",9,0,null,null,{"$f":"IFERROR(VLOOKUP(F1241,Hoja1!$A$50:$C$63,2),\"\")","v":5},{"$f":"IFERROR(VLOOKUP(F1241,Hoja1!$A$50:$C$63,3),\"\")","v":5}]
[1232,20259050022434,"2025-02-14","Persona natural","Virtual - Formulario PQRSDF","Certificación laboral o pasantía","Administrativa",null,"Grupo de Administración y Desarrollo del Talento Humano","2025-02-27","Correo electrónico","2025-02-28",null,"",null,{"$f":"IFERROR(WORKDAY(N1242,Y1242,Hoja1!F1234:F1350),\"\")","v":""},{"$f":"+IF(N1242=\"\",\"\",IF(O1242=\"\",\"SIN RESPUESTA\",(IF(O1242<=P1242,\"A TIEMPO\",\"FUERA DE TIEMPO\"))))","v":""},null,"A TIEMPO",9,0,null,null,{"$f":"IFERROR(VLOOKUP(F1242,Hoja1!$A$50:$C$63,2),\"\")","v":15},{"$f":"IFERROR(VLOOKUP(F1242,Hoja1!$A$50:$C$63,3),\"\")","v":15}]
[1233,20259910022264,"2025-02-14","Persona jurídica","Virtual - Correo electrónico","Consulta (Información técnica)","Sistema de información ambiental",null,"Subdirección de Estudios Ambientales","2025-03-20","Correo electrónico","2025-04-01",null,"",null,{"$f":"IFERROR(WORKDAY(N1243,Y1243,Hoja1!F1235:F1351),\"\")","v":""},{"$f":"+IF(N1243=\"\",\"\",IF(O1243=\"\",\"SIN RESPUESTA\",(IF(O1243<=P1243,\"A TIEMPO\",\"FUERA DE TIEMPO\"))))","v":""},null,"A TIEMPO",23,0,null,null,{"$f":"IFERROR(VLOOKUP(F1243,Hoja1!$A$50:$C$63,2),\"\")","v":30},{"$f":"IFERROR(VLOOKUP(F1243,Hoja1!$A$50:$C$63,3),\"\")","v":30}]
[1234,20259910022324,"2025-02-14","Persona natural","Virtual - Correo electrónico","Solicitud de documentos o información","Sistema de información del recurso hídrico",null,"Grupo de Servicio al Ciudadano","2025-02-19","Correo electrónico","2025-02-28",null,"",null,{"$f":"IFERROR(WORKDAY(N1244,Y1244,Hoja1!F1236:F1352),\"\")","v":""},{"$f":"+IF(N1244=\"\",\"\",IF(O1244=\"\",\"SIN RESPUESTA\",(IF(O1244<=P1244,\"A TIEMPO\",\"FUERA DE TIEMPO\"))))","v":""},null,"A TIEMPO",3,0,null,null,{"$f":"IFERROR(VLOOKUP(F1244,Hoja1!$A$50:$C$63,2),\"\")","v":5},{"$f":"IFERROR(VLOOKUP(F1244,Hoja1!$A$50:$C$63,3),\"\")","v":5}]
[1235,20259910022364,"2025-02-14","Persona jurídica","Virtual - Correo electrónico","Solicitud de documentos o información","Laboratorio de calidad ambiental",null,"Subdirección de Hidrología","2025-02-18","Correo electrónico","2025-02-28",null,"",null,{"$f":"IFERROR(WORKDAY(N1245,Y1245,Hoja1!F1237:F1353),\"\")","v":""},{"$f":"+IF(N1245=\"\",\"\",IF(O1245=\"\",\"SIN RESPUESTA\",(IF(O1245<=P1245,\"A TIEMPO\",\"FUERA DE TIEMPO\"))))","v":""},null,"A TIEMPO",2,0,null,null,{"$f":"IFERROR(VLOOKUP(F1245,Hoja1!$A$50:$C$63,2),\"\")","v":5},{"$f":"IFERROR(VLOOKUP(F1245,Hoja1!$A$50:$C$63,3),\"\")","v":5}]
[1236,20259910022204,"2025-02-14","Persona jurídica","Virtual - Correo electrónico","Solicitud de documentos o información","Administrativa",null,"Grupo de Servicios Administrativos","2025-02-28","Correo electrónico","2025-02-28",null,"",null,{"$f":"IFERROR(WORKDAY(N1246,Y1246,Hoja1!F1238:F1354),\"\")","v":""},{"$f":"+IF(N1246=\"\",\"\",IF(O1246=\"\",\"SIN RESPUESTA\",(IF(O1246<=P1246,\"A TIEMPO\",\"FUERA DE TIEMPO\"))))","v":""},null,"A TIEMPO",10,0,null,null,{"$f":"IFERROR(VLOOKUP(F1246,Hoja1!$A$50:$C$63,2),\"\")","v":5},{"$f":"IFERROR(VLOOKUP(F1246,Hoja1!$A$50:$C$63,3),\"\")","v":5}]
[1237,20259910022464,"2025-02-14","Persona jurídica","Virtual - Correo electrónico","Solicitud de documentos o información","Registros ambientales",null,"Subdirección de Estudios Ambientales","2025-02-25","Correo electrónico","2025-02-28",null,"",null,{"$f":"IFERROR(WORKDAY(N1247,Y1247,Hoja1!F1239:F1355),\"\")","v":""},{"$f":"+IF(N1247=\"\",\"\",IF(O1247=\"\",\"SIN RESPUESTA\",(IF(O1247<=P1247,\"A TIEMPO\",\"FUERA DE TIEMPO\"))))","v":""},null,"A TIEMPO",7,0,null,null,{"$f":"IFERROR(VLOOKUP(F1247,Hoja1!$A$50:$C$63,2),\"\")","v":5},{"$f":"IFERROR(VLOOKUP(F1247,Hoja1!$A$50:$C$63,3),\"\")","v":5}]
[1238,20259910022284,"2025-02-14","Persona jurídica","Virtual - Correo electrónico","Petición de congresistas","Informes ambientales",null,"Subdirección de Estudios Ambientales","2025-02-20","Correo electrónico","2025-02-21",null,"",null,{"$f":"IFERROR(WORKDAY(N1248,Y1248,Hoja1!F1240:F1356),\"\")","v":""},{"$f":"+IF(N1248=\"\",\"\",IF(O1248=\"\",\"SIN RESPUESTA\",(IF(O1248<=P1248,\"A TIEMPO\",\"FUERA DE TIEMPO\"))))","v":""},null,"A TIEMPO",4,0,null,null,{"$f":"IFERROR(VLOOKUP(F1248,Hoja1!$A$50:$C$63,2),\"\")","v":15},{"$f":"IFERROR(VLOOKUP(F1248,Hoja1!$A$50:$C$63,3),\"\")","v":15}]
[1239,20259910022484,"2025-02-14","Persona natural","Virtual - Correo electrónico","Certificación de contrato","Administrativa",null,"Oficina Asesora Jurídica","2025-02-26","Correo electrónico","2025-02-28",null,"",null,{"$f":"IFERROR(WORKDAY(N1249,Y1249,Hoja1!F1241:F1357),\"\")","v":""},{"$f":"+IF(N1249=\"\",\"\",IF(O1249=\"\",\"SIN RESPUESTA\",(IF(O1249<=P1249,\"A TIEMPO\",\"FUERA DE TIEMPO\"))))","v":""},null,"A TIEMPO",8,0,null,null,{"$f":"IFERROR(VLOOKUP(F1249,Hoja1!$A$50:$C$63,2),\"\")","v":15},{"$f":"IFERROR(VLOOKUP(F1249,Hoja1!$A$50:$C$63,3),\"\")","v":15}]
[1240,20259910022494,"2025-02-14","Persona jurídica","Virtual - Correo electrónico","Petición entre autoridades","Bosques",null,"Subdirección de Ecosistemas e Información Ambiental","2025-02-26","Correo electrónico","2025-02-28",null,"",null,{"$f":"IFERROR(WORKDAY(N1250,Y1250,Hoja1!F1242:F1358),\"\")","v":""},{"$f":"+IF(N1250=\"\",\"\",IF(O1250=\"\",\"SIN RESPUESTA\",(IF(O1250<=P1250,\"A TIEMPO\",\"FUERA DE TIEMPO\"))))","v":""},null,"A TIEMPO",8,0,null,null,{"$f":"IFERROR(VLOOKUP(F1250,Hoja1!$A$50:$C$63,2),\"\")","v":10},{"$f":"IFERROR(VLOOKUP(F1250,Hoja1!$A$50:$C$63,3),\"\")","v":10}]
[1241,20259910022504,"2025-02-14","Persona jurídica","Virtual - Correo electrónico","Solicitud de documentos o información","Registros ambientales",null,"Subdirección de Estudios Ambientales","2025-03-04","Correo electrónico","2025-02-28",null,"",null,{"$f":"IFERROR(WORKDAY(N1251,Y1251,Hoja1!F1243:F1359),\"\")","v":""},{"$f":"+IF(N1251=\"\",\"\",IF(O1251=\"\",\"SIN RESPUESTA\",(IF(O1251<=P1251,\"A TIEMPO\",\"FUERA DE TIEMPO\"))))","v":""},null,{"$f":"+IF(C1251=\"\",\"\",IF(J1251=\"\",\"SIN RESPUESTA\",(IF(J1251<=L1251,\"A TIEMPO\",\"FUERA DE TIEMPO\"))))","v":"FUERA DE TIEMPO"},12,2,null,null,{"$f":"IFERROR(VLOOKUP(F1251,Hoja1!$A$50:$C$63,2),\"\")","v":5},{"$f":"IFERROR(VLOOKUP(F1251,Hoja1!$A$50:$C$63,3),\"\")","v":5}]
[1242,20259910022534,"2025-02-14","Persona jurídica","Virtual - Correo electrónico","Solicitud de documentos o información","Registros ambientales",null,"Subdirección de Estudios Ambientales","2025-02-27","Correo certificado","2025-02-28",null,"",null,{"$f":"IFERROR(WORKDAY(N1252,Y1252,Hoja1!F1244:F1360),\"\")","v":""},{"$f":"+IF(N1252=\"\",\"\",IF(O1252=\"\",\"SIN RESPUESTA\",(IF(O1252<=P1252,\"A TIEMPO\",\"FUERA DE TIEMPO\"))))","v":""},null,"A TIEMPO",9,0,null,null,{"$f":"IFERROR(VLOOKUP(F1252,Hoja1!$A$50:$C$63,2),\"\")","v":5},{"$f":"IFERROR(VLOOKUP(F1252,Hoja1!$A$50:$C$63,3),\"\")","v":5}]
[1243,20259050022644,"2025-02-14","Persona jurídica","Virtual - Formulario PQRSDF","Certificación de ingresos y retenciones","Administrativa",null,"Grupo de Contabilidad","2025-02-28","Correo electrónico","2025-02-28",null,"",null,{"$f":"IFERROR(WORKDAY(N1253,Y1253,Hoja1!F1245:F1361),\"\")","v":""},{"$f":"+IF(N1253=\"\",\"\",IF(O1253=\"\",\"SIN RESPUESTA\",(IF(O1253<=P1253,\"A TIEMPO\",\"FUERA DE TIEMPO\"))))","v":""},null,"A TIEMPO",10,0,null,null,{"$f":"IFERROR(VLOOKUP(F1253,Hoja1!$A$50:$C$63,2),\"\")","v":15},{"$f":"IFERROR(VLOOKUP(F1253,Hoja1!$A$50:$C$63,3),\"\")","v":15}]
[1244,20259910022654,"2025-02-14","Persona natural","Virtual - Correo electrónico","Certificación laboral o pasantía","Administrativa",null,"Grupo de Administración y Desarrollo del Talento Humano","2025-02-27","Correo electrónico","2025-02-28",null,"",null,{"$f":"IFERROR(WORKDAY(N1254,Y1254,Hoja1!F1246:F1362),\"\")","v":""},{"$f":"+IF(N1254=\"\",\"\",IF(O1254=\"\",\"SIN RESPUESTA\",(IF(O1254<=P1254,\"A TIEMPO\",\"FUERA DE TIEMPO\"))))","v":""},null,"A TIEMPO",9,0,null,null,{"$f":"IFERROR(VLOOKUP(F1254,Hoja1!$A$50:$C$63,2),\"\")","v":15},{"$f":"IFERROR(VLOOKUP(F1254,Hoja1!$A$50:$C$63,3),\"\")","v":15}]
[1245,20259910022544,"2025-02-14","Persona jurídica","Virtual - Correo electrónico","Certificación de tiempo, clima y eventos hidrológicos","Certificaciones del tiempo y clima",null,"Subdirección de Meteorología","2025-03-05","Correo electrónico","2025-04-01",null,"",null,{"$f":"IFERROR(WORKDAY(N1255,Y1255,Hoja1!F1247:F1363),\"\")","v":""},{"$f":"+IF(N1255=\"\",\"\",IF(O1255=\"\",\"SIN RESPUESTA\",(IF(O1255<=P1255,\"A TIEMPO\",\"FUERA DE TIEMPO\"))))","v":""},null,"A TIEMPO",13,0,null,null,{"$f":"IFERROR(VLOOKUP(F1255,Hoja1!$A$50:$C$63,2),\"\")","v":15},{"$f":"IFERROR(VLOOKUP(F1255,Hoja1!$A$50:$C$63,3),\"\")","v":15}]
[1246,20259050022564,"2025-02-14","Persona natural","Virtual - Formulario PQRSDF","Solicitud de documentos o información","Pronósticos y alertas",null,"Oficina del Servicio de Pronósticos y Alertas","2025-02-21","Correo electrónico","2025-02-28",null,"",null,{"$f":"IFERROR(WORKDAY(N1256,Y1256,Hoja1!F1248:F1364),\"\")","v":""},{"$f":"+IF(N1256=\"\",\"\",IF(O1256=\"\",\"SIN RESPUESTA\",(IF(O1256<=P1256,\"A TIEMPO\",\"FUERA DE TIEMPO\"))))","v":""},null,"A TIEMPO",5,0,null,null,{"$f":"IFERROR(VLOOKUP(F1256,Hoja1!$A$50:$C$63,2),\"\")","v":5},{"$f":"IFERROR(VLOOKUP(F1256,Hoja1!$A$50:$C$63,3),\"\")","v":5}]
[1247,20259910022574,"2025-02-14","Persona jurídica","Virtual - Correo electrónico","Solicitud de documentos o información","Administrativa",null,"Grupo de Contabilidad","2025-02-28","Correo electrónico","2025-02-28",null,"",null,{"$f":"IFERROR(WORKDAY(N1257,Y1257,Hoja1!F1249:F1365),\"\")","v":""},{"$f":"+IF(N1257=\"\",\"\",IF(O1257=\"\",\"SIN RESPUESTA\",(IF(O1257<=P1257,\"A TIEMPO\",\"FUERA DE TIEMPO\"))))","v":""},null,"A TIEMPO",10,0,null,null,{"$f":"IFERROR(VLOOKUP(F1257,Hoja1!$A$50:$C$63,2),\"\")","v":5},{"$f":"IFERROR(VLOOKUP(F1257,Hoja1!$A$50:$C$63,3),\"\")","v":5}]
[1248,20259050022794,"2025-02-14","Persona natural","Virtual - Formulario PQRSDF","Certificación laboral o pasantía","Administrativa",null,"Grupo de Administración y Desarrollo del Talento Humano","2025-02-27","Correo electrónico","2025-02-28",null,"",null,{"$f":"IFERROR(WORKDAY(N1258,Y1258,Hoja1!F1250:F1366),\"\")","v":""},{"$f":"+IF(N1258=\"\",\"\",IF(O1258=\"\",\"SIN RESPUESTA\",(IF(O1258<=P1258,\"A TIEMPO\",\"FUERA DE TIEMPO\"))))","v":""},null,"A TIEMPO",9,0,null,null,{"$f":"IFERROR(VLOOKUP(F1258,Hoja1!$A$50:$C$63,2),\"\")","v":15},{"$f":"IFERROR(VLOOKUP(F1258,Hoja1!$A$50:$C$63,3),\"\")","v":15}]
[1249,20259050022824,"2025-02-14","Persona natural","Virtual - Formulario PQRSDF","Solicitud de documentos o información","Solicitud de información hidrometeorológica",null,"Grupo de Servicio al Ciudadano","2025-02-19","Correo electrónico","2025-02-28",null,"",null,{"$f":"IFERROR(WORKDAY(N1259,Y1259,Hoja1!F1251:F1367),\"\")","v":""},{"$f":"+IF(N1259=\"\",\"\",IF(O1259=\"\",\"SIN RESPUESTA\",(IF(O1259<=P1259,\"A TIEMPO\",\"FUERA DE TIEMPO\"))))","v":""},null,"A TIEMPO",3,0,null,null,{"$f":"IFERROR(VLOOKUP(F1259,Hoja1!$A$50:$C$63,2),\"\")","v":5},{"$f":"IFERROR(VLOOKUP(F1259,Hoja1!$A$50:$C$63,3),\"\")","v":5}]
[1250,20259050022834,"2025-02-14","Persona natural","Virtual - Formulario PQRSDF","Solicitud de documentos o información","Sistema de información del recurso hídrico",null,"Grupo de Servicio al Ciudadano","2025-02-19","Correo electrónico","2025-02-28",null,"",null,{"$f":"IFERROR(WORKDAY(N1260,Y1260,Hoja1!F1252:F1368),\"\")","v":""},{"$f":"+IF(N1260=\"\",\"\",IF(O1260=\"\",\"SIN RESPUESTA\",(IF(O1260<=P1260,\"A TIEMPO\",\"FUERA DE TIEMPO\"))))","v":""},null,"A TIEMPO",3,0,null,null,{"$f":"IFERROR(VLOOKUP(F1260,Hoja1!$A$50:$C$63,2),\"\")","v":5},{"$f":"IFERROR(VLOOKUP(F1260,Hoja1!$A$50:$C$63,3),\"\")","v":5}]
[1251,20259050022844,"2025-02-14","Anónimo","Virtual - Formulario PQRSDF","Solicitud de documentos o información","Sistema de información ambiental",null,"Subdirección de Estudios Ambientales","2025-02-28","Página web","2025-02-28",null,"",null,{"$f":"IFERROR(WORKDAY(N1261,Y1261,Hoja1!F1253:F1369),\"\")","v":""},{"$f":"+IF(N1261=\"\",\"\",IF(O1261=\"\",\"SIN RESPUESTA\",(IF(O1261<=P1261,\"A TIEMPO\",\"FUERA DE TIEMPO\"))))","v":""},null,"A TIEMPO",10,0,null,null,{"$f":"IFERROR(VLOOKUP(F1261,Hoja1!$A$50:$C$63,2),\"\")","v":5},{"$f":"IFERROR(VLOOKUP(F1261,Hoja1!$A$50:$C$63,3),\"\")","v":5}]
[1252,20259050022864,"2025-02-14","Persona natural","Virtual - Formulario PQRSDF","Solicitud de documentos o información","Bosques",null,"Subdirección de Ecosistemas e Información Ambiental","2025-02-28","Correo electrónico","2025-02-28",null,"",null,{"$f":"IFERROR(WORKDAY(N1262,Y1262,Hoja1!F1254:F1370),\"\")","v":""},{"$f":"+IF(N1262=\"\",\"\",IF(O1262=\"\",\"SIN RESPUESTA\",(IF(O1262<=P1262,\"A TIEMPO\",\"FUERA DE TIEMPO\"))))","v":""},null,"A TIEMPO",10,0,null,null,{"$f":"IFERROR(VLOOKUP(F1262,Hoja1!$A$50:$C$63,2),\"\")","v":5},{"$f":"IFERROR(VLOOKUP(F1262,Hoja1!$A$50:$C$63,3),\"\")","v":5}]
[1253,20259050022874,"2025-02-14","Persona natural","Virtual - Formulario PQRSDF","Solicitud de documentos o información","Bosques",null,"Subdirección de Ecosistemas e Información Ambiental","2025-02-28","Correo electrónico","2025-02-28",null,"",null,{"$f":"IFERROR(WORKDAY(N1263,Y1263,Hoja1!F1255:F1371),\"\")","v":""},{"$f":"+IF(N1263=\"\",\"\",IF(O1263=\"\",\"SIN RESPUESTA\",(IF(O1263<=P1263,\"A TIEMPO\",\"FUERA DE TIEMPO\"))))","v":""},null,"A TIEMPO",10,0,null,null,{"$f":"IFERROR(VLOOKUP(F1263,Hoja1!$A$50:$C$63,2),\"\")","v":5},{"$f":"IFERROR(VLOOKUP(F1263,Hoja1!$A$50:$C$63,3),\"\")","v":5}]
[1254,20259050022884,"2025-02-16","Persona natural","Virtual - Formulario PQRSDF","Solicitud de documentos o información","Sistema de información del recurso hídrico",null,"Oficina de Informática","2025-03-03","Correo electrónico","2025-02-28",null,"",null,{"$f":"IFERROR(WORKDAY(N1264,Y1264,Hoja1!F1256:F1372),\"\")","v":""},{"$f":"+IF(N1264=\"\",\"\",IF(O1264=\"\",\"SIN RESPUESTA\",(IF(O1264<=P1264,\"A TIEMPO\",\"FUERA DE TIEMPO\"))))","v":""},null,{"$f":"+IF(C1264=\"\",\"\",IF(J1264=\"\",\"SIN RESPUESTA\",(IF(J1264<=L1264,\"A TIEMPO\",\"FUERA DE TIEMPO\"))))","v":"FUERA DE TIEMPO"},10,1,null,null,{"$f":"IFERROR(VLOOKUP(F1264,Hoja1!$A$50:$C$63,2),\"\")","v":5},{"$f":"IFERROR(VLOOKUP(F1264,Hoja1!$A$50:$C$63,3),\"\")","v":5}]
[1255,20259050022894,"2025-02-16","Persona jurídica","Virtual - Formulario PQRSDF","Solicitud de documentos o información","Sistema de información del recurso hídrico",null,"Subdirección de Hidrología","2025-02-25","Correo electrónico","2025-02-28",null,"",null,{"$f":"IFERROR(WORKDAY(N1265,Y1265,Hoja1!F1257:F1373),\"\")","v":""},{"$f":"+IF(N1265=\"\",\"\",IF(O1265=\"\",\"SIN RESPUESTA\",(IF(O1265<=P1265,\"A TIEMPO\",\"FUERA DE TIEMPO\"))))","v":""},null,"A TIEMPO",6,0,null,null,{"$f":"IFERROR(VLOOKUP(F1265,Hoja1!$A$50:$C$63,2),\"\")","v":5},{"$f":"IFERROR(VLOOKUP(F1265,Hoja1!$A$50:$C$63,3),\"\")","v":5}]
[1256,20259050022904,"2025-02-16","Persona jurídica","Virtual - Formulario PQRSDF","Solicitud de documentos o información","Registros ambientales",null,"Subdirección de Estudios Ambientales","2025-03-03","Correo electrónico","2025-02-28",null,"",null,{"$f":"IFERROR(WORKDAY(N1266,Y1266,Hoja1!F1258:F1374),\"\")","v":""},{"$f":"+IF(N1266=\"\",\"\",IF(O1266=\"\",\"SIN RESPUESTA\",(IF(O1266<=P1266,\"A TIEMPO\",\"FUERA DE TIEMPO\"))))","v":""},null,{"$f":"+IF(C1266=\"\",\"\",IF(J1266=\"\",\"SIN RESPUESTA\",(IF(J1266<=L1266,\"A TIEMPO\",\"FUERA DE TIEMPO\"))))","v":"FUERA DE TIEMPO"},10,1,null,null,{"$f":"IFERROR(VLOOKUP(F1266,Hoja1!$A$50:$C$63,2),\"\")","v":5},{"$f":"IFERROR(VLOOKUP(F1266,Hoja1!$A$50:$C$63,3),\"\")","v":5}]
[1257,20259910022914,"2025-02-17","Persona jurídica","Virtual - Correo electrónico","Solicitud de documentos o información","Registros ambientales",null,"Subdirección de Estudios Ambientales","2025-02-18","Correo electrónico","2025-03-03",null,"",null,{"$f":"IFERROR(WORKDAY(N1267,Y1267,Hoja1!F1259:F1375),\"\")","v":""},{"$f":"+IF(N1267=\"\",\"\",IF(O1267=\"\",\"SIN RESPUESTA\",(IF(O1267<=P1267,\"A TIEMPO\",\"FUERA DE TIEMPO\"))))","v":""},null,"A TIEMPO",1,0,null,null,{"$f":"IFERROR(VLOOKUP(F1267,Hoja1!$A$50:$C$63,2),\"\")","v":5},{"$f":"IFERROR(VLOOKUP(F1267,Hoja1!$A$50:$C$63,3),\"\")","v":5}]
[1258,20259910022934,"2025-02-17","Persona jurídica","Virtual - Correo electrónico","Solicitud de documentos o información","Registros ambientales",null,"Subdirección de Estudios Ambientales","2025-02-19","Correo electrónico","2025-03-03",null,"",null,{"$f":"IFERROR(WORKDAY(N1268,Y1268,Hoja1!F1260:F1376),\"\")","v":""},{"$f":"+IF(N1268=\"\",\"\",IF(O1268=\"\",\"SIN RESPUESTA\",(IF(O1268<=P1268,\"A TIEMPO\",\"FUERA DE TIEMPO\"))))","v":""},null,"A TIEMPO",2,0,null,null,{"$f":"IFERROR(VLOOKUP(F1268,Hoja1!$A$50:$C$63,2),\"\")","v":5},{"$f":"IFERROR(VLOOKUP(F1268,Hoja1!$A$50:$C$63,3),\"\")","v":5}]
[1259,20259910022924,"2025-02-17","Persona jurídica","Virtual - Correo electrónico","Consulta (Información técnica)","Sistema de información ambiental",null,"Subdirección de Estudios Ambientales",null,null,"2025-04-02",null,"",null,{"$f":"IFERROR(WORKDAY(N1269,Y1269,Hoja1!F1261:F1377),\"\")","v":""},{"$f":"+IF(N1269=\"\",\"\",IF(O1269=\"\",\"SIN RESPUESTA\",(IF(O1269<=P1269,\"A TIEMPO\",\"FUERA DE TIEMPO\"))))","v":""},null,{"$f":"+IF(C1269=\"\",\"\",IF(J1269=\"\",\"SIN RESPUESTA\",(IF(J1269<=L1269,\"A TIEMPO\",\"FUERA DE TIEMPO\"))))","v":"SIN RESPUESTA"},0,0,null,null,{"$f":"IFERROR(VLOOKUP(F1269,Hoja1!$A$50:$C$63,2),\"\")","v":30},{"$f":"IFERROR(VLOOKUP(F1269,Hoja1!$A$50:$C$63,3),\"\")","v":30}]
[1260,20259910023004,"2025-02-17","Persona natural","Virtual - Correo electrónico","Certificación laboral o pasantía","Administrativa",null,"Grupo de Administración y Desarrollo del Talento Humano","2025-03-06","Correo electrónico","2025-03-03",null,"",null,{"$f":"IFERROR(WORKDAY(N1270,Y1270,Hoja1!F1262:F1378),\"\")","v":""},{"$f":"+IF(N1270=\"\",\"\",IF(O1270=\"\",\"SIN RESPUESTA\",(IF(O1270<=P1270,\"A TIEMPO\",\"FUERA DE TIEMPO\"))))","v":""},null,{"$f":"+IF(C1270=\"\",\"\",IF(J1270=\"\",\"SIN RESPUESTA\",(IF(J1270<=L1270,\"A TIEMPO\",\"FUERA DE TIEMPO\"))))","v":"FUERA DE TIEMPO"},13,3,null,null,{"$f":"IFERROR(VLOOKUP(F1270,Hoja1!$A$50:$C$63,2),\"\")","v":15},{"$f":"IFERROR(VLOOKUP(F1270,Hoja1!$A$50:$C$63,3),\"\")","v":15}]
[1261,20259910023084,"2025-02-17","Persona jurídica","Virtual - Correo electrónico","Solicitud de documentos o información","Registros ambientales",null,"Subdirección de Estudios Ambientales","2025-03-03","Correo electrónico","2025-03-03",null,"",null,{"$f":"IFERROR(WORKDAY(N1271,Y1271,Hoja1!F1263:F1379),\"\")","v":""},{"$f":"+IF(N1271=\"\",\"\",IF(O1271=\"\",\"SIN RESPUESTA\",(IF(O1271<=P1271,\"A TIEMPO\",\"FUERA DE TIEMPO\"))))","v":""},null,"A TIEMPO",10,0,null,null,{"$f":"IFERROR(VLOOKUP(F1271,Hoja1!$A$50:$C$63,2),\"\")","v":5},{"$f":"IFERROR(VLOOKUP(F1271,Hoja1!$A$50:$C$63,3),\"\")","v":5}]
[1262,20259910022954,"2025-02-17","Persona jurídica","Virtual - Correo electrónico","Consulta (Información técnica)","Administrativa",null,"Grupo de Contabilidad","2025-03-31","Correo electrónico","2025-04-02",null,"",null,{"$f":"IFERROR(WORKDAY(N1272,Y1272,Hoja1!F1264:F1380),\"\")","v":""},{"$f":"+IF(N1272=\"\",\"\",IF(O1272=\"\",\"SIN RESPUESTA\",(IF(O1272<=P1272,\"A TIEMPO\",\"FUERA DE TIEMPO\"))))","v":""},null,"A TIEMPO",28,0,null,null,{"$f":"IFERROR(VLOOKUP(F1272,Hoja1!$A$50:$C$63,2),\"\")","v":30},{"$f":"IFERROR(VLOOKUP(F1272,Hoja1!$A$50:$C$63,3),\"\")","v":30}]
[1263,20259910023014,"2025-02-17","Persona natural","Virtual - Correo electrónico","Solicitud de documentos o información","Solicitud de información hidrometeorológica",null,"Grupo de Servicio al Ciudadano","2025-02-19","Correo electrónico","2025-03-03",null,"",null,{"$f":"IFERROR(WORKDAY(N1273,Y1273,Hoja1!F1265:F1381),\"\")","v":""},{"$f":"+IF(N1273=\"\",\"\",IF(O1273=\"\",\"SIN RESPUESTA\",(IF(O1273<=P1273,\"A TIEMPO\",\"FUERA DE TIEMPO\"))))","v":""},null,"A TIEMPO",2,0,null,null,{"$f":"IFERROR(VLOOKUP(F1273,Hoja1!$A$50:$C$63,2),\"\")","v":5},{"$f":"IFERROR(VLOOKUP(F1273,Hoja1!$A$50:$C$63,3),\"\")","v":5}]
[1264,20259910023044,"2025-02-17","Persona natural","Virtual - Correo electrónico","Certificación de contrato","Administrativa",null,"Oficina Asesora Jurídica","2025-02-26","Correo electrónico","2025-03-03",null,"",null,{"$f":"IFERROR(WORKDAY(N1274,Y1274,Hoja1!F1266:F1382),\"\")","v":""},{"$f":"+IF(N1274=\"\",\"\",IF(O1274=\"\",\"SIN RESPUESTA\",(IF(O1274<=P1274,\"A TIEMPO\",\"FUERA DE TIEMPO\"))))","v":""},null,"A TIEMPO",7,0,null,null,{"$f":"IFERROR(VLOOKUP(F1274,Hoja1!$A$50:$C$63,2),\"\")","v":15},{"$f":"IFERROR(VLOOKUP(F1274,Hoja1!$A$50:$C$63,3),\"\")","v":15}]
[1265,20259910023074,"2025-02-17","Persona natural","Virtual - Correo electrónico","Solicitud de documentos o información","Sistema de información del recurso hídrico",null,"Subdirección de Hidrología","2025-02-21","Correo electrónico","2025-03-03",null,"",null,{"$f":"IFERROR(WORKDAY(N1275,Y1275,Hoja1!F1267:F1383),\"\")","v":""},{"$f":"+IF(N1275=\"\",\"\",IF(O1275=\"\",\"SIN RESPUESTA\",(IF(O1275<=P1275,\"A TIEMPO\",\"FUERA DE TIEMPO\"))))","v":""},null,"A TIEMPO",4,0,null,null,{"$f":"IFERROR(VLOOKUP(F1275,Hoja1!$A$50:$C$63,2),\"\")","v":5},{"$f":"IFERROR(VLOOKUP(F1275,Hoja1!$A$50:$C$63,3),\"\")","v":5}]
[1266,20259910023094,"2025-02-17","Persona natural","Virtual - Correo electrónico","Solicitud de documentos o información","Bosques",null,"Subdirección de Ecosistemas e Información Ambiental","2025-02-19","Correo electrónico","2025-03-03",null,"",null,{"$f":"IFERROR(WORKDAY(N1276,Y1276,Hoja1!F1268:F1384),\"\")","v":""},{"$f":"+IF(N1276=\"\",\"\",IF(O1276=\"\",\"SIN RESPUESTA\",(IF(O1276<=P1276,\"A TIEMPO\",\"FUERA DE TIEMPO\"))))","v":""},null,"A TIEMPO",2,0,null,null,{"$f":"IFERROR(VLOOKUP(F1276,Hoja1!$A$50:$C$63,2),\"\")","v":5},{"$f":"IFERROR(VLOOKUP(F1276,Hoja1!$A$50:$C$63,3),\"\")","v":5}]
[1267,20259910023104,"2025-02-17","Persona jurídica","Virtual - Correo electrónico","Solicitud de documentos o información","Solicitud de información hidrometeorológica",null,"Subdirección de Meteorología","2025-02-18","Correo electrónico","2025-03-03",null,"",null,{"$f":"IFERROR(WORKDAY(N1277,Y1277,Hoja1!F1269:F1385),\"\")","v":""},{"$f":"+IF(N1277=\"\",\"\",IF(O1277=\"\",\"SIN RESPUESTA\",(IF(O1277<=P1277,\"A TIEMPO\",\"FUERA DE TIEMPO\"))))","v":""},null,"A TIEMPO",1,0,null,null,{"$f":"IFERROR(VLOOKUP(F1277,Hoja1!$A$50:$C$63,2),\"\")","v":5},{"$f":"IFERROR(VLOOKUP(F1277,Hoja1!$A$50:$C$63,3),\"\")","v":5}]
[1268,20259910023124,"2025-02-17","Persona natural","Virtual - Correo electrónico","Certificación laboral o pasantía","Administrativa",null,"Grupo de Administración y Desarrollo del Talento Humano","2025-02-28","Correo electrónico","2025-03-03",null,"",null,{"$f":"IFERROR(WORKDAY(N1278,Y1278,Hoja1!F1270:F1386),\"\")","v":""},{"$f":"+IF(N1278=\"\",\"\",IF(O1278=\"\",\"SIN RESPUESTA\",(IF(O1278<=P1278,\"A TIEMPO\",\"FUERA DE TIEMPO\"))))","v":""},null,"A TIEMPO",9,0,null,null,{"$f":"IFERROR(VLOOKUP(F1278,Hoja1!$A$50:$C$63,2),\"\")","v":15},{"$f":"IFERROR(VLOOKUP(F1278,Hoja1!$A$50:$C$63,3),\"\")","v":15}]
[1269,20259910023154,"2025-02-17","Persona natural","Virtual - Correo electrónico","Certificación electrónica de tiempos laborados - CETIL","Administrativa",null,"Grupo de Administración y Desarrollo del Talento Humano","2025-03-25","Correo electrónico","2025-03-10",null,"",null,{"$f":"IFERROR(WORKDAY(N1279,Y1279,Hoja1!F1271:F1387),\"\")","v":""},{"$f":"+IF(N1279=\"\",\"\",IF(O1279=\"\",\"SIN RESPUESTA\",(IF(O1279<=P1279,\"A TIEMPO\",\"FUERA DE TIEMPO\"))))","v":""},null,{"$f":"+IF(C1279=\"\",\"\",IF(J1279=\"\",\"SIN RESPUESTA\",(IF(J1279<=L1279,\"A TIEMPO\",\"FUERA DE TIEMPO\"))))","v":"FUERA DE TIEMPO"},24,9,null,null,{"$f":"IFERROR(VLOOKUP(F1279,Hoja1!$A$50:$C$63,2),\"\")","v":15},{"$f":"IFERROR(VLOOKUP(F1279,Hoja1!$A$50:$C$63,3),\"\")","v":15}]
[1270,20259910023134,"2025-02-17","Persona natural","Virtual - Correo electrónico","Solicitud de documentos o información","Solicitud de información hidrometeorológica",null,"Grupo de Servicio al Ciudadano","2025-02-20","Correo electrónico","2025-03-03",null,"",null,{"$f":"IFERROR(WORKDAY(N1280,Y1280,Hoja1!F1272:F1388),\"\")","v":""},{"$f":"+IF(N1280=\"\",\"\",IF(O1280=\"\",\"SIN RESPUESTA\",(IF(O1280<=P1280,\"A TIEMPO\",\"FUERA DE TIEMPO\"))))","v":""},null,"A TIEMPO",3,0,null,null,{"$f":"IFERROR(VLOOKUP(F1280,Hoja1!$A$50:$C$63,2),\"\")","v":5},{"$f":"IFERROR(VLOOKUP(F1280,Hoja1!$A$50:$C$63,3),\"\")","v":5}]
[1271,20259910023144,"2025-02-17","Persona jurídica","Virtual - Correo electrónico","Petición entre autoridades","Registros ambientales",null,"Subdirección de Estudios Ambientales","2025-03-03","Correo electrónico","2025-03-03",null,"",null,{"$f":"IFERROR(WORKDAY(N1281,Y1281,Hoja1!F1273:F1389),\"\")","v":""},{"$f":"+IF(N1281=\"\",\"\",IF(O1281=\"\",\"SIN RESPUESTA\",(IF(O1281<=P1281,\"A TIEMPO\",\"FUERA DE TIEMPO\"))))","v":""},null,"A TIEMPO",10,0,null,null,{"$f":"IFERROR(VLOOKUP(F1281,Hoja1!$A$50:$C$63,2),\"\")","v":10},{"$f":"IFERROR(VLOOKUP(F1281,Hoja1!$A$50:$C$63,3),\"\")","v":10}]
[1272,20259910023164,"2025-02-17","Persona jurídica","Virtual - Correo electrónico","Solicitud de documentos o información","Registros ambientales",null,"Subdirección de Estudios Ambientales","2025-02-27","Correo electrónico","2025-03-03",null,"",null,{"$f":"IFERROR(WORKDAY(N1282,Y1282,Hoja1!F1274:F1390),\"\")","v":""},{"$f":"+IF(N1282=\"\",\"\",IF(O1282=\"\",\"SIN RESPUESTA\",(IF(O1282<=P1282,\"A TIEMPO\",\"FUERA DE TIEMPO\"))))","v":""},null,"A TIEMPO",8,0,null,null,{"$f":"IFERROR(VLOOKUP(F1282,Hoja1!$A$50:$C$63,2),\"\")","v":5},{"$f":"IFERROR(VLOOKUP(F1282,Hoja1!$A$50:$C$63,3),\"\")","v":5}]
[1273,20259050023194,"2025-02-17","Anónimo","Virtual - Formulario PQRSDF","Solicitud de documentos o información","Solicitud de información hidrometeorológica",null,"Oficina de Informática","2025-02-28","Correo electrónico","2025-03-03",null,"",null,{"$f":"IFERROR(WORKDAY(N1283,Y1283,Hoja1!F1275:F1391),\"\")","v":""},{"$f":"+IF(N1283=\"\",\"\",IF(O1283=\"\",\"SIN RESPUESTA\",(IF(O1283<=P1283,\"A TIEMPO\",\"FUERA DE TIEMPO\"))))","v":""},null,"A TIEMPO",9,0,null,null,{"$f":"IFERROR(VLOOKUP(F1283,Hoja1!$A$50:$C$63,2),\"\")","v":5},{"$f":"IFERROR(VLOOKUP(F1283,Hoja1!$A$50:$C$63,3),\"\")","v":5}]
[1274,20259910023224,"2025-02-17","Persona natural","Virtual - Correo electrónico","Solicitud judicial","Administrativa",null,"Oficina Asesora Jurídica","2025-03-05","Correo electrónico","2025-02-24",null,"",null,{"$f":"IFERROR(WORKDAY(N1284,Y1284,Hoja1!F1276:F1392),\"\")","v":""},{"$f":"+IF(N1284=\"\",\"\",IF(O1284=\"\",\"SIN RESPUESTA\",(IF(O1284<=P1284,\"A TIEMPO\",\"FUERA DE TIEMPO\"))))","v":""},null,{"$f":"+IF(C1284=\"\",\"\",IF(J1284=\"\",\"SIN RESPUESTA\",(IF(J1284<=L1284,\"A TIEMPO\",\"FUERA DE TIEMPO\"))))","v":"FUERA DE TIEMPO"},12,7,null,null,{"$f":"IFERROR(VLOOKUP(F1284,Hoja1!$A$50:$C$63,2),\"\")","v":5},{"$f":"IFERROR(VLOOKUP(F1284,Hoja1!$A$50:$C$63,3),\"\")","v":5}]
[1275,20259910023234,"2025-02-17","Persona jurídica","Virtual - Correo electrónico","Petición entre entidades","Administrativa",null,"Oficina Asesora de Planeación","2025-02-20","Correo electrónico","2025-03-03",null,"",null,{"$f":"IFERROR(WORKDAY(N1285,Y1285,Hoja1!F1277:F1393),\"\")","v":""},{"$f":"+IF(N1285=\"\",\"\",IF(O1285=\"\",\"SIN RESPUESTA\",(IF(O1285<=P1285,\"A TIEMPO\",\"FUERA DE TIEMPO\"))))","v":""},null,"A TIEMPO",3,0,null,null,{"$f":"IFERROR(VLOOKUP(F1285,Hoja1!$A$50:$C$63,2),\"\")","v":10},{"$f":"IFERROR(VLOOKUP(F1285,Hoja1!$A$50:$C$63,3),\"\")","v":10}]
[1276,20259910023254,"2025-02-17","Persona natural","Virtual - Correo electrónico","Solicitud de documentos o información","Solicitud de información hidrometeorológica",null,"Grupo de Servicio al Ciudadano","2025-03-03","Correo electrónico","2025-03-03",null,"",null,{"$f":"IFERROR(WORKDAY(N1286,Y1286,Hoja1!F1278:F1394),\"\")","v":""},{"$f":"+IF(N1286=\"\",\"\",IF(O1286=\"\",\"SIN RESPUESTA\",(IF(O1286<=P1286,\"A TIEMPO\",\"FUERA DE TIEMPO\"))))","v":""},null,"A TIEMPO",10,0,null,null,{"$f":"IFERROR(VLOOKUP(F1286,Hoja1!$A$50:$C$63,2),\"\")","v":5},{"$f":"IFERROR(VLOOKUP(F1286,Hoja1!$A$50:$C$63,3),\"\")","v":5}]
[1277,20259910023304,"2025-02-17","Persona natural","Virtual - Correo electrónico","Solicitud de documentos o información","Bosques",null,"Subdirección de Ecosistemas e Información Ambiental","2025-02-26","Correo electrónico","2025-03-03",null,"",null,{"$f":"IFERROR(WORKDAY(N1287,Y1287,Hoja1!F1279:F1395),\"\")","v":""},{"$f":"+IF(N1287=\"\",\"\",IF(O1287=\"\",\"SIN RESPUESTA\",(IF(O1287<=P1287,\"A TIEMPO\",\"FUERA DE TIEMPO\"))))","v":""},null,"A TIEMPO",7,0,null,null,{"$f":"IFERROR(VLOOKUP(F1287,Hoja1!$A$50:$C$63,2),\"\")","v":5},{"$f":"IFERROR(VLOOKUP(F1287,Hoja1!$A$50:$C$63,3),\"\")","v":5}]
[1278,20259050023274,"2025-02-17","Persona natural","Virtual - Formulario PQRSDF","Solicitud de documentos o información","Visitas académicas",null,"Grupo de Servicio al Ciudadano","2025-03-03","Correo electrónico","2025-03-03",null,"",null,{"$f":"IFERROR(WORKDAY(N1288,Y1288,Hoja1!F1280:F1396),\"\")","v":""},{"$f":"+IF(N1288=\"\",\"\",IF(O1288=\"\",\"SIN RESPUESTA\",(IF(O1288<=P1288,\"A TIEMPO\",\"FUERA DE TIEMPO\"))))","v":""},null,"A TIEMPO",10,0,null,null,{"$f":"IFERROR(VLOOKUP(F1288,Hoja1!$A$50:$C$63,2),\"\")","v":5},{"$f":"IFERROR(VLOOKUP(F1288,Hoja1!$A$50:$C$63,3),\"\")","v":5}]
[1279,20259050023204,"2025-02-17","Persona natural","Virtual - Formulario PQRSDF","Solicitud de documentos o información","Solicitud de información hidrometeorológica",null,"Grupo de Servicio al Ciudadano","2025-02-19","Correo electrónico","2025-03-03",null,"",null,{"$f":"IFERROR(WORKDAY(N1289,Y1289,Hoja1!F1281:F1397),\"\")","v":""},{"$f":"+IF(N1289=\"\",\"\",IF(O1289=\"\",\"SIN RESPUESTA\",(IF(O1289<=P1289,\"A TIEMPO\",\"FUERA DE TIEMPO\"))))","v":""},null,"A TIEMPO",2,0,null,null,{"$f":"IFERROR(VLOOKUP(F1289,Hoja1!$A$50:$C$63,2),\"\")","v":5},{"$f":"IFERROR(VLOOKUP(F1289,Hoja1!$A$50:$C$63,3),\"\")","v":5}]
[1280,20259910023324,"2025-02-17","Persona natural","Virtual - Correo electrónico","Certificación electrónica de tiempos laborados - CETIL","Administrativa",null,"Grupo de Administración y Desarrollo del Talento Humano","2025-04-04","Correo electrónico","2025-03-10",null,"",null,{"$f":"IFERROR(WORKDAY(N1290,Y1290,Hoja1!F1282:F1398),\"\")","v":""},{"$f":"+IF(N1290=\"\",\"\",IF(O1290=\"\",\"SIN RESPUESTA\",(IF(O1290<=P1290,\"A TIEMPO\",\"FUERA DE TIEMPO\"))))","v":""},null,{"$f":"+IF(C1290=\"\",\"\",IF(J1290=\"\",\"SIN RESPUESTA\",(IF(J1290<=L1290,\"A TIEMPO\",\"FUERA DE TIEMPO\"))))","v":"FUERA DE TIEMPO"},32,17,null,null,{"$f":"IFERROR(VLOOKUP(F1290,Hoja1!$A$50:$C$63,2),\"\")","v":15},{"$f":"IFERROR(VLOOKUP(F1290,Hoja1!$A$50:$C$63,3),\"\")","v":15}]
[1281,20259050023334,"2025-02-17","Persona jurídica","Virtual - Formulario PQRSDF","Solicitud de documentos o información","Registros ambientales",null,"Subdirección de Estudios Ambientales","2025-03-03","Correo electrónico","2025-03-03",null,"",null,{"$f":"IFERROR(WORKDAY(N1291,Y1291,Hoja1!F1283:F1399),\"\")","v":""},{"$f":"+IF(N1291=\"\",\"\",IF(O1291=\"\",\"SIN RESPUESTA\",(IF(O1291<=P1291,\"A TIEMPO\",\"FUERA DE TIEMPO\"))))","v":""},null,"A TIEMPO",10,0,null,null,{"$f":"IFERROR(VLOOKUP(F1291,Hoja1!$A$50:$C$63,2),\"\")","v":5},{"$f":"IFERROR(VLOOKUP(F1291,Hoja1!$A$50:$C$63,3),\"\")","v":5}]
[1282,20259050023374,"2025-02-17","Persona natural","Virtual - Formulario PQRSDF","Solicitud de documentos o información","Sistema de información del recurso hídrico",null,"Grupo de Servicio al Ciudadano","2025-02-19","Correo electrónico","2025-03-03",null,"",null,{"$f":"IFERROR(WORKDAY(N1292,Y1292,Hoja1!F1284:F1400),\"\")","v":""},{"$f":"+IF(N1292=\"\",\"\",IF(O1292=\"\",\"SIN RESPUESTA\",(IF(O1292<=P1292,\"A TIEMPO\",\"FUERA DE TIEMPO\"))))","v":""},null,"A TIEMPO",2,0,null,null,{"$f":"IFERROR(VLOOKUP(F1292,Hoja1!$A$50:$C$63,2),\"\")","v":5},{"$f":"IFERROR(VLOOKUP(F1292,Hoja1!$A$50:$C$63,3),\"\")","v":5}]
[1283,20259910023384,"2025-02-17","Persona jurídica","Virtual - Correo electrónico","Petición entre autoridades","Sistema de información ambiental",null,"Grupo de Servicio al Ciudadano","2025-03-03","Correo electrónico","2025-03-03",null,"",null,{"$f":"IFERROR(WORKDAY(N1293,Y1293,Hoja1!F1285:F1401),\"\")","v":""},{"$f":"+IF(N1293=\"\",\"\",IF(O1293=\"\",\"SIN RESPUESTA\",(IF(O1293<=P1293,\"A TIEMPO\",\"FUERA DE TIEMPO\"))))","v":""},null,"A TIEMPO",10,0,null,null,{"$f":"IFERROR(VLOOKUP(F1293,Hoja1!$A$50:$C$63,2),\"\")","v":10},{"$f":"IFERROR(VLOOKUP(F1293,Hoja1!$A$50:$C$63,3),\"\")","v":10}]
[1284,20259910023394,"2025-02-17","Persona natural","Virtual - Correo electrónico","Certificación laboral o pasantía","Administrativa",null,"Grupo de Administración y Desarrollo del Talento Humano","2025-02-28","Correo electrónico","2025-03-03",null,"",null,{"$f":"IFERROR(WORKDAY(N1294,Y1294,Hoja1!F1286:F1402),\"\")","v":""},{"$f":"+IF(N1294=\"\",\"\",IF(O1294=\"\",\"SIN RESPUESTA\",(IF(O1294<=P1294,\"A TIEMPO\",\"FUERA DE TIEMPO\"))))","v":""},null,"A TIEMPO",9,0,null,null,{"$f":"IFERROR(VLOOKUP(F1294,Hoja1!$A$50:$C$63,2),\"\")","v":15},{"$f":"IFERROR(VLOOKUP(F1294,Hoja1!$A$50:$C$63,3),\"\")","v":15}]
[1285,20259910023404,"2025-02-17","Persona jurídica","Virtual - Correo electrónico","Solicitud de documentos o información","Solicitud de información hidrometeorológica",null,"Subdirección de Meteorología","2025-02-21","Correo electrónico","2025-03-03",null,"",null,{"$f":"IFERROR(WORKDAY(N1295,Y1295,Hoja1!F1287:F1403),\"\")","v":""},{"$f":"+IF(N1295=\"\",\"\",IF(O1295=\"\",\"SIN RESPUESTA\",(IF(O1295<=P1295,\"A TIEMPO\",\"FUERA DE TIEMPO\"))))","v":""},null,"A TIEMPO",4,0,null,null,{"$f":"IFERROR(VLOOKUP(F1295,Hoja1!$A$50:$C$63,2),\"\")","v":5},{"$f":"IFERROR(VLOOKUP(F1295,Hoja1!$A$50:$C$63,3),\"\")","v":5}]
[1286,20259050023424,"2025-02-17","Anónimo","Virtual - Formulario PQRSDF","Solicitud de documentos o información","Administrativa",null,"Subdirección de Estudios Ambientales","2025-02-20","Página web","2025-03-03",null,"",null,{"$f":"IFERROR(WORKDAY(N1296,Y1296,Hoja1!F1288:F1404),\"\")","v":""},{"$f":"+IF(N1296=\"\",\"\",IF(O1296=\"\",\"SIN RESPUESTA\",(IF(O1296<=P1296,\"A TIEMPO\",\"FUERA DE TIEMPO\"))))","v":""},null,"A TIEMPO",3,0,null,null,{"$f":"IFERROR(VLOOKUP(F1296,Hoja1!$A$50:$C$63,2),\"\")","v":5},{"$f":"IFERROR(VLOOKUP(F1296,Hoja1!$A$50:$C$63,3),\"\")","v":5}]
[{"$f":"IF(B1297<>\"\",A1296+1,\"\")","v":1287},20259910023434,"2025-02-17","Persona jurídica","Virtual - Correo electrónico","Solicitud de documentos o información","Administrativa",null,"Grupo de Administración y Desarrollo del Talento Humano","2025-02-21","Correo electrónico","2025-03-03",null,"",null,{"$f":"IFERROR(WORKDAY(N1297,Y1297,Hoja1!F1289:F1405),\"\")","v":""},{"$f":"+IF(N1297=\"\",\"\",IF(O1297=\"\",\"SIN RESPUESTA\",(IF(O1297<=P1297,\"A TIEMPO\",\"FUERA DE TIEMPO\"))))","v":""},null,"A TIEMPO",4,0,null,null,{"$f":"IFERROR(VLOOKUP(F1297,Hoja1!$A$50:$C$63,2),\"\")","v":5},{"$f":"IFERROR(VLOOKUP(F1297,Hoja1!$A$50:$C$63,3),\"\")","v":5}]
[1288,20259910023514,"2025-02-17","Persona natural","Virtual - Correo electrónico","Solicitud de documentos o información","Sistema de información del recurso hídrico",null,"Subdirección de Hidrología","2025-03-10","Correo electrónico","2025-03-03",null,"",null,{"$f":"IFERROR(WORKDAY(N1298,Y1298,Hoja1!F1290:F1406),\"\")","v":""},{"$f":"+IF(N1298=\"\",\"\",IF(O1298=\"\",\"SIN RESPUESTA\",(IF(O1298<=P1298,\"A TIEMPO\",\"FUERA DE TIEMPO\"))))","v":""},null,{"$f":"+IF(C1298=\"\",\"\",IF(J1298=\"\",\"SIN RESPUESTA\",(IF(J1298<=L1298,\"A TIEMPO\",\"FUERA DE TIEMPO\"))))","v":"FUERA DE TIEMPO"},15,5,null,null,{"$f":"IFERROR(VLOOKUP(F1298,Hoja1!$A$50:$C$63,2),\"\")","v":5},{"$f":"IFERROR(VLOOKUP(F1298,Hoja1!$A$50:$C$63,3),\"\")","v":5}]
[1289,20259050023534,"2025-02-17","Persona jurídica","Virtual - Formulario PQRSDF","Certificación de ingresos y retenciones","Administrativa",null,"Grupo de Tesorería","2025-02-18","Correo certificado","2025-03-03",null,"",null,{"$f":"IFERROR(WORKDAY(N1299,Y1299,Hoja1!F1291:F1407),\"\")","v":""},{"$f":"+IF(N1299=\"\",\"\",IF(O1299=\"\",\"SIN RESPUESTA\",(IF(O1299<=P1299,\"A TIEMPO\",\"FUERA DE TIEMPO\"))))","v":""},null,"A TIEMPO",1,0,null,null,{"$f":"IFERROR(VLOOKUP(F1299,Hoja1!$A$50:$C$63,2),\"\")","v":15},{"$f":"IFERROR(VLOOKUP(F1299,Hoja1!$A$50:$C$63,3),\"\")","v":15}]
[1290,20259910023544,"2025-02-17","Persona natural","Virtual - Correo electrónico","Solicitud de documentos o información","Administrativa",null,"Oficina Asesora Jurídica","2025-03-04","Correo electrónico","2025-03-03",null,"",null,{"$f":"IFERROR(WORKDAY(N1300,Y1300,Hoja1!F1292:F1408),\"\")","v":""},{"$f":"+IF(N1300=\"\",\"\",IF(O1300=\"\",\"SIN RESPUESTA\",(IF(O1300<=P1300,\"A TIEMPO\",\"FUERA DE TIEMPO\"))))","v":""},null,{"$f":"+IF(C1300=\"\",\"\",IF(J1300=\"\",\"SIN RESPUESTA\",(IF(J1300<=L1300,\"A TIEMPO\",\"FUERA DE TIEMPO\"))))","v":"FUERA DE TIEMPO"},11,1,null,null,{"$f":"IFERROR(VLOOKUP(F1300,Hoja1!$A$50:$C$63,2),\"\")","v":5},{"$f":"IFERROR(VLOOKUP(F1300,Hoja1!$A$50:$C$63,3),\"\")","v":5}]
[1291,20259910023554,"2025-02-17","Persona natural","Virtual - Correo electrónico","Certificación laboral o pasantía","Administrativa",null,"Grupo de Administración y Desarrollo del Talento Humano","2025-03-03","Correo electrónico","2025-03-03",null,"",null,{"$f":"IFERROR(WORKDAY(N1301,Y1301,Hoja1!F1293:F1409),\"\")","v":""},{"$f":"+IF(N1301=\"\",\"\",IF(O1301=\"\",\"SIN RESPUESTA\",(IF(O1301<=P1301,\"A TIEMPO\",\"FUERA DE TIEMPO\"))))","v":""},null,"A TIEMPO",10,0,null,null,{"$f":"IFERROR(VLOOKUP(F1301,Hoja1!$A$50:$C$63,2),\"\")","v":15},{"$f":"IFERROR(VLOOKUP(F1301,Hoja1!$A$50:$C$63,3),\"\")","v":15}]
[1292,20259910023584,"2025-02-17","Persona jurídica","Virtual - Correo electrónico","Petición entre entidades","Acreditación de laboratorios",null,"Dirección General","2025-03-03","Correo electrónico","2025-03-03",null,"",null,{"$f":"IFERROR(WORKDAY(N1302,Y1302,Hoja1!F1294:F1410),\"\")","v":""},{"$f":"+IF(N1302=\"\",\"\",IF(O1302=\"\",\"SIN RESPUESTA\",(IF(O1302<=P1302,\"A TIEMPO\",\"FUERA DE TIEMPO\"))))","v":""},null,"A TIEMPO",10,0,null,null,{"$f":"IFERROR(VLOOKUP(F1302,Hoja1!$A$50:$C$63,2),\"\")","v":10},{"$f":"IFERROR(VLOOKUP(F1302,Hoja1!$A$50:$C$63,3),\"\")","v":10}]
[1293,20259910023604,"2025-02-17","Persona natural","Virtual - Correo electrónico","Solicitud de documentos o información","Sistema de información ambiental",null,"Subdirección de Estudios Ambientales","2025-02-24","Correo electrónico","2025-03-03",null,"",null,{"$f":"IFERROR(WORKDAY(N1303,Y1303,Hoja1!F1295:F1411),\"\")","v":""},{"$f":"+IF(N1303=\"\",\"\",IF(O1303=\"\",\"SIN RESPUESTA\",(IF(O1303<=P1303,\"A TIEMPO\",\"FUERA DE TIEMPO\"))))","v":""},null,"A TIEMPO",5,0,null,null,{"$f":"IFERROR(VLOOKUP(F1303,Hoja1!$A$50:$C$63,2),\"\")","v":5},{"$f":"IFERROR(VLOOKUP(F1303,Hoja1!$A$50:$C$63,3),\"\")","v":5}]
[1294,20259910023644,"2025-02-17","Persona jurídica","Virtual - Correo electrónico","Petición entre autoridades","Certificaciones del tiempo y clima",null,"Subdirección de Meteorología","2025-02-19","Correo electrónico","2025-03-03",null,"",null,{"$f":"IFERROR(WORKDAY(N1304,Y1304,Hoja1!F1296:F1412),\"\")","v":""},{"$f":"+IF(N1304=\"\",\"\",IF(O1304=\"\",\"SIN RESPUESTA\",(IF(O1304<=P1304,\"A TIEMPO\",\"FUERA DE TIEMPO\"))))","v":""},null,"A TIEMPO",2,0,null,null,{"$f":"IFERROR(VLOOKUP(F1304,Hoja1!$A$50:$C$63,2),\"\")","v":10},{"$f":"IFERROR(VLOOKUP(F1304,Hoja1!$A$50:$C$63,3),\"\")","v":10}]
[1295,20259910023654,"2025-02-17","Persona jurídica","Virtual - Correo electrónico","Solicitud de documentos o información","Sistema de información ambiental",null,"Subdirección de Estudios Ambientales","2025-03-03","Correo electrónico","2025-03-03",null,"",null,{"$f":"IFERROR(WORKDAY(N1305,Y1305,Hoja1!F1297:F1413),\"\")","v":""},{"$f":"+IF(N1305=\"\",\"\",IF(O1305=\"\",\"SIN RESPUESTA\",(IF(O1305<=P1305,\"A TIEMPO\",\"FUERA DE TIEMPO\"))))","v":""},null,"A TIEMPO",10,0,null,null,{"$f":"IFERROR(VLOOKUP(F1305,Hoja1!$A$50:$C$63,2),\"\")","v":5},{"$f":"IFERROR(VLOOKUP(F1305,Hoja1!$A$50:$C$63,3),\"\")","v":5}]
[1296,20259910023664,"2025-02-17","Persona natural","Virtual - Correo electrónico","Certificación de tiempo, clima y eventos hidrológicos","Certificaciones del tiempo y clima",null,"Subdirección de Meteorología","2025-03-03","Correo electrónico","2025-04-02",null,"",null,{"$f":"IFERROR(WORKDAY(N1306,Y1306,Hoja1!F1298:F1414),\"\")","v":""},{"$f":"+IF(N1306=\"\",\"\",IF(O1306=\"\",\"SIN RESPUESTA\",(IF(O1306<=P1306,\"A TIEMPO\",\"FUERA DE TIEMPO\"))))","v":""},null,"A TIEMPO",10,0,null,null,{"$f":"IFERROR(VLOOKUP(F1306,Hoja1!$A$50:$C$63,2),\"\")","v":15},{"$f":"IFERROR(VLOOKUP(F1306,Hoja1!$A$50:$C$63,3),\"\")","v":15}]
[1297,20259910023674,"2025-02-17","Persona jurídica","Virtual - Correo electrónico","Petición entre entidades","Administrativa",null,"Dirección General","2025-03-04","Correo electrónico","2025-03-03",null,"",null,{"$f":"IFERROR(WORKDAY(N1307,Y1307,Hoja1!F1299:F1415),\"\")","v":""},{"$f":"+IF(N1307=\"\",\"\",IF(O1307=\"\",\"SIN RESPUESTA\",(IF(O1307<=P1307,\"A TIEMPO\",\"FUERA DE TIEMPO\"))))","v":""},null,{"$f":"+IF(C1307=\"\",\"\",IF(J1307=\"\",\"SIN RESPUESTA\",(IF(J1307<=L1307,\"A TIEMPO\",\"FUERA DE TIEMPO\"))))","v":"FUERA DE TIEMPO"},11,1,null,null,{"$f":"IFERROR(VLOOKUP(F1307,Hoja1!$A$50:$C$63,2),\"\")","v":10},{"$f":"IFERROR(VLOOKUP(F1307,Hoja1!$A$50:$C$63,3),\"\")","v":10}]
[1298,20259910023704,"2025-02-17","Persona jurídica","Virtual - Correo electrónico","Petición entre autoridades","Administrativa",null,"Secretaría General","2025-03-03","Correo electrónico","2025-03-03",null,"",null,{"$f":"IFERROR(WORKDAY(N1308,Y1308,Hoja1!F1300:F1416),\"\")","v":""},{"$f":"+IF(N1308=\"\",\"\",IF(O1308=\"\",\"SIN RESPUESTA\",(IF(O1308<=P1308,\"A TIEMPO\",\"FUERA DE TIEMPO\"))))","v":""},null,"A TIEMPO",10,0,null,null,{"$f":"IFERROR(VLOOKUP(F1308,Hoja1!$A$50:$C$63,2),\"\")","v":10},{"$f":"IFERROR(VLOOKUP(F1308,Hoja1!$A$50:$C$63,3),\"\")","v":10}]
[1299,20259050023714,"2025-02-17","Persona natural","Virtual - Formulario PQRSDF","Solicitud de documentos o información","Sistema de información del recurso hídrico",null,"Subdirección de Meteorología","2025-02-28","Correo electrónico","2025-03-03",null,"",null,{"$f":"IFERROR(WORKDAY(N1309,Y1309,Hoja1!F1301:F1417),\"\")","v":""},{"$f":"+IF(N1309=\"\",\"\",IF(O1309=\"\",\"SIN RESPUESTA\",(IF(O1309<=P1309,\"A TIEMPO\",\"FUERA DE TIEMPO\"))))","v":""},null,"A TIEMPO",9,0,null,null,{"$f":"IFERROR(VLOOKUP(F1309,Hoja1!$A$50:$C$63,2),\"\")","v":5},{"$f":"IFERROR(VLOOKUP(F1309,Hoja1!$A$50:$C$63,3),\"\")","v":5}]
[1300,20259050023774,"2025-02-17","Persona natural","Virtual - Formulario PQRSDF","Solicitud de documentos o información","Solicitud de información hidrometeorológica",null,"Grupo de Servicio al Ciudadano","2025-02-19","Correo electrónico","2025-03-03",null,"",null,{"$f":"IFERROR(WORKDAY(N1310,Y1310,Hoja1!F1302:F1418),\"\")","v":""},{"$f":"+IF(N1310=\"\",\"\",IF(O1310=\"\",\"SIN RESPUESTA\",(IF(O1310<=P1310,\"A TIEMPO\",\"FUERA DE TIEMPO\"))))","v":""},null,"A TIEMPO",2,0,null,null,{"$f":"IFERROR(VLOOKUP(F1310,Hoja1!$A$50:$C$63,2),\"\")","v":5},{"$f":"IFERROR(VLOOKUP(F1310,Hoja1!$A$50:$C$63,3),\"\")","v":5}]
[1301,20259050023784,"2025-02-18","Persona jurídica","Virtual - Formulario PQRSDF","Solicitud de documentos o información","Registros ambientales",null,"Subdirección de Estudios Ambientales","2025-03-03","Correo electrónico","2025-03-04",null,"",null,{"$f":"IFERROR(WORKDAY(N1311,Y1311,Hoja1!F1303:F1419),\"\")","v":""},{"$f":"+IF(N1311=\"\",\"\",IF(O1311=\"\",\"SIN RESPUESTA\",(IF(O1311<=P1311,\"A TIEMPO\",\"FUERA DE TIEMPO\"))))","v":""},null,"A TIEMPO",9,0,null,null,{"$f":"IFERROR(VLOOKUP(F1311,Hoja1!$A$50:$C$63,2),\"\")","v":5},{"$f":"IFERROR(VLOOKUP(F1311,Hoja1!$A$50:$C$63,3),\"\")","v":5}]
[1302,20259910024024,"2025-02-18","Persona jurídica","Virtual - Correo electrónico","Solicitud de documentos o información","Registros ambientales",null,"Subdirección de Estudios Ambientales","2025-03-03","Correo electrónico","2025-03-04",null,"",null,{"$f":"IFERROR(WORKDAY(N1312,Y1312,Hoja1!F1304:F1420),\"\")","v":""},{"$f":"+IF(N1312=\"\",\"\",IF(O1312=\"\",\"SIN RESPUESTA\",(IF(O1312<=P1312,\"A TIEMPO\",\"FUERA DE TIEMPO\"))))","v":""},null,"A TIEMPO",9,0,null,null,{"$f":"IFERROR(VLOOKUP(F1312,Hoja1!$A$50:$C$63,2),\"\")","v":5},{"$f":"IFERROR(VLOOKUP(F1312,Hoja1!$A$50:$C$63,3),\"\")","v":5}]
[1303,20259910024194,"2025-02-18","Persona natural","Virtual - Correo electrónico","Certificación laboral o pasantía","Administrativa",null,"Grupo de Administración y Desarrollo del Talento Humano","2025-02-20","Correo electrónico","2025-03-04",null,"",null,{"$f":"IFERROR(WORKDAY(N1313,Y1313,Hoja1!F1305:F1421),\"\")","v":""},{"$f":"+IF(N1313=\"\",\"\",IF(O1313=\"\",\"SIN RESPUESTA\",(IF(O1313<=P1313,\"A TIEMPO\",\"FUERA DE TIEMPO\"))))","v":""},null,"A TIEMPO",2,0,null,null,{"$f":"IFERROR(VLOOKUP(F1313,Hoja1!$A$50:$C$63,2),\"\")","v":15},{"$f":"IFERROR(VLOOKUP(F1313,Hoja1!$A$50:$C$63,3),\"\")","v":15}]
[1304,20259910024094,"2025-02-18","Persona jurídica","Virtual - Correo electrónico","Solicitud judicial","Jurídico",null,"Subdirección de Meteorología","2025-02-24","Correo electrónico","2025-02-25",null,"",null,{"$f":"IFERROR(WORKDAY(N1314,Y1314,Hoja1!F1306:F1422),\"\")","v":""},{"$f":"+IF(N1314=\"\",\"\",IF(O1314=\"\",\"SIN RESPUESTA\",(IF(O1314<=P1314,\"A TIEMPO\",\"FUERA DE TIEMPO\"))))","v":""},null,"A TIEMPO",4,0,null,null,{"$f":"IFERROR(VLOOKUP(F1314,Hoja1!$A$50:$C$63,2),\"\")","v":5},{"$f":"IFERROR(VLOOKUP(F1314,Hoja1!$A$50:$C$63,3),\"\")","v":5}]
[1305,20259910024214,"2025-02-18","Persona jurídica","Virtual - Correo electrónico","Solicitud judicial","Certificaciones del tiempo y clima",null,"Subdirección de Meteorología","2025-02-21","Correo electrónico","2025-02-25",null,"",null,{"$f":"IFERROR(WORKDAY(N1315,Y1315,Hoja1!F1307:F1423),\"\")","v":""},{"$f":"+IF(N1315=\"\",\"\",IF(O1315=\"\",\"SIN RESPUESTA\",(IF(O1315<=P1315,\"A TIEMPO\",\"FUERA DE TIEMPO\"))))","v":""},null,"A TIEMPO",3,0,null,null,{"$f":"IFERROR(VLOOKUP(F1315,Hoja1!$A$50:$C$63,2),\"\")","v":5},{"$f":"IFERROR(VLOOKUP(F1315,Hoja1!$A$50:$C$63,3),\"\")","v":5}]
[1306,20259910024114,"2025-02-18","Persona natural","Virtual - Correo electrónico","Solicitud de documentos o información","Sistema de información ambiental",null,"Subdirección de Estudios Ambientales","2025-02-25","Correo electrónico","2025-03-04",null,"",null,{"$f":"IFERROR(WORKDAY(N1316,Y1316,Hoja1!F1308:F1424),\"\")","v":""},{"$f":"+IF(N1316=\"\",\"\",IF(O1316=\"\",\"SIN RESPUESTA\",(IF(O1316<=P1316,\"A TIEMPO\",\"FUERA DE TIEMPO\"))))","v":""},null,"A TIEMPO",5,0,null,null,{"$f":"IFERROR(VLOOKUP(F1316,Hoja1!$A$50:$C$63,2),\"\")","v":5},{"$f":"IFERROR(VLOOKUP(F1316,Hoja1!$A$50:$C$63,3),\"\")","v":5}]
[1307,20259910024124,"2025-02-18","Persona jurídica","Virtual - Correo electrónico","Solicitud de documentos o información","Administrativa",null,"Grupo de Administración y Desarrollo del Talento Humano","2025-02-21","Correo electrónico","2025-03-04",null,"",null,{"$f":"IFERROR(WORKDAY(N1317,Y1317,Hoja1!F1309:F1425),\"\")","v":""},{"$f":"+IF(N1317=\"\",\"\",IF(O1317=\"\",\"SIN RESPUESTA\",(IF(O1317<=P1317,\"A TIEMPO\",\"FUERA DE TIEMPO\"))))","v":""},null,"A TIEMPO",3,0,null,null,{"$f":"IFERROR(VLOOKUP(F1317,Hoja1!$A$50:$C$63,2),\"\")","v":5},{"$f":"IFERROR(VLOOKUP(F1317,Hoja1!$A$50:$C$63,3),\"\")","v":5}]
[1308,20259910024074,"2025-02-18","Persona jurídica","Virtual - Correo electrónico","Solicitud de documentos o información","Administrativa",null,"Grupo de Contabilidad","2025-02-26","Correo electrónico","2025-03-04",null,"",null,{"$f":"IFERROR(WORKDAY(N1318,Y1318,Hoja1!F1310:F1426),\"\")","v":""},{"$f":"+IF(N1318=\"\",\"\",IF(O1318=\"\",\"SIN RESPUESTA\",(IF(O1318<=P1318,\"A TIEMPO\",\"FUERA DE TIEMPO\"))))","v":""},null,"A TIEMPO",6,0,null,null,{"$f":"IFERROR(VLOOKUP(F1318,Hoja1!$A$50:$C$63,2),\"\")","v":5},{"$f":"IFERROR(VLOOKUP(F1318,Hoja1!$A$50:$C$63,3),\"\")","v":5}]
[1309,20259910024144,"2025-02-18","Persona jurídica","Virtual - Correo electrónico","Petición entre autoridades","Solicitud de información hidrometeorológica",null,"Subdirección de Meteorología","2025-02-21","Correo electrónico","2025-03-04",null,"",null,{"$f":"IFERROR(WORKDAY(N1319,Y1319,Hoja1!F1311:F1427),\"\")","v":""},{"$f":"+IF(N1319=\"\",\"\",IF(O1319=\"\",\"SIN RESPUESTA\",(IF(O1319<=P1319,\"A TIEMPO\",\"FUERA DE TIEMPO\"))))","v":""},null,"A TIEMPO",3,0,null,null,{"$f":"IFERROR(VLOOKUP(F1319,Hoja1!$A$50:$C$63,2),\"\")","v":10},{"$f":"IFERROR(VLOOKUP(F1319,Hoja1!$A$50:$C$63,3),\"\")","v":10}]
[1310,20259910024164,"2025-02-18","Persona natural","Virtual - Correo electrónico","Solicitud de documentos o información","Bosques",null,"Subdirección de Ecosistemas e Información Ambiental","2025-02-19","Correo electrónico","2025-03-04",null,"",null,{"$f":"IFERROR(WORKDAY(N1320,Y1320,Hoja1!F1312:F1428),\"\")","v":""},{"$f":"+IF(N1320=\"\",\"\",IF(O1320=\"\",\"SIN RESPUESTA\",(IF(O1320<=P1320,\"A TIEMPO\",\"FUERA DE TIEMPO\"))))","v":""},null,"A TIEMPO",1,0,null,null,{"$f":"IFERROR(VLOOKUP(F1320,Hoja1!$A$50:$C$63,2),\"\")","v":5},{"$f":"IFERROR(VLOOKUP(F1320,Hoja1!$A$50:$C$63,3),\"\")","v":5}]
[1311,20259910024224,"2025-02-18","Persona natural","Virtual - Correo electrónico","Solicitud de documentos o información","Solicitud de información hidrometeorológica",null,"Subdirección de Meteorología","2025-02-21","Correo electrónico","2025-03-04",null,"",null,{"$f":"IFERROR(WORKDAY(N1321,Y1321,Hoja1!F1313:F1429),\"\")","v":""},{"$f":"+IF(N1321=\"\",\"\",IF(O1321=\"\",\"SIN RESPUESTA\",(IF(O1321<=P1321,\"A TIEMPO\",\"FUERA DE TIEMPO\"))))","v":""},null,"A TIEMPO",3,0,null,null,{"$f":"IFERROR(VLOOKUP(F1321,Hoja1!$A$50:$C$63,2),\"\")","v":5},{"$f":"IFERROR(VLOOKUP(F1321,Hoja1!$A$50:$C$63,3),\"\")","v":5}]
[1312,20259910024244,"2025-02-18","Persona jurídica","Virtual - Correo electrónico","Petición entre autoridades","Certificaciones del tiempo y clima",null,"Subdirección de Meteorología","2025-02-19","Correo electrónico","2025-03-04",null,"",null,{"$f":"IFERROR(WORKDAY(N1322,Y1322,Hoja1!F1314:F1430),\"\")","v":""},{"$f":"+IF(N1322=\"\",\"\",IF(O1322=\"\",\"SIN RESPUESTA\",(IF(O1322<=P1322,\"A TIEMPO\",\"FUERA DE TIEMPO\"))))","v":""},null,"A TIEMPO",1,0,null,null,{"$f":"IFERROR(VLOOKUP(F1322,Hoja1!$A$50:$C$63,2),\"\")","v":10},{"$f":"IFERROR(VLOOKUP(F1322,Hoja1!$A$50:$C$63,3),\"\")","v":10}]
[1313,20259910024264,"2025-02-18","Persona jurídica","Virtual - Correo electrónico","Solicitud judicial","Certificaciones del tiempo y clima",null,"Subdirección de Meteorología","2025-02-19","Correo electrónico","2025-02-25",null,"",null,{"$f":"IFERROR(WORKDAY(N1323,Y1323,Hoja1!F1315:F1431),\"\")","v":""},{"$f":"+IF(N1323=\"\",\"\",IF(O1323=\"\",\"SIN RESPUESTA\",(IF(O1323<=P1323,\"A TIEMPO\",\"FUERA DE TIEMPO\"))))","v":""},null,"A TIEMPO",1,0,null,null,{"$f":"IFERROR(VLOOKUP(F1323,Hoja1!$A$50:$C$63,2),\"\")","v":5},{"$f":"IFERROR(VLOOKUP(F1323,Hoja1!$A$50:$C$63,3),\"\")","v":5}]
[1314,20259910024284,"2025-02-18","Persona jurídica","Virtual - Correo electrónico","Petición entre autoridades","Registros ambientales",null,"Subdirección de Estudios Ambientales","2025-03-03","Correo electrónico","2025-03-04",null,"",null,{"$f":"IFERROR(WORKDAY(N1324,Y1324,Hoja1!F1316:F1432),\"\")","v":""},{"$f":"+IF(N1324=\"\",\"\",IF(O1324=\"\",\"SIN RESPUESTA\",(IF(O1324<=P1324,\"A TIEMPO\",\"FUERA DE TIEMPO\"))))","v":""},null,"A TIEMPO",9,0,null,null,{"$f":"IFERROR(VLOOKUP(F1324,Hoja1!$A$50:$C$63,2),\"\")","v":10},{"$f":"IFERROR(VLOOKUP(F1324,Hoja1!$A$50:$C$63,3),\"\")","v":10}]
[1315,20259910024304,"2025-02-18","Persona jurídica","Virtual - Correo electrónico","Solicitud de documentos o información","Registros ambientales",null,"Subdirección de Estudios Ambientales","2025-02-19","Correo electrónico","2025-03-04",null,"",null,{"$f":"IFERROR(WORKDAY(N1325,Y1325,Hoja1!F1317:F1433),\"\")","v":""},{"$f":"+IF(N1325=\"\",\"\",IF(O1325=\"\",\"SIN RESPUESTA\",(IF(O1325<=P1325,\"A TIEMPO\",\"FUERA DE TIEMPO\"))))","v":""},null,"A TIEMPO",1,0,null,null,{"$f":"IFERROR(VLOOKUP(F1325,Hoja1!$A$50:$C$63,2),\"\")","v":5},{"$f":"IFERROR(VLOOKUP(F1325,Hoja1!$A$50:$C$63,3),\"\")","v":5}]
[1316,20259910024334,"2025-02-18","Persona jurídica","Virtual - Correo electrónico","Certificación de ingresos y retenciones","Administrativa",null,"Grupo de Contabilidad","2025-03-06","Correo electrónico","2025-03-04",null,"",null,{"$f":"IFERROR(WORKDAY(N1326,Y1326,Hoja1!F1318:F1434),\"\")","v":""},{"$f":"+IF(N1326=\"\",\"\",IF(O1326=\"\",\"SIN RESPUESTA\",(IF(O1326<=P1326,\"A TIEMPO\",\"FUERA DE TIEMPO\"))))","v":""},null,{"$f":"+IF(C1326=\"\",\"\",IF(J1326=\"\",\"SIN RESPUESTA\",(IF(J1326<=L1326,\"A TIEMPO\",\"FUERA DE TIEMPO\"))))","v":"FUERA DE TIEMPO"},12,2,null,null,{"$f":"IFERROR(VLOOKUP(F1326,Hoja1!$A$50:$C$63,2),\"\")","v":15},{"$f":"IFERROR(VLOOKUP(F1326,Hoja1!$A$50:$C$63,3),\"\")","v":15}]
[1317,20259910024344,"2025-02-18","Persona natural","Virtual - Correo electrónico","Solicitud de documentos o información","Solicitud de información hidrometeorológica",null,"Grupo de Servicio al Ciudadano","2025-02-20","Correo electrónico","2025-03-04",null,"",null,{"$f":"IFERROR(WORKDAY(N1327,Y1327,Hoja1!F1319:F1435),\"\")","v":""},{"$f":"+IF(N1327=\"\",\"\",IF(O1327=\"\",\"SIN RESPUESTA\",(IF(O1327<=P1327,\"A TIEMPO\",\"FUERA DE TIEMPO\"))))","v":""},null,"A TIEMPO",2,0,null,null,{"$f":"IFERROR(VLOOKUP(F1327,Hoja1!$A$50:$C$63,2),\"\")","v":5},{"$f":"IFERROR(VLOOKUP(F1327,Hoja1!$A$50:$C$63,3),\"\")","v":5}]
[1318,20259910024514,"2025-02-18","Persona jurídica","Virtual - Correo electrónico","Solicitud de documentos o información","Registros ambientales",null,"Subdirección de Estudios Ambientales","2025-03-03","Correo electrónico","2025-03-04",null,"",null,{"$f":"IFERROR(WORKDAY(N1328,Y1328,Hoja1!F1320:F1436),\"\")","v":""},{"$f":"+IF(N1328=\"\",\"\",IF(O1328=\"\",\"SIN RESPUESTA\",(IF(O1328<=P1328,\"A TIEMPO\",\"FUERA DE TIEMPO\"))))","v":""},null,"A TIEMPO",9,0,null,null,{"$f":"IFERROR(VLOOKUP(F1328,Hoja1!$A$50:$C$63,2),\"\")","v":5},{"$f":"IFERROR(VLOOKUP(F1328,Hoja1!$A$50:$C$63,3),\"\")","v":5}]
[1319,20259910024534,"2025-02-18","Persona natural","Virtual - Correo electrónico","Solicitud de documentos o información","Solicitud de información hidrometeorológica",null,"Subdirección de Hidrología","2025-02-25","Correo electrónico","2025-03-04",null,"",null,{"$f":"IFERROR(WORKDAY(N1329,Y1329,Hoja1!F1321:F1437),\"\")","v":""},{"$f":"+IF(N1329=\"\",\"\",IF(O1329=\"\",\"SIN RESPUESTA\",(IF(O1329<=P1329,\"A TIEMPO\",\"FUERA DE TIEMPO\"))))","v":""},null,"A TIEMPO",5,0,null,null,{"$f":"IFERROR(VLOOKUP(F1329,Hoja1!$A$50:$C$63,2),\"\")","v":5},{"$f":"IFERROR(VLOOKUP(F1329,Hoja1!$A$50:$C$63,3),\"\")","v":5}]
[1320,20259910024544,"2025-02-18","Persona natural","Virtual - Correo electrónico","Solicitud de documentos o información","Solicitud de información hidrometeorológica",null,"Grupo de Servicio al Ciudadano","2025-03-03","Correo electrónico","2025-03-04",null,"",null,{"$f":"IFERROR(WORKDAY(N1330,Y1330,Hoja1!F1322:F1438),\"\")","v":""},{"$f":"+IF(N1330=\"\",\"\",IF(O1330=\"\",\"SIN RESPUESTA\",(IF(O1330<=P1330,\"A TIEMPO\",\"FUERA DE TIEMPO\"))))","v":""},null,"A TIEMPO",9,0,null,null,{"$f":"IFERROR(VLOOKUP(F1330,Hoja1!$A$50:$C$63,2),\"\")","v":5},{"$f":"IFERROR(VLOOKUP(F1330,Hoja1!$A$50:$C$63,3),\"\")","v":5}]
[1321,20259910024584,"2025-02-18","Persona jurídica","Virtual - Correo electrónico","Solicitud de documentos o información","Administrativa",null,"Grupo de Tesorería","2025-02-19","Correo electrónico","2025-03-04",null,"",null,{"$f":"IFERROR(WORKDAY(N1331,Y1331,Hoja1!F1323:F1439),\"\")","v":""},{"$f":"+IF(N1331=\"\",\"\",IF(O1331=\"\",\"SIN RESPUESTA\",(IF(O1331<=P1331,\"A TIEMPO\",\"FUERA DE TIEMPO\"))))","v":""},null,"A TIEMPO",1,0,null,null,{"$f":"IFERROR(VLOOKUP(F1331,Hoja1!$A$50:$C$63,2),\"\")","v":5},{"$f":"IFERROR(VLOOKUP(F1331,Hoja1!$A$50:$C$63,3),\"\")","v":5}]
[1322,20259910024614,"2025-02-18","Persona jurídica","Virtual - Correo electrónico","Consulta (Información técnica)","Sistema de información ambiental",null,"Subdirección de Estudios Ambientales","2025-04-08","Correo electrónico","2025-04-03",null,"",null,{"$f":"IFERROR(WORKDAY(N1332,Y1332,Hoja1!F1324:F1440),\"\")","v":""},{"$f":"+IF(N1332=\"\",\"\",IF(O1332=\"\",\"SIN RESPUESTA\",(IF(O1332<=P1332,\"A TIEMPO\",\"FUERA DE TIEMPO\"))))","v":""},null,{"$f":"+IF(C1332=\"\",\"\",IF(J1332=\"\",\"SIN RESPUESTA\",(IF(J1332<=L1332,\"A TIEMPO\",\"FUERA DE TIEMPO\"))))","v":"FUERA DE TIEMPO"},33,3,null,null,{"$f":"IFERROR(VLOOKUP(F1332,Hoja1!$A$50:$C$63,2),\"\")","v":30},{"$f":"IFERROR(VLOOKUP(F1332,Hoja1!$A$50:$C$63,3),\"\")","v":30}]
[1323,20259050024704,"2025-02-18","Persona natural","Virtual - Formulario PQRSDF","Solicitud de documentos o información","Administrativa",null,"Grupo de Administración y Desarrollo del Talento Humano","2025-03-03","Correo electrónico","2025-03-04",null,"",null,{"$f":"IFERROR(WORKDAY(N1333,Y1333,Hoja1!F1325:F1441),\"\")","v":""},{"$f":"+IF(N1333=\"\",\"\",IF(O1333=\"\",\"SIN RESPUESTA\",(IF(O1333<=P1333,\"A TIEMPO\",\"FUERA DE TIEMPO\"))))","v":""},null,"A TIEMPO",9,0,null,null,{"$f":"IFERROR(VLOOKUP(F1333,Hoja1!$A$50:$C$63,2),\"\")","v":5},{"$f":"IFERROR(VLOOKUP(F1333,Hoja1!$A$50:$C$63,3),\"\")","v":5}]
[1324,20259910024744,"2025-02-18","Persona jurídica","Virtual - Correo electrónico","Solicitud de documentos o información","Solicitud de información hidrometeorológica",null,"Grupo de Servicio al Ciudadano","2025-03-03","Correo electrónico","2025-03-04",null,"",null,{"$f":"IFERROR(WORKDAY(N1334,Y1334,Hoja1!F1326:F1442),\"\")","v":""},{"$f":"+IF(N1334=\"\",\"\",IF(O1334=\"\",\"SIN RESPUESTA\",(IF(O1334<=P1334,\"A TIEMPO\",\"FUERA DE TIEMPO\"))))","v":""},null,"A TIEMPO",9,0,null,null,{"$f":"IFERROR(VLOOKUP(F1334,Hoja1!$A$50:$C$63,2),\"\")","v":5},{"$f":"IFERROR(VLOOKUP(F1334,Hoja1!$A$50:$C$63,3),\"\")","v":5}]
[1325,20259910024754,"2025-02-18","Persona natural","Virtual - Correo electrónico","Certificación de contrato","Administrativa",null,"Oficina Asesora Jurídica","2025-02-26","Correo electrónico","2025-03-04",null,"",null,{"$f":"IFERROR(WORKDAY(N1335,Y1335,Hoja1!F1327:F1443),\"\")","v":""},{"$f":"+IF(N1335=\"\",\"\",IF(O1335=\"\",\"SIN RESPUESTA\",(IF(O1335<=P1335,\"A TIEMPO\",\"FUERA DE TIEMPO\"))))","v":""},null,"A TIEMPO",6,0,null,null,{"$f":"IFERROR(VLOOKUP(F1335,Hoja1!$A$50:$C$63,2),\"\")","v":15},{"$f":"IFERROR(VLOOKUP(F1335,Hoja1!$A$50:$C$63,3),\"\")","v":15}]
[1326,20259910024774,"2025-02-18","Persona natural","Virtual - Correo electrónico","Certificación laboral o pasantía","Administrativa",null,"Grupo de Administración y Desarrollo del Talento Humano","2025-03-03","Correo electrónico","2025-03-04",null,"",null,{"$f":"IFERROR(WORKDAY(N1336,Y1336,Hoja1!F1328:F1444),\"\")","v":""},{"$f":"+IF(N1336=\"\",\"\",IF(O1336=\"\",\"SIN RESPUESTA\",(IF(O1336<=P1336,\"A TIEMPO\",\"FUERA DE TIEMPO\"))))","v":""},null,"A TIEMPO",9,0,null,null,{"$f":"IFERROR(VLOOKUP(F1336,Hoja1!$A$50:$C$63,2),\"\")","v":15},{"$f":"IFERROR(VLOOKUP(F1336,Hoja1!$A$50:$C$63,3),\"\")","v":15}]
[1327,20259910024784,"2025-02-18","Persona jurídica","Virtual - Correo electrónico","Solicitud de documentos o información","Administrativa",null,"Grupo de Contabilidad","2025-03-06","Correo electrónico","2025-03-04",null,"",null,{"$f":"IFERROR(WORKDAY(N1337,Y1337,Hoja1!F1329:F1445),\"\")","v":""},{"$f":"+IF(N1337=\"\",\"\",IF(O1337=\"\",\"SIN RESPUESTA\",(IF(O1337<=P1337,\"A TIEMPO\",\"FUERA DE TIEMPO\"))))","v":""},null,{"$f":"+IF(C1337=\"\",\"\",IF(J1337=\"\",\"SIN RESPUESTA\",(IF(J1337<=L1337,\"A TIEMPO\",\"FUERA DE TIEMPO\"))))","v":"FUERA DE TIEMPO"},12,2,null,null,{"$f":"IFERROR(VLOOKUP(F1337,Hoja1!$A$50:$C$63,2),\"\")","v":5},{"$f":"IFERROR(VLOOKUP(F1337,Hoja1!$A$50:$C$63,3),\"\")","v":5}]
[1328,20259910024794,"2025-02-18","Persona jurídica","Virtual - Correo electrónico","Solicitud de documentos o información","Registros ambientales",null,"Subdirección de Estudios Ambientales","2025-02-24","Correo electrónico","2025-03-04",null,"",null,{"$f":"IFERROR(WORKDAY(N1338,Y1338,Hoja1!F1330:F1446),\"\")","v":""},{"$f":"+IF(N1338=\"\",\"\",IF(O1338=\"\",\"SIN RESPUESTA\",(IF(O1338<=P1338,\"A TIEMPO\",\"FUERA DE TIEMPO\"))))","v":""},null,"A TIEMPO",4,0,null,null,{"$f":"IFERROR(VLOOKUP(F1338,Hoja1!$A$50:$C$63,2),\"\")","v":5},{"$f":"IFERROR(VLOOKUP(F1338,Hoja1!$A$50:$C$63,3),\"\")","v":5}]
[1329,20259910024834,"2025-02-18","Persona jurídica","Virtual - Correo electrónico","Solicitud de documentos o información","Acreditación de laboratorios",null,"Subdirección de Hidrología","2025-02-21","Correo electrónico","2025-03-04",null,"",null,{"$f":"IFERROR(WORKDAY(N1339,Y1339,Hoja1!F1331:F1447),\"\")","v":""},{"$f":"+IF(N1339=\"\",\"\",IF(O1339=\"\",\"SIN RESPUESTA\",(IF(O1339<=P1339,\"A TIEMPO\",\"FUERA DE TIEMPO\"))))","v":""},null,"A TIEMPO",3,0,null,null,{"$f":"IFERROR(VLOOKUP(F1339,Hoja1!$A$50:$C$63,2),\"\")","v":5},{"$f":"IFERROR(VLOOKUP(F1339,Hoja1!$A$50:$C$63,3),\"\")","v":5}]
[1330,20259910024964,"2025-02-18","Persona natural","Virtual - Correo electrónico","Certificación laboral o pasantía","Administrativa",null,"Grupo de Administración y Desarrollo del Talento Humano","2025-03-03","Correo electrónico","2025-03-04",null,"",null,{"$f":"IFERROR(WORKDAY(N1340,Y1340,Hoja1!F1332:F1448),\"\")","v":""},{"$f":"+IF(N1340=\"\",\"\",IF(O1340=\"\",\"SIN RESPUESTA\",(IF(O1340<=P1340,\"A TIEMPO\",\"FUERA DE TIEMPO\"))))","v":""},null,"A TIEMPO",9,0,null,null,{"$f":"IFERROR(VLOOKUP(F1340,Hoja1!$A$50:$C$63,2),\"\")","v":15},{"$f":"IFERROR(VLOOKUP(F1340,Hoja1!$A$50:$C$63,3),\"\")","v":15}]
[1331,20259910024974,"2025-02-18","Persona jurídica","Virtual - Correo electrónico","Solicitud de documentos o información","Registros ambientales",null,"Subdirección de Estudios Ambientales","2025-03-11","Correo electrónico","2025-03-04",null,"",null,{"$f":"IFERROR(WORKDAY(N1341,Y1341,Hoja1!F1333:F1449),\"\")","v":""},{"$f":"+IF(N1341=\"\",\"\",IF(O1341=\"\",\"SIN RESPUESTA\",(IF(O1341<=P1341,\"A TIEMPO\",\"FUERA DE TIEMPO\"))))","v":""},null,{"$f":"+IF(C1341=\"\",\"\",IF(J1341=\"\",\"SIN RESPUESTA\",(IF(J1341<=L1341,\"A TIEMPO\",\"FUERA DE TIEMPO\"))))","v":"FUERA DE TIEMPO"},15,5,null,null,{"$f":"IFERROR(VLOOKUP(F1341,Hoja1!$A$50:$C$63,2),\"\")","v":5},{"$f":"IFERROR(VLOOKUP(F1341,Hoja1!$A$50:$C$63,3),\"\")","v":5}]
[1332,20259910025004,"2025-02-18","Persona natural","Virtual - Correo electrónico","Certificación electrónica de tiempos laborados - CETIL","Administrativa",null,"Grupo de Administración y Desarrollo del Talento Humano","2025-04-03","Correo electrónico","2025-03-11",null,"",null,{"$f":"IFERROR(WORKDAY(N1342,Y1342,Hoja1!F1334:F1450),\"\")","v":""},{"$f":"+IF(N1342=\"\",\"\",IF(O1342=\"\",\"SIN RESPUESTA\",(IF(O1342<=P1342,\"A TIEMPO\",\"FUERA DE TIEMPO\"))))","v":""},null,{"$f":"+IF(C1342=\"\",\"\",IF(J1342=\"\",\"SIN RESPUESTA\",(IF(J1342<=L1342,\"A TIEMPO\",\"FUERA DE TIEMPO\"))))","v":"FUERA DE TIEMPO"},30,15,null,null,{"$f":"IFERROR(VLOOKUP(F1342,Hoja1!$A$50:$C$63,2),\"\")","v":15},{"$f":"IFERROR(VLOOKUP(F1342,Hoja1!$A$50:$C$63,3),\"\")","v":15}]
[1333,20259910025034,"2025-02-18","Persona jurídica","Virtual - Correo electrónico","Petición de interés general o particular","Registros ambientales",null,"Subdirección de Estudios Ambientales","2025-02-27","Correo electrónico","2025-03-11",null,"",null,{"$f":"IFERROR(WORKDAY(N1343,Y1343,Hoja1!F1335:F1451),\"\")","v":""},{"$f":"+IF(N1343=\"\",\"\",IF(O1343=\"\",\"SIN RESPUESTA\",(IF(O1343<=P1343,\"A TIEMPO\",\"FUERA DE TIEMPO\"))))","v":""},null,"A TIEMPO",7,0,null,null,{"$f":"IFERROR(VLOOKUP(F1343,Hoja1!$A$50:$C$63,2),\"\")","v":15},{"$f":"IFERROR(VLOOKUP(F1343,Hoja1!$A$50:$C$63,3),\"\")","v":15}]
[1334,20259910025054,"2025-02-18","Persona natural","Virtual - Correo electrónico","Solicitud de documentos o información","Solicitud de información hidrometeorológica",null,"Grupo de Servicio al Ciudadano","2025-02-20","Correo electrónico","2025-03-04",null,"",null,{"$f":"IFERROR(WORKDAY(N1344,Y1344,Hoja1!F1336:F1452),\"\")","v":""},{"$f":"+IF(N1344=\"\",\"\",IF(O1344=\"\",\"SIN RESPUESTA\",(IF(O1344<=P1344,\"A TIEMPO\",\"FUERA DE TIEMPO\"))))","v":""},null,"A TIEMPO",2,0,null,null,{"$f":"IFERROR(VLOOKUP(F1344,Hoja1!$A$50:$C$63,2),\"\")","v":5},{"$f":"IFERROR(VLOOKUP(F1344,Hoja1!$A$50:$C$63,3),\"\")","v":5}]
[1335,20259050025134,"2025-02-18","Persona natural","Virtual - Formulario PQRSDF","Solicitud de documentos o información","Web y correo",null,"Oficina de Informática","2025-03-03","Correo electrónico","2025-03-04",null,"",null,{"$f":"IFERROR(WORKDAY(N1345,Y1345,Hoja1!F1337:F1453),\"\")","v":""},{"$f":"+IF(N1345=\"\",\"\",IF(O1345=\"\",\"SIN RESPUESTA\",(IF(O1345<=P1345,\"A TIEMPO\",\"FUERA DE TIEMPO\"))))","v":""},null,"A TIEMPO",9,0,null,null,{"$f":"IFERROR(VLOOKUP(F1345,Hoja1!$A$50:$C$63,2),\"\")","v":5},{"$f":"IFERROR(VLOOKUP(F1345,Hoja1!$A$50:$C$63,3),\"\")","v":5}]
[1336,20259910025164,"2025-02-19","Persona jurídica","Virtual - Correo electrónico","Solicitud de documentos o información","Solicitud de información hidrometeorológica",null,"Grupo de Servicio al Ciudadano","2025-03-03","Correo electrónico","2025-03-05",null,"",null,{"$f":"IFERROR(WORKDAY(N1346,Y1346,Hoja1!F1338:F1454),\"\")","v":""},{"$f":"+IF(N1346=\"\",\"\",IF(O1346=\"\",\"SIN RESPUESTA\",(IF(O1346<=P1346,\"A TIEMPO\",\"FUERA DE TIEMPO\"))))","v":""},null,"A TIEMPO",8,0,null,null,{"$f":"IFERROR(VLOOKUP(F1346,Hoja1!$A$50:$C$63,2),\"\")","v":5},{"$f":"IFERROR(VLOOKUP(F1346,Hoja1!$A$50:$C$63,3),\"\")","v":5}]
[1337,20259910025204,"2025-02-19","Anónimo","Virtual - Correo electrónico","Solicitud de documentos o información","Administrativa",null,"Grupo de Administración y Desarrollo del Talento Humano","2025-02-28","Correo electrónico","2025-03-05",null,"",null,{"$f":"IFERROR(WORKDAY(N1347,Y1347,Hoja1!F1339:F1455),\"\")","v":""},{"$f":"+IF(N1347=\"\",\"\",IF(O1347=\"\",\"SIN RESPUESTA\",(IF(O1347<=P1347,\"A TIEMPO\",\"FUERA DE TIEMPO\"))))","v":""},null,"A TIEMPO",7,0,null,null,{"$f":"IFERROR(VLOOKUP(F1347,Hoja1!$A$50:$C$63,2),\"\")","v":5},{"$f":"IFERROR(VLOOKUP(F1347,Hoja1!$A$50:$C$63,3),\"\")","v":5}]
[1338,20259910025214,"2025-02-19","Anónimo","Virtual - Correo electrónico","Solicitud de documentos o información","Administrativa",null,"Grupo de Administración y Desarrollo del Talento Humano","2025-02-20","No aplica","2025-03-05",null,"",null,{"$f":"IFERROR(WORKDAY(N1348,Y1348,Hoja1!F1340:F1456),\"\")","v":""},{"$f":"+IF(N1348=\"\",\"\",IF(O1348=\"\",\"SIN RESPUESTA\",(IF(O1348<=P1348,\"A TIEMPO\",\"FUERA DE TIEMPO\"))))","v":""},null,"A TIEMPO",1,0,null,null,{"$f":"IFERROR(VLOOKUP(F1348,Hoja1!$A$50:$C$63,2),\"\")","v":5},{"$f":"IFERROR(VLOOKUP(F1348,Hoja1!$A$50:$C$63,3),\"\")","v":5}]
[1339,20259910025224,"2025-02-19","Persona natural","Virtual - Correo electrónico","Solicitud de documentos o información","Sistema de información del recurso hídrico",null,"Subdirección de Hidrología","2025-02-20","Correo electrónico","2025-03-05",null,"",null,{"$f":"IFERROR(WORKDAY(N1349,Y1349,Hoja1!F1341:F1457),\"\")","v":""},{"$f":"+IF(N1349=\"\",\"\",IF(O1349=\"\",\"SIN RESPUESTA\",(IF(O1349<=P1349,\"A TIEMPO\",\"FUERA DE TIEMPO\"))))","v":""},null,"A TIEMPO",1,0,null,null,{"$f":"IFERROR(VLOOKUP(F1349,Hoja1!$A$50:$C$63,2),\"\")","v":5},{"$f":"IFERROR(VLOOKUP(F1349,Hoja1!$A$50:$C$63,3),\"\")","v":5}]
[1340,20259050025244,"2025-02-19","Persona natural","Virtual - Formulario PQRSDF","Solicitud de documentos o información","Solicitud de información hidrometeorológica",null,"Oficina del Servicio de Pronósticos y Alertas","2025-02-25","Correo electrónico","2025-03-05",null,"",null,{"$f":"IFERROR(WORKDAY(N1350,Y1350,Hoja1!F1342:F1458),\"\")","v":""},{"$f":"+IF(N1350=\"\",\"\",IF(O1350=\"\",\"SIN RESPUESTA\",(IF(O1350<=P1350,\"A TIEMPO\",\"FUERA DE TIEMPO\"))))","v":""},null,"A TIEMPO",4,0,null,null,{"$f":"IFERROR(VLOOKUP(F1350,Hoja1!$A$50:$C$63,2),\"\")","v":5},{"$f":"IFERROR(VLOOKUP(F1350,Hoja1!$A$50:$C$63,3),\"\")","v":5}]
[1341,20259050025284,"2025-02-19","Persona jurídica","Virtual - Formulario PQRSDF","Solicitud de documentos o información","Registros ambientales",null,"Subdirección de Estudios Ambientales","2025-02-27","Correo electrónico","2025-03-05",null,"",null,{"$f":"IFERROR(WORKDAY(N1351,Y1351,Hoja1!F1343:F1459),\"\")","v":""},{"$f":"+IF(N1351=\"\",\"\",IF(O1351=\"\",\"SIN RESPUESTA\",(IF(O1351<=P1351,\"A TIEMPO\",\"FUERA DE TIEMPO\"))))","v":""},null,"A TIEMPO",6,0,null,null,{"$f":"IFERROR(VLOOKUP(F1351,Hoja1!$A$50:$C$63,2),\"\")","v":5},{"$f":"IFERROR(VLOOKUP(F1351,Hoja1!$A$50:$C$63,3),\"\")","v":5}]
[1342,20259910025304,"2025-02-19","Persona natural","Virtual - Correo electrónico","Solicitud de documentos o información","Solicitud de información hidrometeorológica",null,"Grupo de Servicio al Ciudadano","2025-03-05","Correo electrónico","2025-03-05",null,"",null,{"$f":"IFERROR(WORKDAY(N1352,Y1352,Hoja1!F1344:F1460),\"\")","v":""},{"$f":"+IF(N1352=\"\",\"\",IF(O1352=\"\",\"SIN RESPUESTA\",(IF(O1352<=P1352,\"A TIEMPO\",\"FUERA DE TIEMPO\"))))","v":""},null,"A TIEMPO",10,0,null,null,{"$f":"IFERROR(VLOOKUP(F1352,Hoja1!$A$50:$C$63,2),\"\")","v":5},{"$f":"IFERROR(VLOOKUP(F1352,Hoja1!$A$50:$C$63,3),\"\")","v":5}]
[1343,20259910025314,"2025-02-19","Persona natural","Virtual - Correo electrónico","Certificación laboral o pasantía","Administrativa",null,"Grupo de Administración y Desarrollo del Talento Humano","2025-03-03","Correo electrónico","2025-03-05",null,"",null,{"$f":"IFERROR(WORKDAY(N1353,Y1353,Hoja1!F1345:F1461),\"\")","v":""},{"$f":"+IF(N1353=\"\",\"\",IF(O1353=\"\",\"SIN RESPUESTA\",(IF(O1353<=P1353,\"A TIEMPO\",\"FUERA DE TIEMPO\"))))","v":""},null,"A TIEMPO",8,0,null,null,{"$f":"IFERROR(VLOOKUP(F1353,Hoja1!$A$50:$C$63,2),\"\")","v":15},{"$f":"IFERROR(VLOOKUP(F1353,Hoja1!$A$50:$C$63,3),\"\")","v":15}]
[1344,20259910025274,"2025-02-19","Persona jurídica","Virtual - Correo electrónico","Solicitud de documentos o información","Administrativa",null,"Grupo de Administración y Desarrollo del Talento Humano","2025-02-26","Correo electrónico","2025-03-05",null,"",null,{"$f":"IFERROR(WORKDAY(N1354,Y1354,Hoja1!F1346:F1462),\"\")","v":""},{"$f":"+IF(N1354=\"\",\"\",IF(O1354=\"\",\"SIN RESPUESTA\",(IF(O1354<=P1354,\"A TIEMPO\",\"FUERA DE TIEMPO\"))))","v":""},null,"A TIEMPO",5,0,null,null,{"$f":"IFERROR(VLOOKUP(F1354,Hoja1!$A$50:$C$63,2),\"\")","v":5},{"$f":"IFERROR(VLOOKUP(F1354,Hoja1!$A$50:$C$63,3),\"\")","v":5}]
[1345,20259910025324,"2025-02-19","Persona jurídica","Virtual - Correo electrónico","Petición entre autoridades","Bosques",null,"Subdirección de Ecosistemas e Información Ambiental","2025-03-05","Correo electrónico","2025-03-05",null,"",null,{"$f":"IFERROR(WORKDAY(N1355,Y1355,Hoja1!F1347:F1463),\"\")","v":""},{"$f":"+IF(N1355=\"\",\"\",IF(O1355=\"\",\"SIN RESPUESTA\",(IF(O1355<=P1355,\"A TIEMPO\",\"FUERA DE TIEMPO\"))))","v":""},null,"A TIEMPO",10,0,null,null,{"$f":"IFERROR(VLOOKUP(F1355,Hoja1!$A$50:$C$63,2),\"\")","v":10},{"$f":"IFERROR(VLOOKUP(F1355,Hoja1!$A$50:$C$63,3),\"\")","v":10}]
[1346,20259910025344,"2025-02-19","Persona jurídica","Virtual - Correo electrónico","Solicitud de documentos o información","Asesorías y charlas",null,"Oficina del Servicio de Pronósticos y Alertas","2025-02-24","Correo electrónico","2025-03-05",null,"",null,{"$f":"IFERROR(WORKDAY(N1356,Y1356,Hoja1!F1348:F1464),\"\")","v":""},{"$f":"+IF(N1356=\"\",\"\",IF(O1356=\"\",\"SIN RESPUESTA\",(IF(O1356<=P1356,\"A TIEMPO\",\"FUERA DE TIEMPO\"))))","v":""},null,"A TIEMPO",3,0,null,null,{"$f":"IFERROR(VLOOKUP(F1356,Hoja1!$A$50:$C$63,2),\"\")","v":5},{"$f":"IFERROR(VLOOKUP(F1356,Hoja1!$A$50:$C$63,3),\"\")","v":5}]
[1347,20259910025404,"2025-02-19","Persona jurídica","Virtual - Correo electrónico","Solicitud de documentos o información","Administrativa",null,"Dirección General","2025-03-06","Correo electrónico","2025-03-05",null,"",null,{"$f":"IFERROR(WORKDAY(N1357,Y1357,Hoja1!F1349:F1465),\"\")","v":""},{"$f":"+IF(N1357=\"\",\"\",IF(O1357=\"\",\"SIN RESPUESTA\",(IF(O1357<=P1357,\"A TIEMPO\",\"FUERA DE TIEMPO\"))))","v":""},null,{"$f":"+IF(C1357=\"\",\"\",IF(J1357=\"\",\"SIN RESPUESTA\",(IF(J1357<=L1357,\"A TIEMPO\",\"FUERA DE TIEMPO\"))))","v":"FUERA DE TIEMPO"},11,1,null,null,{"$f":"IFERROR(VLOOKUP(F1357,Hoja1!$A$50:$C$63,2),\"\")","v":5},{"$f":"IFERROR(VLOOKUP(F1357,Hoja1!$A$50:$C$63,3),\"\")","v":5}]
[1348,20259910025394,"2025-02-19","Persona jurídica","Virtual - Correo electrónico","Solicitud de documentos o información","Registros ambientales",null,"Subdirección de Estudios Ambientales","2025-03-03","Correo electrónico","2025-03-05",null,"",null,{"$f":"IFERROR(WORKDAY(N1358,Y1358,Hoja1!F1350:F1466),\"\")","v":""},{"$f":"+IF(N1358=\"\",\"\",IF(O1358=\"\",\"SIN RESPUESTA\",(IF(O1358<=P1358,\"A TIEMPO\",\"FUERA DE TIEMPO\"))))","v":""},null,"A TIEMPO",8,0,null,null,{"$f":"IFERROR(VLOOKUP(F1358,Hoja1!$A$50:$C$63,2),\"\")","v":5},{"$f":"IFERROR(VLOOKUP(F1358,Hoja1!$A$50:$C$63,3),\"\")","v":5}]
[1349,20259910025424,"2025-02-19","Persona jurídica","Virtual - Correo electrónico","Consulta (Información técnica)","Sistema de información ambiental",null,"Subdirección de Estudios Ambientales","2025-03-20","Correo electrónico","2025-04-04",null,"",null,{"$f":"IFERROR(WORKDAY(N1359,Y1359,Hoja1!F1351:F1467),\"\")","v":""},{"$f":"+IF(N1359=\"\",\"\",IF(O1359=\"\",\"SIN RESPUESTA\",(IF(O1359<=P1359,\"A TIEMPO\",\"FUERA DE TIEMPO\"))))","v":""},null,"A TIEMPO",20,0,null,null,{"$f":"IFERROR(VLOOKUP(F1359,Hoja1!$A$50:$C$63,2),\"\")","v":30},{"$f":"IFERROR(VLOOKUP(F1359,Hoja1!$A$50:$C$63,3),\"\")","v":30}]
[1350,20259910025444,"2025-02-19","Persona jurídica","Virtual - Correo electrónico","Petición entre autoridades","Certificaciones del tiempo y clima",null,"Oficina del Servicio de Pronósticos y Alertas","2025-02-21","Correo electrónico","2025-03-05",null,"",null,{"$f":"IFERROR(WORKDAY(N1360,Y1360,Hoja1!F1352:F1468),\"\")","v":""},{"$f":"+IF(N1360=\"\",\"\",IF(O1360=\"\",\"SIN RESPUESTA\",(IF(O1360<=P1360,\"A TIEMPO\",\"FUERA DE TIEMPO\"))))","v":""},null,"A TIEMPO",2,0,null,null,{"$f":"IFERROR(VLOOKUP(F1360,Hoja1!$A$50:$C$63,2),\"\")","v":10},{"$f":"IFERROR(VLOOKUP(F1360,Hoja1!$A$50:$C$63,3),\"\")","v":10}]
[{"$f":"IF(B1361<>\"\",A1360+1,\"\")","v":1351},20259050025524,"2025-02-19","Persona natural","Virtual - Formulario PQRSDF","Solicitud de documentos o información","Solicitud de información hidrometeorológica",null,"Subdirección de Hidrología","2025-02-28","Correo electrónico","2025-03-05",null,"",null,{"$f":"IFERROR(WORKDAY(N1361,Y1361,Hoja1!F1353:F1469),\"\")","v":""},{"$f":"+IF(N1361=\"\",\"\",IF(O1361=\"\",\"SIN RESPUESTA\",(IF(O1361<=P1361,\"A TIEMPO\",\"FUERA DE TIEMPO\"))))","v":""},null,"A TIEMPO",7,0,null,null,{"$f":"IFERROR(VLOOKUP(F1361,Hoja1!$A$50:$C$63,2),\"\")","v":5},{"$f":"IFERROR(VLOOKUP(F1361,Hoja1!$A$50:$C$63,3),\"\")","v":5}]
[1352,20259050025534,"2025-02-19","Anónimo","Virtual - Formulario PQRSDF","Solicitud de documentos o información","Solicitud de información hidrometeorológica",null,"Grupo de Servicio al Ciudadano","2025-03-04","Página web","2025-03-05",null,"",null,{"$f":"IFERROR(WORKDAY(N1362,Y1362,Hoja1!F1354:F1470),\"\")","v":""},{"$f":"+IF(N1362=\"\",\"\",IF(O1362=\"\",\"SIN RESPUESTA\",(IF(O1362<=P1362,\"A TIEMPO\",\"FUERA DE TIEMPO\"))))","v":""},null,"A TIEMPO",9,0,null,null,{"$f":"IFERROR(VLOOKUP(F1362,Hoja1!$A$50:$C$63,2),\"\")","v":5},{"$f":"IFERROR(VLOOKUP(F1362,Hoja1!$A$50:$C$63,3),\"\")","v":5}]
[1353,20259050025594,"2025-02-19","Persona natural","Virtual - Formulario PQRSDF","Solicitud de documentos o información","Solicitud de información hidrometeorológica",null,"Grupo de Servicio al Ciudadano","2025-02-20","Correo electrónico","2025-03-05",null,"",null,{"$f":"IFERROR(WORKDAY(N1363,Y1363,Hoja1!F1355:F1471),\"\")","v":""},{"$f":"+IF(N1363=\"\",\"\",IF(O1363=\"\",\"SIN RESPUESTA\",(IF(O1363<=P1363,\"A TIEMPO\",\"FUERA DE TIEMPO\"))))","v":""},null,"A TIEMPO",1,0,null,null,{"$f":"IFERROR(VLOOKUP(F1363,Hoja1!$A$50:$C$63,2),\"\")","v":5},{"$f":"IFERROR(VLOOKUP(F1363,Hoja1!$A$50:$C$63,3),\"\")","v":5}]
[1354,20259050025774,"2025-02-19","Persona natural","Virtual - Formulario PQRSDF","Solicitud de documentos o información","Solicitud de información hidrometeorológica",null,"Grupo de Servicio al Ciudadano","2025-03-03","Correo electrónico","2025-03-05",null,"",null,{"$f":"IFERROR(WORKDAY(N1364,Y1364,Hoja1!F1356:F1472),\"\")","v":""},{"$f":"+IF(N1364=\"\",\"\",IF(O1364=\"\",\"SIN RESPUESTA\",(IF(O1364<=P1364,\"A TIEMPO\",\"FUERA DE TIEMPO\"))))","v":""},null,"A TIEMPO",8,0,null,null,{"$f":"IFERROR(VLOOKUP(F1364,Hoja1!$A$50:$C$63,2),\"\")","v":5},{"$f":"IFERROR(VLOOKUP(F1364,Hoja1!$A$50:$C$63,3),\"\")","v":5}]
[1355,20259910025844,"2025-02-19","Persona jurídica","Virtual - Correo electrónico","Solicitud de documentos o información","Registros ambientales",null,"Subdirección de Estudios Ambientales","2025-03-03","Correo electrónico","2025-03-05",null,"",null,{"$f":"IFERROR(WORKDAY(N1365,Y1365,Hoja1!F1357:F1473),\"\")","v":""},{"$f":"+IF(N1365=\"\",\"\",IF(O1365=\"\",\"SIN RESPUESTA\",(IF(O1365<=P1365,\"A TIEMPO\",\"FUERA DE TIEMPO\"))))","v":""},null,"A TIEMPO",8,0,null,null,{"$f":"IFERROR(VLOOKUP(F1365,Hoja1!$A$50:$C$63,2),\"\")","v":5},{"$f":"IFERROR(VLOOKUP(F1365,Hoja1!$A$50:$C$63,3),\"\")","v":5}]
[1356,20259910025854,"2025-02-19","Persona jurídica","Virtual - Correo electrónico","Petición entre autoridades","Registros ambientales",null,"Subdirección de Estudios Ambientales","2025-03-03","Correo electrónico","2025-03-05",null,"",null,{"$f":"IFERROR(WORKDAY(N1366,Y1366,Hoja1!F1358:F1474),\"\")","v":""},{"$f":"+IF(N1366=\"\",\"\",IF(O1366=\"\",\"SIN RESPUESTA\",(IF(O1366<=P1366,\"A TIEMPO\",\"FUERA DE TIEMPO\"))))","v":""},null,"A TIEMPO",8,0,null,null,{"$f":"IFERROR(VLOOKUP(F1366,Hoja1!$A$50:$C$63,2),\"\")","v":10},{"$f":"IFERROR(VLOOKUP(F1366,Hoja1!$A$50:$C$63,3),\"\")","v":10}]
[1357,20259910025914,"2025-02-19","Persona natural","Virtual - Correo electrónico","Solicitud de documentos o información","Solicitud de información hidrometeorológica",null,"Grupo de Servicio al Ciudadano","2025-03-03","Correo electrónico","2025-03-05",null,"",null,{"$f":"IFERROR(WORKDAY(N1367,Y1367,Hoja1!F1359:F1475),\"\")","v":""},{"$f":"+IF(N1367=\"\",\"\",IF(O1367=\"\",\"SIN RESPUESTA\",(IF(O1367<=P1367,\"A TIEMPO\",\"FUERA DE TIEMPO\"))))","v":""},null,"A TIEMPO",8,0,null,null,{"$f":"IFERROR(VLOOKUP(F1367,Hoja1!$A$50:$C$63,2),\"\")","v":5},{"$f":"IFERROR(VLOOKUP(F1367,Hoja1!$A$50:$C$63,3),\"\")","v":5}]
[1358,20259050026054,"2025-02-19","Persona natural","Virtual - Formulario PQRSDF","Solicitud de documentos o información","Solicitud de información hidrometeorológica",null,"Grupo de Servicio al Ciudadano","2025-03-03","Correo electrónico","2025-03-05",null,"",null,{"$f":"IFERROR(WORKDAY(N1368,Y1368,Hoja1!F1360:F1476),\"\")","v":""},{"$f":"+IF(N1368=\"\",\"\",IF(O1368=\"\",\"SIN RESPUESTA\",(IF(O1368<=P1368,\"A TIEMPO\",\"FUERA DE TIEMPO\"))))","v":""},null,"A TIEMPO",8,0,null,null,{"$f":"IFERROR(VLOOKUP(F1368,Hoja1!$A$50:$C$63,2),\"\")","v":5},{"$f":"IFERROR(VLOOKUP(F1368,Hoja1!$A$50:$C$63,3),\"\")","v":5}]
[1359,20259910026044,"2025-02-19","Persona natural","Virtual - Correo electrónico","Solicitud de documentos o información","Solicitud de información hidrometeorológica",null,"Grupo de Servicio al Ciudadano","2025-03-03","Correo electrónico","2025-03-05",null,"",null,{"$f":"IFERROR(WORKDAY(N1369,Y1369,Hoja1!F1361:F1477),\"\")","v":""},{"$f":"+IF(N1369=\"\",\"\",IF(O1369=\"\",\"SIN RESPUESTA\",(IF(O1369<=P1369,\"A TIEMPO\",\"FUERA DE TIEMPO\"))))","v":""},null,"A TIEMPO",8,0,null,null,{"$f":"IFERROR(VLOOKUP(F1369,Hoja1!$A$50:$C$63,2),\"\")","v":5},{"$f":"IFERROR(VLOOKUP(F1369,Hoja1!$A$50:$C$63,3),\"\")","v":5}]
[1360,20259910025944,"2025-02-19","Persona jurídica","Virtual - Correo electrónico","Petición de interés general o particular","Sistema de información ambiental",null,"Subdirección de Estudios Ambientales","2025-04-01","Correo electrónico","2025-03-12",null,"",null,{"$f":"IFERROR(WORKDAY(N1370,Y1370,Hoja1!F1362:F1478),\"\")","v":""},{"$f":"+IF(N1370=\"\",\"\",IF(O1370=\"\",\"SIN RESPUESTA\",(IF(O1370<=P1370,\"A TIEMPO\",\"FUERA DE TIEMPO\"))))","v":""},null,{"$f":"+IF(C1370=\"\",\"\",IF(J1370=\"\",\"SIN RESPUESTA\",(IF(J1370<=L1370,\"A TIEMPO\",\"FUERA DE TIEMPO\"))))","v":"FUERA DE TIEMPO"},27,12,null,null,{"$f":"IFERROR(VLOOKUP(F1370,Hoja1!$A$50:$C$63,2),\"\")","v":15},{"$f":"IFERROR(VLOOKUP(F1370,Hoja1!$A$50:$C$63,3),\"\")","v":15}]
[1361,20259910025984,"2025-02-19","Persona jurídica","Virtual - Correo electrónico","Solicitud de documentos o información","Solicitud de información hidrometeorológica",null,"Subdirección de Meteorología","2025-02-24","Correo electrónico","2025-03-05",null,"",null,{"$f":"IFERROR(WORKDAY(N1371,Y1371,Hoja1!F1363:F1479),\"\")","v":""},{"$f":"+IF(N1371=\"\",\"\",IF(O1371=\"\",\"SIN RESPUESTA\",(IF(O1371<=P1371,\"A TIEMPO\",\"FUERA DE TIEMPO\"))))","v":""},null,"A TIEMPO",3,0,null,null,{"$f":"IFERROR(VLOOKUP(F1371,Hoja1!$A$50:$C$63,2),\"\")","v":5},{"$f":"IFERROR(VLOOKUP(F1371,Hoja1!$A$50:$C$63,3),\"\")","v":5}]
[1362,20259050026064,"2025-02-20","Persona natural","Virtual - Formulario PQRSDF","Solicitud de documentos o información","Solicitud de información hidrometeorológica",null,"Grupo de Servicio al Ciudadano","2025-03-03","Correo electrónico","2025-03-06",null,"",null,{"$f":"IFERROR(WORKDAY(N1372,Y1372,Hoja1!F1364:F1480),\"\")","v":""},{"$f":"+IF(N1372=\"\",\"\",IF(O1372=\"\",\"SIN RESPUESTA\",(IF(O1372<=P1372,\"A TIEMPO\",\"FUERA DE TIEMPO\"))))","v":""},null,"A TIEMPO",7,0,null,null,{"$f":"IFERROR(VLOOKUP(F1372,Hoja1!$A$50:$C$63,2),\"\")","v":5},{"$f":"IFERROR(VLOOKUP(F1372,Hoja1!$A$50:$C$63,3),\"\")","v":5}]
[1363,20259910026084,"2025-02-20","Persona natural","Virtual - Correo electrónico","Solicitud de documentos o información","Solicitud de información hidrometeorológica",null,"Subdirección de Meteorología","2025-02-21","Correo electrónico","2025-03-06",null,"",null,{"$f":"IFERROR(WORKDAY(N1373,Y1373,Hoja1!F1365:F1481),\"\")","v":""},{"$f":"+IF(N1373=\"\",\"\",IF(O1373=\"\",\"SIN RESPUESTA\",(IF(O1373<=P1373,\"A TIEMPO\",\"FUERA DE TIEMPO\"))))","v":""},null,"A TIEMPO",1,0,null,null,{"$f":"IFERROR(VLOOKUP(F1373,Hoja1!$A$50:$C$63,2),\"\")","v":5},{"$f":"IFERROR(VLOOKUP(F1373,Hoja1!$A$50:$C$63,3),\"\")","v":5}]
[1364,20259910026094,"2025-02-20","Persona natural","Virtual - Correo electrónico","Certificación de tiempo, clima y eventos hidrológicos","Certificaciones del tiempo y clima",null,"Subdirección de Meteorología","2025-03-17","Correo electrónico","2025-04-07",null,"",null,{"$f":"IFERROR(WORKDAY(N1374,Y1374,Hoja1!F1366:F1482),\"\")","v":""},{"$f":"+IF(N1374=\"\",\"\",IF(O1374=\"\",\"SIN RESPUESTA\",(IF(O1374<=P1374,\"A TIEMPO\",\"FUERA DE TIEMPO\"))))","v":""},null,"A TIEMPO",17,0,null,null,{"$f":"IFERROR(VLOOKUP(F1374,Hoja1!$A$50:$C$63,2),\"\")","v":15},{"$f":"IFERROR(VLOOKUP(F1374,Hoja1!$A$50:$C$63,3),\"\")","v":15}]
[1365,20259910026114,"2025-02-20","Persona natural","Virtual - Correo electrónico","Certificación electrónica de tiempos laborados - CETIL","Administrativa",null,"Grupo de Administración y Desarrollo del Talento Humano","2025-04-08","Correo electrónico","2025-03-13",null,"",null,{"$f":"IFERROR(WORKDAY(N1375,Y1375,Hoja1!F1367:F1483),\"\")","v":""},{"$f":"+IF(N1375=\"\",\"\",IF(O1375=\"\",\"SIN RESPUESTA\",(IF(O1375<=P1375,\"A TIEMPO\",\"FUERA DE TIEMPO\"))))","v":""},null,{"$f":"+IF(C1375=\"\",\"\",IF(J1375=\"\",\"SIN RESPUESTA\",(IF(J1375<=L1375,\"A TIEMPO\",\"FUERA DE TIEMPO\"))))","v":"FUERA DE TIEMPO"},31,16,null,null,{"$f":"IFERROR(VLOOKUP(F1375,Hoja1!$A$50:$C$63,2),\"\")","v":15},{"$f":"IFERROR(VLOOKUP(F1375,Hoja1!$A$50:$C$63,3),\"\")","v":15}]
[1366,20259910026184,"2025-02-20","Persona jurídica","Virtual - Correo electrónico","Petición de congresistas","Bosques",null,"Subdirección de Hidrología","2025-02-26","Correo electrónico","2025-02-27",null,"",null,{"$f":"IFERROR(WORKDAY(N1376,Y1376,Hoja1!F1368:F1484),\"\")","v":""},{"$f":"+IF(N1376=\"\",\"\",IF(O1376=\"\",\"SIN RESPUESTA\",(IF(O1376<=P1376,\"A TIEMPO\",\"FUERA DE TIEMPO\"))))","v":""},null,"A TIEMPO",4,0,null,null,{"$f":"IFERROR(VLOOKUP(F1376,Hoja1!$A$50:$C$63,2),\"\")","v":15},{"$f":"IFERROR(VLOOKUP(F1376,Hoja1!$A$50:$C$63,3),\"\")","v":15}]
[1367,20259910026174,"2025-02-20","Persona jurídica","Virtual - Correo electrónico","Petición entre autoridades","Bosques",null,"Subdirección de Ecosistemas e Información Ambiental","2025-03-05","Correo electrónico","2025-03-06",null,"",null,{"$f":"IFERROR(WORKDAY(N1377,Y1377,Hoja1!F1369:F1485),\"\")","v":""},{"$f":"+IF(N1377=\"\",\"\",IF(O1377=\"\",\"SIN RESPUESTA\",(IF(O1377<=P1377,\"A TIEMPO\",\"FUERA DE TIEMPO\"))))","v":""},null,"A TIEMPO",9,0,null,null,{"$f":"IFERROR(VLOOKUP(F1377,Hoja1!$A$50:$C$63,2),\"\")","v":10},{"$f":"IFERROR(VLOOKUP(F1377,Hoja1!$A$50:$C$63,3),\"\")","v":10}]
[1368,20259050026234,"2025-02-20","Persona natural","Virtual - Formulario PQRSDF","Certificación de contrato","Administrativa",null,"Grupo de Tesorería","2025-02-27","Correo electrónico","2025-03-06",null,"",null,{"$f":"IFERROR(WORKDAY(N1378,Y1378,Hoja1!F1370:F1486),\"\")","v":""},{"$f":"+IF(N1378=\"\",\"\",IF(O1378=\"\",\"SIN RESPUESTA\",(IF(O1378<=P1378,\"A TIEMPO\",\"FUERA DE TIEMPO\"))))","v":""},null,"A TIEMPO",5,0,null,null,{"$f":"IFERROR(VLOOKUP(F1378,Hoja1!$A$50:$C$63,2),\"\")","v":15},{"$f":"IFERROR(VLOOKUP(F1378,Hoja1!$A$50:$C$63,3),\"\")","v":15}]
[1369,20259050026224,"2025-02-20","Persona natural","Virtual - Formulario PQRSDF","Solicitud de documentos o información","Solicitud de información hidrometeorológica",null,"Subdirección de Meteorología","2025-03-03","Correo electrónico","2025-03-06",null,"",null,{"$f":"IFERROR(WORKDAY(N1379,Y1379,Hoja1!F1371:F1487),\"\")","v":""},{"$f":"+IF(N1379=\"\",\"\",IF(O1379=\"\",\"SIN RESPUESTA\",(IF(O1379<=P1379,\"A TIEMPO\",\"FUERA DE TIEMPO\"))))","v":""},null,"A TIEMPO",7,0,null,null,{"$f":"IFERROR(VLOOKUP(F1379,Hoja1!$A$50:$C$63,2),\"\")","v":5},{"$f":"IFERROR(VLOOKUP(F1379,Hoja1!$A$50:$C$63,3),\"\")","v":5}]
[1370,20259910026244,"2025-02-20","Persona jurídica","Virtual - Correo electrónico","Solicitud de documentos o información","Registros ambientales",null,"Subdirección de Estudios Ambientales","2025-02-25","Correo electrónico","2025-03-06",null,"",null,{"$f":"IFERROR(WORKDAY(N1380,Y1380,Hoja1!F1372:F1488),\"\")","v":""},{"$f":"+IF(N1380=\"\",\"\",IF(O1380=\"\",\"SIN RESPUESTA\",(IF(O1380<=P1380,\"A TIEMPO\",\"FUERA DE TIEMPO\"))))","v":""},null,"A TIEMPO",3,0,null,null,{"$f":"IFERROR(VLOOKUP(F1380,Hoja1!$A$50:$C$63,2),\"\")","v":5},{"$f":"IFERROR(VLOOKUP(F1380,Hoja1!$A$50:$C$63,3),\"\")","v":5}]
[1371,20259050026254,"2025-02-20","Persona natural","Virtual - Formulario PQRSDF","Solicitud de documentos o información","Solicitud de información hidrometeorológica",null,"Subdirección de Meteorología","2025-03-10","Correo electrónico","2025-03-06","Si","2025-03-21","2025-03-10",{"$f":"IFERROR(WORKDAY(N1381,Y1381,Hoja1!F1373:F1489),\"\")","v":"2025-03-28"},{"$f":"+IF(N1381=\"\",\"\",IF(O1381=\"\",\"SIN RESPUESTA\",(IF(O1381<=P1381,\"A TIEMPO\",\"FUERA DE TIEMPO\"))))","v":"A TIEMPO"},null,"A TIEMPO",12,0,null,null,{"$f":"IFERROR(VLOOKUP(F1381,Hoja1!$A$50:$C$63,2),\"\")","v":5},{"$f":"IFERROR(VLOOKUP(F1381,Hoja1!$A$50:$C$63,3),\"\")","v":5}]
[1372,20259910026294,"2025-02-20","Persona natural","Virtual - Correo electrónico","Solicitud de documentos o información","Registros ambientales",null,"Subdirección de Estudios Ambientales","2025-03-04","Correo electrónico","2025-03-06",null,"",null,{"$f":"IFERROR(WORKDAY(N1382,Y1382,Hoja1!F1374:F1490),\"\")","v":""},{"$f":"+IF(N1382=\"\",\"\",IF(O1382=\"\",\"SIN RESPUESTA\",(IF(O1382<=P1382,\"A TIEMPO\",\"FUERA DE TIEMPO\"))))","v":""},null,"A TIEMPO",8,0,null,null,{"$f":"IFERROR(VLOOKUP(F1382,Hoja1!$A$50:$C$63,2),\"\")","v":5},{"$f":"IFERROR(VLOOKUP(F1382,Hoja1!$A$50:$C$63,3),\"\")","v":5}]
[1373,20259910026314,"2025-02-20","Persona jurídica","Virtual - Correo electrónico","Certificación de ingresos y retenciones","Administrativa",null,"Grupo de Contabilidad","2025-03-06","Correo electrónico","2025-03-06",null,"",null,{"$f":"IFERROR(WORKDAY(N1383,Y1383,Hoja1!F1375:F1491),\"\")","v":""},{"$f":"+IF(N1383=\"\",\"\",IF(O1383=\"\",\"SIN RESPUESTA\",(IF(O1383<=P1383,\"A TIEMPO\",\"FUERA DE TIEMPO\"))))","v":""},null,"A TIEMPO",10,0,null,null,{"$f":"IFERROR(VLOOKUP(F1383,Hoja1!$A$50:$C$63,2),\"\")","v":15},{"$f":"IFERROR(VLOOKUP(F1383,Hoja1!$A$50:$C$63,3),\"\")","v":15}]
[1374,20259910026324,"2025-02-20","Persona jurídica","Virtual - Correo electrónico","Petición de interés general o particular","Bosques",null,"Subdirección de Ecosistemas e Información Ambiental","2025-03-04","Correo electrónico","2025-03-13",null,"",null,{"$f":"IFERROR(WORKDAY(N1384,Y1384,Hoja1!F1376:F1492),\"\")","v":""},{"$f":"+IF(N1384=\"\",\"\",IF(O1384=\"\",\"SIN RESPUESTA\",(IF(O1384<=P1384,\"A TIEMPO\",\"FUERA DE TIEMPO\"))))","v":""},null,"A TIEMPO",8,0,null,null,{"$f":"IFERROR(VLOOKUP(F1384,Hoja1!$A$50:$C$63,2),\"\")","v":15},{"$f":"IFERROR(VLOOKUP(F1384,Hoja1!$A$50:$C$63,3),\"\")","v":15}]
[1375,20259910026334,"2025-02-20","Persona jurídica","Virtual - Correo electrónico","Solicitud de documentos o información","Administrativa",null,"Grupo de Administración y Desarrollo del Talento Humano","2025-02-21","No aplica","2025-03-06",null,"",null,{"$f":"IFERROR(WORKDAY(N1385,Y1385,Hoja1!F1377:F1493),\"\")","v":""},{"$f":"+IF(N1385=\"\",\"\",IF(O1385=\"\",\"SIN RESPUESTA\",(IF(O1385<=P1385,\"A TIEMPO\",\"FUERA DE TIEMPO\"))))","v":""},null,"A TIEMPO",1,0,null,null,{"$f":"IFERROR(VLOOKUP(F1385,Hoja1!$A$50:$C$63,2),\"\")","v":5},{"$f":"IFERROR(VLOOKUP(F1385,Hoja1!$A$50:$C$63,3),\"\")","v":5}]
[1376,20259050026354,"2025-02-20","Anónimo","Virtual - Formulario PQRSDF","Solicitud de documentos o información","Solicitud de información hidrometeorológica",null,"Subdirección de Meteorología","2025-03-05","Correo electrónico","2025-03-06",null,"",null,{"$f":"IFERROR(WORKDAY(N1386,Y1386,Hoja1!F1378:F1494),\"\")","v":""},{"$f":"+IF(N1386=\"\",\"\",IF(O1386=\"\",\"SIN RESPUESTA\",(IF(O1386<=P1386,\"A TIEMPO\",\"FUERA DE TIEMPO\"))))","v":""},null,"A TIEMPO",9,0,null,null,{"$f":"IFERROR(VLOOKUP(F1386,Hoja1!$A$50:$C$63,2),\"\")","v":5},{"$f":"IFERROR(VLOOKUP(F1386,Hoja1!$A$50:$C$63,3),\"\")","v":5}]
[1377,20259910026344,"2025-02-20","Persona jurídica","Virtual - Correo electrónico","Solicitud de documentos o información","Registros ambientales",null,"Subdirección de Estudios Ambientales","2025-03-04","Correo electrónico","2025-03-06",null,"",null,{"$f":"IFERROR(WORKDAY(N1387,Y1387,Hoja1!F1379:F1495),\"\")","v":""},{"$f":"+IF(N1387=\"\",\"\",IF(O1387=\"\",\"SIN RESPUESTA\",(IF(O1387<=P1387,\"A TIEMPO\",\"FUERA DE TIEMPO\"))))","v":""},null,"A TIEMPO",8,0,null,null,{"$f":"IFERROR(VLOOKUP(F1387,Hoja1!$A$50:$C$63,2),\"\")","v":5},{"$f":"IFERROR(VLOOKUP(F1387,Hoja1!$A$50:$C$63,3),\"\")","v":5}]
[1378,20259910026434,"2025-02-20","Persona jurídica","Virtual - Correo electrónico","Solicitud de documentos o información","Registros ambientales",null,"Subdirección de Estudios Ambientales","2025-03-04","Correo electrónico","2025-03-06",null,"",null,{"$f":"IFERROR(WORKDAY(N1388,Y1388,Hoja1!F1380:F1496),\"\")","v":""},{"$f":"+IF(N1388=\"\",\"\",IF(O1388=\"\",\"SIN RESPUESTA\",(IF(O1388<=P1388,\"A TIEMPO\",\"FUERA DE TIEMPO\"))))","v":""},null,"A TIEMPO",8,0,null,null,{"$f":"IFERROR(VLOOKUP(F1388,Hoja1!$A$50:$C$63,2),\"\")","v":5},{"$f":"IFERROR(VLOOKUP(F1388,Hoja1!$A$50:$C$63,3),\"\")","v":5}]
[1379,20259910026494,"2025-02-20","Persona jurídica","Virtual - Correo electrónico","Solicitud de documentos o información","Registros ambientales",null,"Subdirección de Estudios Ambientales","2025-03-03","Correo electrónico","2025-03-06",null,"",null,{"$f":"IFERROR(WORKDAY(N1389,Y1389,Hoja1!F1381:F1497),\"\")","v":""},{"$f":"+IF(N1389=\"\",\"\",IF(O1389=\"\",\"SIN RESPUESTA\",(IF(O1389<=P1389,\"A TIEMPO\",\"FUERA DE TIEMPO\"))))","v":""},null,"A TIEMPO",7,0,null,null,{"$f":"IFERROR(VLOOKUP(F1389,Hoja1!$A$50:$C$63,2),\"\")","v":5},{"$f":"IFERROR(VLOOKUP(F1389,Hoja1!$A$50:$C$63,3),\"\")","v":5}]
[1380,20259910026444,"2025-02-20","Persona jurídica","Virtual - Correo electrónico","Certificación de contrato","Administrativa",null,"Oficina Asesora Jurídica","2025-04-04","Correo electrónico","2025-03-06",null,"",null,{"$f":"IFERROR(WORKDAY(N1390,Y1390,Hoja1!F1382:F1498),\"\")","v":""},{"$f":"+IF(N1390=\"\",\"\",IF(O1390=\"\",\"SIN RESPUESTA\",(IF(O1390<=P1390,\"A TIEMPO\",\"FUERA DE TIEMPO\"))))","v":""},null,{"$f":"+IF(C1390=\"\",\"\",IF(J1390=\"\",\"SIN RESPUESTA\",(IF(J1390<=L1390,\"A TIEMPO\",\"FUERA DE TIEMPO\"))))","v":"FUERA DE TIEMPO"},29,19,null,null,{"$f":"IFERROR(VLOOKUP(F1390,Hoja1!$A$50:$C$63,2),\"\")","v":15},{"$f":"IFERROR(VLOOKUP(F1390,Hoja1!$A$50:$C$63,3),\"\")","v":15}]
[1381,20259050026464,"2025-02-20","Persona natural","Virtual - Formulario PQRSDF","Certificación de ingresos y retenciones","Administrativa",null,"Grupo de Tesorería","2025-02-20","Correo electrónico","2025-03-06",null,"",null,{"$f":"IFERROR(WORKDAY(N1391,Y1391,Hoja1!F1383:F1499),\"\")","v":""},{"$f":"+IF(N1391=\"\",\"\",IF(O1391=\"\",\"SIN RESPUESTA\",(IF(O1391<=P1391,\"A TIEMPO\",\"FUERA DE TIEMPO\"))))","v":""},null,"A TIEMPO",0,0,null,null,{"$f":"IFERROR(VLOOKUP(F1391,Hoja1!$A$50:$C$63,2),\"\")","v":15},{"$f":"IFERROR(VLOOKUP(F1391,Hoja1!$A$50:$C$63,3),\"\")","v":15}]
[1382,20259910026474,"2025-02-20","Persona jurídica","Virtual - Correo electrónico","Petición entre autoridades","Bosques",null,"Subdirección de Hidrología","2025-03-17","Correo electrónico","2025-03-06",null,"",null,{"$f":"IFERROR(WORKDAY(N1392,Y1392,Hoja1!F1384:F1500),\"\")","v":""},{"$f":"+IF(N1392=\"\",\"\",IF(O1392=\"\",\"SIN RESPUESTA\",(IF(O1392<=P1392,\"A TIEMPO\",\"FUERA DE TIEMPO\"))))","v":""},null,{"$f":"+IF(C1392=\"\",\"\",IF(J1392=\"\",\"SIN RESPUESTA\",(IF(J1392<=L1392,\"A TIEMPO\",\"FUERA DE TIEMPO\"))))","v":"FUERA DE TIEMPO"},17,7,null,null,{"$f":"IFERROR(VLOOKUP(F1392,Hoja1!$A$50:$C$63,2),\"\")","v":10},{"$f":"IFERROR(VLOOKUP(F1392,Hoja1!$A$50:$C$63,3),\"\")","v":10}]
[1383,20259910026374,"2025-02-20","Persona jurídica","Virtual - Correo electrónico","Petición entre autoridades","Certificaciones del tiempo y clima",null,"Subdirección de Meteorología","2025-03-04","Correo electrónico","2025-03-06",null,"",null,{"$f":"IFERROR(WORKDAY(N1393,Y1393,Hoja1!F1385:F1501),\"\")","v":""},{"$f":"+IF(N1393=\"\",\"\",IF(O1393=\"\",\"SIN RESPUESTA\",(IF(O1393<=P1393,\"A TIEMPO\",\"FUERA DE TIEMPO\"))))","v":""},null,"A TIEMPO",8,0,null,null,{"$f":"IFERROR(VLOOKUP(F1393,Hoja1!$A$50:$C$63,2),\"\")","v":10},{"$f":"IFERROR(VLOOKUP(F1393,Hoja1!$A$50:$C$63,3),\"\")","v":10}]
[1384,20259910026514,"2025-02-20","Persona jurídica","Virtual - Correo electrónico","Solicitud de documentos o información","Registros ambientales",null,"Subdirección de Estudios Ambientales","2025-03-03","Correo electrónico","2025-03-06",null,"",null,{"$f":"IFERROR(WORKDAY(N1394,Y1394,Hoja1!F1386:F1502),\"\")","v":""},{"$f":"+IF(N1394=\"\",\"\",IF(O1394=\"\",\"SIN RESPUESTA\",(IF(O1394<=P1394,\"A TIEMPO\",\"FUERA DE TIEMPO\"))))","v":""},null,"A TIEMPO",7,0,null,null,{"$f":"IFERROR(VLOOKUP(F1394,Hoja1!$A$50:$C$63,2),\"\")","v":5},{"$f":"IFERROR(VLOOKUP(F1394,Hoja1!$A$50:$C$63,3),\"\")","v":5}]
[1385,20259910026524,"2025-02-20","Persona natural","Virtual - Correo electrónico","Solicitud de documentos o información","Modelación hidrológica",null,"Subdirección de Hidrología","2025-03-04","Correo electrónico","2025-03-06",null,"",null,{"$f":"IFERROR(WORKDAY(N1395,Y1395,Hoja1!F1387:F1503),\"\")","v":""},{"$f":"+IF(N1395=\"\",\"\",IF(O1395=\"\",\"SIN RESPUESTA\",(IF(O1395<=P1395,\"A TIEMPO\",\"FUERA DE TIEMPO\"))))","v":""},null,"A TIEMPO",8,0,null,null,{"$f":"IFERROR(VLOOKUP(F1395,Hoja1!$A$50:$C$63,2),\"\")","v":5},{"$f":"IFERROR(VLOOKUP(F1395,Hoja1!$A$50:$C$63,3),\"\")","v":5}]
[1386,20259910026534,"2025-02-20","Persona jurídica","Virtual - Correo electrónico","Solicitud de documentos o información","Registros ambientales",null,"Subdirección de Estudios Ambientales","2025-03-11","Correo electrónico","2025-03-06",null,"",null,{"$f":"IFERROR(WORKDAY(N1396,Y1396,Hoja1!F1388:F1504),\"\")","v":""},{"$f":"+IF(N1396=\"\",\"\",IF(O1396=\"\",\"SIN RESPUESTA\",(IF(O1396<=P1396,\"A TIEMPO\",\"FUERA DE TIEMPO\"))))","v":""},null,{"$f":"+IF(C1396=\"\",\"\",IF(J1396=\"\",\"SIN RESPUESTA\",(IF(J1396<=L1396,\"A TIEMPO\",\"FUERA DE TIEMPO\"))))","v":"FUERA DE TIEMPO"},13,3,null,null,{"$f":"IFERROR(VLOOKUP(F1396,Hoja1!$A$50:$C$63,2),\"\")","v":5},{"$f":"IFERROR(VLOOKUP(F1396,Hoja1!$A$50:$C$63,3),\"\")","v":5}]
[1387,20259910026544,"2025-02-20","Persona natural","Virtual - Correo electrónico","Certificación laboral o pasantía","Administrativa",null,"Grupo de Administración y Desarrollo del Talento Humano","2025-02-26","Correo electrónico","2025-03-06",null,"",null,{"$f":"IFERROR(WORKDAY(N1397,Y1397,Hoja1!F1389:F1505),\"\")","v":""},{"$f":"+IF(N1397=\"\",\"\",IF(O1397=\"\",\"SIN RESPUESTA\",(IF(O1397<=P1397,\"A TIEMPO\",\"FUERA DE TIEMPO\"))))","v":""},null,"A TIEMPO",4,0,null,null,{"$f":"IFERROR(VLOOKUP(F1397,Hoja1!$A$50:$C$63,2),\"\")","v":15},{"$f":"IFERROR(VLOOKUP(F1397,Hoja1!$A$50:$C$63,3),\"\")","v":15}]
[1388,20259910026554,"2025-02-20","Persona jurídica","Virtual - Correo electrónico","Consulta (Información técnica)","Informes ambientales",null,"Subdirección de Estudios Ambientales","2025-04-08","Correo electrónico","2025-04-07",null,"",null,{"$f":"IFERROR(WORKDAY(N1398,Y1398,Hoja1!F1390:F1506),\"\")","v":""},{"$f":"+IF(N1398=\"\",\"\",IF(O1398=\"\",\"SIN RESPUESTA\",(IF(O1398<=P1398,\"A TIEMPO\",\"FUERA DE TIEMPO\"))))","v":""},null,{"$f":"+IF(C1398=\"\",\"\",IF(J1398=\"\",\"SIN RESPUESTA\",(IF(J1398<=L1398,\"A TIEMPO\",\"FUERA DE TIEMPO\"))))","v":"FUERA DE TIEMPO"},31,1,null,null,{"$f":"IFERROR(VLOOKUP(F1398,Hoja1!$A$50:$C$63,2),\"\")","v":30},{"$f":"IFERROR(VLOOKUP(F1398,Hoja1!$A$50:$C$63,3),\"\")","v":30}]
[1389,20259050026594,"2025-02-20","Persona natural","Virtual - Formulario PQRSDF","Certificación de contrato","Administrativa",null,"Oficina Asesora Jurídica","2025-03-03","Correo electrónico","2025-03-06",null,"",null,{"$f":"IFERROR(WORKDAY(N1399,Y1399,Hoja1!F1391:F1507),\"\")","v":""},{"$f":"+IF(N1399=\"\",\"\",IF(O1399=\"\",\"SIN RESPUESTA\",(IF(O1399<=P1399,\"A TIEMPO\",\"FUERA DE TIEMPO\"))))","v":""},null,"A TIEMPO",7,0,null,null,{"$f":"IFERROR(VLOOKUP(F1399,Hoja1!$A$50:$C$63,2),\"\")","v":15},{"$f":"IFERROR(VLOOKUP(F1399,Hoja1!$A$50:$C$63,3),\"\")","v":15}]
[1390,20259050026604,"2025-02-20","Persona natural","Virtual - Formulario PQRSDF","Certificación de ingresos y retenciones","Administrativa",null,"Grupo de Tesorería","2025-02-21","Correo electrónico","2025-03-06",null,"",null,{"$f":"IFERROR(WORKDAY(N1400,Y1400,Hoja1!F1392:F1508),\"\")","v":""},{"$f":"+IF(N1400=\"\",\"\",IF(O1400=\"\",\"SIN RESPUESTA\",(IF(O1400<=P1400,\"A TIEMPO\",\"FUERA DE TIEMPO\"))))","v":""},null,"A TIEMPO",1,0,null,null,{"$f":"IFERROR(VLOOKUP(F1400,Hoja1!$A$50:$C$63,2),\"\")","v":15},{"$f":"IFERROR(VLOOKUP(F1400,Hoja1!$A$50:$C$63,3),\"\")","v":15}]
[1391,20259910026654,"2025-02-20","Persona jurídica","Virtual - Correo electrónico","Solicitud de documentos o información","Informes ambientales",null,"Subdirección de Estudios Ambientales","2025-03-11","Correo electrónico","2025-03-06",null,"",null,{"$f":"IFERROR(WORKDAY(N1401,Y1401,Hoja1!F1393:F1509),\"\")","v":""},{"$f":"+IF(N1401=\"\",\"\",IF(O1401=\"\",\"SIN RESPUESTA\",(IF(O1401<=P1401,\"A TIEMPO\",\"FUERA DE TIEMPO\"))))","v":""},null,{"$f":"+IF(C1401=\"\",\"\",IF(J1401=\"\",\"SIN RESPUESTA\",(IF(J1401<=L1401,\"A TIEMPO\",\"FUERA DE TIEMPO\"))))","v":"FUERA DE TIEMPO"},13,3,null,null,{"$f":"IFERROR(VLOOKUP(F1401,Hoja1!$A$50:$C$63,2),\"\")","v":5},{"$f":"IFERROR(VLOOKUP(F1401,Hoja1!$A$50:$C$63,3),\"\")","v":5}]
[1392,20259050026644,"2025-02-20","Persona jurídica","Virtual - Formulario PQRSDF","Solicitud de documentos o información","Administrativa",null,"Oficina Asesora Jurídica","2025-03-13","Correo electrónico","2025-03-06",null,"",null,{"$f":"IFERROR(WORKDAY(N1402,Y1402,Hoja1!F1394:F1510),\"\")","v":""},{"$f":"+IF(N1402=\"\",\"\",IF(O1402=\"\",\"SIN RESPUESTA\",(IF(O1402<=P1402,\"A TIEMPO\",\"FUERA DE TIEMPO\"))))","v":""},null,{"$f":"+IF(C1402=\"\",\"\",IF(J1402=\"\",\"SIN RESPUESTA\",(IF(J1402<=L1402,\"A TIEMPO\",\"FUERA DE TIEMPO\"))))","v":"FUERA DE TIEMPO"},15,5,null,null,{"$f":"IFERROR(VLOOKUP(F1402,Hoja1!$A$50:$C$63,2),\"\")","v":5},{"$f":"IFERROR(VLOOKUP(F1402,Hoja1!$A$50:$C$63,3),\"\")","v":5}]
[1393,20259910026664,"2025-02-20","Persona jurídica","Virtual - Correo electrónico","Solicitud de documentos o información","Solicitud de información hidrometeorológica",null,"Subdirección de Hidrología","2025-02-28","Correo electrónico","2025-03-06",null,"",null,{"$f":"IFERROR(WORKDAY(N1403,Y1403,Hoja1!F1395:F1511),\"\")","v":""},{"$f":"+IF(N1403=\"\",\"\",IF(O1403=\"\",\"SIN RESPUESTA\",(IF(O1403<=P1403,\"A TIEMPO\",\"FUERA DE TIEMPO\"))))","v":""},null,"A TIEMPO",6,0,null,null,{"$f":"IFERROR(VLOOKUP(F1403,Hoja1!$A$50:$C$63,2),\"\")","v":5},{"$f":"IFERROR(VLOOKUP(F1403,Hoja1!$A$50:$C$63,3),\"\")","v":5}]
[1394,20259910026704,"2025-02-20","Persona jurídica","Virtual - Correo electrónico","Certificación de contrato","Administrativa",null,"Oficina Asesora Jurídica","2025-04-04","Correo electrónico","2025-03-06",null,"",null,{"$f":"IFERROR(WORKDAY(N1404,Y1404,Hoja1!F1396:F1512),\"\")","v":""},{"$f":"+IF(N1404=\"\",\"\",IF(O1404=\"\",\"SIN RESPUESTA\",(IF(O1404<=P1404,\"A TIEMPO\",\"FUERA DE TIEMPO\"))))","v":""},null,{"$f":"+IF(C1404=\"\",\"\",IF(J1404=\"\",\"SIN RESPUESTA\",(IF(J1404<=L1404,\"A TIEMPO\",\"FUERA DE TIEMPO\"))))","v":"FUERA DE TIEMPO"},29,19,null,null,{"$f":"IFERROR(VLOOKUP(F1404,Hoja1!$A$50:$C$63,2),\"\")","v":15},{"$f":"IFERROR(VLOOKUP(F1404,Hoja1!$A$50:$C$63,3),\"\")","v":15}]
[1395,20259910026684,"2025-02-20","Persona jurídica","Virtual - Correo electrónico","Petición entre autoridades","Bosques",null,"Subdirección de Ecosistemas e Información Ambiental","2025-03-25","Correo electrónico","2025-03-06",null,"",null,{"$f":"IFERROR(WORKDAY(N1405,Y1405,Hoja1!F1397:F1513),\"\")","v":""},{"$f":"+IF(N1405=\"\",\"\",IF(O1405=\"\",\"SIN RESPUESTA\",(IF(O1405<=P1405,\"A TIEMPO\",\"FUERA DE TIEMPO\"))))","v":""},null,{"$f":"+IF(C1405=\"\",\"\",IF(J1405=\"\",\"SIN RESPUESTA\",(IF(J1405<=L1405,\"A TIEMPO\",\"FUERA DE TIEMPO\"))))","v":"FUERA DE TIEMPO"},21,11,null,null,{"$f":"IFERROR(VLOOKUP(F1405,Hoja1!$A$50:$C$63,2),\"\")","v":10},{"$f":"IFERROR(VLOOKUP(F1405,Hoja1!$A$50:$C$63,3),\"\")","v":10}]
[1396,20259050026744,"2025-02-20","Persona jurídica","Virtual - Formulario PQRSDF","Solicitud de documentos o información","Registros ambientales",null,"Subdirección de Estudios Ambientales","2025-03-03","Correo electrónico","2025-03-06",null,"",null,{"$f":"IFERROR(WORKDAY(N1406,Y1406,Hoja1!F1398:F1514),\"\")","v":""},{"$f":"+IF(N1406=\"\",\"\",IF(O1406=\"\",\"SIN RESPUESTA\",(IF(O1406<=P1406,\"A TIEMPO\",\"FUERA DE TIEMPO\"))))","v":""},null,"A TIEMPO",7,0,null,null,{"$f":"IFERROR(VLOOKUP(F1406,Hoja1!$A$50:$C$63,2),\"\")","v":5},{"$f":"IFERROR(VLOOKUP(F1406,Hoja1!$A$50:$C$63,3),\"\")","v":5}]
[1397,20259910026764,"2025-02-20","Persona jurídica","Virtual - Correo electrónico","Certificación de ingresos y retenciones","Administrativa",null,"Grupo de Tesorería","2025-02-21","Correo electrónico","2025-03-06",null,"",null,{"$f":"IFERROR(WORKDAY(N1407,Y1407,Hoja1!F1399:F1515),\"\")","v":""},{"$f":"+IF(N1407=\"\",\"\",IF(O1407=\"\",\"SIN RESPUESTA\",(IF(O1407<=P1407,\"A TIEMPO\",\"FUERA DE TIEMPO\"))))","v":""},null,"A TIEMPO",1,0,null,null,{"$f":"IFERROR(VLOOKUP(F1407,Hoja1!$A$50:$C$63,2),\"\")","v":15},{"$f":"IFERROR(VLOOKUP(F1407,Hoja1!$A$50:$C$63,3),\"\")","v":15}]
[1398,20259050026774,"2025-02-20","Persona natural","Virtual - Formulario PQRSDF","Solicitud de documentos o información","Sistema de información ambiental",null,"Subdirección de Estudios Ambientales","2025-03-04","Correo electrónico","2025-03-06",null,"",null,{"$f":"IFERROR(WORKDAY(N1408,Y1408,Hoja1!F1400:F1516),\"\")","v":""},{"$f":"+IF(N1408=\"\",\"\",IF(O1408=\"\",\"SIN RESPUESTA\",(IF(O1408<=P1408,\"A TIEMPO\",\"FUERA DE TIEMPO\"))))","v":""},null,"A TIEMPO",8,0,null,null,{"$f":"IFERROR(VLOOKUP(F1408,Hoja1!$A$50:$C$63,2),\"\")","v":5},{"$f":"IFERROR(VLOOKUP(F1408,Hoja1!$A$50:$C$63,3),\"\")","v":5}]
[1399,20259910026834,"2025-02-20","Persona jurídica","Virtual - Correo electrónico","Solicitud judicial","Jurídico",null,"Oficina Asesora Jurídica","2025-02-21","Correo electrónico","2025-02-27",null,"",null,{"$f":"IFERROR(WORKDAY(N1409,Y1409,Hoja1!F1401:F1517),\"\")","v":""},{"$f":"+IF(N1409=\"\",\"\",IF(O1409=\"\",\"SIN RESPUESTA\",(IF(O1409<=P1409,\"A TIEMPO\",\"FUERA DE TIEMPO\"))))","v":""},null,"A TIEMPO",1,0,null,null,{"$f":"IFERROR(VLOOKUP(F1409,Hoja1!$A$50:$C$63,2),\"\")","v":5},{"$f":"IFERROR(VLOOKUP(F1409,Hoja1!$A$50:$C$63,3),\"\")","v":5}]
[1400,20259910026844,"2025-02-20","Persona jurídica","Virtual - Correo electrónico","Solicitud de documentos o información","Sistema de información ambiental",null,"Subdirección de Estudios Ambientales","2025-03-17","Correo electrónico","2025-03-06",null,"",null,{"$f":"IFERROR(WORKDAY(N1410,Y1410,Hoja1!F1402:F1518),\"\")","v":""},{"$f":"+IF(N1410=\"\",\"\",IF(O1410=\"\",\"SIN RESPUESTA\",(IF(O1410<=P1410,\"A TIEMPO\",\"FUERA DE TIEMPO\"))))","v":""},null,{"$f":"+IF(C1410=\"\",\"\",IF(J1410=\"\",\"SIN RESPUESTA\",(IF(J1410<=L1410,\"A TIEMPO\",\"FUERA DE TIEMPO\"))))","v":"FUERA DE TIEMPO"},17,7,null,null,{"$f":"IFERROR(VLOOKUP(F1410,Hoja1!$A$50:$C$63,2),\"\")","v":5},{"$f":"IFERROR(VLOOKUP(F1410,Hoja1!$A$50:$C$63,3),\"\")","v":5}]
[1401,20259910026914,"2025-02-20","Persona jurídica","Virtual - Correo electrónico","Petición de congresistas","Sistema de información del recurso hídrico",null,"Subdirección de Hidrología","2025-02-27","Correo electrónico","2025-02-27",null,"",null,{"$f":"IFERROR(WORKDAY(N1411,Y1411,Hoja1!F1403:F1519),\"\")","v":""},{"$f":"+IF(N1411=\"\",\"\",IF(O1411=\"\",\"SIN RESPUESTA\",(IF(O1411<=P1411,\"A TIEMPO\",\"FUERA DE TIEMPO\"))))","v":""},null,"A TIEMPO",5,0,null,null,{"$f":"IFERROR(VLOOKUP(F1411,Hoja1!$A$50:$C$63,2),\"\")","v":15},{"$f":"IFERROR(VLOOKUP(F1411,Hoja1!$A$50:$C$63,3),\"\")","v":15}]
[1402,20259910026924,"2025-02-21","Persona jurídica","Virtual - Correo electrónico","Solicitud de documentos o información","Administrativa",null,"Dirección General","2025-03-11","Correo electrónico","2025-03-07",null,"",null,{"$f":"IFERROR(WORKDAY(N1412,Y1412,Hoja1!F1404:F1520),\"\")","v":""},{"$f":"+IF(N1412=\"\",\"\",IF(O1412=\"\",\"SIN RESPUESTA\",(IF(O1412<=P1412,\"A TIEMPO\",\"FUERA DE TIEMPO\"))))","v":""},null,{"$f":"+IF(C1412=\"\",\"\",IF(J1412=\"\",\"SIN RESPUESTA\",(IF(J1412<=L1412,\"A TIEMPO\",\"FUERA DE TIEMPO\"))))","v":"FUERA DE TIEMPO"},12,2,null,null,{"$f":"IFERROR(VLOOKUP(F1412,Hoja1!$A$50:$C$63,2),\"\")","v":5},{"$f":"IFERROR(VLOOKUP(F1412,Hoja1!$A$50:$C$63,3),\"\")","v":5}]
[1403,20259910026954,"2025-02-21","Persona jurídica","Virtual - Correo electrónico","Solicitud de documentos o información","Registros ambientales",null,"Subdirección de Estudios Ambientales","2025-02-25","Correo electrónico","2025-03-07",null,"",null,{"$f":"IFERROR(WORKDAY(N1413,Y1413,Hoja1!F1405:F1521),\"\")","v":""},{"$f":"+IF(N1413=\"\",\"\",IF(O1413=\"\",\"SIN RESPUESTA\",(IF(O1413<=P1413,\"A TIEMPO\",\"FUERA DE TIEMPO\"))))","v":""},null,"A TIEMPO",2,0,null,null,{"$f":"IFERROR(VLOOKUP(F1413,Hoja1!$A$50:$C$63,2),\"\")","v":5},{"$f":"IFERROR(VLOOKUP(F1413,Hoja1!$A$50:$C$63,3),\"\")","v":5}]
[1404,20259050026974,"2025-02-21","Persona natural","Virtual - Formulario PQRSDF","Solicitud de documentos o información","Bosques",null,"Subdirección de Ecosistemas e Información Ambiental","2025-03-04","Correo electrónico","2025-03-07",null,"",null,{"$f":"IFERROR(WORKDAY(N1414,Y1414,Hoja1!F1406:F1522),\"\")","v":""},{"$f":"+IF(N1414=\"\",\"\",IF(O1414=\"\",\"SIN RESPUESTA\",(IF(O1414<=P1414,\"A TIEMPO\",\"FUERA DE TIEMPO\"))))","v":""},null,"A TIEMPO",7,0,null,null,{"$f":"IFERROR(VLOOKUP(F1414,Hoja1!$A$50:$C$63,2),\"\")","v":5},{"$f":"IFERROR(VLOOKUP(F1414,Hoja1!$A$50:$C$63,3),\"\")","v":5}]
[1405,20259910027024,"2025-02-21","Persona natural","Virtual - Correo electrónico","Solicitud de documentos o información","Bosques",null,"Subdirección de Ecosistemas e Información Ambiental","2025-03-04","Correo electrónico","2025-03-07",null,"",null,{"$f":"IFERROR(WORKDAY(N1415,Y1415,Hoja1!F1407:F1523),\"\")","v":""},{"$f":"+IF(N1415=\"\",\"\",IF(O1415=\"\",\"SIN RESPUESTA\",(IF(O1415<=P1415,\"A TIEMPO\",\"FUERA DE TIEMPO\"))))","v":""},null,"A TIEMPO",7,0,null,null,{"$f":"IFERROR(VLOOKUP(F1415,Hoja1!$A$50:$C$63,2),\"\")","v":5},{"$f":"IFERROR(VLOOKUP(F1415,Hoja1!$A$50:$C$63,3),\"\")","v":5}]
[1406,20259910027104,"2025-02-21","Persona jurídica","Virtual - Correo electrónico","Solicitud judicial","Certificaciones del tiempo y clima",null,"Subdirección de Meteorología","2025-02-26","Correo certificado","2025-02-28",null,"",null,{"$f":"IFERROR(WORKDAY(N1416,Y1416,Hoja1!F1408:F1524),\"\")","v":""},{"$f":"+IF(N1416=\"\",\"\",IF(O1416=\"\",\"SIN RESPUESTA\",(IF(O1416<=P1416,\"A TIEMPO\",\"FUERA DE TIEMPO\"))))","v":""},null,"A TIEMPO",3,0,null,null,{"$f":"IFERROR(VLOOKUP(F1416,Hoja1!$A$50:$C$63,2),\"\")","v":5},{"$f":"IFERROR(VLOOKUP(F1416,Hoja1!$A$50:$C$63,3),\"\")","v":5}]
[1407,20259910027144,"2025-02-21","Persona natural","Virtual - Correo electrónico","Solicitud de documentos o información","Solicitud de información hidrometeorológica",null,"Subdirección de Meteorología","2025-03-05","Correo electrónico","2025-03-07",null,"",null,{"$f":"IFERROR(WORKDAY(N1417,Y1417,Hoja1!F1409:F1525),\"\")","v":""},{"$f":"+IF(N1417=\"\",\"\",IF(O1417=\"\",\"SIN RESPUESTA\",(IF(O1417<=P1417,\"A TIEMPO\",\"FUERA DE TIEMPO\"))))","v":""},null,"A TIEMPO",8,0,null,null,{"$f":"IFERROR(VLOOKUP(F1417,Hoja1!$A$50:$C$63,2),\"\")","v":5},{"$f":"IFERROR(VLOOKUP(F1417,Hoja1!$A$50:$C$63,3),\"\")","v":5}]
[1408,20259050027164,"2025-02-21","Persona natural","Virtual - Formulario PQRSDF","Solicitud de documentos o información","Solicitud de información hidrometeorológica",null,"Grupo de Servicio al Ciudadano","2025-03-06","Correo electrónico","2025-03-07",null,"",null,{"$f":"IFERROR(WORKDAY(N1418,Y1418,Hoja1!F1410:F1526),\"\")","v":""},{"$f":"+IF(N1418=\"\",\"\",IF(O1418=\"\",\"SIN RESPUESTA\",(IF(O1418<=P1418,\"A TIEMPO\",\"FUERA DE TIEMPO\"))))","v":""},null,"A TIEMPO",9,0,null,null,{"$f":"IFERROR(VLOOKUP(F1418,Hoja1!$A$50:$C$63,2),\"\")","v":5},{"$f":"IFERROR(VLOOKUP(F1418,Hoja1!$A$50:$C$63,3),\"\")","v":5}]
[1409,20259910027214,"2025-02-21","Persona jurídica","Virtual - Correo electrónico","Certificación de contrato","Administrativa",null,"Oficina Asesora Jurídica","2025-04-04","Correo electrónico","2025-03-07",null,"",null,{"$f":"IFERROR(WORKDAY(N1419,Y1419,Hoja1!F1411:F1527),\"\")","v":""},{"$f":"+IF(N1419=\"\",\"\",IF(O1419=\"\",\"SIN RESPUESTA\",(IF(O1419<=P1419,\"A TIEMPO\",\"FUERA DE TIEMPO\"))))","v":""},null,{"$f":"+IF(C1419=\"\",\"\",IF(J1419=\"\",\"SIN RESPUESTA\",(IF(J1419<=L1419,\"A TIEMPO\",\"FUERA DE TIEMPO\"))))","v":"FUERA DE TIEMPO"},28,18,null,null,{"$f":"IFERROR(VLOOKUP(F1419,Hoja1!$A$50:$C$63,2),\"\")","v":15},{"$f":"IFERROR(VLOOKUP(F1419,Hoja1!$A$50:$C$63,3),\"\")","v":15}]
[1410,20259910027224,"2025-02-21","Persona natural","Virtual - Correo electrónico","Petición de interés general o particular","Administrativa",null,"Grupo de Administración y Desarrollo del Talento Humano","2025-03-11","Correo electrónico","2025-03-14",null,"",null,{"$f":"IFERROR(WORKDAY(N1420,Y1420,Hoja1!F1412:F1528),\"\")","v":""},{"$f":"+IF(N1420=\"\",\"\",IF(O1420=\"\",\"SIN RESPUESTA\",(IF(O1420<=P1420,\"A TIEMPO\",\"FUERA DE TIEMPO\"))))","v":""},null,"A TIEMPO",12,0,null,null,{"$f":"IFERROR(VLOOKUP(F1420,Hoja1!$A$50:$C$63,2),\"\")","v":15},{"$f":"IFERROR(VLOOKUP(F1420,Hoja1!$A$50:$C$63,3),\"\")","v":15}]
[1411,20259910027234,"2025-02-21","Persona jurídica","Virtual - Correo electrónico","Petición entre autoridades","Registros ambientales",null,"Subdirección de Estudios Ambientales","2025-03-06","Correo electrónico","2025-03-07",null,"",null,{"$f":"IFERROR(WORKDAY(N1421,Y1421,Hoja1!F1413:F1529),\"\")","v":""},{"$f":"+IF(N1421=\"\",\"\",IF(O1421=\"\",\"SIN RESPUESTA\",(IF(O1421<=P1421,\"A TIEMPO\",\"FUERA DE TIEMPO\"))))","v":""},null,"A TIEMPO",9,0,null,null,{"$f":"IFERROR(VLOOKUP(F1421,Hoja1!$A$50:$C$63,2),\"\")","v":10},{"$f":"IFERROR(VLOOKUP(F1421,Hoja1!$A$50:$C$63,3),\"\")","v":10}]
[1412,20259910027244,"2025-02-21","Persona natural","Virtual - Correo electrónico","Solicitud de documentos o información","Sistema de información ambiental",null,"Subdirección de Estudios Ambientales","2025-03-10","Correo electrónico","2025-03-07",null,"",null,{"$f":"IFERROR(WORKDAY(N1422,Y1422,Hoja1!F1414:F1530),\"\")","v":""},{"$f":"+IF(N1422=\"\",\"\",IF(O1422=\"\",\"SIN RESPUESTA\",(IF(O1422<=P1422,\"A TIEMPO\",\"FUERA DE TIEMPO\"))))","v":""},null,{"$f":"+IF(C1422=\"\",\"\",IF(J1422=\"\",\"SIN RESPUESTA\",(IF(J1422<=L1422,\"A TIEMPO\",\"FUERA DE TIEMPO\"))))","v":"FUERA DE TIEMPO"},11,1,null,null,{"$f":"IFERROR(VLOOKUP(F1422,Hoja1!$A$50:$C$63,2),\"\")","v":5},{"$f":"IFERROR(VLOOKUP(F1422,Hoja1!$A$50:$C$63,3),\"\")","v":5}]
[1413,20259910027264,"2025-02-21","Persona jurídica","Virtual - Correo electrónico","Solicitud de documentos o información","Registros ambientales",null,"Subdirección de Estudios Ambientales","2025-03-06","Correo electrónico","2025-03-07",null,"",null,{"$f":"IFERROR(WORKDAY(N1423,Y1423,Hoja1!F1415:F1531),\"\")","v":""},{"$f":"+IF(N1423=\"\",\"\",IF(O1423=\"\",\"SIN RESPUESTA\",(IF(O1423<=P1423,\"A TIEMPO\",\"FUERA DE TIEMPO\"))))","v":""},null,"A TIEMPO",9,0,null,null,{"$f":"IFERROR(VLOOKUP(F1423,Hoja1!$A$50:$C$63,2),\"\")","v":5},{"$f":"IFERROR(VLOOKUP(F1423,Hoja1!$A$50:$C$63,3),\"\")","v":5}]
[1414,20259910027294,"2025-02-21","Persona jurídica","Virtual - Correo electrónico","Solicitud de documentos o información","Registros ambientales",null,"Subdirección de Estudios Ambientales","2025-03-03","Correo electrónico","2025-03-07",null,"",null,{"$f":"IFERROR(WORKDAY(N1424,Y1424,Hoja1!F1416:F1532),\"\")","v":""},{"$f":"+IF(N1424=\"\",\"\",IF(O1424=\"\",\"SIN RESPUESTA\",(IF(O1424<=P1424,\"A TIEMPO\",\"FUERA DE TIEMPO\"))))","v":""},null,"A TIEMPO",6,0,null,null,{"$f":"IFERROR(VLOOKUP(F1424,Hoja1!$A$50:$C$63,2),\"\")","v":5},{"$f":"IFERROR(VLOOKUP(F1424,Hoja1!$A$50:$C$63,3),\"\")","v":5}]
[{"$f":"IF(B1425<>\"\",A1424+1,\"\")","v":1415},20259910027284,"2025-02-21","Persona jurídica","Virtual - Correo electrónico","Solicitud de documentos o información","Sistema de información del recurso hídrico",null,"Subdirección de Hidrología","2025-03-06","Correo electrónico","2025-03-07",null,"",null,{"$f":"IFERROR(WORKDAY(N1425,Y1425,Hoja1!F1417:F1533),\"\")","v":""},{"$f":"+IF(N1425=\"\",\"\",IF(O1425=\"\",\"SIN RESPUESTA\",(IF(O1425<=P1425,\"A TIEMPO\",\"FUERA DE TIEMPO\"))))","v":""},null,"A TIEMPO",9,0,null,null,{"$f":"IFERROR(VLOOKUP(F1425,Hoja1!$A$50:$C$63,2),\"\")","v":5},{"$f":"IFERROR(VLOOKUP(F1425,Hoja1!$A$50:$C$63,3),\"\")","v":5}]
[1416,20259910027324,"2025-02-21","Persona natural","Virtual - Correo electrónico","Certificación laboral o pasantía","Administrativa",null,"Grupo de Administración y Desarrollo del Talento Humano","2025-03-03","Correo electrónico","2025-03-07",null,"",null,{"$f":"IFERROR(WORKDAY(N1426,Y1426,Hoja1!F1418:F1534),\"\")","v":""},{"$f":"+IF(N1426=\"\",\"\",IF(O1426=\"\",\"SIN RESPUESTA\",(IF(O1426<=P1426,\"A TIEMPO\",\"FUERA DE TIEMPO\"))))","v":""},null,"A TIEMPO",6,0,null,null,{"$f":"IFERROR(VLOOKUP(F1426,Hoja1!$A$50:$C$63,2),\"\")","v":15},{"$f":"IFERROR(VLOOKUP(F1426,Hoja1!$A$50:$C$63,3),\"\")","v":15}]
[1417,20259910027354,"2025-02-21","Persona jurídica","Virtual - Correo electrónico","Solicitud de documentos o información","Registros ambientales",null,"Subdirección de Estudios Ambientales","2025-02-24","Correo electrónico","2025-03-07",null,"",null,{"$f":"IFERROR(WORKDAY(N1427,Y1427,Hoja1!F1419:F1535),\"\")","v":""},{"$f":"+IF(N1427=\"\",\"\",IF(O1427=\"\",\"SIN RESPUESTA\",(IF(O1427<=P1427,\"A TIEMPO\",\"FUERA DE TIEMPO\"))))","v":""},null,"A TIEMPO",1,0,null,null,{"$f":"IFERROR(VLOOKUP(F1427,Hoja1!$A$50:$C$63,2),\"\")","v":5},{"$f":"IFERROR(VLOOKUP(F1427,Hoja1!$A$50:$C$63,3),\"\")","v":5}]
[1418,20259910027334,"2025-02-21","Persona jurídica","Virtual - Correo electrónico","Solicitud de documentos o información","Registros ambientales",null,"Subdirección de Estudios Ambientales","2025-03-03","Correo electrónico","2025-03-07",null,"",null,{"$f":"IFERROR(WORKDAY(N1428,Y1428,Hoja1!F1420:F1536),\"\")","v":""},{"$f":"+IF(N1428=\"\",\"\",IF(O1428=\"\",\"SIN RESPUESTA\",(IF(O1428<=P1428,\"A TIEMPO\",\"FUERA DE TIEMPO\"))))","v":""},null,"A TIEMPO",6,0,null,null,{"$f":"IFERROR(VLOOKUP(F1428,Hoja1!$A$50:$C$63,2),\"\")","v":5},{"$f":"IFERROR(VLOOKUP(F1428,Hoja1!$A$50:$C$63,3),\"\")","v":5}]
[1419,20259910027424,"2025-02-21","Persona jurídica","Virtual - Correo electrónico","Solicitud de documentos o información","Registros ambientales",null,"Subdirección de Estudios Ambientales","2025-03-03","Correo electrónico","2025-03-07",null,"",null,{"$f":"IFERROR(WORKDAY(N1429,Y1429,Hoja1!F1421:F1537),\"\")","v":""},{"$f":"+IF(N1429=\"\",\"\",IF(O1429=\"\",\"SIN RESPUESTA\",(IF(O1429<=P1429,\"A TIEMPO\",\"FUERA DE TIEMPO\"))))","v":""},null,"A TIEMPO",6,0,null,null,{"$f":"IFERROR(VLOOKUP(F1429,Hoja1!$A$50:$C$63,2),\"\")","v":5},{"$f":"IFERROR(VLOOKUP(F1429,Hoja1!$A$50:$C$63,3),\"\")","v":5}]
[1420,20259910027304,"2025-02-21","Persona natural","Virtual - Correo electrónico","Solicitud de documentos o información","Solicitud de información hidrometeorológica",null,"Grupo de Servicio al Ciudadano","2025-03-06","Correo electrónico","2025-03-07",null,"",null,{"$f":"IFERROR(WORKDAY(N1430,Y1430,Hoja1!F1422:F1538),\"\")","v":""},{"$f":"+IF(N1430=\"\",\"\",IF(O1430=\"\",\"SIN RESPUESTA\",(IF(O1430<=P1430,\"A TIEMPO\",\"FUERA DE TIEMPO\"))))","v":""},null,"A TIEMPO",9,0,null,null,{"$f":"IFERROR(VLOOKUP(F1430,Hoja1!$A$50:$C$63,2),\"\")","v":5},{"$f":"IFERROR(VLOOKUP(F1430,Hoja1!$A$50:$C$63,3),\"\")","v":5}]
[1421,20259910027434,"2025-02-21","Persona jurídica","Virtual - Correo electrónico","Solicitud de documentos o información","Registros ambientales",null,"Subdirección de Estudios Ambientales","2025-03-06","Correo electrónico","2025-03-07",null,"",null,{"$f":"IFERROR(WORKDAY(N1431,Y1431,Hoja1!F1423:F1539),\"\")","v":""},{"$f":"+IF(N1431=\"\",\"\",IF(O1431=\"\",\"SIN RESPUESTA\",(IF(O1431<=P1431,\"A TIEMPO\",\"FUERA DE TIEMPO\"))))","v":""},null,"A TIEMPO",9,0,null,null,{"$f":"IFERROR(VLOOKUP(F1431,Hoja1!$A$50:$C$63,2),\"\")","v":5},{"$f":"IFERROR(VLOOKUP(F1431,Hoja1!$A$50:$C$63,3),\"\")","v":5}]
[1422,20259910027314,"2025-02-21","Persona natural","Virtual - Correo electrónico","Certificación de ingresos y retenciones","Administrativa",null,"Grupo de Tesorería","2025-02-21","Correo electrónico","2025-03-07",null,"",null,{"$f":"IFERROR(WORKDAY(N1432,Y1432,Hoja1!F1424:F1540),\"\")","v":""},{"$f":"+IF(N1432=\"\",\"\",IF(O1432=\"\",\"SIN RESPUESTA\",(IF(O1432<=P1432,\"A TIEMPO\",\"FUERA DE TIEMPO\"))))","v":""},null,"A TIEMPO",0,0,null,null,{"$f":"IFERROR(VLOOKUP(F1432,Hoja1!$A$50:$C$63,2),\"\")","v":15},{"$f":"IFERROR(VLOOKUP(F1432,Hoja1!$A$50:$C$63,3),\"\")","v":15}]
[1423,20259910027344,"2025-02-21","Persona jurídica","Virtual - Correo electrónico","Solicitud de documentos o información","Cambio climático",null,"Subdirección de Estudios Ambientales","2025-03-14","Correo electrónico","2025-03-07",null,"",null,{"$f":"IFERROR(WORKDAY(N1433,Y1433,Hoja1!F1425:F1541),\"\")","v":""},{"$f":"+IF(N1433=\"\",\"\",IF(O1433=\"\",\"SIN RESPUESTA\",(IF(O1433<=P1433,\"A TIEMPO\",\"FUERA DE TIEMPO\"))))","v":""},null,{"$f":"+IF(C1433=\"\",\"\",IF(J1433=\"\",\"SIN RESPUESTA\",(IF(J1433<=L1433,\"A TIEMPO\",\"FUERA DE TIEMPO\"))))","v":"FUERA DE TIEMPO"},15,5,null,null,{"$f":"IFERROR(VLOOKUP(F1433,Hoja1!$A$50:$C$63,2),\"\")","v":5},{"$f":"IFERROR(VLOOKUP(F1433,Hoja1!$A$50:$C$63,3),\"\")","v":5}]
[1424,20259910027404,"2025-02-21","Persona jurídica","Virtual - Correo electrónico","Solicitud de documentos o información","Sistema de información del recurso hídrico",null,"Subdirección de Hidrología","2025-02-27","Correo electrónico","2025-03-07",null,"",null,{"$f":"IFERROR(WORKDAY(N1434,Y1434,Hoja1!F1426:F1542),\"\")","v":""},{"$f":"+IF(N1434=\"\",\"\",IF(O1434=\"\",\"SIN RESPUESTA\",(IF(O1434<=P1434,\"A TIEMPO\",\"FUERA DE TIEMPO\"))))","v":""},null,"A TIEMPO",4,0,null,null,{"$f":"IFERROR(VLOOKUP(F1434,Hoja1!$A$50:$C$63,2),\"\")","v":5},{"$f":"IFERROR(VLOOKUP(F1434,Hoja1!$A$50:$C$63,3),\"\")","v":5}]
[1425,20259910027414,"2025-02-21","Persona jurídica","Virtual - Correo electrónico","Solicitud de documentos o información","Administrativa",null,"Subdirección de Hidrología","2025-02-24","Correo electrónico","2025-03-07",null,"",null,{"$f":"IFERROR(WORKDAY(N1435,Y1435,Hoja1!F1427:F1543),\"\")","v":""},{"$f":"+IF(N1435=\"\",\"\",IF(O1435=\"\",\"SIN RESPUESTA\",(IF(O1435<=P1435,\"A TIEMPO\",\"FUERA DE TIEMPO\"))))","v":""},null,"A TIEMPO",1,0,null,null,{"$f":"IFERROR(VLOOKUP(F1435,Hoja1!$A$50:$C$63,2),\"\")","v":5},{"$f":"IFERROR(VLOOKUP(F1435,Hoja1!$A$50:$C$63,3),\"\")","v":5}]
[1426,20259910027444,"2025-02-21","Persona natural","Virtual - Correo electrónico","Solicitud de documentos o información","Bosques",null,"Subdirección de Ecosistemas e Información Ambiental","2025-03-04","Correo electrónico","2025-03-07",null,"",null,{"$f":"IFERROR(WORKDAY(N1436,Y1436,Hoja1!F1428:F1544),\"\")","v":""},{"$f":"+IF(N1436=\"\",\"\",IF(O1436=\"\",\"SIN RESPUESTA\",(IF(O1436<=P1436,\"A TIEMPO\",\"FUERA DE TIEMPO\"))))","v":""},null,"A TIEMPO",7,0,null,null,{"$f":"IFERROR(VLOOKUP(F1436,Hoja1!$A$50:$C$63,2),\"\")","v":5},{"$f":"IFERROR(VLOOKUP(F1436,Hoja1!$A$50:$C$63,3),\"\")","v":5}]
[1427,20259910027464,"2025-02-21","Persona natural","Virtual - Correo electrónico","Solicitud de documentos o información","Solicitud de información hidrometeorológica",null,"Grupo de Servicio al Ciudadano","2025-03-07","Correo electrónico","2025-03-07",null,"",null,{"$f":"IFERROR(WORKDAY(N1437,Y1437,Hoja1!F1429:F1545),\"\")","v":""},{"$f":"+IF(N1437=\"\",\"\",IF(O1437=\"\",\"SIN RESPUESTA\",(IF(O1437<=P1437,\"A TIEMPO\",\"FUERA DE TIEMPO\"))))","v":""},null,"A TIEMPO",10,0,null,null,{"$f":"IFERROR(VLOOKUP(F1437,Hoja1!$A$50:$C$63,2),\"\")","v":5},{"$f":"IFERROR(VLOOKUP(F1437,Hoja1!$A$50:$C$63,3),\"\")","v":5}]
[1428,20259910027494,"2025-02-21","Persona jurídica","Virtual - Correo electrónico","Solicitud de documentos o información","Registros ambientales",null,"Subdirección de Estudios Ambientales","2025-03-03","Correo electrónico","2025-03-07",null,"",null,{"$f":"IFERROR(WORKDAY(N1438,Y1438,Hoja1!F1430:F1546),\"\")","v":""},{"$f":"+IF(N1438=\"\",\"\",IF(O1438=\"\",\"SIN RESPUESTA\",(IF(O1438<=P1438,\"A TIEMPO\",\"FUERA DE TIEMPO\"))))","v":""},null,"A TIEMPO",6,0,null,null,{"$f":"IFERROR(VLOOKUP(F1438,Hoja1!$A$50:$C$63,2),\"\")","v":5},{"$f":"IFERROR(VLOOKUP(F1438,Hoja1!$A$50:$C$63,3),\"\")","v":5}]
[1429,20259910027474,"2025-02-21","Persona natural","Virtual - Correo electrónico","Solicitud de documentos o información","Bosques",null,"Subdirección de Ecosistemas e Información Ambiental","2025-03-20","Correo electrónico","2025-03-07",null,"",null,{"$f":"IFERROR(WORKDAY(N1439,Y1439,Hoja1!F1431:F1547),\"\")","v":""},{"$f":"+IF(N1439=\"\",\"\",IF(O1439=\"\",\"SIN RESPUESTA\",(IF(O1439<=P1439,\"A TIEMPO\",\"FUERA DE TIEMPO\"))))","v":""},null,{"$f":"+IF(C1439=\"\",\"\",IF(J1439=\"\",\"SIN RESPUESTA\",(IF(J1439<=L1439,\"A TIEMPO\",\"FUERA DE TIEMPO\"))))","v":"FUERA DE TIEMPO"},18,8,null,null,{"$f":"IFERROR(VLOOKUP(F1439,Hoja1!$A$50:$C$63,2),\"\")","v":5},{"$f":"IFERROR(VLOOKUP(F1439,Hoja1!$A$50:$C$63,3),\"\")","v":5}]
[1430,20259050027514,"2025-02-21","Persona jurídica","Virtual - Formulario PQRSDF","Solicitud de documentos o información","Registros ambientales",null,"Subdirección de Estudios Ambientales","2025-03-03","Correo electrónico","2025-03-07",null,"",null,{"$f":"IFERROR(WORKDAY(N1440,Y1440,Hoja1!F1432:F1548),\"\")","v":""},{"$f":"+IF(N1440=\"\",\"\",IF(O1440=\"\",\"SIN RESPUESTA\",(IF(O1440<=P1440,\"A TIEMPO\",\"FUERA DE TIEMPO\"))))","v":""},null,"A TIEMPO",6,0,null,null,{"$f":"IFERROR(VLOOKUP(F1440,Hoja1!$A$50:$C$63,2),\"\")","v":5},{"$f":"IFERROR(VLOOKUP(F1440,Hoja1!$A$50:$C$63,3),\"\")","v":5}]
[1431,20259910027534,"2025-02-21","Persona natural","Virtual - Correo electrónico","Certificación laboral o pasantía","Administrativa",null,"Grupo de Administración y Desarrollo del Talento Humano","2025-03-03","Correo electrónico","2025-03-07",null,"",null,{"$f":"IFERROR(WORKDAY(N1441,Y1441,Hoja1!F1433:F1549),\"\")","v":""},{"$f":"+IF(N1441=\"\",\"\",IF(O1441=\"\",\"SIN RESPUESTA\",(IF(O1441<=P1441,\"A TIEMPO\",\"FUERA DE TIEMPO\"))))","v":""},null,"A TIEMPO",6,0,null,null,{"$f":"IFERROR(VLOOKUP(F1441,Hoja1!$A$50:$C$63,2),\"\")","v":15},{"$f":"IFERROR(VLOOKUP(F1441,Hoja1!$A$50:$C$63,3),\"\")","v":15}]
[1432,20259910027564,"2025-02-21","Persona jurídica","Virtual - Correo electrónico","Certificación de tiempo, clima y eventos hidrológicos","Certificaciones del tiempo y clima",null,"Subdirección de Meteorología","2025-03-17","Correo electrónico","2025-04-08",null,"",null,{"$f":"IFERROR(WORKDAY(N1442,Y1442,Hoja1!F1434:F1550),\"\")","v":""},{"$f":"+IF(N1442=\"\",\"\",IF(O1442=\"\",\"SIN RESPUESTA\",(IF(O1442<=P1442,\"A TIEMPO\",\"FUERA DE TIEMPO\"))))","v":""},null,"A TIEMPO",16,0,null,null,{"$f":"IFERROR(VLOOKUP(F1442,Hoja1!$A$50:$C$63,2),\"\")","v":15},{"$f":"IFERROR(VLOOKUP(F1442,Hoja1!$A$50:$C$63,3),\"\")","v":15}]
[1433,20259910027584,"2025-02-21","Persona natural","Virtual - Correo electrónico","Solicitud de documentos o información","Solicitud de información hidrometeorológica",null,"Grupo de Servicio al Ciudadano","2025-03-07","Correo electrónico","2025-03-07",null,"",null,{"$f":"IFERROR(WORKDAY(N1443,Y1443,Hoja1!F1435:F1551),\"\")","v":""},{"$f":"+IF(N1443=\"\",\"\",IF(O1443=\"\",\"SIN RESPUESTA\",(IF(O1443<=P1443,\"A TIEMPO\",\"FUERA DE TIEMPO\"))))","v":""},null,"A TIEMPO",10,0,null,null,{"$f":"IFERROR(VLOOKUP(F1443,Hoja1!$A$50:$C$63,2),\"\")","v":5},{"$f":"IFERROR(VLOOKUP(F1443,Hoja1!$A$50:$C$63,3),\"\")","v":5}]
[1434,20259910027594,"2025-02-21","Persona jurídica","Virtual - Correo electrónico","Certificación de tiempo, clima y eventos hidrológicos","Certificaciones del tiempo y clima",null,"Subdirección de Meteorología","2025-03-06","Correo electrónico","2025-04-08",null,"",null,{"$f":"IFERROR(WORKDAY(N1444,Y1444,Hoja1!F1436:F1552),\"\")","v":""},{"$f":"+IF(N1444=\"\",\"\",IF(O1444=\"\",\"SIN RESPUESTA\",(IF(O1444<=P1444,\"A TIEMPO\",\"FUERA DE TIEMPO\"))))","v":""},null,"A TIEMPO",9,0,null,null,{"$f":"IFERROR(VLOOKUP(F1444,Hoja1!$A$50:$C$63,2),\"\")","v":15},{"$f":"IFERROR(VLOOKUP(F1444,Hoja1!$A$50:$C$63,3),\"\")","v":15}]
[1435,20259910027604,"2025-02-21","Persona jurídica","Virtual - Correo electrónico","Solicitud de documentos o información","Sistema de información ambiental",null,"Subdirección de Estudios Ambientales","2025-04-22","Correo electrónico","2025-03-07",null,"",null,{"$f":"IFERROR(WORKDAY(N1445,Y1445,Hoja1!F1437:F1553),\"\")","v":""},{"$f":"+IF(N1445=\"\",\"\",IF(O1445=\"\",\"SIN RESPUESTA\",(IF(O1445<=P1445,\"A TIEMPO\",\"FUERA DE TIEMPO\"))))","v":""},null,{"$f":"+IF(C1445=\"\",\"\",IF(J1445=\"\",\"SIN RESPUESTA\",(IF(J1445<=L1445,\"A TIEMPO\",\"FUERA DE TIEMPO\"))))","v":"FUERA DE TIEMPO"},38,28,null,null,{"$f":"IFERROR(VLOOKUP(F1445,Hoja1!$A$50:$C$63,2),\"\")","v":5},{"$f":"IFERROR(VLOOKUP(F1445,Hoja1!$A$50:$C$63,3),\"\")","v":5}]
[1436,20259050027634,"2025-02-21","Persona natural","Virtual - Formulario PQRSDF","Solicitud de documentos o información","Sistema de información ambiental",null,"Subdirección de Estudios Ambientales","2025-02-26","Correo electrónico","2025-03-07",null,"",null,{"$f":"IFERROR(WORKDAY(N1446,Y1446,Hoja1!F1438:F1554),\"\")","v":""},{"$f":"+IF(N1446=\"\",\"\",IF(O1446=\"\",\"SIN RESPUESTA\",(IF(O1446<=P1446,\"A TIEMPO\",\"FUERA DE TIEMPO\"))))","v":""},null,"A TIEMPO",3,0,null,null,{"$f":"IFERROR(VLOOKUP(F1446,Hoja1!$A$50:$C$63,2),\"\")","v":5},{"$f":"IFERROR(VLOOKUP(F1446,Hoja1!$A$50:$C$63,3),\"\")","v":5}]
[1437,20259050027644,"2025-02-21","Persona jurídica","Virtual - Formulario PQRSDF","Solicitud de documentos o información","Registros ambientales",null,"Subdirección de Estudios Ambientales","2025-03-13","Correo electrónico","2025-03-07",null,"",null,{"$f":"IFERROR(WORKDAY(N1447,Y1447,Hoja1!F1439:F1555),\"\")","v":""},{"$f":"+IF(N1447=\"\",\"\",IF(O1447=\"\",\"SIN RESPUESTA\",(IF(O1447<=P1447,\"A TIEMPO\",\"FUERA DE TIEMPO\"))))","v":""},null,{"$f":"+IF(C1447=\"\",\"\",IF(J1447=\"\",\"SIN RESPUESTA\",(IF(J1447<=L1447,\"A TIEMPO\",\"FUERA DE TIEMPO\"))))","v":"FUERA DE TIEMPO"},14,4,null,null,{"$f":"IFERROR(VLOOKUP(F1447,Hoja1!$A$50:$C$63,2),\"\")","v":5},{"$f":"IFERROR(VLOOKUP(F1447,Hoja1!$A$50:$C$63,3),\"\")","v":5}]
[1438,20259910027664,"2025-02-21","Persona jurídica","Virtual - Correo electrónico","Solicitud de documentos o información","Solicitud de información hidrometeorológica",null,"Grupo de Servicio al Ciudadano","2025-03-06","Correo electrónico","2025-03-07",null,"",null,{"$f":"IFERROR(WORKDAY(N1448,Y1448,Hoja1!F1440:F1556),\"\")","v":""},{"$f":"+IF(N1448=\"\",\"\",IF(O1448=\"\",\"SIN RESPUESTA\",(IF(O1448<=P1448,\"A TIEMPO\",\"FUERA DE TIEMPO\"))))","v":""},null,"A TIEMPO",9,0,null,null,{"$f":"IFERROR(VLOOKUP(F1448,Hoja1!$A$50:$C$63,2),\"\")","v":5},{"$f":"IFERROR(VLOOKUP(F1448,Hoja1!$A$50:$C$63,3),\"\")","v":5}]
[1439,20259050027684,"2025-02-21","Persona natural","Virtual - Formulario PQRSDF","Solicitud de documentos o información","Solicitud de información hidrometeorológica",null,"Grupo de Servicio al Ciudadano","2025-03-06","Correo electrónico","2025-03-07",null,"",null,{"$f":"IFERROR(WORKDAY(N1449,Y1449,Hoja1!F1441:F1557),\"\")","v":""},{"$f":"+IF(N1449=\"\",\"\",IF(O1449=\"\",\"SIN RESPUESTA\",(IF(O1449<=P1449,\"A TIEMPO\",\"FUERA DE TIEMPO\"))))","v":""},null,"A TIEMPO",9,0,null,null,{"$f":"IFERROR(VLOOKUP(F1449,Hoja1!$A$50:$C$63,2),\"\")","v":5},{"$f":"IFERROR(VLOOKUP(F1449,Hoja1!$A$50:$C$63,3),\"\")","v":5}]
[1440,20259050027834,"2025-02-23","Persona natural","Virtual - Formulario PQRSDF","Solicitud de documentos o información","Solicitud de información hidrometeorológica",null,"Grupo de Servicio al Ciudadano","2025-03-06","Correo electrónico","2025-03-07",null,"",null,{"$f":"IFERROR(WORKDAY(N1450,Y1450,Hoja1!F1442:F1558),\"\")","v":""},{"$f":"+IF(N1450=\"\",\"\",IF(O1450=\"\",\"SIN RESPUESTA\",(IF(O1450<=P1450,\"A TIEMPO\",\"FUERA DE TIEMPO\"))))","v":""},null,"A TIEMPO",8,0,null,null,{"$f":"IFERROR(VLOOKUP(F1450,Hoja1!$A$50:$C$63,2),\"\")","v":5},{"$f":"IFERROR(VLOOKUP(F1450,Hoja1!$A$50:$C$63,3),\"\")","v":5}]
[1441,20259050027794,"2025-02-21","Persona natural","Virtual - Formulario PQRSDF","Solicitud de documentos o información","Solicitud de información hidrometeorológica",null,"Grupo de Servicio al Ciudadano","2025-03-06","Correo electrónico","2025-03-07",null,"",null,{"$f":"IFERROR(WORKDAY(N1451,Y1451,Hoja1!F1443:F1559),\"\")","v":""},{"$f":"+IF(N1451=\"\",\"\",IF(O1451=\"\",\"SIN RESPUESTA\",(IF(O1451<=P1451,\"A TIEMPO\",\"FUERA DE TIEMPO\"))))","v":""},null,"A TIEMPO",9,0,null,null,{"$f":"IFERROR(VLOOKUP(F1451,Hoja1!$A$50:$C$63,2),\"\")","v":5},{"$f":"IFERROR(VLOOKUP(F1451,Hoja1!$A$50:$C$63,3),\"\")","v":5}]
[1442,20259910027774,"2025-02-21","Persona jurídica","Virtual - Correo electrónico","Solicitud de documentos o información","Registros ambientales",null,"Subdirección de Estudios Ambientales","2025-03-03","Correo electrónico","2025-03-07",null,"",null,{"$f":"IFERROR(WORKDAY(N1452,Y1452,Hoja1!F1444:F1560),\"\")","v":""},{"$f":"+IF(N1452=\"\",\"\",IF(O1452=\"\",\"SIN RESPUESTA\",(IF(O1452<=P1452,\"A TIEMPO\",\"FUERA DE TIEMPO\"))))","v":""},null,"A TIEMPO",6,0,null,null,{"$f":"IFERROR(VLOOKUP(F1452,Hoja1!$A$50:$C$63,2),\"\")","v":5},{"$f":"IFERROR(VLOOKUP(F1452,Hoja1!$A$50:$C$63,3),\"\")","v":5}]
[1443,20259050027814,"2025-02-22","Persona natural","Virtual - Formulario PQRSDF","Solicitud de documentos o información","Visitas académicas",null,"Área Operativa No. 1 - Medellín","2025-03-04","Correo electrónico","2025-03-07",null,"",null,{"$f":"IFERROR(WORKDAY(N1453,Y1453,Hoja1!F1445:F1561),\"\")","v":""},{"$f":"+IF(N1453=\"\",\"\",IF(O1453=\"\",\"SIN RESPUESTA\",(IF(O1453<=P1453,\"A TIEMPO\",\"FUERA DE TIEMPO\"))))","v":""},null,"A TIEMPO",6,0,null,null,{"$f":"IFERROR(VLOOKUP(F1453,Hoja1!$A$50:$C$63,2),\"\")","v":5},{"$f":"IFERROR(VLOOKUP(F1453,Hoja1!$A$50:$C$63,3),\"\")","v":5}]
[1444,20259910027784,"2025-02-21","Persona jurídica","Virtual - Correo electrónico","Solicitud de documentos o información","Registros ambientales",null,"Subdirección de Estudios Ambientales","2025-03-04","Correo electrónico","2025-03-07",null,"",null,{"$f":"IFERROR(WORKDAY(N1454,Y1454,Hoja1!F1446:F1562),\"\")","v":""},{"$f":"+IF(N1454=\"\",\"\",IF(O1454=\"\",\"SIN RESPUESTA\",(IF(O1454<=P1454,\"A TIEMPO\",\"FUERA DE TIEMPO\"))))","v":""},null,"A TIEMPO",7,0,null,null,{"$f":"IFERROR(VLOOKUP(F1454,Hoja1!$A$50:$C$63,2),\"\")","v":5},{"$f":"IFERROR(VLOOKUP(F1454,Hoja1!$A$50:$C$63,3),\"\")","v":5}]
[1445,20259050027804,"2025-02-22","Persona jurídica","Virtual - Formulario PQRSDF","Solicitud de documentos o información","Pronósticos y alertas",null,"Subdirección de Estudios Ambientales","2025-03-06","Correo electrónico","2025-03-07",null,"",null,{"$f":"IFERROR(WORKDAY(N1455,Y1455,Hoja1!F1447:F1563),\"\")","v":""},{"$f":"+IF(N1455=\"\",\"\",IF(O1455=\"\",\"SIN RESPUESTA\",(IF(O1455<=P1455,\"A TIEMPO\",\"FUERA DE TIEMPO\"))))","v":""},null,"A TIEMPO",8,0,null,null,{"$f":"IFERROR(VLOOKUP(F1455,Hoja1!$A$50:$C$63,2),\"\")","v":5},{"$f":"IFERROR(VLOOKUP(F1455,Hoja1!$A$50:$C$63,3),\"\")","v":5}]
[1446,20259050027824,"2025-02-23","Persona natural","Virtual - Formulario PQRSDF","Solicitud de documentos o información","Administrativa",null,"Grupo de Administración y Desarrollo del Talento Humano","2025-03-06","Correo electrónico","2025-03-07",null,"",null,{"$f":"IFERROR(WORKDAY(N1456,Y1456,Hoja1!F1448:F1564),\"\")","v":""},{"$f":"+IF(N1456=\"\",\"\",IF(O1456=\"\",\"SIN RESPUESTA\",(IF(O1456<=P1456,\"A TIEMPO\",\"FUERA DE TIEMPO\"))))","v":""},null,"A TIEMPO",8,0,null,null,{"$f":"IFERROR(VLOOKUP(F1456,Hoja1!$A$50:$C$63,2),\"\")","v":5},{"$f":"IFERROR(VLOOKUP(F1456,Hoja1!$A$50:$C$63,3),\"\")","v":5}]
[1447,20259050027844,"2025-02-24","Persona natural","Virtual - Formulario PQRSDF","Solicitud de documentos o información","Solicitud de información hidrometeorológica",null,"Subdirección de Ecosistemas e Información Ambiental","2025-03-04","Correo electrónico","2025-03-10",null,"",null,{"$f":"IFERROR(WORKDAY(N1457,Y1457,Hoja1!F1449:F1565),\"\")","v":""},{"$f":"+IF(N1457=\"\",\"\",IF(O1457=\"\",\"SIN RESPUESTA\",(IF(O1457<=P1457,\"A TIEMPO\",\"FUERA DE TIEMPO\"))))","v":""},null,"A TIEMPO",6,0,null,null,{"$f":"IFERROR(VLOOKUP(F1457,Hoja1!$A$50:$C$63,2),\"\")","v":5},{"$f":"IFERROR(VLOOKUP(F1457,Hoja1!$A$50:$C$63,3),\"\")","v":5}]
[1448,20259050027864,"2025-02-24","Persona natural","Virtual - Formulario PQRSDF","Certificación de contrato","Administrativa",null,"Oficina Asesora Jurídica","2025-03-03","Correo electrónico","2025-03-10",null,"",null,{"$f":"IFERROR(WORKDAY(N1458,Y1458,Hoja1!F1450:F1566),\"\")","v":""},{"$f":"+IF(N1458=\"\",\"\",IF(O1458=\"\",\"SIN RESPUESTA\",(IF(O1458<=P1458,\"A TIEMPO\",\"FUERA DE TIEMPO\"))))","v":""},null,"A TIEMPO",5,0,null,null,{"$f":"IFERROR(VLOOKUP(F1458,Hoja1!$A$50:$C$63,2),\"\")","v":15},{"$f":"IFERROR(VLOOKUP(F1458,Hoja1!$A$50:$C$63,3),\"\")","v":15}]
[1449,20259050027854,"2025-02-24","Persona jurídica","Virtual - Formulario PQRSDF","Solicitud de documentos o información","Registros ambientales",null,"Subdirección de Estudios Ambientales","2025-03-06","Correo electrónico","2025-03-10",null,"",null,{"$f":"IFERROR(WORKDAY(N1459,Y1459,Hoja1!F1451:F1567),\"\")","v":""},{"$f":"+IF(N1459=\"\",\"\",IF(O1459=\"\",\"SIN RESPUESTA\",(IF(O1459<=P1459,\"A TIEMPO\",\"FUERA DE TIEMPO\"))))","v":""},null,"A TIEMPO",8,0,null,null,{"$f":"IFERROR(VLOOKUP(F1459,Hoja1!$A$50:$C$63,2),\"\")","v":5},{"$f":"IFERROR(VLOOKUP(F1459,Hoja1!$A$50:$C$63,3),\"\")","v":5}]
[1450,20259050027874,"2025-02-24","Persona natural","Virtual - Formulario PQRSDF","Solicitud de documentos o información","Sistema de información del recurso hídrico",null,"Grupo de Servicio al Ciudadano","2025-03-07","Correo electrónico","2025-03-10",null,"",null,{"$f":"IFERROR(WORKDAY(N1460,Y1460,Hoja1!F1452:F1568),\"\")","v":""},{"$f":"+IF(N1460=\"\",\"\",IF(O1460=\"\",\"SIN RESPUESTA\",(IF(O1460<=P1460,\"A TIEMPO\",\"FUERA DE TIEMPO\"))))","v":""},null,"A TIEMPO",9,0,null,null,{"$f":"IFERROR(VLOOKUP(F1460,Hoja1!$A$50:$C$63,2),\"\")","v":5},{"$f":"IFERROR(VLOOKUP(F1460,Hoja1!$A$50:$C$63,3),\"\")","v":5}]
[1451,20259050027884,"2025-02-24","Persona natural","Virtual - Formulario PQRSDF","Solicitud de documentos o información","Solicitud de información hidrometeorológica",null,"Subdirección de Meteorología","2025-03-04","Correo electrónico","2025-03-10",null,"",null,{"$f":"IFERROR(WORKDAY(N1461,Y1461,Hoja1!F1453:F1569),\"\")","v":""},{"$f":"+IF(N1461=\"\",\"\",IF(O1461=\"\",\"SIN RESPUESTA\",(IF(O1461<=P1461,\"A TIEMPO\",\"FUERA DE TIEMPO\"))))","v":""},null,"A TIEMPO",6,0,null,null,{"$f":"IFERROR(VLOOKUP(F1461,Hoja1!$A$50:$C$63,2),\"\")","v":5},{"$f":"IFERROR(VLOOKUP(F1461,Hoja1!$A$50:$C$63,3),\"\")","v":5}]
[1452,20259050027914,"2025-02-24","Persona natural","Virtual - Formulario PQRSDF","Solicitud de documentos o información","Visitas académicas",null,"Grupo de Servicio al Ciudadano","2025-03-07","Correo electrónico","2025-03-10",null,"",null,{"$f":"IFERROR(WORKDAY(N1462,Y1462,Hoja1!F1454:F1570),\"\")","v":""},{"$f":"+IF(N1462=\"\",\"\",IF(O1462=\"\",\"SIN RESPUESTA\",(IF(O1462<=P1462,\"A TIEMPO\",\"FUERA DE TIEMPO\"))))","v":""},null,"A TIEMPO",9,0,null,null,{"$f":"IFERROR(VLOOKUP(F1462,Hoja1!$A$50:$C$63,2),\"\")","v":5},{"$f":"IFERROR(VLOOKUP(F1462,Hoja1!$A$50:$C$63,3),\"\")","v":5}]
[1453,20259910027994,"2025-02-24","Persona natural","Virtual - Correo electrónico","Certificación de contrato","Administrativa",null,"Oficina Asesora Jurídica","2025-03-11","Correo electrónico","2025-03-10",null,"",null,{"$f":"IFERROR(WORKDAY(N1463,Y1463,Hoja1!F1455:F1571),\"\")","v":""},{"$f":"+IF(N1463=\"\",\"\",IF(O1463=\"\",\"SIN RESPUESTA\",(IF(O1463<=P1463,\"A TIEMPO\",\"FUERA DE TIEMPO\"))))","v":""},null,{"$f":"+IF(C1463=\"\",\"\",IF(J1463=\"\",\"SIN RESPUESTA\",(IF(J1463<=L1463,\"A TIEMPO\",\"FUERA DE TIEMPO\"))))","v":"FUERA DE TIEMPO"},11,1,null,null,{"$f":"IFERROR(VLOOKUP(F1463,Hoja1!$A$50:$C$63,2),\"\")","v":15},{"$f":"IFERROR(VLOOKUP(F1463,Hoja1!$A$50:$C$63,3),\"\")","v":15}]
[1454,20259050028084,"2025-02-24","Persona jurídica","Virtual - Formulario PQRSDF","Solicitud de documentos o información","Registros ambientales",null,"Subdirección de Estudios Ambientales","2025-03-07","Correo electrónico","2025-03-10",null,"",null,{"$f":"IFERROR(WORKDAY(N1464,Y1464,Hoja1!F1456:F1572),\"\")","v":""},{"$f":"+IF(N1464=\"\",\"\",IF(O1464=\"\",\"SIN RESPUESTA\",(IF(O1464<=P1464,\"A TIEMPO\",\"FUERA DE TIEMPO\"))))","v":""},null,"A TIEMPO",9,0,null,null,{"$f":"IFERROR(VLOOKUP(F1464,Hoja1!$A$50:$C$63,2),\"\")","v":5},{"$f":"IFERROR(VLOOKUP(F1464,Hoja1!$A$50:$C$63,3),\"\")","v":5}]
[1455,20259910022474,"2025-02-14","Persona jurídica","Virtual - Correo electrónico","Solicitud de documentos o información","Solicitud de información hidrometeorológica",null,"Subdirección de Meteorología","2025-02-28","Correo electrónico","2025-03-03",null,"",null,{"$f":"IFERROR(WORKDAY(N1465,Y1465,Hoja1!F1457:F1573),\"\")","v":""},{"$f":"+IF(N1465=\"\",\"\",IF(O1465=\"\",\"SIN RESPUESTA\",(IF(O1465<=P1465,\"A TIEMPO\",\"FUERA DE TIEMPO\"))))","v":""},null,"A TIEMPO",7,0,null,null,{"$f":"IFERROR(VLOOKUP(F1465,Hoja1!$A$50:$C$63,2),\"\")","v":5},{"$f":"IFERROR(VLOOKUP(F1465,Hoja1!$A$50:$C$63,3),\"\")","v":5}]
[1456,20259910028094,"2025-02-24","Persona jurídica","Virtual - Correo electrónico","Solicitud de documentos o información","Registros ambientales",null,"Subdirección de Estudios Ambientales","2025-03-07","Correo electrónico","2025-03-10",null,"",null,{"$f":"IFERROR(WORKDAY(N1466,Y1466,Hoja1!F1458:F1574),\"\")","v":""},{"$f":"+IF(N1466=\"\",\"\",IF(O1466=\"\",\"SIN RESPUESTA\",(IF(O1466<=P1466,\"A TIEMPO\",\"FUERA DE TIEMPO\"))))","v":""},null,"A TIEMPO",9,0,null,null,{"$f":"IFERROR(VLOOKUP(F1466,Hoja1!$A$50:$C$63,2),\"\")","v":5},{"$f":"IFERROR(VLOOKUP(F1466,Hoja1!$A$50:$C$63,3),\"\")","v":5}]
[1457,20259910028074,"2025-02-24","Persona natural","Virtual - Correo electrónico","Solicitud de documentos o información","Solicitud de información hidrometeorológica",null,"Grupo de Servicio al Ciudadano","2025-03-07","Correo electrónico","2025-03-10",null,"",null,{"$f":"IFERROR(WORKDAY(N1467,Y1467,Hoja1!F1459:F1575),\"\")","v":""},{"$f":"+IF(N1467=\"\",\"\",IF(O1467=\"\",\"SIN RESPUESTA\",(IF(O1467<=P1467,\"A TIEMPO\",\"FUERA DE TIEMPO\"))))","v":""},null,"A TIEMPO",9,0,null,null,{"$f":"IFERROR(VLOOKUP(F1467,Hoja1!$A$50:$C$63,2),\"\")","v":5},{"$f":"IFERROR(VLOOKUP(F1467,Hoja1!$A$50:$C$63,3),\"\")","v":5}]
[1458,20259910028114,"2025-02-24","Persona natural","Virtual - Correo electrónico","Solicitud de documentos o información","Visitas académicas",null,"Grupo de Servicio al Ciudadano","2025-03-10","Correo electrónico","2025-03-10",null,"",null,{"$f":"IFERROR(WORKDAY(N1468,Y1468,Hoja1!F1460:F1576),\"\")","v":""},{"$f":"+IF(N1468=\"\",\"\",IF(O1468=\"\",\"SIN RESPUESTA\",(IF(O1468<=P1468,\"A TIEMPO\",\"FUERA DE TIEMPO\"))))","v":""},null,"A TIEMPO",10,0,null,null,{"$f":"IFERROR(VLOOKUP(F1468,Hoja1!$A$50:$C$63,2),\"\")","v":5},{"$f":"IFERROR(VLOOKUP(F1468,Hoja1!$A$50:$C$63,3),\"\")","v":5}]
[1459,20259910028104,"2025-02-24","Persona jurídica","Virtual - Correo electrónico","Solicitud de documentos o información","Pronósticos y alertas",null,"Subdirección de Estudios Ambientales","2025-02-27","Correo electrónico","2025-03-10",null,"",null,{"$f":"IFERROR(WORKDAY(N1469,Y1469,Hoja1!F1461:F1577),\"\")","v":""},{"$f":"+IF(N1469=\"\",\"\",IF(O1469=\"\",\"SIN RESPUESTA\",(IF(O1469<=P1469,\"A TIEMPO\",\"FUERA DE TIEMPO\"))))","v":""},null,"A TIEMPO",3,0,null,null,{"$f":"IFERROR(VLOOKUP(F1469,Hoja1!$A$50:$C$63,2),\"\")","v":5},{"$f":"IFERROR(VLOOKUP(F1469,Hoja1!$A$50:$C$63,3),\"\")","v":5}]
[1460,20259910028134,"2025-02-24","Persona jurídica","Virtual - Correo electrónico","Solicitud judicial","Certificaciones del tiempo y clima",null,"Subdirección de Meteorología","2025-02-28","Correo electrónico","2025-03-03",null,"",null,{"$f":"IFERROR(WORKDAY(N1470,Y1470,Hoja1!F1462:F1578),\"\")","v":""},{"$f":"+IF(N1470=\"\",\"\",IF(O1470=\"\",\"SIN RESPUESTA\",(IF(O1470<=P1470,\"A TIEMPO\",\"FUERA DE TIEMPO\"))))","v":""},null,"A TIEMPO",4,0,null,null,{"$f":"IFERROR(VLOOKUP(F1470,Hoja1!$A$50:$C$63,2),\"\")","v":5},{"$f":"IFERROR(VLOOKUP(F1470,Hoja1!$A$50:$C$63,3),\"\")","v":5}]
[1461,20259910028124,"2025-02-24","Persona natural","Virtual - Correo electrónico","Solicitud de documentos o información","Registros ambientales",null,"Subdirección de Estudios Ambientales","2025-03-07","Correo electrónico","2025-03-10",null,"",null,{"$f":"IFERROR(WORKDAY(N1471,Y1471,Hoja1!F1463:F1579),\"\")","v":""},{"$f":"+IF(N1471=\"\",\"\",IF(O1471=\"\",\"SIN RESPUESTA\",(IF(O1471<=P1471,\"A TIEMPO\",\"FUERA DE TIEMPO\"))))","v":""},null,"A TIEMPO",9,0,null,null,{"$f":"IFERROR(VLOOKUP(F1471,Hoja1!$A$50:$C$63,2),\"\")","v":5},{"$f":"IFERROR(VLOOKUP(F1471,Hoja1!$A$50:$C$63,3),\"\")","v":5}]
[1462,20259910028064,"2025-02-24","Persona jurídica","Virtual - Correo electrónico","Solicitud de documentos o información","Registros ambientales",null,"Subdirección de Estudios Ambientales","2025-03-07","Correo electrónico","2025-03-10",null,"",null,{"$f":"IFERROR(WORKDAY(N1472,Y1472,Hoja1!F1464:F1580),\"\")","v":""},{"$f":"+IF(N1472=\"\",\"\",IF(O1472=\"\",\"SIN RESPUESTA\",(IF(O1472<=P1472,\"A TIEMPO\",\"FUERA DE TIEMPO\"))))","v":""},null,"A TIEMPO",9,0,null,null,{"$f":"IFERROR(VLOOKUP(F1472,Hoja1!$A$50:$C$63,2),\"\")","v":5},{"$f":"IFERROR(VLOOKUP(F1472,Hoja1!$A$50:$C$63,3),\"\")","v":5}]
[1463,20259910028034,"2025-02-24","Persona natural","Virtual - Correo electrónico","Solicitud de documentos o información","Sistema de información del recurso hídrico",null,"Subdirección de Hidrología","2025-03-11","Correo electrónico","2025-03-10",null,"",null,{"$f":"IFERROR(WORKDAY(N1473,Y1473,Hoja1!F1465:F1581),\"\")","v":""},{"$f":"+IF(N1473=\"\",\"\",IF(O1473=\"\",\"SIN RESPUESTA\",(IF(O1473<=P1473,\"A TIEMPO\",\"FUERA DE TIEMPO\"))))","v":""},null,{"$f":"+IF(C1473=\"\",\"\",IF(J1473=\"\",\"SIN RESPUESTA\",(IF(J1473<=L1473,\"A TIEMPO\",\"FUERA DE TIEMPO\"))))","v":"FUERA DE TIEMPO"},11,1,null,null,{"$f":"IFERROR(VLOOKUP(F1473,Hoja1!$A$50:$C$63,2),\"\")","v":5},{"$f":"IFERROR(VLOOKUP(F1473,Hoja1!$A$50:$C$63,3),\"\")","v":5}]
[1464,20259910028044,"2025-02-24","Persona natural","Virtual - Correo electrónico","Solicitud de documentos o información","Sistema de información del recurso hídrico",null,"Subdirección de Hidrología","2025-03-25","Correo electrónico","2025-03-10",null,"",null,{"$f":"IFERROR(WORKDAY(N1474,Y1474,Hoja1!F1466:F1582),\"\")","v":""},{"$f":"+IF(N1474=\"\",\"\",IF(O1474=\"\",\"SIN RESPUESTA\",(IF(O1474<=P1474,\"A TIEMPO\",\"FUERA DE TIEMPO\"))))","v":""},null,{"$f":"+IF(C1474=\"\",\"\",IF(J1474=\"\",\"SIN RESPUESTA\",(IF(J1474<=L1474,\"A TIEMPO\",\"FUERA DE TIEMPO\"))))","v":"FUERA DE TIEMPO"},19,9,null,null,{"$f":"IFERROR(VLOOKUP(F1474,Hoja1!$A$50:$C$63,2),\"\")","v":5},{"$f":"IFERROR(VLOOKUP(F1474,Hoja1!$A$50:$C$63,3),\"\")","v":5}]
[1465,20259910028184,"2025-02-24","Persona jurídica","Virtual - Correo electrónico","Solicitud de documentos o información","Registros ambientales",null,"Subdirección de Estudios Ambientales","2025-02-25","Correo electrónico","2025-03-10",null,"",null,{"$f":"IFERROR(WORKDAY(N1475,Y1475,Hoja1!F1467:F1583),\"\")","v":""},{"$f":"+IF(N1475=\"\",\"\",IF(O1475=\"\",\"SIN RESPUESTA\",(IF(O1475<=P1475,\"A TIEMPO\",\"FUERA DE TIEMPO\"))))","v":""},null,"A TIEMPO",1,0,null,null,{"$f":"IFERROR(VLOOKUP(F1475,Hoja1!$A$50:$C$63,2),\"\")","v":5},{"$f":"IFERROR(VLOOKUP(F1475,Hoja1!$A$50:$C$63,3),\"\")","v":5}]
[1466,20259910028294,"2025-02-24","Persona jurídica","Virtual - Correo electrónico","Solicitud de documentos o información","Registros ambientales",null,"Subdirección de Estudios Ambientales","2025-02-27","Correo electrónico","2025-03-10",null,"",null,{"$f":"IFERROR(WORKDAY(N1476,Y1476,Hoja1!F1468:F1584),\"\")","v":""},{"$f":"+IF(N1476=\"\",\"\",IF(O1476=\"\",\"SIN RESPUESTA\",(IF(O1476<=P1476,\"A TIEMPO\",\"FUERA DE TIEMPO\"))))","v":""},null,"A TIEMPO",3,0,null,null,{"$f":"IFERROR(VLOOKUP(F1476,Hoja1!$A$50:$C$63,2),\"\")","v":5},{"$f":"IFERROR(VLOOKUP(F1476,Hoja1!$A$50:$C$63,3),\"\")","v":5}]
[1467,20259910028324,"2025-02-24","Persona jurídica","Virtual - Correo electrónico","Solicitud de documentos o información","Registros ambientales",null,"Subdirección de Estudios Ambientales","2025-03-03","Correo electrónico","2025-03-10",null,"",null,{"$f":"IFERROR(WORKDAY(N1477,Y1477,Hoja1!F1469:F1585),\"\")","v":""},{"$f":"+IF(N1477=\"\",\"\",IF(O1477=\"\",\"SIN RESPUESTA\",(IF(O1477<=P1477,\"A TIEMPO\",\"FUERA DE TIEMPO\"))))","v":""},null,"A TIEMPO",5,0,null,null,{"$f":"IFERROR(VLOOKUP(F1477,Hoja1!$A$50:$C$63,2),\"\")","v":5},{"$f":"IFERROR(VLOOKUP(F1477,Hoja1!$A$50:$C$63,3),\"\")","v":5}]
[1468,20259910028344,"2025-02-24","Persona jurídica","Virtual - Correo electrónico","Certificación de contrato","Administrativa",null,"Grupo de Contabilidad","2025-03-06","Correo electrónico","2025-03-10",null,"",null,{"$f":"IFERROR(WORKDAY(N1478,Y1478,Hoja1!F1470:F1586),\"\")","v":""},{"$f":"+IF(N1478=\"\",\"\",IF(O1478=\"\",\"SIN RESPUESTA\",(IF(O1478<=P1478,\"A TIEMPO\",\"FUERA DE TIEMPO\"))))","v":""},null,"A TIEMPO",8,0,null,null,{"$f":"IFERROR(VLOOKUP(F1478,Hoja1!$A$50:$C$63,2),\"\")","v":15},{"$f":"IFERROR(VLOOKUP(F1478,Hoja1!$A$50:$C$63,3),\"\")","v":15}]
[1469,20259050028364,"2025-02-24","Persona jurídica","Virtual - Formulario PQRSDF","Solicitud de documentos o información","Registros ambientales",null,"Subdirección de Estudios Ambientales","2025-03-03","Correo electrónico","2025-03-10",null,"",null,{"$f":"IFERROR(WORKDAY(N1479,Y1479,Hoja1!F1471:F1587),\"\")","v":""},{"$f":"+IF(N1479=\"\",\"\",IF(O1479=\"\",\"SIN RESPUESTA\",(IF(O1479<=P1479,\"A TIEMPO\",\"FUERA DE TIEMPO\"))))","v":""},null,"A TIEMPO",5,0,null,null,{"$f":"IFERROR(VLOOKUP(F1479,Hoja1!$A$50:$C$63,2),\"\")","v":5},{"$f":"IFERROR(VLOOKUP(F1479,Hoja1!$A$50:$C$63,3),\"\")","v":5}]
[1470,20259910028154,"2025-02-24","Persona natural","Virtual - Correo electrónico","Certificación de contrato","Administrativa",null,"Oficina Asesora Jurídica","2025-03-13","Correo electrónico","2025-03-10",null,"",null,{"$f":"IFERROR(WORKDAY(N1480,Y1480,Hoja1!F1472:F1588),\"\")","v":""},{"$f":"+IF(N1480=\"\",\"\",IF(O1480=\"\",\"SIN RESPUESTA\",(IF(O1480<=P1480,\"A TIEMPO\",\"FUERA DE TIEMPO\"))))","v":""},null,{"$f":"+IF(C1480=\"\",\"\",IF(J1480=\"\",\"SIN RESPUESTA\",(IF(J1480<=L1480,\"A TIEMPO\",\"FUERA DE TIEMPO\"))))","v":"FUERA DE TIEMPO"},13,3,null,null,{"$f":"IFERROR(VLOOKUP(F1480,Hoja1!$A$50:$C$63,2),\"\")","v":15},{"$f":"IFERROR(VLOOKUP(F1480,Hoja1!$A$50:$C$63,3),\"\")","v":15}]
[1471,20259910028424,"2025-02-24","Persona jurídica","Virtual - Correo electrónico","Solicitud de documentos o información","Pronósticos y alertas",null,"Subdirección de Estudios Ambientales","2025-03-04","Correo electrónico","2025-03-10",null,"",null,{"$f":"IFERROR(WORKDAY(N1481,Y1481,Hoja1!F1473:F1589),\"\")","v":""},{"$f":"+IF(N1481=\"\",\"\",IF(O1481=\"\",\"SIN RESPUESTA\",(IF(O1481<=P1481,\"A TIEMPO\",\"FUERA DE TIEMPO\"))))","v":""},null,"A TIEMPO",6,0,null,null,{"$f":"IFERROR(VLOOKUP(F1481,Hoja1!$A$50:$C$63,2),\"\")","v":5},{"$f":"IFERROR(VLOOKUP(F1481,Hoja1!$A$50:$C$63,3),\"\")","v":5}]
[1472,20259910028214,"2025-02-24","Persona jurídica","Virtual - Correo electrónico","Solicitud de documentos o información","Acreditación de laboratorios",null,"Subdirección de Estudios Ambientales","2025-02-25","No aplica","2025-03-10",null,"",null,{"$f":"IFERROR(WORKDAY(N1482,Y1482,Hoja1!F1474:F1590),\"\")","v":""},{"$f":"+IF(N1482=\"\",\"\",IF(O1482=\"\",\"SIN RESPUESTA\",(IF(O1482<=P1482,\"A TIEMPO\",\"FUERA DE TIEMPO\"))))","v":""},null,"A TIEMPO",1,0,null,null,{"$f":"IFERROR(VLOOKUP(F1482,Hoja1!$A$50:$C$63,2),\"\")","v":5},{"$f":"IFERROR(VLOOKUP(F1482,Hoja1!$A$50:$C$63,3),\"\")","v":5}]
[1473,20259050028264,"2025-02-24","Persona jurídica","Virtual - Formulario PQRSDF","Solicitud de documentos o información","Solicitud de información hidrometeorológica",null,"Grupo de Servicio al Ciudadano","2025-03-10","Correo electrónico","2025-03-10",null,"",null,{"$f":"IFERROR(WORKDAY(N1483,Y1483,Hoja1!F1475:F1591),\"\")","v":""},{"$f":"+IF(N1483=\"\",\"\",IF(O1483=\"\",\"SIN RESPUESTA\",(IF(O1483<=P1483,\"A TIEMPO\",\"FUERA DE TIEMPO\"))))","v":""},null,"A TIEMPO",10,0,null,null,{"$f":"IFERROR(VLOOKUP(F1483,Hoja1!$A$50:$C$63,2),\"\")","v":5},{"$f":"IFERROR(VLOOKUP(F1483,Hoja1!$A$50:$C$63,3),\"\")","v":5}]
[1474,20259910028404,"2025-02-24","Persona jurídica","Virtual - Correo electrónico","Solicitud de documentos o información","Administrativa",null,"Grupo de Administración y Desarrollo del Talento Humano","2025-02-27","Correo electrónico","2025-03-10",null,"",null,{"$f":"IFERROR(WORKDAY(N1484,Y1484,Hoja1!F1476:F1592),\"\")","v":""},{"$f":"+IF(N1484=\"\",\"\",IF(O1484=\"\",\"SIN RESPUESTA\",(IF(O1484<=P1484,\"A TIEMPO\",\"FUERA DE TIEMPO\"))))","v":""},null,"A TIEMPO",3,0,null,null,{"$f":"IFERROR(VLOOKUP(F1484,Hoja1!$A$50:$C$63,2),\"\")","v":5},{"$f":"IFERROR(VLOOKUP(F1484,Hoja1!$A$50:$C$63,3),\"\")","v":5}]
[1475,20259910028144,"2025-02-24","Persona jurídica","Virtual - Correo electrónico","Solicitud de documentos o información","Registros ambientales",null,"Subdirección de Estudios Ambientales","2025-03-06","Correo electrónico","2025-03-10",null,"",null,{"$f":"IFERROR(WORKDAY(N1485,Y1485,Hoja1!F1477:F1593),\"\")","v":""},{"$f":"+IF(N1485=\"\",\"\",IF(O1485=\"\",\"SIN RESPUESTA\",(IF(O1485<=P1485,\"A TIEMPO\",\"FUERA DE TIEMPO\"))))","v":""},null,"A TIEMPO",8,0,null,null,{"$f":"IFERROR(VLOOKUP(F1485,Hoja1!$A$50:$C$63,2),\"\")","v":5},{"$f":"IFERROR(VLOOKUP(F1485,Hoja1!$A$50:$C$63,3),\"\")","v":5}]
[1476,20259910028234,"2025-02-24","Persona jurídica","Virtual - Correo electrónico","Solicitud de documentos o información","Visitas académicas",null,"Área Operativa No. 3 - Villavicencio","2025-03-06","Correo electrónico","2025-03-10",null,"",null,{"$f":"IFERROR(WORKDAY(N1486,Y1486,Hoja1!F1478:F1594),\"\")","v":""},{"$f":"+IF(N1486=\"\",\"\",IF(O1486=\"\",\"SIN RESPUESTA\",(IF(O1486<=P1486,\"A TIEMPO\",\"FUERA DE TIEMPO\"))))","v":""},null,"A TIEMPO",8,0,null,null,{"$f":"IFERROR(VLOOKUP(F1486,Hoja1!$A$50:$C$63,2),\"\")","v":5},{"$f":"IFERROR(VLOOKUP(F1486,Hoja1!$A$50:$C$63,3),\"\")","v":5}]
[1477,20259910028164,"2025-02-24","Persona natural","Virtual - Correo electrónico","Solicitud de documentos o información","Sistema de información del recurso hídrico",null,"Subdirección de Hidrología","2025-02-26","Correo electrónico","2025-03-10",null,"",null,{"$f":"IFERROR(WORKDAY(N1487,Y1487,Hoja1!F1479:F1595),\"\")","v":""},{"$f":"+IF(N1487=\"\",\"\",IF(O1487=\"\",\"SIN RESPUESTA\",(IF(O1487<=P1487,\"A TIEMPO\",\"FUERA DE TIEMPO\"))))","v":""},null,"A TIEMPO",2,0,null,null,{"$f":"IFERROR(VLOOKUP(F1487,Hoja1!$A$50:$C$63,2),\"\")","v":5},{"$f":"IFERROR(VLOOKUP(F1487,Hoja1!$A$50:$C$63,3),\"\")","v":5}]
[1478,20259910028204,"2025-02-24","Persona jurídica","Virtual - Correo electrónico","Petición entre autoridades","Certificaciones del tiempo y clima",null,"Subdirección de Hidrología","2025-03-10","Correo electrónico","2025-03-10",null,"",null,{"$f":"IFERROR(WORKDAY(N1488,Y1488,Hoja1!F1480:F1596),\"\")","v":""},{"$f":"+IF(N1488=\"\",\"\",IF(O1488=\"\",\"SIN RESPUESTA\",(IF(O1488<=P1488,\"A TIEMPO\",\"FUERA DE TIEMPO\"))))","v":""},null,"A TIEMPO",10,0,null,null,{"$f":"IFERROR(VLOOKUP(F1488,Hoja1!$A$50:$C$63,2),\"\")","v":10},{"$f":"IFERROR(VLOOKUP(F1488,Hoja1!$A$50:$C$63,3),\"\")","v":10}]
[{"$f":"IF(B1489<>\"\",A1488+1,\"\")","v":1479},20259910028024,"2025-02-24","Persona jurídica","Virtual - Correo electrónico","Solicitud de documentos o información","Administrativa",null,"Grupo de Comunicaciones","2025-03-10","Correo electrónico","2025-03-10",null,"",null,{"$f":"IFERROR(WORKDAY(N1489,Y1489,Hoja1!F1481:F1597),\"\")","v":""},{"$f":"+IF(N1489=\"\",\"\",IF(O1489=\"\",\"SIN RESPUESTA\",(IF(O1489<=P1489,\"A TIEMPO\",\"FUERA DE TIEMPO\"))))","v":""},null,"A TIEMPO",10,0,null,null,{"$f":"IFERROR(VLOOKUP(F1489,Hoja1!$A$50:$C$63,2),\"\")","v":5},{"$f":"IFERROR(VLOOKUP(F1489,Hoja1!$A$50:$C$63,3),\"\")","v":5}]
[1480,20259910028284,"2025-02-24","Persona jurídica","Virtual - Correo electrónico","Petición entre autoridades","Laboratorio de calidad ambiental",null,"Subdirección de Hidrología","2025-03-20","Correo electrónico","2025-03-10","Si","2025-03-26","2025-03-20",{"$f":"IFERROR(WORKDAY(N1490,Y1490,Hoja1!F1482:F1598),\"\")","v":"2025-04-09"},{"$f":"+IF(N1490=\"\",\"\",IF(O1490=\"\",\"SIN RESPUESTA\",(IF(O1490<=P1490,\"A TIEMPO\",\"FUERA DE TIEMPO\"))))","v":"A TIEMPO"},null,"A TIEMPO",17,0,null,null,{"$f":"IFERROR(VLOOKUP(F1490,Hoja1!$A$50:$C$63,2),\"\")","v":10},{"$f":"IFERROR(VLOOKUP(F1490,Hoja1!$A$50:$C$63,3),\"\")","v":10}]
[1481,20259910028394,"2025-02-24","Persona jurídica","Virtual - Correo electrónico","Solicitud judicial","Certificaciones del tiempo y clima",null,"Subdirección de Meteorología","2025-03-03","Correo electrónico","2025-03-03",null,"",null,{"$f":"IFERROR(WORKDAY(N1491,Y1491,Hoja1!F1483:F1599),\"\")","v":""},{"$f":"+IF(N1491=\"\",\"\",IF(O1491=\"\",\"SIN RESPUESTA\",(IF(O1491<=P1491,\"A TIEMPO\",\"FUERA DE TIEMPO\"))))","v":""},null,"A TIEMPO",5,0,null,null,{"$f":"IFERROR(VLOOKUP(F1491,Hoja1!$A$50:$C$63,2),\"\")","v":5},{"$f":"IFERROR(VLOOKUP(F1491,Hoja1!$A$50:$C$63,3),\"\")","v":5}]
[1482,20259910028444,"2025-02-24","Persona jurídica","Virtual - Correo electrónico","Solicitud de documentos o información","Registros ambientales",null,"Subdirección de Estudios Ambientales","2025-03-06","Correo electrónico","2025-03-10",null,"",null,{"$f":"IFERROR(WORKDAY(N1492,Y1492,Hoja1!F1484:F1600),\"\")","v":""},{"$f":"+IF(N1492=\"\",\"\",IF(O1492=\"\",\"SIN RESPUESTA\",(IF(O1492<=P1492,\"A TIEMPO\",\"FUERA DE TIEMPO\"))))","v":""},null,"A TIEMPO",8,0,null,null,{"$f":"IFERROR(VLOOKUP(F1492,Hoja1!$A$50:$C$63,2),\"\")","v":5},{"$f":"IFERROR(VLOOKUP(F1492,Hoja1!$A$50:$C$63,3),\"\")","v":5}]
[1483,20259910028464,"2025-02-24","Persona jurídica","Virtual - Correo electrónico","Certificación de contrato","Administrativa",null,"Oficina Asesora Jurídica","2025-04-04","Correo electrónico","2025-03-10",null,"",null,{"$f":"IFERROR(WORKDAY(N1493,Y1493,Hoja1!F1485:F1601),\"\")","v":""},{"$f":"+IF(N1493=\"\",\"\",IF(O1493=\"\",\"SIN RESPUESTA\",(IF(O1493<=P1493,\"A TIEMPO\",\"FUERA DE TIEMPO\"))))","v":""},null,{"$f":"+IF(C1493=\"\",\"\",IF(J1493=\"\",\"SIN RESPUESTA\",(IF(J1493<=L1493,\"A TIEMPO\",\"FUERA DE TIEMPO\"))))","v":"FUERA DE TIEMPO"},27,17,null,null,{"$f":"IFERROR(VLOOKUP(F1493,Hoja1!$A$50:$C$63,2),\"\")","v":15},{"$f":"IFERROR(VLOOKUP(F1493,Hoja1!$A$50:$C$63,3),\"\")","v":15}]
[1484,20259910028474,"2025-02-24","Persona jurídica","Virtual - Correo electrónico","Solicitud de documentos o información","Registros ambientales",null,"Subdirección de Estudios Ambientales","2025-03-07","Correo electrónico","2025-03-10",null,"",null,{"$f":"IFERROR(WORKDAY(N1494,Y1494,Hoja1!F1486:F1602),\"\")","v":""},{"$f":"+IF(N1494=\"\",\"\",IF(O1494=\"\",\"SIN RESPUESTA\",(IF(O1494<=P1494,\"A TIEMPO\",\"FUERA DE TIEMPO\"))))","v":""},null,"A TIEMPO",9,0,null,null,{"$f":"IFERROR(VLOOKUP(F1494,Hoja1!$A$50:$C$63,2),\"\")","v":5},{"$f":"IFERROR(VLOOKUP(F1494,Hoja1!$A$50:$C$63,3),\"\")","v":5}]
[1485,20259910028484,"2025-02-24","Persona jurídica","Virtual - Correo electrónico","Solicitud de documentos o información","Registros ambientales",null,"Subdirección de Estudios Ambientales","2025-03-06","Correo electrónico","2025-03-10",null,"",null,{"$f":"IFERROR(WORKDAY(N1495,Y1495,Hoja1!F1487:F1603),\"\")","v":""},{"$f":"+IF(N1495=\"\",\"\",IF(O1495=\"\",\"SIN RESPUESTA\",(IF(O1495<=P1495,\"A TIEMPO\",\"FUERA DE TIEMPO\"))))","v":""},null,"A TIEMPO",8,0,null,null,{"$f":"IFERROR(VLOOKUP(F1495,Hoja1!$A$50:$C$63,2),\"\")","v":5},{"$f":"IFERROR(VLOOKUP(F1495,Hoja1!$A$50:$C$63,3),\"\")","v":5}]
[1486,20259910028494,"2025-02-24","Persona natural","Virtual - Correo electrónico","Solicitud de documentos o información","Administrativa",null,"Grupo de Administración y Desarrollo del Talento Humano","2025-03-10","Correo electrónico","2025-03-10",null,"",null,{"$f":"IFERROR(WORKDAY(N1496,Y1496,Hoja1!F1488:F1604),\"\")","v":""},{"$f":"+IF(N1496=\"\",\"\",IF(O1496=\"\",\"SIN RESPUESTA\",(IF(O1496<=P1496,\"A TIEMPO\",\"FUERA DE TIEMPO\"))))","v":""},null,"A TIEMPO",10,0,null,null,{"$f":"IFERROR(VLOOKUP(F1496,Hoja1!$A$50:$C$63,2),\"\")","v":5},{"$f":"IFERROR(VLOOKUP(F1496,Hoja1!$A$50:$C$63,3),\"\")","v":5}]
[1487,20259910028504,"2025-02-24","Persona natural","Virtual - Correo electrónico","Solicitud de documentos o información","Solicitud de información hidrometeorológica",null,"Subdirección de Meteorología","2025-03-03","Correo electrónico","2025-03-10",null,"",null,{"$f":"IFERROR(WORKDAY(N1497,Y1497,Hoja1!F1489:F1605),\"\")","v":""},{"$f":"+IF(N1497=\"\",\"\",IF(O1497=\"\",\"SIN RESPUESTA\",(IF(O1497<=P1497,\"A TIEMPO\",\"FUERA DE TIEMPO\"))))","v":""},null,"A TIEMPO",5,0,null,null,{"$f":"IFERROR(VLOOKUP(F1497,Hoja1!$A$50:$C$63,2),\"\")","v":5},{"$f":"IFERROR(VLOOKUP(F1497,Hoja1!$A$50:$C$63,3),\"\")","v":5}]
[1488,20259050028514,"2025-02-24","Persona jurídica","Virtual - Formulario PQRSDF","Solicitud de documentos o información","Registros ambientales",null,"Subdirección de Estudios Ambientales","2025-03-06","Correo electrónico","2025-03-10",null,"",null,{"$f":"IFERROR(WORKDAY(N1498,Y1498,Hoja1!F1490:F1606),\"\")","v":""},{"$f":"+IF(N1498=\"\",\"\",IF(O1498=\"\",\"SIN RESPUESTA\",(IF(O1498<=P1498,\"A TIEMPO\",\"FUERA DE TIEMPO\"))))","v":""},null,"A TIEMPO",8,0,null,null,{"$f":"IFERROR(VLOOKUP(F1498,Hoja1!$A$50:$C$63,2),\"\")","v":5},{"$f":"IFERROR(VLOOKUP(F1498,Hoja1!$A$50:$C$63,3),\"\")","v":5}]
[1489,20259050028554,"2025-02-24","Persona jurídica","Virtual - Formulario PQRSDF","Solicitud de documentos o información","Registros ambientales",null,"Subdirección de Estudios Ambientales","2025-03-03","Correo electrónico","2025-03-10",null,"",null,{"$f":"IFERROR(WORKDAY(N1499,Y1499,Hoja1!F1491:F1607),\"\")","v":""},{"$f":"+IF(N1499=\"\",\"\",IF(O1499=\"\",\"SIN RESPUESTA\",(IF(O1499<=P1499,\"A TIEMPO\",\"FUERA DE TIEMPO\"))))","v":""},null,"A TIEMPO",5,0,null,null,{"$f":"IFERROR(VLOOKUP(F1499,Hoja1!$A$50:$C$63,2),\"\")","v":5},{"$f":"IFERROR(VLOOKUP(F1499,Hoja1!$A$50:$C$63,3),\"\")","v":5}]
[1490,20259910028574,"2025-02-24","Persona jurídica","Virtual - Correo electrónico","Solicitud de documentos o información","Registros ambientales",null,"Subdirección de Estudios Ambientales","2025-03-06","Correo electrónico","2025-03-10",null,"",null,{"$f":"IFERROR(WORKDAY(N1500,Y1500,Hoja1!F1492:F1608),\"\")","v":""},{"$f":"+IF(N1500=\"\",\"\",IF(O1500=\"\",\"SIN RESPUESTA\",(IF(O1500<=P1500,\"A TIEMPO\",\"FUERA DE TIEMPO\"))))","v":""},null,"A TIEMPO",8,0,null,null,{"$f":"IFERROR(VLOOKUP(F1500,Hoja1!$A$50:$C$63,2),\"\")","v":5},{"$f":"IFERROR(VLOOKUP(F1500,Hoja1!$A$50:$C$63,3),\"\")","v":5}]
[1491,20259910028524,"2025-02-24","Persona jurídica","Virtual - Correo electrónico","Solicitud judicial","Jurídico",null,"Oficina Asesora Jurídica","2025-03-02","No aplica","2025-03-03",null,"",null,{"$f":"IFERROR(WORKDAY(N1501,Y1501,Hoja1!F1493:F1609),\"\")","v":""},{"$f":"+IF(N1501=\"\",\"\",IF(O1501=\"\",\"SIN RESPUESTA\",(IF(O1501<=P1501,\"A TIEMPO\",\"FUERA DE TIEMPO\"))))","v":""},null,"A TIEMPO",4,0,null,null,{"$f":"IFERROR(VLOOKUP(F1501,Hoja1!$A$50:$C$63,2),\"\")","v":5},{"$f":"IFERROR(VLOOKUP(F1501,Hoja1!$A$50:$C$63,3),\"\")","v":5}]
[1492,20259910026752,"2025-02-20","Persona jurídica","Virtual - Correo electrónico","Certificación de contrato","Administrativa",null,"Oficina Asesora Jurídica",null,null,"2025-03-06",null,"",null,{"$f":"IFERROR(WORKDAY(N1502,Y1502,Hoja1!F1494:F1610),\"\")","v":""},{"$f":"+IF(N1502=\"\",\"\",IF(O1502=\"\",\"SIN RESPUESTA\",(IF(O1502<=P1502,\"A TIEMPO\",\"FUERA DE TIEMPO\"))))","v":""},null,{"$f":"+IF(C1502=\"\",\"\",IF(J1502=\"\",\"SIN RESPUESTA\",(IF(J1502<=L1502,\"A TIEMPO\",\"FUERA DE TIEMPO\"))))","v":"SIN RESPUESTA"},0,0,null,null,{"$f":"IFERROR(VLOOKUP(F1502,Hoja1!$A$50:$C$63,2),\"\")","v":15},{"$f":"IFERROR(VLOOKUP(F1502,Hoja1!$A$50:$C$63,3),\"\")","v":15}]
[1493,20259910028584,"2025-02-24","Persona natural","Virtual - Correo electrónico","Solicitud de documentos o información","Sistema de información ambiental",null,"Subdirección de Estudios Ambientales","2025-03-11","Correo electrónico","2025-03-10",null,"",null,{"$f":"IFERROR(WORKDAY(N1503,Y1503,Hoja1!F1495:F1611),\"\")","v":""},{"$f":"+IF(N1503=\"\",\"\",IF(O1503=\"\",\"SIN RESPUESTA\",(IF(O1503<=P1503,\"A TIEMPO\",\"FUERA DE TIEMPO\"))))","v":""},null,{"$f":"+IF(C1503=\"\",\"\",IF(J1503=\"\",\"SIN RESPUESTA\",(IF(J1503<=L1503,\"A TIEMPO\",\"FUERA DE TIEMPO\"))))","v":"FUERA DE TIEMPO"},11,1,null,null,{"$f":"IFERROR(VLOOKUP(F1503,Hoja1!$A$50:$C$63,2),\"\")","v":5},{"$f":"IFERROR(VLOOKUP(F1503,Hoja1!$A$50:$C$63,3),\"\")","v":5}]
[1494,20259910028594,"2025-02-24","Persona jurídica","Virtual - Correo electrónico","Solicitud de documentos o información","Registros ambientales",null,"Subdirección de Estudios Ambientales","2025-03-03","Correo electrónico","2025-03-10",null,"",null,{"$f":"IFERROR(WORKDAY(N1504,Y1504,Hoja1!F1496:F1612),\"\")","v":""},{"$f":"+IF(N1504=\"\",\"\",IF(O1504=\"\",\"SIN RESPUESTA\",(IF(O1504<=P1504,\"A TIEMPO\",\"FUERA DE TIEMPO\"))))","v":""},null,"A TIEMPO",5,0,null,null,{"$f":"IFERROR(VLOOKUP(F1504,Hoja1!$A$50:$C$63,2),\"\")","v":5},{"$f":"IFERROR(VLOOKUP(F1504,Hoja1!$A$50:$C$63,3),\"\")","v":5}]
[1495,20259910028604,"2025-02-24","Persona jurídica","Virtual - Correo electrónico","Solicitud de documentos o información","Registros ambientales",null,"Subdirección de Estudios Ambientales","2025-03-06","Correo electrónico","2025-03-10",null,"",null,{"$f":"IFERROR(WORKDAY(N1505,Y1505,Hoja1!F1497:F1613),\"\")","v":""},{"$f":"+IF(N1505=\"\",\"\",IF(O1505=\"\",\"SIN RESPUESTA\",(IF(O1505<=P1505,\"A TIEMPO\",\"FUERA DE TIEMPO\"))))","v":""},null,"A TIEMPO",8,0,null,null,{"$f":"IFERROR(VLOOKUP(F1505,Hoja1!$A$50:$C$63,2),\"\")","v":5},{"$f":"IFERROR(VLOOKUP(F1505,Hoja1!$A$50:$C$63,3),\"\")","v":5}]
[1496,20259910028624,"2025-02-24","Persona natural","Virtual - Correo electrónico","Solicitud de documentos o información","Solicitud de información hidrometeorológica",null,"Subdirección de Meteorología","2025-03-05","Correo electrónico","2025-03-10",null,"",null,{"$f":"IFERROR(WORKDAY(N1506,Y1506,Hoja1!F1498:F1614),\"\")","v":""},{"$f":"+IF(N1506=\"\",\"\",IF(O1506=\"\",\"SIN RESPUESTA\",(IF(O1506<=P1506,\"A TIEMPO\",\"FUERA DE TIEMPO\"))))","v":""},null,"A TIEMPO",7,0,null,null,{"$f":"IFERROR(VLOOKUP(F1506,Hoja1!$A$50:$C$63,2),\"\")","v":5},{"$f":"IFERROR(VLOOKUP(F1506,Hoja1!$A$50:$C$63,3),\"\")","v":5}]
[1497,20259910028644,"2025-02-24","Persona jurídica","Virtual - Correo electrónico","Solicitud de documentos o información","Registros ambientales",null,"Subdirección de Estudios Ambientales","2025-03-07","Correo electrónico","2025-03-10",null,"",null,{"$f":"IFERROR(WORKDAY(N1507,Y1507,Hoja1!F1499:F1615),\"\")","v":""},{"$f":"+IF(N1507=\"\",\"\",IF(O1507=\"\",\"SIN RESPUESTA\",(IF(O1507<=P1507,\"A TIEMPO\",\"FUERA DE TIEMPO\"))))","v":""},null,"A TIEMPO",9,0,null,null,{"$f":"IFERROR(VLOOKUP(F1507,Hoja1!$A$50:$C$63,2),\"\")","v":5},{"$f":"IFERROR(VLOOKUP(F1507,Hoja1!$A$50:$C$63,3),\"\")","v":5}]
[1498,20259050028664,"2025-02-24","Persona natural","Virtual - Formulario PQRSDF","Solicitud de documentos o información","Solicitud de información hidrometeorológica",null,"Subdirección de Hidrología","2025-03-03","Correo electrónico","2025-03-10",null,"",null,{"$f":"IFERROR(WORKDAY(N1508,Y1508,Hoja1!F1500:F1616),\"\")","v":""},{"$f":"+IF(N1508=\"\",\"\",IF(O1508=\"\",\"SIN RESPUESTA\",(IF(O1508<=P1508,\"A TIEMPO\",\"FUERA DE TIEMPO\"))))","v":""},null,"A TIEMPO",5,0,null,null,{"$f":"IFERROR(VLOOKUP(F1508,Hoja1!$A$50:$C$63,2),\"\")","v":5},{"$f":"IFERROR(VLOOKUP(F1508,Hoja1!$A$50:$C$63,3),\"\")","v":5}]
[1499,20259050028674,"2025-02-25","Persona natural","Virtual - Formulario PQRSDF","Certificación laboral o pasantía","Administrativa",null,"Grupo de Administración y Desarrollo del Talento Humano","2025-03-12","Correo electrónico","2025-03-11",null,"",null,{"$f":"IFERROR(WORKDAY(N1509,Y1509,Hoja1!F1501:F1617),\"\")","v":""},{"$f":"+IF(N1509=\"\",\"\",IF(O1509=\"\",\"SIN RESPUESTA\",(IF(O1509<=P1509,\"A TIEMPO\",\"FUERA DE TIEMPO\"))))","v":""},null,{"$f":"+IF(C1509=\"\",\"\",IF(J1509=\"\",\"SIN RESPUESTA\",(IF(J1509<=L1509,\"A TIEMPO\",\"FUERA DE TIEMPO\"))))","v":"FUERA DE TIEMPO"},11,1,null,null,{"$f":"IFERROR(VLOOKUP(F1509,Hoja1!$A$50:$C$63,2),\"\")","v":15},{"$f":"IFERROR(VLOOKUP(F1509,Hoja1!$A$50:$C$63,3),\"\")","v":15}]
[1500,20259050028714,"2025-02-25","Persona natural","Virtual - Formulario PQRSDF","Solicitud de documentos o información","Administrativa",null,"Grupo de Administración y Desarrollo del Talento Humano","2025-03-11","Correo electrónico","2025-03-11",null,"",null,{"$f":"IFERROR(WORKDAY(N1510,Y1510,Hoja1!F1502:F1618),\"\")","v":""},{"$f":"+IF(N1510=\"\",\"\",IF(O1510=\"\",\"SIN RESPUESTA\",(IF(O1510<=P1510,\"A TIEMPO\",\"FUERA DE TIEMPO\"))))","v":""},null,"A TIEMPO",10,0,null,null,{"$f":"IFERROR(VLOOKUP(F1510,Hoja1!$A$50:$C$63,2),\"\")","v":5},{"$f":"IFERROR(VLOOKUP(F1510,Hoja1!$A$50:$C$63,3),\"\")","v":5}]
[1501,20259910028724,"2025-02-24","Persona natural","Virtual - Correo electrónico","Solicitud de documentos o información","Solicitud de información hidrometeorológica",null,"Grupo de Servicio al Ciudadano","2025-03-10","Correo electrónico","2025-03-10",null,"",null,{"$f":"IFERROR(WORKDAY(N1511,Y1511,Hoja1!F1503:F1619),\"\")","v":""},{"$f":"+IF(N1511=\"\",\"\",IF(O1511=\"\",\"SIN RESPUESTA\",(IF(O1511<=P1511,\"A TIEMPO\",\"FUERA DE TIEMPO\"))))","v":""},null,"A TIEMPO",10,0,null,null,{"$f":"IFERROR(VLOOKUP(F1511,Hoja1!$A$50:$C$63,2),\"\")","v":5},{"$f":"IFERROR(VLOOKUP(F1511,Hoja1!$A$50:$C$63,3),\"\")","v":5}]
[1502,20259910028744,"2025-02-24","Persona natural","Virtual - Correo electrónico","Certificación de ingresos y retenciones","Administrativa",null,"Grupo de Tesorería","2025-03-13","Correo electrónico","2025-03-10",null,"",null,{"$f":"IFERROR(WORKDAY(N1512,Y1512,Hoja1!F1504:F1620),\"\")","v":""},{"$f":"+IF(N1512=\"\",\"\",IF(O1512=\"\",\"SIN RESPUESTA\",(IF(O1512<=P1512,\"A TIEMPO\",\"FUERA DE TIEMPO\"))))","v":""},null,{"$f":"+IF(C1512=\"\",\"\",IF(J1512=\"\",\"SIN RESPUESTA\",(IF(J1512<=L1512,\"A TIEMPO\",\"FUERA DE TIEMPO\"))))","v":"FUERA DE TIEMPO"},13,3,null,null,{"$f":"IFERROR(VLOOKUP(F1512,Hoja1!$A$50:$C$63,2),\"\")","v":15},{"$f":"IFERROR(VLOOKUP(F1512,Hoja1!$A$50:$C$63,3),\"\")","v":15}]
[1503,20259050028834,"2025-02-25","Anónimo","Virtual - Formulario PQRSDF","Solicitud de documentos o información","Acreditación de laboratorios",null,"Subdirección de Estudios Ambientales","2025-03-05","Página web","2025-03-11",null,"",null,{"$f":"IFERROR(WORKDAY(N1513,Y1513,Hoja1!F1505:F1621),\"\")","v":""},{"$f":"+IF(N1513=\"\",\"\",IF(O1513=\"\",\"SIN RESPUESTA\",(IF(O1513<=P1513,\"A TIEMPO\",\"FUERA DE TIEMPO\"))))","v":""},null,"A TIEMPO",6,0,null,null,{"$f":"IFERROR(VLOOKUP(F1513,Hoja1!$A$50:$C$63,2),\"\")","v":5},{"$f":"IFERROR(VLOOKUP(F1513,Hoja1!$A$50:$C$63,3),\"\")","v":5}]
[1504,20259910028784,"2025-02-25","Persona jurídica","Virtual - Correo electrónico","Solicitud de documentos o información","Registros ambientales",null,"Subdirección de Estudios Ambientales","2025-03-06","Correo electrónico","2025-03-11",null,"",null,{"$f":"IFERROR(WORKDAY(N1514,Y1514,Hoja1!F1506:F1622),\"\")","v":""},{"$f":"+IF(N1514=\"\",\"\",IF(O1514=\"\",\"SIN RESPUESTA\",(IF(O1514<=P1514,\"A TIEMPO\",\"FUERA DE TIEMPO\"))))","v":""},null,"A TIEMPO",7,0,null,null,{"$f":"IFERROR(VLOOKUP(F1514,Hoja1!$A$50:$C$63,2),\"\")","v":5},{"$f":"IFERROR(VLOOKUP(F1514,Hoja1!$A$50:$C$63,3),\"\")","v":5}]
[1505,20259050028894,"2025-02-25","Persona natural","Virtual - Formulario PQRSDF","Certificación laboral o pasantía","Administrativa",null,"Grupo de Administración y Desarrollo del Talento Humano","2025-03-12","Correo electrónico","2025-03-11",null,"",null,{"$f":"IFERROR(WORKDAY(N1515,Y1515,Hoja1!F1507:F1623),\"\")","v":""},{"$f":"+IF(N1515=\"\",\"\",IF(O1515=\"\",\"SIN RESPUESTA\",(IF(O1515<=P1515,\"A TIEMPO\",\"FUERA DE TIEMPO\"))))","v":""},null,{"$f":"+IF(C1515=\"\",\"\",IF(J1515=\"\",\"SIN RESPUESTA\",(IF(J1515<=L1515,\"A TIEMPO\",\"FUERA DE TIEMPO\"))))","v":"FUERA DE TIEMPO"},11,1,null,null,{"$f":"IFERROR(VLOOKUP(F1515,Hoja1!$A$50:$C$63,2),\"\")","v":15},{"$f":"IFERROR(VLOOKUP(F1515,Hoja1!$A$50:$C$63,3),\"\")","v":15}]
[1506,20259050028804,"2025-02-25","Persona jurídica","Virtual - Formulario PQRSDF","Certificación de ingresos y retenciones","Administrativa",null,"Grupo de Tesorería","2025-02-26","Correo electrónico","2025-03-11",null,"",null,{"$f":"IFERROR(WORKDAY(N1516,Y1516,Hoja1!F1508:F1624),\"\")","v":""},{"$f":"+IF(N1516=\"\",\"\",IF(O1516=\"\",\"SIN RESPUESTA\",(IF(O1516<=P1516,\"A TIEMPO\",\"FUERA DE TIEMPO\"))))","v":""},null,"A TIEMPO",1,0,null,null,{"$f":"IFERROR(VLOOKUP(F1516,Hoja1!$A$50:$C$63,2),\"\")","v":15},{"$f":"IFERROR(VLOOKUP(F1516,Hoja1!$A$50:$C$63,3),\"\")","v":15}]
[1507,20259910028814,"2025-02-25","Persona natural","Virtual - Correo electrónico","Certificación laboral o pasantía","Administrativa",null,"Grupo de Administración y Desarrollo del Talento Humano","2025-03-12","Correo electrónico","2025-03-11",null,"",null,{"$f":"IFERROR(WORKDAY(N1517,Y1517,Hoja1!F1509:F1625),\"\")","v":""},{"$f":"+IF(N1517=\"\",\"\",IF(O1517=\"\",\"SIN RESPUESTA\",(IF(O1517<=P1517,\"A TIEMPO\",\"FUERA DE TIEMPO\"))))","v":""},null,{"$f":"+IF(C1517=\"\",\"\",IF(J1517=\"\",\"SIN RESPUESTA\",(IF(J1517<=L1517,\"A TIEMPO\",\"FUERA DE TIEMPO\"))))","v":"FUERA DE TIEMPO"},11,1,null,null,{"$f":"IFERROR(VLOOKUP(F1517,Hoja1!$A$50:$C$63,2),\"\")","v":15},{"$f":"IFERROR(VLOOKUP(F1517,Hoja1!$A$50:$C$63,3),\"\")","v":15}]
[1508,20259910028824,"2025-02-25","Persona jurídica","Virtual - Correo electrónico","Certificación de tiempo, clima y eventos hidrológicos","Certificaciones del tiempo y clima",null,"Subdirección de Meteorología","2025-03-26","Correo electrónico","2025-04-10",null,"",null,{"$f":"IFERROR(WORKDAY(N1518,Y1518,Hoja1!F1510:F1626),\"\")","v":""},{"$f":"+IF(N1518=\"\",\"\",IF(O1518=\"\",\"SIN RESPUESTA\",(IF(O1518<=P1518,\"A TIEMPO\",\"FUERA DE TIEMPO\"))))","v":""},null,"A TIEMPO",19,0,null,null,{"$f":"IFERROR(VLOOKUP(F1518,Hoja1!$A$50:$C$63,2),\"\")","v":15},{"$f":"IFERROR(VLOOKUP(F1518,Hoja1!$A$50:$C$63,3),\"\")","v":15}]
[1509,20259910028844,"2025-02-25","Persona natural","Virtual - Correo electrónico","Solicitud de documentos o información","Administrativa",null,"Grupo de Administración y Desarrollo del Talento Humano","2025-03-10","Correo electrónico","2025-03-11",null,"",null,{"$f":"IFERROR(WORKDAY(N1519,Y1519,Hoja1!F1511:F1627),\"\")","v":""},{"$f":"+IF(N1519=\"\",\"\",IF(O1519=\"\",\"SIN RESPUESTA\",(IF(O1519<=P1519,\"A TIEMPO\",\"FUERA DE TIEMPO\"))))","v":""},null,"A TIEMPO",9,0,null,null,{"$f":"IFERROR(VLOOKUP(F1519,Hoja1!$A$50:$C$63,2),\"\")","v":5},{"$f":"IFERROR(VLOOKUP(F1519,Hoja1!$A$50:$C$63,3),\"\")","v":5}]
[1510,20259910028864,"2025-02-25","Persona natural","Virtual - Correo electrónico","Solicitud de documentos o información","Solicitud de información hidrometeorológica",null,"Grupo de Servicio al Ciudadano","2025-03-10","Correo electrónico","2025-03-11",null,"",null,{"$f":"IFERROR(WORKDAY(N1520,Y1520,Hoja1!F1512:F1628),\"\")","v":""},{"$f":"+IF(N1520=\"\",\"\",IF(O1520=\"\",\"SIN RESPUESTA\",(IF(O1520<=P1520,\"A TIEMPO\",\"FUERA DE TIEMPO\"))))","v":""},null,"A TIEMPO",9,0,null,null,{"$f":"IFERROR(VLOOKUP(F1520,Hoja1!$A$50:$C$63,2),\"\")","v":5},{"$f":"IFERROR(VLOOKUP(F1520,Hoja1!$A$50:$C$63,3),\"\")","v":5}]
[1511,20259910028884,"2025-02-25","Persona jurídica","Virtual - Correo electrónico","Solicitud de documentos o información","Solicitud de información hidrometeorológica",null,"Subdirección de Meteorología","2025-03-05","Correo electrónico","2025-03-11",null,"",null,{"$f":"IFERROR(WORKDAY(N1521,Y1521,Hoja1!F1513:F1629),\"\")","v":""},{"$f":"+IF(N1521=\"\",\"\",IF(O1521=\"\",\"SIN RESPUESTA\",(IF(O1521<=P1521,\"A TIEMPO\",\"FUERA DE TIEMPO\"))))","v":""},null,"A TIEMPO",6,0,null,null,{"$f":"IFERROR(VLOOKUP(F1521,Hoja1!$A$50:$C$63,2),\"\")","v":5},{"$f":"IFERROR(VLOOKUP(F1521,Hoja1!$A$50:$C$63,3),\"\")","v":5}]
[1512,20259910028904,"2025-02-25","Persona jurídica","Virtual - Correo electrónico","Solicitud de documentos o información","Solicitud de información hidrometeorológica",null,"Subdirección de Meteorología","2025-03-05","Correo electrónico","2025-03-11",null,"",null,{"$f":"IFERROR(WORKDAY(N1522,Y1522,Hoja1!F1514:F1630),\"\")","v":""},{"$f":"+IF(N1522=\"\",\"\",IF(O1522=\"\",\"SIN RESPUESTA\",(IF(O1522<=P1522,\"A TIEMPO\",\"FUERA DE TIEMPO\"))))","v":""},null,"A TIEMPO",6,0,null,null,{"$f":"IFERROR(VLOOKUP(F1522,Hoja1!$A$50:$C$63,2),\"\")","v":5},{"$f":"IFERROR(VLOOKUP(F1522,Hoja1!$A$50:$C$63,3),\"\")","v":5}]
[1513,20259910028924,"2025-02-25","Persona jurídica","Virtual - Correo electrónico","Solicitud judicial","Bosques",null,"Secretaría General","2025-03-03","Correo electrónico","2025-03-04",null,"",null,{"$f":"IFERROR(WORKDAY(N1523,Y1523,Hoja1!F1515:F1631),\"\")","v":""},{"$f":"+IF(N1523=\"\",\"\",IF(O1523=\"\",\"SIN RESPUESTA\",(IF(O1523<=P1523,\"A TIEMPO\",\"FUERA DE TIEMPO\"))))","v":""},null,"A TIEMPO",4,0,null,null,{"$f":"IFERROR(VLOOKUP(F1523,Hoja1!$A$50:$C$63,2),\"\")","v":5},{"$f":"IFERROR(VLOOKUP(F1523,Hoja1!$A$50:$C$63,3),\"\")","v":5}]
[1514,20259050029044,"2025-02-25","Persona natural","Virtual - Formulario PQRSDF","Solicitud de documentos o información","Administrativa",null,"Grupo de Administración y Desarrollo del Talento Humano","2025-03-10","Correo electrónico","2025-03-11",null,"",null,{"$f":"IFERROR(WORKDAY(N1524,Y1524,Hoja1!F1516:F1632),\"\")","v":""},{"$f":"+IF(N1524=\"\",\"\",IF(O1524=\"\",\"SIN RESPUESTA\",(IF(O1524<=P1524,\"A TIEMPO\",\"FUERA DE TIEMPO\"))))","v":""},null,"A TIEMPO",9,0,null,null,{"$f":"IFERROR(VLOOKUP(F1524,Hoja1!$A$50:$C$63,2),\"\")","v":5},{"$f":"IFERROR(VLOOKUP(F1524,Hoja1!$A$50:$C$63,3),\"\")","v":5}]
[1515,20259910028944,"2025-02-25","Persona natural","Virtual - Correo electrónico","Solicitud de documentos o información","Solicitud de información hidrometeorológica",null,"Grupo de Servicio al Ciudadano","2025-03-10","Correo electrónico","2025-03-11",null,"",null,{"$f":"IFERROR(WORKDAY(N1525,Y1525,Hoja1!F1517:F1633),\"\")","v":""},{"$f":"+IF(N1525=\"\",\"\",IF(O1525=\"\",\"SIN RESPUESTA\",(IF(O1525<=P1525,\"A TIEMPO\",\"FUERA DE TIEMPO\"))))","v":""},null,"A TIEMPO",9,0,null,null,{"$f":"IFERROR(VLOOKUP(F1525,Hoja1!$A$50:$C$63,2),\"\")","v":5},{"$f":"IFERROR(VLOOKUP(F1525,Hoja1!$A$50:$C$63,3),\"\")","v":5}]
[1516,20259910028964,"2025-02-25","Persona natural","Virtual - Correo electrónico","Solicitud de documentos o información","Bosques",null,"Subdirección de Ecosistemas e Información Ambiental","2025-02-27","Correo electrónico","2025-03-11",null,"",null,{"$f":"IFERROR(WORKDAY(N1526,Y1526,Hoja1!F1518:F1634),\"\")","v":""},{"$f":"+IF(N1526=\"\",\"\",IF(O1526=\"\",\"SIN RESPUESTA\",(IF(O1526<=P1526,\"A TIEMPO\",\"FUERA DE TIEMPO\"))))","v":""},null,"A TIEMPO",2,0,null,null,{"$f":"IFERROR(VLOOKUP(F1526,Hoja1!$A$50:$C$63,2),\"\")","v":5},{"$f":"IFERROR(VLOOKUP(F1526,Hoja1!$A$50:$C$63,3),\"\")","v":5}]
[1517,20259910028974,"2025-02-25","Persona natural","Virtual - Correo electrónico","Solicitud de documentos o información","Sistema de información ambiental",null,"Subdirección de Estudios Ambientales","2025-03-07","Correo electrónico","2025-03-11",null,"",null,{"$f":"IFERROR(WORKDAY(N1527,Y1527,Hoja1!F1519:F1635),\"\")","v":""},{"$f":"+IF(N1527=\"\",\"\",IF(O1527=\"\",\"SIN RESPUESTA\",(IF(O1527<=P1527,\"A TIEMPO\",\"FUERA DE TIEMPO\"))))","v":""},null,"A TIEMPO",8,0,null,null,{"$f":"IFERROR(VLOOKUP(F1527,Hoja1!$A$50:$C$63,2),\"\")","v":5},{"$f":"IFERROR(VLOOKUP(F1527,Hoja1!$A$50:$C$63,3),\"\")","v":5}]
[1518,20259910029014,"2025-02-25","Persona natural","Virtual - Correo electrónico","Certificación laboral o pasantía","Administrativa",null,"Grupo de Administración y Desarrollo del Talento Humano","2025-03-12","Correo electrónico","2025-03-11",null,"",null,{"$f":"IFERROR(WORKDAY(N1528,Y1528,Hoja1!F1520:F1636),\"\")","v":""},{"$f":"+IF(N1528=\"\",\"\",IF(O1528=\"\",\"SIN RESPUESTA\",(IF(O1528<=P1528,\"A TIEMPO\",\"FUERA DE TIEMPO\"))))","v":""},null,{"$f":"+IF(C1528=\"\",\"\",IF(J1528=\"\",\"SIN RESPUESTA\",(IF(J1528<=L1528,\"A TIEMPO\",\"FUERA DE TIEMPO\"))))","v":"FUERA DE TIEMPO"},11,1,null,null,{"$f":"IFERROR(VLOOKUP(F1528,Hoja1!$A$50:$C$63,2),\"\")","v":15},{"$f":"IFERROR(VLOOKUP(F1528,Hoja1!$A$50:$C$63,3),\"\")","v":15}]
[1519,20259910028994,"2025-02-25","Persona jurídica","Virtual - Correo electrónico","Solicitud judicial","Certificaciones del tiempo y clima",null,"Subdirección de Hidrología","2025-02-27","Correo electrónico","2025-03-04",null,"",null,{"$f":"IFERROR(WORKDAY(N1529,Y1529,Hoja1!F1521:F1637),\"\")","v":""},{"$f":"+IF(N1529=\"\",\"\",IF(O1529=\"\",\"SIN RESPUESTA\",(IF(O1529<=P1529,\"A TIEMPO\",\"FUERA DE TIEMPO\"))))","v":""},null,"A TIEMPO",2,0,null,null,{"$f":"IFERROR(VLOOKUP(F1529,Hoja1!$A$50:$C$63,2),\"\")","v":5},{"$f":"IFERROR(VLOOKUP(F1529,Hoja1!$A$50:$C$63,3),\"\")","v":5}]
[1520,20259910029264,"2025-02-25","Persona jurídica","Virtual - Correo electrónico","Solicitud de documentos o información","Registros ambientales",null,"Subdirección de Estudios Ambientales","2025-03-10","Correo electrónico","2025-03-11",null,"",null,{"$f":"IFERROR(WORKDAY(N1530,Y1530,Hoja1!F1522:F1638),\"\")","v":""},{"$f":"+IF(N1530=\"\",\"\",IF(O1530=\"\",\"SIN RESPUESTA\",(IF(O1530<=P1530,\"A TIEMPO\",\"FUERA DE TIEMPO\"))))","v":""},null,"A TIEMPO",9,0,null,null,{"$f":"IFERROR(VLOOKUP(F1530,Hoja1!$A$50:$C$63,2),\"\")","v":5},{"$f":"IFERROR(VLOOKUP(F1530,Hoja1!$A$50:$C$63,3),\"\")","v":5}]
[1521,20259910029244,"2025-02-25","Persona jurídica","Virtual - Correo electrónico","Solicitud de documentos o información","Acreditación de laboratorios",null,"Subdirección de Estudios Ambientales","2025-03-03","Correo electrónico","2025-03-11",null,"",null,{"$f":"IFERROR(WORKDAY(N1531,Y1531,Hoja1!F1523:F1639),\"\")","v":""},{"$f":"+IF(N1531=\"\",\"\",IF(O1531=\"\",\"SIN RESPUESTA\",(IF(O1531<=P1531,\"A TIEMPO\",\"FUERA DE TIEMPO\"))))","v":""},null,"A TIEMPO",4,0,null,null,{"$f":"IFERROR(VLOOKUP(F1531,Hoja1!$A$50:$C$63,2),\"\")","v":5},{"$f":"IFERROR(VLOOKUP(F1531,Hoja1!$A$50:$C$63,3),\"\")","v":5}]
[1522,20259910029254,"2025-02-25","Persona natural","Virtual - Correo electrónico","Solicitud de documentos o información","Solicitud de información hidrometeorológica",null,"Grupo de Servicio al Ciudadano","2025-03-10","Correo electrónico","2025-03-11",null,"",null,{"$f":"IFERROR(WORKDAY(N1532,Y1532,Hoja1!F1524:F1640),\"\")","v":""},{"$f":"+IF(N1532=\"\",\"\",IF(O1532=\"\",\"SIN RESPUESTA\",(IF(O1532<=P1532,\"A TIEMPO\",\"FUERA DE TIEMPO\"))))","v":""},null,"A TIEMPO",9,0,null,null,{"$f":"IFERROR(VLOOKUP(F1532,Hoja1!$A$50:$C$63,2),\"\")","v":5},{"$f":"IFERROR(VLOOKUP(F1532,Hoja1!$A$50:$C$63,3),\"\")","v":5}]
[1523,20259910029274,"2025-02-25","Persona jurídica","Virtual - Correo electrónico","Solicitud de documentos o información","Solicitud de información hidrometeorológica",null,"Subdirección de Meteorología","2025-03-10","Correo electrónico","2025-03-11",null,"",null,{"$f":"IFERROR(WORKDAY(N1533,Y1533,Hoja1!F1525:F1641),\"\")","v":""},{"$f":"+IF(N1533=\"\",\"\",IF(O1533=\"\",\"SIN RESPUESTA\",(IF(O1533<=P1533,\"A TIEMPO\",\"FUERA DE TIEMPO\"))))","v":""},null,"A TIEMPO",9,0,null,null,{"$f":"IFERROR(VLOOKUP(F1533,Hoja1!$A$50:$C$63,2),\"\")","v":5},{"$f":"IFERROR(VLOOKUP(F1533,Hoja1!$A$50:$C$63,3),\"\")","v":5}]
[1524,20259050029304,"2025-02-25","Persona natural","Virtual - Formulario PQRSDF","Certificación de contrato","Administrativa",null,"Oficina Asesora Jurídica","2025-03-13","Correo electrónico","2025-03-11",null,"",null,{"$f":"IFERROR(WORKDAY(N1534,Y1534,Hoja1!F1526:F1642),\"\")","v":""},{"$f":"+IF(N1534=\"\",\"\",IF(O1534=\"\",\"SIN RESPUESTA\",(IF(O1534<=P1534,\"A TIEMPO\",\"FUERA DE TIEMPO\"))))","v":""},null,{"$f":"+IF(C1534=\"\",\"\",IF(J1534=\"\",\"SIN RESPUESTA\",(IF(J1534<=L1534,\"A TIEMPO\",\"FUERA DE TIEMPO\"))))","v":"FUERA DE TIEMPO"},12,2,null,null,{"$f":"IFERROR(VLOOKUP(F1534,Hoja1!$A$50:$C$63,2),\"\")","v":15},{"$f":"IFERROR(VLOOKUP(F1534,Hoja1!$A$50:$C$63,3),\"\")","v":15}]
[1525,20259050029324,"2025-02-25","Persona natural","Virtual - Formulario PQRSDF","Solicitud de documentos o información","Solicitud de información hidrometeorológica",null,"Grupo de Servicio al Ciudadano","2025-03-10","Correo electrónico","2025-03-11",null,"",null,{"$f":"IFERROR(WORKDAY(N1535,Y1535,Hoja1!F1527:F1643),\"\")","v":""},{"$f":"+IF(N1535=\"\",\"\",IF(O1535=\"\",\"SIN RESPUESTA\",(IF(O1535<=P1535,\"A TIEMPO\",\"FUERA DE TIEMPO\"))))","v":""},null,"A TIEMPO",9,0,null,null,{"$f":"IFERROR(VLOOKUP(F1535,Hoja1!$A$50:$C$63,2),\"\")","v":5},{"$f":"IFERROR(VLOOKUP(F1535,Hoja1!$A$50:$C$63,3),\"\")","v":5}]
[1526,20259910029374,"2025-02-25","Persona jurídica","Virtual - Correo electrónico","Solicitud de documentos o información","Registros ambientales",null,"Subdirección de Estudios Ambientales","2025-03-04","Correo electrónico","2025-03-11",null,"",null,{"$f":"IFERROR(WORKDAY(N1536,Y1536,Hoja1!F1528:F1644),\"\")","v":""},{"$f":"+IF(N1536=\"\",\"\",IF(O1536=\"\",\"SIN RESPUESTA\",(IF(O1536<=P1536,\"A TIEMPO\",\"FUERA DE TIEMPO\"))))","v":""},null,"A TIEMPO",5,0,null,null,{"$f":"IFERROR(VLOOKUP(F1536,Hoja1!$A$50:$C$63,2),\"\")","v":5},{"$f":"IFERROR(VLOOKUP(F1536,Hoja1!$A$50:$C$63,3),\"\")","v":5}]
[1527,20259910029404,"2025-02-25","Persona jurídica","Virtual - Correo electrónico","Solicitud de documentos o información","Registros ambientales",null,"Subdirección de Estudios Ambientales","2025-03-10","Correo electrónico","2025-03-11",null,"",null,{"$f":"IFERROR(WORKDAY(N1537,Y1537,Hoja1!F1529:F1645),\"\")","v":""},{"$f":"+IF(N1537=\"\",\"\",IF(O1537=\"\",\"SIN RESPUESTA\",(IF(O1537<=P1537,\"A TIEMPO\",\"FUERA DE TIEMPO\"))))","v":""},null,"A TIEMPO",9,0,null,null,{"$f":"IFERROR(VLOOKUP(F1537,Hoja1!$A$50:$C$63,2),\"\")","v":5},{"$f":"IFERROR(VLOOKUP(F1537,Hoja1!$A$50:$C$63,3),\"\")","v":5}]
[1528,20259910029424,"2025-02-25","Persona jurídica","Virtual - Correo electrónico","Solicitud de documentos o información","Registros ambientales",null,"Subdirección de Estudios Ambientales","2025-03-10","Correo electrónico","2025-03-11",null,"",null,{"$f":"IFERROR(WORKDAY(N1538,Y1538,Hoja1!F1530:F1646),\"\")","v":""},{"$f":"+IF(N1538=\"\",\"\",IF(O1538=\"\",\"SIN RESPUESTA\",(IF(O1538<=P1538,\"A TIEMPO\",\"FUERA DE TIEMPO\"))))","v":""},null,"A TIEMPO",9,0,null,null,{"$f":"IFERROR(VLOOKUP(F1538,Hoja1!$A$50:$C$63,2),\"\")","v":5},{"$f":"IFERROR(VLOOKUP(F1538,Hoja1!$A$50:$C$63,3),\"\")","v":5}]
[1529,20259910029434,"2025-02-25","Persona jurídica","Virtual - Correo electrónico","Solicitud de documentos o información","Registros ambientales",null,"Subdirección de Estudios Ambientales","2025-03-06","Correo electrónico","2025-03-11",null,"",null,{"$f":"IFERROR(WORKDAY(N1539,Y1539,Hoja1!F1531:F1647),\"\")","v":""},{"$f":"+IF(N1539=\"\",\"\",IF(O1539=\"\",\"SIN RESPUESTA\",(IF(O1539<=P1539,\"A TIEMPO\",\"FUERA DE TIEMPO\"))))","v":""},null,"A TIEMPO",7,0,null,null,{"$f":"IFERROR(VLOOKUP(F1539,Hoja1!$A$50:$C$63,2),\"\")","v":5},{"$f":"IFERROR(VLOOKUP(F1539,Hoja1!$A$50:$C$63,3),\"\")","v":5}]
[1530,20259910029454,"2025-02-25","Persona natural","Virtual - Correo electrónico","Solicitud de documentos o información","Sistema de información del recurso hídrico",null,"Grupo de Servicio al Ciudadano","2025-03-10","Correo electrónico","2025-03-11",null,"",null,{"$f":"IFERROR(WORKDAY(N1540,Y1540,Hoja1!F1532:F1648),\"\")","v":""},{"$f":"+IF(N1540=\"\",\"\",IF(O1540=\"\",\"SIN RESPUESTA\",(IF(O1540<=P1540,\"A TIEMPO\",\"FUERA DE TIEMPO\"))))","v":""},null,"A TIEMPO",9,0,null,null,{"$f":"IFERROR(VLOOKUP(F1540,Hoja1!$A$50:$C$63,2),\"\")","v":5},{"$f":"IFERROR(VLOOKUP(F1540,Hoja1!$A$50:$C$63,3),\"\")","v":5}]
[1531,20259910029474,"2025-02-25","Persona jurídica","Virtual - Correo electrónico","Solicitud de documentos o información","Administrativa",null,"Subdirección de Estudios Ambientales","2025-03-04","Correo electrónico","2025-03-11",null,"",null,{"$f":"IFERROR(WORKDAY(N1541,Y1541,Hoja1!F1533:F1649),\"\")","v":""},{"$f":"+IF(N1541=\"\",\"\",IF(O1541=\"\",\"SIN RESPUESTA\",(IF(O1541<=P1541,\"A TIEMPO\",\"FUERA DE TIEMPO\"))))","v":""},null,"A TIEMPO",5,0,null,null,{"$f":"IFERROR(VLOOKUP(F1541,Hoja1!$A$50:$C$63,2),\"\")","v":5},{"$f":"IFERROR(VLOOKUP(F1541,Hoja1!$A$50:$C$63,3),\"\")","v":5}]
[1532,20259910029494,"2025-02-25","Persona jurídica","Virtual - Correo electrónico","Solicitud de documentos o información","Registros ambientales",null,"Subdirección de Estudios Ambientales","2025-03-03","Correo electrónico","2025-03-11",null,"",null,{"$f":"IFERROR(WORKDAY(N1542,Y1542,Hoja1!F1534:F1650),\"\")","v":""},{"$f":"+IF(N1542=\"\",\"\",IF(O1542=\"\",\"SIN RESPUESTA\",(IF(O1542<=P1542,\"A TIEMPO\",\"FUERA DE TIEMPO\"))))","v":""},null,"A TIEMPO",4,0,null,null,{"$f":"IFERROR(VLOOKUP(F1542,Hoja1!$A$50:$C$63,2),\"\")","v":5},{"$f":"IFERROR(VLOOKUP(F1542,Hoja1!$A$50:$C$63,3),\"\")","v":5}]
[1533,20259910029564,"2025-02-25","Persona natural","Virtual - Correo electrónico","Solicitud de documentos o información","Informes ambientales",null,"Subdirección de Estudios Ambientales","2025-03-07","Correo electrónico","2025-03-11",null,"",null,{"$f":"IFERROR(WORKDAY(N1543,Y1543,Hoja1!F1535:F1651),\"\")","v":""},{"$f":"+IF(N1543=\"\",\"\",IF(O1543=\"\",\"SIN RESPUESTA\",(IF(O1543<=P1543,\"A TIEMPO\",\"FUERA DE TIEMPO\"))))","v":""},null,"A TIEMPO",8,0,null,null,{"$f":"IFERROR(VLOOKUP(F1543,Hoja1!$A$50:$C$63,2),\"\")","v":5},{"$f":"IFERROR(VLOOKUP(F1543,Hoja1!$A$50:$C$63,3),\"\")","v":5}]
[1534,20259050029574,"2025-02-25","Persona jurídica","Virtual - Formulario PQRSDF","Consulta (Información técnica)","Administrativa",null,"Grupo de Servicio al Ciudadano","2025-03-31","Correo electrónico","2025-04-10",null,"",null,{"$f":"IFERROR(WORKDAY(N1544,Y1544,Hoja1!F1536:F1652),\"\")","v":""},{"$f":"+IF(N1544=\"\",\"\",IF(O1544=\"\",\"SIN RESPUESTA\",(IF(O1544<=P1544,\"A TIEMPO\",\"FUERA DE TIEMPO\"))))","v":""},null,"A TIEMPO",22,0,null,null,{"$f":"IFERROR(VLOOKUP(F1544,Hoja1!$A$50:$C$63,2),\"\")","v":30},{"$f":"IFERROR(VLOOKUP(F1544,Hoja1!$A$50:$C$63,3),\"\")","v":30}]
[1535,20259910029594,"2025-02-25","Persona natural","Virtual - Correo electrónico","Certificación laboral o pasantía","Administrativa",null,"Grupo de Administración y Desarrollo del Talento Humano","2025-03-12","Correo electrónico","2025-03-11",null,"",null,{"$f":"IFERROR(WORKDAY(N1545,Y1545,Hoja1!F1537:F1653),\"\")","v":""},{"$f":"+IF(N1545=\"\",\"\",IF(O1545=\"\",\"SIN RESPUESTA\",(IF(O1545<=P1545,\"A TIEMPO\",\"FUERA DE TIEMPO\"))))","v":""},null,{"$f":"+IF(C1545=\"\",\"\",IF(J1545=\"\",\"SIN RESPUESTA\",(IF(J1545<=L1545,\"A TIEMPO\",\"FUERA DE TIEMPO\"))))","v":"FUERA DE TIEMPO"},11,1,null,null,{"$f":"IFERROR(VLOOKUP(F1545,Hoja1!$A$50:$C$63,2),\"\")","v":15},{"$f":"IFERROR(VLOOKUP(F1545,Hoja1!$A$50:$C$63,3),\"\")","v":15}]
[1536,20259050029634,"2025-02-25","Persona natural","Virtual - Formulario PQRSDF","Certificación laboral o pasantía","Administrativa",null,"Grupo de Administración y Desarrollo del Talento Humano","2025-03-12","Correo electrónico","2025-03-11",null,"",null,{"$f":"IFERROR(WORKDAY(N1546,Y1546,Hoja1!F1538:F1654),\"\")","v":""},{"$f":"+IF(N1546=\"\",\"\",IF(O1546=\"\",\"SIN RESPUESTA\",(IF(O1546<=P1546,\"A TIEMPO\",\"FUERA DE TIEMPO\"))))","v":""},null,{"$f":"+IF(C1546=\"\",\"\",IF(J1546=\"\",\"SIN RESPUESTA\",(IF(J1546<=L1546,\"A TIEMPO\",\"FUERA DE TIEMPO\"))))","v":"FUERA DE TIEMPO"},11,1,null,null,{"$f":"IFERROR(VLOOKUP(F1546,Hoja1!$A$50:$C$63,2),\"\")","v":15},{"$f":"IFERROR(VLOOKUP(F1546,Hoja1!$A$50:$C$63,3),\"\")","v":15}]
[1537,20259910029644,"2025-02-25","Persona jurídica","Virtual - Correo electrónico","Solicitud de documentos o información","Registros ambientales",null,"Subdirección de Estudios Ambientales","2025-02-27","Correo electrónico","2025-03-11",null,"",null,{"$f":"IFERROR(WORKDAY(N1547,Y1547,Hoja1!F1539:F1655),\"\")","v":""},{"$f":"+IF(N1547=\"\",\"\",IF(O1547=\"\",\"SIN RESPUESTA\",(IF(O1547<=P1547,\"A TIEMPO\",\"FUERA DE TIEMPO\"))))","v":""},null,"A TIEMPO",2,0,null,null,{"$f":"IFERROR(VLOOKUP(F1547,Hoja1!$A$50:$C$63,2),\"\")","v":5},{"$f":"IFERROR(VLOOKUP(F1547,Hoja1!$A$50:$C$63,3),\"\")","v":5}]
[1538,20259910029604,"2025-02-25","Persona jurídica","Virtual - Correo electrónico","Solicitud de documentos o información","Sistema de información del recurso hídrico",null,"Subdirección de Hidrología","2025-02-26","Correo electrónico","2025-03-11",null,"",null,{"$f":"IFERROR(WORKDAY(N1548,Y1548,Hoja1!F1540:F1656),\"\")","v":""},{"$f":"+IF(N1548=\"\",\"\",IF(O1548=\"\",\"SIN RESPUESTA\",(IF(O1548<=P1548,\"A TIEMPO\",\"FUERA DE TIEMPO\"))))","v":""},null,"A TIEMPO",1,0,null,null,{"$f":"IFERROR(VLOOKUP(F1548,Hoja1!$A$50:$C$63,2),\"\")","v":5},{"$f":"IFERROR(VLOOKUP(F1548,Hoja1!$A$50:$C$63,3),\"\")","v":5}]
[1539,20259260029624,"2025-02-25","Persona natural","Virtual - Correo electrónico","Solicitud de documentos o información","Visitas académicas",null,"Grupo de Servicio al Ciudadano","2025-03-11","Correo electrónico","2025-03-11",null,"",null,{"$f":"IFERROR(WORKDAY(N1549,Y1549,Hoja1!F1541:F1657),\"\")","v":""},{"$f":"+IF(N1549=\"\",\"\",IF(O1549=\"\",\"SIN RESPUESTA\",(IF(O1549<=P1549,\"A TIEMPO\",\"FUERA DE TIEMPO\"))))","v":""},null,"A TIEMPO",10,0,null,null,{"$f":"IFERROR(VLOOKUP(F1549,Hoja1!$A$50:$C$63,2),\"\")","v":5},{"$f":"IFERROR(VLOOKUP(F1549,Hoja1!$A$50:$C$63,3),\"\")","v":5}]
[1540,20259050029674,"2025-02-25","Persona natural","Virtual - Formulario PQRSDF","Solicitud de documentos o información","Sistema de información del recurso hídrico",null,"Subdirección de Hidrología","2025-03-04","Correo electrónico","2025-03-11",null,"",null,{"$f":"IFERROR(WORKDAY(N1550,Y1550,Hoja1!F1542:F1658),\"\")","v":""},{"$f":"+IF(N1550=\"\",\"\",IF(O1550=\"\",\"SIN RESPUESTA\",(IF(O1550<=P1550,\"A TIEMPO\",\"FUERA DE TIEMPO\"))))","v":""},null,"A TIEMPO",5,0,null,null,{"$f":"IFERROR(VLOOKUP(F1550,Hoja1!$A$50:$C$63,2),\"\")","v":5},{"$f":"IFERROR(VLOOKUP(F1550,Hoja1!$A$50:$C$63,3),\"\")","v":5}]
[1541,20259050029684,"2025-02-25","Persona natural","Virtual - Formulario PQRSDF","Solicitud de documentos o información","Solicitud de información hidrometeorológica",null,"Grupo de Servicio al Ciudadano","2025-03-10","Correo electrónico","2025-03-11",null,"",null,{"$f":"IFERROR(WORKDAY(N1551,Y1551,Hoja1!F1543:F1659),\"\")","v":""},{"$f":"+IF(N1551=\"\",\"\",IF(O1551=\"\",\"SIN RESPUESTA\",(IF(O1551<=P1551,\"A TIEMPO\",\"FUERA DE TIEMPO\"))))","v":""},null,"A TIEMPO",9,0,null,null,{"$f":"IFERROR(VLOOKUP(F1551,Hoja1!$A$50:$C$63,2),\"\")","v":5},{"$f":"IFERROR(VLOOKUP(F1551,Hoja1!$A$50:$C$63,3),\"\")","v":5}]
[1542,20259050029694,"2025-02-25","Persona natural","Virtual - Formulario PQRSDF","Solicitud de documentos o información","Solicitud de información hidrometeorológica",null,"Grupo de Servicio al Ciudadano","2025-03-10","Correo electrónico","2025-03-11",null,"",null,{"$f":"IFERROR(WORKDAY(N1552,Y1552,Hoja1!F1544:F1660),\"\")","v":""},{"$f":"+IF(N1552=\"\",\"\",IF(O1552=\"\",\"SIN RESPUESTA\",(IF(O1552<=P1552,\"A TIEMPO\",\"FUERA DE TIEMPO\"))))","v":""},null,"A TIEMPO",9,0,null,null,{"$f":"IFERROR(VLOOKUP(F1552,Hoja1!$A$50:$C$63,2),\"\")","v":5},{"$f":"IFERROR(VLOOKUP(F1552,Hoja1!$A$50:$C$63,3),\"\")","v":5}]
[{"$f":"IF(B1553<>\"\",A1552+1,\"\")","v":1543},20259260029704,"2025-02-26","Persona natural","Virtual - Correo electrónico","Solicitud de documentos o información","Visitas académicas",null,"Área Operativa No. 6 - Duitama","2025-03-03","Correo electrónico","2025-03-12",null,"",null,{"$f":"IFERROR(WORKDAY(N1553,Y1553,Hoja1!F1545:F1661),\"\")","v":""},{"$f":"+IF(N1553=\"\",\"\",IF(O1553=\"\",\"SIN RESPUESTA\",(IF(O1553<=P1553,\"A TIEMPO\",\"FUERA DE TIEMPO\"))))","v":""},null,"A TIEMPO",3,0,null,null,{"$f":"IFERROR(VLOOKUP(F1553,Hoja1!$A$50:$C$63,2),\"\")","v":5},{"$f":"IFERROR(VLOOKUP(F1553,Hoja1!$A$50:$C$63,3),\"\")","v":5}]
[1544,20259050029724,"2025-02-26","Persona natural","Virtual - Formulario PQRSDF","Solicitud de documentos o información","Solicitud de información hidrometeorológica",null,"Subdirección de Hidrología","2025-03-04","Correo electrónico","2025-03-12",null,"",null,{"$f":"IFERROR(WORKDAY(N1554,Y1554,Hoja1!F1546:F1662),\"\")","v":""},{"$f":"+IF(N1554=\"\",\"\",IF(O1554=\"\",\"SIN RESPUESTA\",(IF(O1554<=P1554,\"A TIEMPO\",\"FUERA DE TIEMPO\"))))","v":""},null,"A TIEMPO",4,0,null,null,{"$f":"IFERROR(VLOOKUP(F1554,Hoja1!$A$50:$C$63,2),\"\")","v":5},{"$f":"IFERROR(VLOOKUP(F1554,Hoja1!$A$50:$C$63,3),\"\")","v":5}]
[1545,20259910029734,"2025-02-26","Persona jurídica","Virtual - Correo electrónico","Solicitud judicial","Certificaciones del tiempo y clima",null,"Subdirección de Meteorología","2025-03-03","Correo electrónico","2025-03-05",null,"",null,{"$f":"IFERROR(WORKDAY(N1555,Y1555,Hoja1!F1547:F1663),\"\")","v":""},{"$f":"+IF(N1555=\"\",\"\",IF(O1555=\"\",\"SIN RESPUESTA\",(IF(O1555<=P1555,\"A TIEMPO\",\"FUERA DE TIEMPO\"))))","v":""},null,"A TIEMPO",3,0,null,null,{"$f":"IFERROR(VLOOKUP(F1555,Hoja1!$A$50:$C$63,2),\"\")","v":5},{"$f":"IFERROR(VLOOKUP(F1555,Hoja1!$A$50:$C$63,3),\"\")","v":5}]
[1546,20259910029744,"2025-02-26","Persona natural","Virtual - Correo electrónico","Solicitud de documentos o información","Acreditación de laboratorios",null,"Subdirección de Estudios Ambientales","2025-03-05","Correo electrónico","2025-03-12",null,"",null,{"$f":"IFERROR(WORKDAY(N1556,Y1556,Hoja1!F1548:F1664),\"\")","v":""},{"$f":"+IF(N1556=\"\",\"\",IF(O1556=\"\",\"SIN RESPUESTA\",(IF(O1556<=P1556,\"A TIEMPO\",\"FUERA DE TIEMPO\"))))","v":""},null,"A TIEMPO",5,0,null,null,{"$f":"IFERROR(VLOOKUP(F1556,Hoja1!$A$50:$C$63,2),\"\")","v":5},{"$f":"IFERROR(VLOOKUP(F1556,Hoja1!$A$50:$C$63,3),\"\")","v":5}]
[1547,20259910029754,"2025-02-26","Persona jurídica","Virtual - Correo electrónico","Solicitud de documentos o información","Registros ambientales",null,"Subdirección de Estudios Ambientales","2025-03-10","Correo electrónico","2025-03-12",null,"",null,{"$f":"IFERROR(WORKDAY(N1557,Y1557,Hoja1!F1549:F1665),\"\")","v":""},{"$f":"+IF(N1557=\"\",\"\",IF(O1557=\"\",\"SIN RESPUESTA\",(IF(O1557<=P1557,\"A TIEMPO\",\"FUERA DE TIEMPO\"))))","v":""},null,"A TIEMPO",8,0,null,null,{"$f":"IFERROR(VLOOKUP(F1557,Hoja1!$A$50:$C$63,2),\"\")","v":5},{"$f":"IFERROR(VLOOKUP(F1557,Hoja1!$A$50:$C$63,3),\"\")","v":5}]
[1548,20259910029764,"2025-02-26","Persona jurídica","Virtual - Correo electrónico","Solicitud de documentos o información","Registros ambientales",null,"Subdirección de Estudios Ambientales","2025-03-11","Correo electrónico","2025-03-12",null,"",null,{"$f":"IFERROR(WORKDAY(N1558,Y1558,Hoja1!F1550:F1666),\"\")","v":""},{"$f":"+IF(N1558=\"\",\"\",IF(O1558=\"\",\"SIN RESPUESTA\",(IF(O1558<=P1558,\"A TIEMPO\",\"FUERA DE TIEMPO\"))))","v":""},null,"A TIEMPO",9,0,null,null,{"$f":"IFERROR(VLOOKUP(F1558,Hoja1!$A$50:$C$63,2),\"\")","v":5},{"$f":"IFERROR(VLOOKUP(F1558,Hoja1!$A$50:$C$63,3),\"\")","v":5}]
[1549,20259910029774,"2025-02-26","Persona jurídica","Virtual - Correo electrónico","Solicitud de documentos o información","Registros ambientales",null,"Subdirección de Estudios Ambientales","2025-03-06","Correo electrónico","2025-03-12",null,"",null,{"$f":"IFERROR(WORKDAY(N1559,Y1559,Hoja1!F1551:F1667),\"\")","v":""},{"$f":"+IF(N1559=\"\",\"\",IF(O1559=\"\",\"SIN RESPUESTA\",(IF(O1559<=P1559,\"A TIEMPO\",\"FUERA DE TIEMPO\"))))","v":""},null,"A TIEMPO",6,0,null,null,{"$f":"IFERROR(VLOOKUP(F1559,Hoja1!$A$50:$C$63,2),\"\")","v":5},{"$f":"IFERROR(VLOOKUP(F1559,Hoja1!$A$50:$C$63,3),\"\")","v":5}]
[1550,20259910029794,"2025-02-26","Persona jurídica","Virtual - Correo electrónico","Solicitud de documentos o información","Registros ambientales",null,"Subdirección de Estudios Ambientales","2025-03-11","Correo electrónico","2025-03-12",null,"",null,{"$f":"IFERROR(WORKDAY(N1560,Y1560,Hoja1!F1552:F1668),\"\")","v":""},{"$f":"+IF(N1560=\"\",\"\",IF(O1560=\"\",\"SIN RESPUESTA\",(IF(O1560<=P1560,\"A TIEMPO\",\"FUERA DE TIEMPO\"))))","v":""},null,"A TIEMPO",9,0,null,null,{"$f":"IFERROR(VLOOKUP(F1560,Hoja1!$A$50:$C$63,2),\"\")","v":5},{"$f":"IFERROR(VLOOKUP(F1560,Hoja1!$A$50:$C$63,3),\"\")","v":5}]
[1551,20259050029854,"2025-02-26","Persona jurídica","Virtual - Formulario PQRSDF","Petición entre entidades","Administrativa",null,"Oficina Asesora de Planeación","2025-03-12","Correo electrónico","2025-03-12",null,"",null,{"$f":"IFERROR(WORKDAY(N1561,Y1561,Hoja1!F1553:F1669),\"\")","v":""},{"$f":"+IF(N1561=\"\",\"\",IF(O1561=\"\",\"SIN RESPUESTA\",(IF(O1561<=P1561,\"A TIEMPO\",\"FUERA DE TIEMPO\"))))","v":""},null,"A TIEMPO",10,0,null,null,{"$f":"IFERROR(VLOOKUP(F1561,Hoja1!$A$50:$C$63,2),\"\")","v":10},{"$f":"IFERROR(VLOOKUP(F1561,Hoja1!$A$50:$C$63,3),\"\")","v":10}]
[1552,20259910029874,"2025-02-26","Persona jurídica","Virtual - Correo electrónico","Solicitud de documentos o información","Sistema de información del recurso hídrico",null,"Subdirección de Hidrología","2025-02-27","Correo electrónico","2025-03-12",null,"",null,{"$f":"IFERROR(WORKDAY(N1562,Y1562,Hoja1!F1554:F1670),\"\")","v":""},{"$f":"+IF(N1562=\"\",\"\",IF(O1562=\"\",\"SIN RESPUESTA\",(IF(O1562<=P1562,\"A TIEMPO\",\"FUERA DE TIEMPO\"))))","v":""},null,"A TIEMPO",1,0,null,null,{"$f":"IFERROR(VLOOKUP(F1562,Hoja1!$A$50:$C$63,2),\"\")","v":5},{"$f":"IFERROR(VLOOKUP(F1562,Hoja1!$A$50:$C$63,3),\"\")","v":5}]
[1553,20259910029884,"2025-02-26","Persona natural","Virtual - Correo electrónico","Solicitud de documentos o información","Sistema de información del recurso hídrico",null,"Subdirección de Hidrología","2025-03-06","Correo electrónico","2025-03-12",null,"",null,{"$f":"IFERROR(WORKDAY(N1563,Y1563,Hoja1!F1555:F1671),\"\")","v":""},{"$f":"+IF(N1563=\"\",\"\",IF(O1563=\"\",\"SIN RESPUESTA\",(IF(O1563<=P1563,\"A TIEMPO\",\"FUERA DE TIEMPO\"))))","v":""},null,"A TIEMPO",6,0,null,null,{"$f":"IFERROR(VLOOKUP(F1563,Hoja1!$A$50:$C$63,2),\"\")","v":5},{"$f":"IFERROR(VLOOKUP(F1563,Hoja1!$A$50:$C$63,3),\"\")","v":5}]
[1554,20259910029914,"2025-02-26","Persona natural","Virtual - Correo electrónico","Certificación laboral o pasantía","Administrativa",null,"Grupo de Administración y Desarrollo del Talento Humano","2025-03-12","Correo electrónico","2025-03-12",null,"",null,{"$f":"IFERROR(WORKDAY(N1564,Y1564,Hoja1!F1556:F1672),\"\")","v":""},{"$f":"+IF(N1564=\"\",\"\",IF(O1564=\"\",\"SIN RESPUESTA\",(IF(O1564<=P1564,\"A TIEMPO\",\"FUERA DE TIEMPO\"))))","v":""},null,"A TIEMPO",10,0,null,null,{"$f":"IFERROR(VLOOKUP(F1564,Hoja1!$A$50:$C$63,2),\"\")","v":15},{"$f":"IFERROR(VLOOKUP(F1564,Hoja1!$A$50:$C$63,3),\"\")","v":15}]
[1555,20259050029924,"2025-02-26","Persona jurídica","Virtual - Formulario PQRSDF","Solicitud de documentos o información","Sistema de información ambiental",null,"Subdirección de Estudios Ambientales","2025-04-03","Correo electrónico","2025-03-12",null,"",null,{"$f":"IFERROR(WORKDAY(N1565,Y1565,Hoja1!F1557:F1673),\"\")","v":""},{"$f":"+IF(N1565=\"\",\"\",IF(O1565=\"\",\"SIN RESPUESTA\",(IF(O1565<=P1565,\"A TIEMPO\",\"FUERA DE TIEMPO\"))))","v":""},null,{"$f":"+IF(C1565=\"\",\"\",IF(J1565=\"\",\"SIN RESPUESTA\",(IF(J1565<=L1565,\"A TIEMPO\",\"FUERA DE TIEMPO\"))))","v":"FUERA DE TIEMPO"},24,14,null,null,{"$f":"IFERROR(VLOOKUP(F1565,Hoja1!$A$50:$C$63,2),\"\")","v":5},{"$f":"IFERROR(VLOOKUP(F1565,Hoja1!$A$50:$C$63,3),\"\")","v":5}]
[1556,20259050030014,"2025-02-26","Persona natural","Virtual - Formulario PQRSDF","Certificación de ingresos y retenciones","Administrativa",null,"Grupo de Tesorería","2025-02-27","Correo electrónico","2025-03-12",null,"",null,{"$f":"IFERROR(WORKDAY(N1566,Y1566,Hoja1!F1558:F1674),\"\")","v":""},{"$f":"+IF(N1566=\"\",\"\",IF(O1566=\"\",\"SIN RESPUESTA\",(IF(O1566<=P1566,\"A TIEMPO\",\"FUERA DE TIEMPO\"))))","v":""},null,"A TIEMPO",1,0,null,null,{"$f":"IFERROR(VLOOKUP(F1566,Hoja1!$A$50:$C$63,2),\"\")","v":15},{"$f":"IFERROR(VLOOKUP(F1566,Hoja1!$A$50:$C$63,3),\"\")","v":15}]
[1557,20259910030024,"2025-02-26","Persona jurídica","Virtual - Correo electrónico","Solicitud de documentos o información","Registros ambientales",null,"Subdirección de Estudios Ambientales","2025-03-07","Correo electrónico","2025-03-12",null,"",null,{"$f":"IFERROR(WORKDAY(N1567,Y1567,Hoja1!F1559:F1675),\"\")","v":""},{"$f":"+IF(N1567=\"\",\"\",IF(O1567=\"\",\"SIN RESPUESTA\",(IF(O1567<=P1567,\"A TIEMPO\",\"FUERA DE TIEMPO\"))))","v":""},null,"A TIEMPO",7,0,null,null,{"$f":"IFERROR(VLOOKUP(F1567,Hoja1!$A$50:$C$63,2),\"\")","v":5},{"$f":"IFERROR(VLOOKUP(F1567,Hoja1!$A$50:$C$63,3),\"\")","v":5}]
[1558,20259910030034,"2025-02-26","Persona jurídica","Virtual - Correo electrónico","Consulta (Información técnica)","Bosques",null,"Subdirección de Ecosistemas e Información Ambiental",null,null,"2025-04-11","Si","2025-05-28",null,{"$f":"IFERROR(WORKDAY(N1568,Y1568,Hoja1!F1560:F1676),\"\")","v":"2025-07-09"},{"$f":"+IF(N1568=\"\",\"\",IF(O1568=\"\",\"SIN RESPUESTA\",(IF(O1568<=P1568,\"A TIEMPO\",\"FUERA DE TIEMPO\"))))","v":"SIN RESPUESTA"},null,{"$f":"+IF(C1568=\"\",\"\",IF(J1568=\"\",\"SIN RESPUESTA\",(IF(J1568<=L1568,\"A TIEMPO\",\"FUERA DE TIEMPO\"))))","v":"SIN RESPUESTA"},0,0,null,null,{"$f":"IFERROR(VLOOKUP(F1568,Hoja1!$A$50:$C$63,2),\"\")","v":30},{"$f":"IFERROR(VLOOKUP(F1568,Hoja1!$A$50:$C$63,3),\"\")","v":30}]
[1559,20259050030054,"2025-02-26","Persona jurídica","Virtual - Formulario PQRSDF","Solicitud de documentos o información","Solicitud de información hidrometeorológica",null,"Grupo de Servicio al Ciudadano","2025-03-10","Correo electrónico","2025-03-12",null,"",null,{"$f":"IFERROR(WORKDAY(N1569,Y1569,Hoja1!F1561:F1677),\"\")","v":""},{"$f":"+IF(N1569=\"\",\"\",IF(O1569=\"\",\"SIN RESPUESTA\",(IF(O1569<=P1569,\"A TIEMPO\",\"FUERA DE TIEMPO\"))))","v":""},null,"A TIEMPO",8,0,null,null,{"$f":"IFERROR(VLOOKUP(F1569,Hoja1!$A$50:$C$63,2),\"\")","v":5},{"$f":"IFERROR(VLOOKUP(F1569,Hoja1!$A$50:$C$63,3),\"\")","v":5}]
[1560,20259910030074,"2025-02-26","Persona natural","Virtual - Correo electrónico","Certificación laboral o pasantía","Administrativa",null,"Grupo de Administración y Desarrollo del Talento Humano","2025-03-12","Correo electrónico","2025-03-12",null,"",null,{"$f":"IFERROR(WORKDAY(N1570,Y1570,Hoja1!F1562:F1678),\"\")","v":""},{"$f":"+IF(N1570=\"\",\"\",IF(O1570=\"\",\"SIN RESPUESTA\",(IF(O1570<=P1570,\"A TIEMPO\",\"FUERA DE TIEMPO\"))))","v":""},null,"A TIEMPO",10,0,null,null,{"$f":"IFERROR(VLOOKUP(F1570,Hoja1!$A$50:$C$63,2),\"\")","v":15},{"$f":"IFERROR(VLOOKUP(F1570,Hoja1!$A$50:$C$63,3),\"\")","v":15}]
[1561,20259910030084,"2025-02-26","Persona natural","Virtual - Correo electrónico","Solicitud de documentos o información","Administrativa",null,"Subdirección de Estudios Ambientales","2025-04-22","Correo electrónico","2025-03-12",null,"",null,{"$f":"IFERROR(WORKDAY(N1571,Y1571,Hoja1!F1563:F1679),\"\")","v":""},{"$f":"+IF(N1571=\"\",\"\",IF(O1571=\"\",\"SIN RESPUESTA\",(IF(O1571<=P1571,\"A TIEMPO\",\"FUERA DE TIEMPO\"))))","v":""},null,{"$f":"+IF(C1571=\"\",\"\",IF(J1571=\"\",\"SIN RESPUESTA\",(IF(J1571<=L1571,\"A TIEMPO\",\"FUERA DE TIEMPO\"))))","v":"FUERA DE TIEMPO"},35,25,null,null,{"$f":"IFERROR(VLOOKUP(F1571,Hoja1!$A$50:$C$63,2),\"\")","v":5},{"$f":"IFERROR(VLOOKUP(F1571,Hoja1!$A$50:$C$63,3),\"\")","v":5}]
[1562,20259910030124,"2025-02-26","Persona jurídica","Virtual - Correo electrónico","Solicitud de documentos o información","Registros ambientales",null,"Subdirección de Estudios Ambientales","2025-03-11","Correo electrónico","2025-03-12",null,"",null,{"$f":"IFERROR(WORKDAY(N1572,Y1572,Hoja1!F1564:F1680),\"\")","v":""},{"$f":"+IF(N1572=\"\",\"\",IF(O1572=\"\",\"SIN RESPUESTA\",(IF(O1572<=P1572,\"A TIEMPO\",\"FUERA DE TIEMPO\"))))","v":""},null,"A TIEMPO",9,0,null,null,{"$f":"IFERROR(VLOOKUP(F1572,Hoja1!$A$50:$C$63,2),\"\")","v":5},{"$f":"IFERROR(VLOOKUP(F1572,Hoja1!$A$50:$C$63,3),\"\")","v":5}]
[1563,20259910030114,"2025-02-26","Persona natural","Virtual - Correo electrónico","Solicitud de documentos o información","Administrativa",null,"Grupo de Administración y Desarrollo del Talento Humano","2025-03-17","Correo electrónico","2025-03-12",null,"",null,{"$f":"IFERROR(WORKDAY(N1573,Y1573,Hoja1!F1565:F1681),\"\")","v":""},{"$f":"+IF(N1573=\"\",\"\",IF(O1573=\"\",\"SIN RESPUESTA\",(IF(O1573<=P1573,\"A TIEMPO\",\"FUERA DE TIEMPO\"))))","v":""},null,{"$f":"+IF(C1573=\"\",\"\",IF(J1573=\"\",\"SIN RESPUESTA\",(IF(J1573<=L1573,\"A TIEMPO\",\"FUERA DE TIEMPO\"))))","v":"FUERA DE TIEMPO"},13,3,null,null,{"$f":"IFERROR(VLOOKUP(F1573,Hoja1!$A$50:$C$63,2),\"\")","v":5},{"$f":"IFERROR(VLOOKUP(F1573,Hoja1!$A$50:$C$63,3),\"\")","v":5}]
[1564,20259910030164,"2025-02-26","Persona natural","Virtual - Correo electrónico","Solicitud de documentos o información","Solicitud de información hidrometeorológica",null,"Grupo de Servicio al Ciudadano","2025-03-10","Correo electrónico","2025-03-12",null,"",null,{"$f":"IFERROR(WORKDAY(N1574,Y1574,Hoja1!F1566:F1682),\"\")","v":""},{"$f":"+IF(N1574=\"\",\"\",IF(O1574=\"\",\"SIN RESPUESTA\",(IF(O1574<=P1574,\"A TIEMPO\",\"FUERA DE TIEMPO\"))))","v":""},null,"A TIEMPO",8,0,null,null,{"$f":"IFERROR(VLOOKUP(F1574,Hoja1!$A$50:$C$63,2),\"\")","v":5},{"$f":"IFERROR(VLOOKUP(F1574,Hoja1!$A$50:$C$63,3),\"\")","v":5}]
[1565,20259910030174,"2025-02-26","Persona jurídica","Virtual - Correo electrónico","Solicitud de documentos o información","Registros ambientales",null,"Subdirección de Estudios Ambientales","2025-03-14","Correo electrónico","2025-03-12",null,"",null,{"$f":"IFERROR(WORKDAY(N1575,Y1575,Hoja1!F1567:F1683),\"\")","v":""},{"$f":"+IF(N1575=\"\",\"\",IF(O1575=\"\",\"SIN RESPUESTA\",(IF(O1575<=P1575,\"A TIEMPO\",\"FUERA DE TIEMPO\"))))","v":""},null,{"$f":"+IF(C1575=\"\",\"\",IF(J1575=\"\",\"SIN RESPUESTA\",(IF(J1575<=L1575,\"A TIEMPO\",\"FUERA DE TIEMPO\"))))","v":"FUERA DE TIEMPO"},12,2,null,null,{"$f":"IFERROR(VLOOKUP(F1575,Hoja1!$A$50:$C$63,2),\"\")","v":5},{"$f":"IFERROR(VLOOKUP(F1575,Hoja1!$A$50:$C$63,3),\"\")","v":5}]
[1566,20259050030184,"2025-02-26","Persona natural","Virtual - Formulario PQRSDF","Solicitud de documentos o información","Solicitud de información hidrometeorológica",null,"Subdirección de Hidrología","2025-03-04","Correo electrónico","2025-03-12",null,"",null,{"$f":"IFERROR(WORKDAY(N1576,Y1576,Hoja1!F1568:F1684),\"\")","v":""},{"$f":"+IF(N1576=\"\",\"\",IF(O1576=\"\",\"SIN RESPUESTA\",(IF(O1576<=P1576,\"A TIEMPO\",\"FUERA DE TIEMPO\"))))","v":""},null,"A TIEMPO",4,0,null,null,{"$f":"IFERROR(VLOOKUP(F1576,Hoja1!$A$50:$C$63,2),\"\")","v":5},{"$f":"IFERROR(VLOOKUP(F1576,Hoja1!$A$50:$C$63,3),\"\")","v":5}]
[1567,20259910030194,"2025-02-26","Persona jurídica","Virtual - Correo electrónico","Solicitud de documentos o información","Registros ambientales",null,"Subdirección de Estudios Ambientales","2025-03-03","Correo electrónico","2025-03-12",null,"",null,{"$f":"IFERROR(WORKDAY(N1577,Y1577,Hoja1!F1569:F1685),\"\")","v":""},{"$f":"+IF(N1577=\"\",\"\",IF(O1577=\"\",\"SIN RESPUESTA\",(IF(O1577<=P1577,\"A TIEMPO\",\"FUERA DE TIEMPO\"))))","v":""},null,"A TIEMPO",3,0,null,null,{"$f":"IFERROR(VLOOKUP(F1577,Hoja1!$A$50:$C$63,2),\"\")","v":5},{"$f":"IFERROR(VLOOKUP(F1577,Hoja1!$A$50:$C$63,3),\"\")","v":5}]
[1568,20259910030204,"2025-02-26","Persona natural","Virtual - Correo electrónico","Certificación laboral o pasantía","Administrativa",null,"Grupo de Administración y Desarrollo del Talento Humano","2025-03-12","Correo electrónico","2025-03-12",null,"",null,{"$f":"IFERROR(WORKDAY(N1578,Y1578,Hoja1!F1570:F1686),\"\")","v":""},{"$f":"+IF(N1578=\"\",\"\",IF(O1578=\"\",\"SIN RESPUESTA\",(IF(O1578<=P1578,\"A TIEMPO\",\"FUERA DE TIEMPO\"))))","v":""},null,"A TIEMPO",10,0,null,null,{"$f":"IFERROR(VLOOKUP(F1578,Hoja1!$A$50:$C$63,2),\"\")","v":15},{"$f":"IFERROR(VLOOKUP(F1578,Hoja1!$A$50:$C$63,3),\"\")","v":15}]
[1569,20259910030214,"2025-02-26","Persona jurídica","Virtual - Correo electrónico","Solicitud de documentos o información","Modelamiento meteorológico",null,"Subdirección de Meteorología","2025-03-06","Correo electrónico","2025-03-12",null,"",null,{"$f":"IFERROR(WORKDAY(N1579,Y1579,Hoja1!F1571:F1687),\"\")","v":""},{"$f":"+IF(N1579=\"\",\"\",IF(O1579=\"\",\"SIN RESPUESTA\",(IF(O1579<=P1579,\"A TIEMPO\",\"FUERA DE TIEMPO\"))))","v":""},null,"A TIEMPO",6,0,null,null,{"$f":"IFERROR(VLOOKUP(F1579,Hoja1!$A$50:$C$63,2),\"\")","v":5},{"$f":"IFERROR(VLOOKUP(F1579,Hoja1!$A$50:$C$63,3),\"\")","v":5}]
[1570,20259910030224,"2025-02-26","Persona jurídica","Virtual - Correo electrónico","Solicitud de documentos o información","Registros ambientales",null,"Subdirección de Estudios Ambientales","2025-03-06","Correo electrónico","2025-03-12",null,"",null,{"$f":"IFERROR(WORKDAY(N1580,Y1580,Hoja1!F1572:F1688),\"\")","v":""},{"$f":"+IF(N1580=\"\",\"\",IF(O1580=\"\",\"SIN RESPUESTA\",(IF(O1580<=P1580,\"A TIEMPO\",\"FUERA DE TIEMPO\"))))","v":""},null,"A TIEMPO",6,0,null,null,{"$f":"IFERROR(VLOOKUP(F1580,Hoja1!$A$50:$C$63,2),\"\")","v":5},{"$f":"IFERROR(VLOOKUP(F1580,Hoja1!$A$50:$C$63,3),\"\")","v":5}]
[1571,20259910030234,"2025-02-26","Persona jurídica","Virtual - Correo electrónico","Certificación de tiempo, clima y eventos hidrológicos","Certificaciones del tiempo y clima",null,"Subdirección de Meteorología","2025-03-17","Correo electrónico","2025-04-11",null,"",null,{"$f":"IFERROR(WORKDAY(N1581,Y1581,Hoja1!F1573:F1689),\"\")","v":""},{"$f":"+IF(N1581=\"\",\"\",IF(O1581=\"\",\"SIN RESPUESTA\",(IF(O1581<=P1581,\"A TIEMPO\",\"FUERA DE TIEMPO\"))))","v":""},null,"A TIEMPO",13,0,null,null,{"$f":"IFERROR(VLOOKUP(F1581,Hoja1!$A$50:$C$63,2),\"\")","v":15},{"$f":"IFERROR(VLOOKUP(F1581,Hoja1!$A$50:$C$63,3),\"\")","v":15}]
[1572,20259910030244,"2025-02-26","Persona natural","Virtual - Correo electrónico","Solicitud de documentos o información","Visitas académicas",null,"Grupo de Servicio al Ciudadano","2025-03-07","Correo electrónico","2025-03-12",null,"",null,{"$f":"IFERROR(WORKDAY(N1582,Y1582,Hoja1!F1574:F1690),\"\")","v":""},{"$f":"+IF(N1582=\"\",\"\",IF(O1582=\"\",\"SIN RESPUESTA\",(IF(O1582<=P1582,\"A TIEMPO\",\"FUERA DE TIEMPO\"))))","v":""},null,"A TIEMPO",7,0,null,null,{"$f":"IFERROR(VLOOKUP(F1582,Hoja1!$A$50:$C$63,2),\"\")","v":5},{"$f":"IFERROR(VLOOKUP(F1582,Hoja1!$A$50:$C$63,3),\"\")","v":5}]
[1573,20259050030254,"2025-02-26","Persona jurídica","Virtual - Formulario PQRSDF","Solicitud de documentos o información","Solicitud de información hidrometeorológica",null,"Grupo de Servicio al Ciudadano","2025-03-10","Correo electrónico","2025-03-12",null,"",null,{"$f":"IFERROR(WORKDAY(N1583,Y1583,Hoja1!F1575:F1691),\"\")","v":""},{"$f":"+IF(N1583=\"\",\"\",IF(O1583=\"\",\"SIN RESPUESTA\",(IF(O1583<=P1583,\"A TIEMPO\",\"FUERA DE TIEMPO\"))))","v":""},null,"A TIEMPO",8,0,null,null,{"$f":"IFERROR(VLOOKUP(F1583,Hoja1!$A$50:$C$63,2),\"\")","v":5},{"$f":"IFERROR(VLOOKUP(F1583,Hoja1!$A$50:$C$63,3),\"\")","v":5}]
[1574,20259910030284,"2025-02-26","Persona jurídica","Virtual - Correo electrónico","Solicitud de documentos o información","Registros ambientales",null,"Subdirección de Estudios Ambientales","2025-03-03","Correo electrónico","2025-03-12",null,"",null,{"$f":"IFERROR(WORKDAY(N1584,Y1584,Hoja1!F1576:F1692),\"\")","v":""},{"$f":"+IF(N1584=\"\",\"\",IF(O1584=\"\",\"SIN RESPUESTA\",(IF(O1584<=P1584,\"A TIEMPO\",\"FUERA DE TIEMPO\"))))","v":""},null,"A TIEMPO",3,0,null,null,{"$f":"IFERROR(VLOOKUP(F1584,Hoja1!$A$50:$C$63,2),\"\")","v":5},{"$f":"IFERROR(VLOOKUP(F1584,Hoja1!$A$50:$C$63,3),\"\")","v":5}]
[1575,20259910030304,"2025-02-26","Persona jurídica","Virtual - Correo electrónico","Solicitud de documentos o información","Registros ambientales",null,"Subdirección de Estudios Ambientales","2025-03-06","Correo electrónico","2025-03-12",null,"",null,{"$f":"IFERROR(WORKDAY(N1585,Y1585,Hoja1!F1577:F1693),\"\")","v":""},{"$f":"+IF(N1585=\"\",\"\",IF(O1585=\"\",\"SIN RESPUESTA\",(IF(O1585<=P1585,\"A TIEMPO\",\"FUERA DE TIEMPO\"))))","v":""},null,"A TIEMPO",6,0,null,null,{"$f":"IFERROR(VLOOKUP(F1585,Hoja1!$A$50:$C$63,2),\"\")","v":5},{"$f":"IFERROR(VLOOKUP(F1585,Hoja1!$A$50:$C$63,3),\"\")","v":5}]
[1576,20259910030324,"2025-02-26","Persona natural","Virtual - Correo electrónico","Solicitud de documentos o información","Visitas académicas",null,"Grupo de Servicio al Ciudadano","2025-03-10","Correo electrónico","2025-03-12",null,"",null,{"$f":"IFERROR(WORKDAY(N1586,Y1586,Hoja1!F1578:F1694),\"\")","v":""},{"$f":"+IF(N1586=\"\",\"\",IF(O1586=\"\",\"SIN RESPUESTA\",(IF(O1586<=P1586,\"A TIEMPO\",\"FUERA DE TIEMPO\"))))","v":""},null,"A TIEMPO",8,0,null,null,{"$f":"IFERROR(VLOOKUP(F1586,Hoja1!$A$50:$C$63,2),\"\")","v":5},{"$f":"IFERROR(VLOOKUP(F1586,Hoja1!$A$50:$C$63,3),\"\")","v":5}]
[1577,20259910030334,"2025-02-26","Persona natural","Virtual - Correo electrónico","Petición de interés general o particular","Administrativa",null,"Dirección General",null,null,"2025-03-20",null,"",null,{"$f":"IFERROR(WORKDAY(N1587,Y1587,Hoja1!F1579:F1695),\"\")","v":""},{"$f":"+IF(N1587=\"\",\"\",IF(O1587=\"\",\"SIN RESPUESTA\",(IF(O1587<=P1587,\"A TIEMPO\",\"FUERA DE TIEMPO\"))))","v":""},null,{"$f":"+IF(C1587=\"\",\"\",IF(J1587=\"\",\"SIN RESPUESTA\",(IF(J1587<=L1587,\"A TIEMPO\",\"FUERA DE TIEMPO\"))))","v":"SIN RESPUESTA"},0,0,null,null,{"$f":"IFERROR(VLOOKUP(F1587,Hoja1!$A$50:$C$63,2),\"\")","v":15},{"$f":"IFERROR(VLOOKUP(F1587,Hoja1!$A$50:$C$63,3),\"\")","v":15}]
[1578,20259050030414,"2025-02-26","Persona natural","Virtual - Formulario PQRSDF","Solicitud de documentos o información","Pronósticos y alertas",null,"Subdirección de Ecosistemas e Información Ambiental","2025-03-12","Correo electrónico","2025-03-12",null,"",null,{"$f":"IFERROR(WORKDAY(N1588,Y1588,Hoja1!F1580:F1696),\"\")","v":""},{"$f":"+IF(N1588=\"\",\"\",IF(O1588=\"\",\"SIN RESPUESTA\",(IF(O1588<=P1588,\"A TIEMPO\",\"FUERA DE TIEMPO\"))))","v":""},null,"A TIEMPO",10,0,null,null,{"$f":"IFERROR(VLOOKUP(F1588,Hoja1!$A$50:$C$63,2),\"\")","v":5},{"$f":"IFERROR(VLOOKUP(F1588,Hoja1!$A$50:$C$63,3),\"\")","v":5}]
[1579,20259910030424,"2025-02-26","Persona jurídica","Virtual - Correo electrónico","Solicitud de documentos o información","Registros ambientales",null,"Subdirección de Estudios Ambientales","2025-03-17","Correo electrónico","2025-03-12",null,"",null,{"$f":"IFERROR(WORKDAY(N1589,Y1589,Hoja1!F1581:F1697),\"\")","v":""},{"$f":"+IF(N1589=\"\",\"\",IF(O1589=\"\",\"SIN RESPUESTA\",(IF(O1589<=P1589,\"A TIEMPO\",\"FUERA DE TIEMPO\"))))","v":""},null,{"$f":"+IF(C1589=\"\",\"\",IF(J1589=\"\",\"SIN RESPUESTA\",(IF(J1589<=L1589,\"A TIEMPO\",\"FUERA DE TIEMPO\"))))","v":"FUERA DE TIEMPO"},13,3,null,null,{"$f":"IFERROR(VLOOKUP(F1589,Hoja1!$A$50:$C$63,2),\"\")","v":5},{"$f":"IFERROR(VLOOKUP(F1589,Hoja1!$A$50:$C$63,3),\"\")","v":5}]
[1580,20259910030454,"2025-02-26","Persona jurídica","Virtual - Correo electrónico","Solicitud de documentos o información","Estudio nacional del agua",null,"Subdirección de Hidrología","2025-03-05","Correo electrónico","2025-03-12",null,"",null,{"$f":"IFERROR(WORKDAY(N1590,Y1590,Hoja1!F1582:F1698),\"\")","v":""},{"$f":"+IF(N1590=\"\",\"\",IF(O1590=\"\",\"SIN RESPUESTA\",(IF(O1590<=P1590,\"A TIEMPO\",\"FUERA DE TIEMPO\"))))","v":""},null,"A TIEMPO",5,0,null,null,{"$f":"IFERROR(VLOOKUP(F1590,Hoja1!$A$50:$C$63,2),\"\")","v":5},{"$f":"IFERROR(VLOOKUP(F1590,Hoja1!$A$50:$C$63,3),\"\")","v":5}]
[1581,20259910030494,"2025-02-26","Persona jurídica","Virtual - Correo electrónico","Solicitud de documentos o información","Registros ambientales",null,"Subdirección de Estudios Ambientales","2025-03-10","Correo electrónico","2025-03-12",null,"",null,{"$f":"IFERROR(WORKDAY(N1591,Y1591,Hoja1!F1583:F1699),\"\")","v":""},{"$f":"+IF(N1591=\"\",\"\",IF(O1591=\"\",\"SIN RESPUESTA\",(IF(O1591<=P1591,\"A TIEMPO\",\"FUERA DE TIEMPO\"))))","v":""},null,"A TIEMPO",8,0,null,null,{"$f":"IFERROR(VLOOKUP(F1591,Hoja1!$A$50:$C$63,2),\"\")","v":5},{"$f":"IFERROR(VLOOKUP(F1591,Hoja1!$A$50:$C$63,3),\"\")","v":5}]
[1582,20259910030504,"2025-02-27","Persona jurídica","Virtual - Correo electrónico","Petición entre autoridades","Bosques",null,"Subdirección de Estudios Ambientales","2025-03-06","Correo electrónico","2025-03-13",null,"",null,{"$f":"IFERROR(WORKDAY(N1592,Y1592,Hoja1!F1584:F1700),\"\")","v":""},{"$f":"+IF(N1592=\"\",\"\",IF(O1592=\"\",\"SIN RESPUESTA\",(IF(O1592<=P1592,\"A TIEMPO\",\"FUERA DE TIEMPO\"))))","v":""},null,"A TIEMPO",5,0,null,null,{"$f":"IFERROR(VLOOKUP(F1592,Hoja1!$A$50:$C$63,2),\"\")","v":10},{"$f":"IFERROR(VLOOKUP(F1592,Hoja1!$A$50:$C$63,3),\"\")","v":10}]
[1583,20259910030514,"2025-02-26","Persona natural","Virtual - Correo electrónico","Solicitud de documentos o información","Bosques",null,"Subdirección de Ecosistemas e Información Ambiental","2025-03-05","Correo electrónico","2025-03-12",null,"",null,{"$f":"IFERROR(WORKDAY(N1593,Y1593,Hoja1!F1585:F1701),\"\")","v":""},{"$f":"+IF(N1593=\"\",\"\",IF(O1593=\"\",\"SIN RESPUESTA\",(IF(O1593<=P1593,\"A TIEMPO\",\"FUERA DE TIEMPO\"))))","v":""},null,"A TIEMPO",5,0,null,null,{"$f":"IFERROR(VLOOKUP(F1593,Hoja1!$A$50:$C$63,2),\"\")","v":5},{"$f":"IFERROR(VLOOKUP(F1593,Hoja1!$A$50:$C$63,3),\"\")","v":5}]
[1584,20259910030524,"2025-02-26","Persona jurídica","Virtual - Correo electrónico","Solicitud de documentos o información","Registros ambientales",null,"Subdirección de Estudios Ambientales","2025-03-04","Correo electrónico","2025-03-12",null,"",null,{"$f":"IFERROR(WORKDAY(N1594,Y1594,Hoja1!F1586:F1702),\"\")","v":""},{"$f":"+IF(N1594=\"\",\"\",IF(O1594=\"\",\"SIN RESPUESTA\",(IF(O1594<=P1594,\"A TIEMPO\",\"FUERA DE TIEMPO\"))))","v":""},null,"A TIEMPO",4,0,null,null,{"$f":"IFERROR(VLOOKUP(F1594,Hoja1!$A$50:$C$63,2),\"\")","v":5},{"$f":"IFERROR(VLOOKUP(F1594,Hoja1!$A$50:$C$63,3),\"\")","v":5}]
[1585,20259050030554,"2025-02-26","Persona natural","Virtual - Formulario PQRSDF","Solicitud de documentos o información","Bosques",null,"Subdirección de Ecosistemas e Información Ambiental","2025-03-04","Correo electrónico","2025-03-12",null,"",null,{"$f":"IFERROR(WORKDAY(N1595,Y1595,Hoja1!F1587:F1703),\"\")","v":""},{"$f":"+IF(N1595=\"\",\"\",IF(O1595=\"\",\"SIN RESPUESTA\",(IF(O1595<=P1595,\"A TIEMPO\",\"FUERA DE TIEMPO\"))))","v":""},null,"A TIEMPO",4,0,null,null,{"$f":"IFERROR(VLOOKUP(F1595,Hoja1!$A$50:$C$63,2),\"\")","v":5},{"$f":"IFERROR(VLOOKUP(F1595,Hoja1!$A$50:$C$63,3),\"\")","v":5}]
[1586,20259910030604,"2025-02-26","Persona natural","Virtual - Correo electrónico","Solicitud de documentos o información","Sistema de información del recurso hídrico",null,"Subdirección de Hidrología","2025-03-04","Correo electrónico","2025-03-12",null,"",null,{"$f":"IFERROR(WORKDAY(N1596,Y1596,Hoja1!F1588:F1704),\"\")","v":""},{"$f":"+IF(N1596=\"\",\"\",IF(O1596=\"\",\"SIN RESPUESTA\",(IF(O1596<=P1596,\"A TIEMPO\",\"FUERA DE TIEMPO\"))))","v":""},null,"A TIEMPO",4,0,null,null,{"$f":"IFERROR(VLOOKUP(F1596,Hoja1!$A$50:$C$63,2),\"\")","v":5},{"$f":"IFERROR(VLOOKUP(F1596,Hoja1!$A$50:$C$63,3),\"\")","v":5}]
[1587,20259910030624,"2025-02-26","Persona natural","Virtual - Correo electrónico","Solicitud de documentos o información","Registros ambientales",null,"Subdirección de Estudios Ambientales","2025-03-11","Correo electrónico","2025-03-12",null,"",null,{"$f":"IFERROR(WORKDAY(N1597,Y1597,Hoja1!F1589:F1705),\"\")","v":""},{"$f":"+IF(N1597=\"\",\"\",IF(O1597=\"\",\"SIN RESPUESTA\",(IF(O1597<=P1597,\"A TIEMPO\",\"FUERA DE TIEMPO\"))))","v":""},null,"A TIEMPO",9,0,null,null,{"$f":"IFERROR(VLOOKUP(F1597,Hoja1!$A$50:$C$63,2),\"\")","v":5},{"$f":"IFERROR(VLOOKUP(F1597,Hoja1!$A$50:$C$63,3),\"\")","v":5}]
[1588,20259910030634,"2025-02-26","Persona jurídica","Virtual - Correo electrónico","Solicitud de documentos o información","Registros ambientales",null,"Subdirección de Estudios Ambientales","2025-03-17","Correo electrónico","2025-03-12",null,"",null,{"$f":"IFERROR(WORKDAY(N1598,Y1598,Hoja1!F1590:F1706),\"\")","v":""},{"$f":"+IF(N1598=\"\",\"\",IF(O1598=\"\",\"SIN RESPUESTA\",(IF(O1598<=P1598,\"A TIEMPO\",\"FUERA DE TIEMPO\"))))","v":""},null,{"$f":"+IF(C1598=\"\",\"\",IF(J1598=\"\",\"SIN RESPUESTA\",(IF(J1598<=L1598,\"A TIEMPO\",\"FUERA DE TIEMPO\"))))","v":"FUERA DE TIEMPO"},13,3,null,null,{"$f":"IFERROR(VLOOKUP(F1598,Hoja1!$A$50:$C$63,2),\"\")","v":5},{"$f":"IFERROR(VLOOKUP(F1598,Hoja1!$A$50:$C$63,3),\"\")","v":5}]
[1589,20259910030644,"2025-02-26","Persona jurídica","Virtual - Correo electrónico","Solicitud de documentos o información","Solicitud de información hidrometeorológica",null,"Grupo de Servicio al Ciudadano","2025-03-10","Correo electrónico","2025-03-12",null,"",null,{"$f":"IFERROR(WORKDAY(N1599,Y1599,Hoja1!F1591:F1707),\"\")","v":""},{"$f":"+IF(N1599=\"\",\"\",IF(O1599=\"\",\"SIN RESPUESTA\",(IF(O1599<=P1599,\"A TIEMPO\",\"FUERA DE TIEMPO\"))))","v":""},null,"A TIEMPO",8,0,null,null,{"$f":"IFERROR(VLOOKUP(F1599,Hoja1!$A$50:$C$63,2),\"\")","v":5},{"$f":"IFERROR(VLOOKUP(F1599,Hoja1!$A$50:$C$63,3),\"\")","v":5}]
[1590,20259910030654,"2025-02-26","Persona jurídica","Virtual - Correo electrónico","Solicitud de documentos o información","Operación de redes",null,"Área Operativa No. 5 - Santa Marta","2025-03-11","Correo electrónico","2025-03-12",null,"",null,{"$f":"IFERROR(WORKDAY(N1600,Y1600,Hoja1!F1592:F1708),\"\")","v":""},{"$f":"+IF(N1600=\"\",\"\",IF(O1600=\"\",\"SIN RESPUESTA\",(IF(O1600<=P1600,\"A TIEMPO\",\"FUERA DE TIEMPO\"))))","v":""},null,"A TIEMPO",9,0,null,null,{"$f":"IFERROR(VLOOKUP(F1600,Hoja1!$A$50:$C$63,2),\"\")","v":5},{"$f":"IFERROR(VLOOKUP(F1600,Hoja1!$A$50:$C$63,3),\"\")","v":5}]
[1591,20259050030664,"2025-02-26","Persona natural","Virtual - Formulario PQRSDF","Solicitud de documentos o información","Solicitud de información hidrometeorológica",null,"Grupo de Servicio al Ciudadano","2025-03-10","Correo electrónico","2025-03-12",null,"",null,{"$f":"IFERROR(WORKDAY(N1601,Y1601,Hoja1!F1593:F1709),\"\")","v":""},{"$f":"+IF(N1601=\"\",\"\",IF(O1601=\"\",\"SIN RESPUESTA\",(IF(O1601<=P1601,\"A TIEMPO\",\"FUERA DE TIEMPO\"))))","v":""},null,"A TIEMPO",8,0,null,null,{"$f":"IFERROR(VLOOKUP(F1601,Hoja1!$A$50:$C$63,2),\"\")","v":5},{"$f":"IFERROR(VLOOKUP(F1601,Hoja1!$A$50:$C$63,3),\"\")","v":5}]
[1592,20259910030714,"2025-02-27","Persona jurídica","Virtual - Correo electrónico","Solicitud de documentos o información","Registros ambientales",null,"Subdirección de Estudios Ambientales","2025-03-11","Correo electrónico","2025-03-13",null,"",null,{"$f":"IFERROR(WORKDAY(N1602,Y1602,Hoja1!F1594:F1710),\"\")","v":""},{"$f":"+IF(N1602=\"\",\"\",IF(O1602=\"\",\"SIN RESPUESTA\",(IF(O1602<=P1602,\"A TIEMPO\",\"FUERA DE TIEMPO\"))))","v":""},null,"A TIEMPO",8,0,null,null,{"$f":"IFERROR(VLOOKUP(F1602,Hoja1!$A$50:$C$63,2),\"\")","v":5},{"$f":"IFERROR(VLOOKUP(F1602,Hoja1!$A$50:$C$63,3),\"\")","v":5}]
[1593,20259910030734,"2025-02-27","Persona jurídica","Virtual - Correo electrónico","Solicitud de documentos o información","Solicitud de información hidrometeorológica",null,"Grupo de Servicio al Ciudadano","2025-03-10","Correo electrónico","2025-03-13",null,"",null,{"$f":"IFERROR(WORKDAY(N1603,Y1603,Hoja1!F1595:F1711),\"\")","v":""},{"$f":"+IF(N1603=\"\",\"\",IF(O1603=\"\",\"SIN RESPUESTA\",(IF(O1603<=P1603,\"A TIEMPO\",\"FUERA DE TIEMPO\"))))","v":""},null,"A TIEMPO",7,0,null,null,{"$f":"IFERROR(VLOOKUP(F1603,Hoja1!$A$50:$C$63,2),\"\")","v":5},{"$f":"IFERROR(VLOOKUP(F1603,Hoja1!$A$50:$C$63,3),\"\")","v":5}]
[1594,20259910030754,"2025-02-27","Persona jurídica","Virtual - Correo electrónico","Certificación de ingresos y retenciones","Administrativa",null,"Grupo de Contabilidad","2025-03-13","Correo electrónico","2025-03-13",null,"",null,{"$f":"IFERROR(WORKDAY(N1604,Y1604,Hoja1!F1596:F1712),\"\")","v":""},{"$f":"+IF(N1604=\"\",\"\",IF(O1604=\"\",\"SIN RESPUESTA\",(IF(O1604<=P1604,\"A TIEMPO\",\"FUERA DE TIEMPO\"))))","v":""},null,"A TIEMPO",10,0,null,null,{"$f":"IFERROR(VLOOKUP(F1604,Hoja1!$A$50:$C$63,2),\"\")","v":15},{"$f":"IFERROR(VLOOKUP(F1604,Hoja1!$A$50:$C$63,3),\"\")","v":15}]
[1595,20259910030764,"2025-02-27","Persona natural","Virtual - Correo electrónico","Solicitud de documentos o información","Solicitud de información hidrometeorológica",null,"Grupo de Servicio al Ciudadano","2025-03-10","Correo electrónico","2025-03-13",null,"",null,{"$f":"IFERROR(WORKDAY(N1605,Y1605,Hoja1!F1597:F1713),\"\")","v":""},{"$f":"+IF(N1605=\"\",\"\",IF(O1605=\"\",\"SIN RESPUESTA\",(IF(O1605<=P1605,\"A TIEMPO\",\"FUERA DE TIEMPO\"))))","v":""},null,"A TIEMPO",7,0,null,null,{"$f":"IFERROR(VLOOKUP(F1605,Hoja1!$A$50:$C$63,2),\"\")","v":5},{"$f":"IFERROR(VLOOKUP(F1605,Hoja1!$A$50:$C$63,3),\"\")","v":5}]
[1596,20259910030774,"2025-02-27","Persona natural","Virtual - Correo electrónico","Solicitud de documentos o información","Informes ambientales",null,"Subdirección de Hidrología","2025-03-04","Correo electrónico","2025-03-13",null,"",null,{"$f":"IFERROR(WORKDAY(N1606,Y1606,Hoja1!F1598:F1714),\"\")","v":""},{"$f":"+IF(N1606=\"\",\"\",IF(O1606=\"\",\"SIN RESPUESTA\",(IF(O1606<=P1606,\"A TIEMPO\",\"FUERA DE TIEMPO\"))))","v":""},null,"A TIEMPO",3,0,null,null,{"$f":"IFERROR(VLOOKUP(F1606,Hoja1!$A$50:$C$63,2),\"\")","v":5},{"$f":"IFERROR(VLOOKUP(F1606,Hoja1!$A$50:$C$63,3),\"\")","v":5}]
[1597,20259910030864,"2025-02-27","Persona jurídica","Virtual - Correo electrónico","Petición de interés general o particular","Laboratorio de calidad ambiental",null,"Subdirección de Estudios Ambientales","2025-03-17","Correo electrónico","2025-03-21",null,"",null,{"$f":"IFERROR(WORKDAY(N1607,Y1607,Hoja1!F1599:F1715),\"\")","v":""},{"$f":"+IF(N1607=\"\",\"\",IF(O1607=\"\",\"SIN RESPUESTA\",(IF(O1607<=P1607,\"A TIEMPO\",\"FUERA DE TIEMPO\"))))","v":""},null,"A TIEMPO",12,0,null,null,{"$f":"IFERROR(VLOOKUP(F1607,Hoja1!$A$50:$C$63,2),\"\")","v":15},{"$f":"IFERROR(VLOOKUP(F1607,Hoja1!$A$50:$C$63,3),\"\")","v":15}]
[1598,20259050030904,"2025-02-27","Persona natural","Virtual - Formulario PQRSDF","Solicitud de documentos o información","Solicitud de información hidrometeorológica",null,"Grupo de Servicio al Ciudadano","2025-03-10","Correo electrónico","2025-03-13",null,"",null,{"$f":"IFERROR(WORKDAY(N1608,Y1608,Hoja1!F1600:F1716),\"\")","v":""},{"$f":"+IF(N1608=\"\",\"\",IF(O1608=\"\",\"SIN RESPUESTA\",(IF(O1608<=P1608,\"A TIEMPO\",\"FUERA DE TIEMPO\"))))","v":""},null,"A TIEMPO",7,0,null,null,{"$f":"IFERROR(VLOOKUP(F1608,Hoja1!$A$50:$C$63,2),\"\")","v":5},{"$f":"IFERROR(VLOOKUP(F1608,Hoja1!$A$50:$C$63,3),\"\")","v":5}]
[1599,20259050030924,"2025-02-27","Persona natural","Virtual - Formulario PQRSDF","Solicitud de documentos o información","Solicitud de información hidrometeorológica",null,"Grupo de Servicio al Ciudadano","2025-03-10","Correo electrónico","2025-03-13",null,"",null,{"$f":"IFERROR(WORKDAY(N1609,Y1609,Hoja1!F1601:F1717),\"\")","v":""},{"$f":"+IF(N1609=\"\",\"\",IF(O1609=\"\",\"SIN RESPUESTA\",(IF(O1609<=P1609,\"A TIEMPO\",\"FUERA DE TIEMPO\"))))","v":""},null,"A TIEMPO",7,0,null,null,{"$f":"IFERROR(VLOOKUP(F1609,Hoja1!$A$50:$C$63,2),\"\")","v":5},{"$f":"IFERROR(VLOOKUP(F1609,Hoja1!$A$50:$C$63,3),\"\")","v":5}]
[1600,20259050030934,"2025-02-27","Persona natural","Virtual - Formulario PQRSDF","Solicitud de documentos o información","Solicitud de información hidrometeorológica",null,"Subdirección de Hidrología","2025-03-04","Correo electrónico","2025-03-13",null,"",null,{"$f":"IFERROR(WORKDAY(N1610,Y1610,Hoja1!F1602:F1718),\"\")","v":""},{"$f":"+IF(N1610=\"\",\"\",IF(O1610=\"\",\"SIN RESPUESTA\",(IF(O1610<=P1610,\"A TIEMPO\",\"FUERA DE TIEMPO\"))))","v":""},null,"A TIEMPO",3,0,null,null,{"$f":"IFERROR(VLOOKUP(F1610,Hoja1!$A$50:$C$63,2),\"\")","v":5},{"$f":"IFERROR(VLOOKUP(F1610,Hoja1!$A$50:$C$63,3),\"\")","v":5}]
[1601,20259910030994,"2025-02-27","Persona jurídica","Virtual - Correo electrónico","Consulta (Información técnica)","Bosques",null,"Subdirección de Ecosistemas e Información Ambiental","2025-03-27","Correo electrónico","2025-04-14",null,"",null,{"$f":"IFERROR(WORKDAY(N1611,Y1611,Hoja1!F1603:F1719),\"\")","v":""},{"$f":"+IF(N1611=\"\",\"\",IF(O1611=\"\",\"SIN RESPUESTA\",(IF(O1611<=P1611,\"A TIEMPO\",\"FUERA DE TIEMPO\"))))","v":""},null,"A TIEMPO",18,0,null,null,{"$f":"IFERROR(VLOOKUP(F1611,Hoja1!$A$50:$C$63,2),\"\")","v":30},{"$f":"IFERROR(VLOOKUP(F1611,Hoja1!$A$50:$C$63,3),\"\")","v":30}]
[1602,20259050031224,"2025-02-27","Persona natural","Virtual - Formulario PQRSDF","Solicitud de documentos o información","Bosques",null,"Subdirección de Ecosistemas e Información Ambiental","2025-03-17","Correo electrónico","2025-03-13",null,"",null,{"$f":"IFERROR(WORKDAY(N1612,Y1612,Hoja1!F1604:F1720),\"\")","v":""},{"$f":"+IF(N1612=\"\",\"\",IF(O1612=\"\",\"SIN RESPUESTA\",(IF(O1612<=P1612,\"A TIEMPO\",\"FUERA DE TIEMPO\"))))","v":""},null,{"$f":"+IF(C1612=\"\",\"\",IF(J1612=\"\",\"SIN RESPUESTA\",(IF(J1612<=L1612,\"A TIEMPO\",\"FUERA DE TIEMPO\"))))","v":"FUERA DE TIEMPO"},12,2,null,null,{"$f":"IFERROR(VLOOKUP(F1612,Hoja1!$A$50:$C$63,2),\"\")","v":5},{"$f":"IFERROR(VLOOKUP(F1612,Hoja1!$A$50:$C$63,3),\"\")","v":5}]
[1603,20259910031194,"2025-02-27","Persona jurídica","Virtual - Correo electrónico","Solicitud de documentos o información","Registros ambientales",null,"Subdirección de Estudios Ambientales","2025-03-11","Correo electrónico","2025-03-13",null,"",null,{"$f":"IFERROR(WORKDAY(N1613,Y1613,Hoja1!F1605:F1721),\"\")","v":""},{"$f":"+IF(N1613=\"\",\"\",IF(O1613=\"\",\"SIN RESPUESTA\",(IF(O1613<=P1613,\"A TIEMPO\",\"FUERA DE TIEMPO\"))))","v":""},null,"A TIEMPO",8,0,null,null,{"$f":"IFERROR(VLOOKUP(F1613,Hoja1!$A$50:$C$63,2),\"\")","v":5},{"$f":"IFERROR(VLOOKUP(F1613,Hoja1!$A$50:$C$63,3),\"\")","v":5}]
[1604,20259910031164,"2025-02-27","Persona jurídica","Virtual - Correo electrónico","Solicitud de documentos o información","Registros ambientales",null,"Subdirección de Estudios Ambientales","2025-03-03","Correo electrónico","2025-03-13",null,"",null,{"$f":"IFERROR(WORKDAY(N1614,Y1614,Hoja1!F1606:F1722),\"\")","v":""},{"$f":"+IF(N1614=\"\",\"\",IF(O1614=\"\",\"SIN RESPUESTA\",(IF(O1614<=P1614,\"A TIEMPO\",\"FUERA DE TIEMPO\"))))","v":""},null,"A TIEMPO",2,0,null,null,{"$f":"IFERROR(VLOOKUP(F1614,Hoja1!$A$50:$C$63,2),\"\")","v":5},{"$f":"IFERROR(VLOOKUP(F1614,Hoja1!$A$50:$C$63,3),\"\")","v":5}]
[1605,20259910031024,"2025-02-27","Persona jurídica","Virtual - Correo electrónico","Solicitud de documentos o información","Registros ambientales",null,"Subdirección de Estudios Ambientales","2025-03-03","Correo electrónico","2025-03-13",null,"",null,{"$f":"IFERROR(WORKDAY(N1615,Y1615,Hoja1!F1607:F1723),\"\")","v":""},{"$f":"+IF(N1615=\"\",\"\",IF(O1615=\"\",\"SIN RESPUESTA\",(IF(O1615<=P1615,\"A TIEMPO\",\"FUERA DE TIEMPO\"))))","v":""},null,"A TIEMPO",2,0,null,null,{"$f":"IFERROR(VLOOKUP(F1615,Hoja1!$A$50:$C$63,2),\"\")","v":5},{"$f":"IFERROR(VLOOKUP(F1615,Hoja1!$A$50:$C$63,3),\"\")","v":5}]
[1606,20259910031154,"2025-02-27","Persona natural","Virtual - Correo electrónico","Certificación electrónica de tiempos laborados - CETIL","Administrativa",null,"Grupo de Administración y Desarrollo del Talento Humano","2025-03-13","Correo electrónico","2025-03-21",null,"",null,{"$f":"IFERROR(WORKDAY(N1616,Y1616,Hoja1!F1608:F1724),\"\")","v":""},{"$f":"+IF(N1616=\"\",\"\",IF(O1616=\"\",\"SIN RESPUESTA\",(IF(O1616<=P1616,\"A TIEMPO\",\"FUERA DE TIEMPO\"))))","v":""},null,"A TIEMPO",10,0,null,null,{"$f":"IFERROR(VLOOKUP(F1616,Hoja1!$A$50:$C$63,2),\"\")","v":15},{"$f":"IFERROR(VLOOKUP(F1616,Hoja1!$A$50:$C$63,3),\"\")","v":15}]
[{"$f":"IF(B1617<>\"\",A1616+1,\"\")","v":1607},20259910031124,"2025-02-27","Persona jurídica","Virtual - Correo electrónico","Solicitud de documentos o información","Bosques",null,"Subdirección de Ecosistemas e Información Ambiental","2025-03-13","Correo electrónico","2025-03-13",null,"",null,{"$f":"IFERROR(WORKDAY(N1617,Y1617,Hoja1!F1609:F1725),\"\")","v":""},{"$f":"+IF(N1617=\"\",\"\",IF(O1617=\"\",\"SIN RESPUESTA\",(IF(O1617<=P1617,\"A TIEMPO\",\"FUERA DE TIEMPO\"))))","v":""},null,"A TIEMPO",10,0,null,null,{"$f":"IFERROR(VLOOKUP(F1617,Hoja1!$A$50:$C$63,2),\"\")","v":5},{"$f":"IFERROR(VLOOKUP(F1617,Hoja1!$A$50:$C$63,3),\"\")","v":5}]
[1608,20259050031034,"2025-02-27","Persona natural","Virtual - Formulario PQRSDF","Solicitud de documentos o información","Solicitud de información hidrometeorológica",null,"Grupo de Servicio al Ciudadano","2025-03-10","Correo electrónico","2025-03-13",null,"",null,{"$f":"IFERROR(WORKDAY(N1618,Y1618,Hoja1!F1610:F1726),\"\")","v":""},{"$f":"+IF(N1618=\"\",\"\",IF(O1618=\"\",\"SIN RESPUESTA\",(IF(O1618<=P1618,\"A TIEMPO\",\"FUERA DE TIEMPO\"))))","v":""},null,"A TIEMPO",7,0,null,null,{"$f":"IFERROR(VLOOKUP(F1618,Hoja1!$A$50:$C$63,2),\"\")","v":5},{"$f":"IFERROR(VLOOKUP(F1618,Hoja1!$A$50:$C$63,3),\"\")","v":5}]
[1609,20259050031114,"2025-02-27","Persona natural","Virtual - Formulario PQRSDF","Solicitud de documentos o información","Solicitud de información hidrometeorológica",null,"Grupo de Servicio al Ciudadano","2025-03-10","Correo electrónico","2025-03-13",null,"",null,{"$f":"IFERROR(WORKDAY(N1619,Y1619,Hoja1!F1611:F1727),\"\")","v":""},{"$f":"+IF(N1619=\"\",\"\",IF(O1619=\"\",\"SIN RESPUESTA\",(IF(O1619<=P1619,\"A TIEMPO\",\"FUERA DE TIEMPO\"))))","v":""},null,"A TIEMPO",7,0,null,null,{"$f":"IFERROR(VLOOKUP(F1619,Hoja1!$A$50:$C$63,2),\"\")","v":5},{"$f":"IFERROR(VLOOKUP(F1619,Hoja1!$A$50:$C$63,3),\"\")","v":5}]
[1610,20259910031094,"2025-02-27","Persona natural","Virtual - Correo electrónico","Certificación de contrato","Administrativa",null,"Oficina Asesora Jurídica","2025-03-13","Correo electrónico","2025-03-13",null,"",null,{"$f":"IFERROR(WORKDAY(N1620,Y1620,Hoja1!F1612:F1728),\"\")","v":""},{"$f":"+IF(N1620=\"\",\"\",IF(O1620=\"\",\"SIN RESPUESTA\",(IF(O1620<=P1620,\"A TIEMPO\",\"FUERA DE TIEMPO\"))))","v":""},null,"A TIEMPO",10,0,null,null,{"$f":"IFERROR(VLOOKUP(F1620,Hoja1!$A$50:$C$63,2),\"\")","v":15},{"$f":"IFERROR(VLOOKUP(F1620,Hoja1!$A$50:$C$63,3),\"\")","v":15}]
[1611,20259910031084,"2025-02-27","Persona jurídica","Virtual - Correo electrónico","Solicitud de documentos o información","Solicitud de información hidrometeorológica",null,"Subdirección de Meteorología","2025-03-06","Correo electrónico","2025-03-13",null,"",null,{"$f":"IFERROR(WORKDAY(N1621,Y1621,Hoja1!F1613:F1729),\"\")","v":""},{"$f":"+IF(N1621=\"\",\"\",IF(O1621=\"\",\"SIN RESPUESTA\",(IF(O1621<=P1621,\"A TIEMPO\",\"FUERA DE TIEMPO\"))))","v":""},null,"A TIEMPO",5,0,null,null,{"$f":"IFERROR(VLOOKUP(F1621,Hoja1!$A$50:$C$63,2),\"\")","v":5},{"$f":"IFERROR(VLOOKUP(F1621,Hoja1!$A$50:$C$63,3),\"\")","v":5}]
[1612,20259910031074,"2025-02-27","Persona jurídica","Virtual - Correo electrónico","Solicitud de documentos o información","Informes ambientales",null,"Subdirección de Estudios Ambientales","2025-03-11","Correo electrónico","2025-03-13",null,"",null,{"$f":"IFERROR(WORKDAY(N1622,Y1622,Hoja1!F1614:F1730),\"\")","v":""},{"$f":"+IF(N1622=\"\",\"\",IF(O1622=\"\",\"SIN RESPUESTA\",(IF(O1622<=P1622,\"A TIEMPO\",\"FUERA DE TIEMPO\"))))","v":""},null,"A TIEMPO",8,0,null,null,{"$f":"IFERROR(VLOOKUP(F1622,Hoja1!$A$50:$C$63,2),\"\")","v":5},{"$f":"IFERROR(VLOOKUP(F1622,Hoja1!$A$50:$C$63,3),\"\")","v":5}]
[1613,20259910031044,"2025-02-27","Persona jurídica","Virtual - Correo electrónico","Consulta (Información técnica)","Sistema de información ambiental",null,"Subdirección de Estudios Ambientales","2025-04-08","Correo electrónico","2025-04-14",null,"",null,{"$f":"IFERROR(WORKDAY(N1623,Y1623,Hoja1!F1615:F1731),\"\")","v":""},{"$f":"+IF(N1623=\"\",\"\",IF(O1623=\"\",\"SIN RESPUESTA\",(IF(O1623<=P1623,\"A TIEMPO\",\"FUERA DE TIEMPO\"))))","v":""},null,"A TIEMPO",26,0,null,null,{"$f":"IFERROR(VLOOKUP(F1623,Hoja1!$A$50:$C$63,2),\"\")","v":30},{"$f":"IFERROR(VLOOKUP(F1623,Hoja1!$A$50:$C$63,3),\"\")","v":30}]
[1614,20259910031204,"2025-02-27","Persona jurídica","Virtual - Correo electrónico","Solicitud de documentos o información","Solicitud de información hidrometeorológica",null,"Subdirección de Hidrología","2025-03-28","Correo electrónico","2025-03-13",null,"",null,{"$f":"IFERROR(WORKDAY(N1624,Y1624,Hoja1!F1616:F1732),\"\")","v":""},{"$f":"+IF(N1624=\"\",\"\",IF(O1624=\"\",\"SIN RESPUESTA\",(IF(O1624<=P1624,\"A TIEMPO\",\"FUERA DE TIEMPO\"))))","v":""},null,{"$f":"+IF(C1624=\"\",\"\",IF(J1624=\"\",\"SIN RESPUESTA\",(IF(J1624<=L1624,\"A TIEMPO\",\"FUERA DE TIEMPO\"))))","v":"FUERA DE TIEMPO"},19,9,null,null,{"$f":"IFERROR(VLOOKUP(F1624,Hoja1!$A$50:$C$63,2),\"\")","v":5},{"$f":"IFERROR(VLOOKUP(F1624,Hoja1!$A$50:$C$63,3),\"\")","v":5}]
[1615,20259050031054,"2025-02-27","Persona natural","Virtual - Formulario PQRSDF","Solicitud de documentos o información","Registros ambientales",null,"Subdirección de Estudios Ambientales","2025-03-03","Correo electrónico","2025-03-13",null,"",null,{"$f":"IFERROR(WORKDAY(N1625,Y1625,Hoja1!F1617:F1733),\"\")","v":""},{"$f":"+IF(N1625=\"\",\"\",IF(O1625=\"\",\"SIN RESPUESTA\",(IF(O1625<=P1625,\"A TIEMPO\",\"FUERA DE TIEMPO\"))))","v":""},null,"A TIEMPO",2,0,null,null,{"$f":"IFERROR(VLOOKUP(F1625,Hoja1!$A$50:$C$63,2),\"\")","v":5},{"$f":"IFERROR(VLOOKUP(F1625,Hoja1!$A$50:$C$63,3),\"\")","v":5}]
[1616,20259910031174,"2025-02-27","Persona jurídica","Virtual - Correo electrónico","Solicitud de documentos o información","Modelación hidrológica",null,"Subdirección de Hidrología","2025-03-04","Correo electrónico","2025-03-13",null,"",null,{"$f":"IFERROR(WORKDAY(N1626,Y1626,Hoja1!F1618:F1734),\"\")","v":""},{"$f":"+IF(N1626=\"\",\"\",IF(O1626=\"\",\"SIN RESPUESTA\",(IF(O1626<=P1626,\"A TIEMPO\",\"FUERA DE TIEMPO\"))))","v":""},null,"A TIEMPO",3,0,null,null,{"$f":"IFERROR(VLOOKUP(F1626,Hoja1!$A$50:$C$63,2),\"\")","v":5},{"$f":"IFERROR(VLOOKUP(F1626,Hoja1!$A$50:$C$63,3),\"\")","v":5}]
[1617,20259910031064,"2025-02-27","Persona jurídica","Virtual - Correo electrónico","Solicitud de documentos o información","Informes ambientales",null,"Subdirección de Estudios Ambientales","2025-03-10","Correo electrónico","2025-03-13",null,"",null,{"$f":"IFERROR(WORKDAY(N1627,Y1627,Hoja1!F1619:F1735),\"\")","v":""},{"$f":"+IF(N1627=\"\",\"\",IF(O1627=\"\",\"SIN RESPUESTA\",(IF(O1627<=P1627,\"A TIEMPO\",\"FUERA DE TIEMPO\"))))","v":""},null,"A TIEMPO",7,0,null,null,{"$f":"IFERROR(VLOOKUP(F1627,Hoja1!$A$50:$C$63,2),\"\")","v":5},{"$f":"IFERROR(VLOOKUP(F1627,Hoja1!$A$50:$C$63,3),\"\")","v":5}]
[1618,20259910031004,"2025-02-27","Persona jurídica","Virtual - Correo electrónico","Solicitud judicial","Administrativa",null,"Grupo de Servicios Administrativos","2025-03-03","Correo electrónico","2025-03-06",null,"",null,{"$f":"IFERROR(WORKDAY(N1628,Y1628,Hoja1!F1620:F1736),\"\")","v":""},{"$f":"+IF(N1628=\"\",\"\",IF(O1628=\"\",\"SIN RESPUESTA\",(IF(O1628<=P1628,\"A TIEMPO\",\"FUERA DE TIEMPO\"))))","v":""},null,"A TIEMPO",2,0,null,null,{"$f":"IFERROR(VLOOKUP(F1628,Hoja1!$A$50:$C$63,2),\"\")","v":5},{"$f":"IFERROR(VLOOKUP(F1628,Hoja1!$A$50:$C$63,3),\"\")","v":5}]
[1619,20259910031304,"2025-02-27","Persona jurídica","Virtual - Correo electrónico","Petición de interés general o particular","Administrativa",null,"Dirección General","2025-03-10","Correo electrónico","2025-03-21",null,"",null,{"$f":"IFERROR(WORKDAY(N1629,Y1629,Hoja1!F1621:F1737),\"\")","v":""},{"$f":"+IF(N1629=\"\",\"\",IF(O1629=\"\",\"SIN RESPUESTA\",(IF(O1629<=P1629,\"A TIEMPO\",\"FUERA DE TIEMPO\"))))","v":""},null,"A TIEMPO",7,0,null,null,{"$f":"IFERROR(VLOOKUP(F1629,Hoja1!$A$50:$C$63,2),\"\")","v":15},{"$f":"IFERROR(VLOOKUP(F1629,Hoja1!$A$50:$C$63,3),\"\")","v":15}]
[1620,20259910031324,"2025-02-27","Persona jurídica","Virtual - Correo electrónico","Solicitud de documentos o información","Sistema de información del recurso hídrico",null,"Subdirección de Hidrología","2025-03-05","Correo electrónico","2025-03-13",null,"",null,{"$f":"IFERROR(WORKDAY(N1630,Y1630,Hoja1!F1622:F1738),\"\")","v":""},{"$f":"+IF(N1630=\"\",\"\",IF(O1630=\"\",\"SIN RESPUESTA\",(IF(O1630<=P1630,\"A TIEMPO\",\"FUERA DE TIEMPO\"))))","v":""},null,"A TIEMPO",4,0,null,null,{"$f":"IFERROR(VLOOKUP(F1630,Hoja1!$A$50:$C$63,2),\"\")","v":5},{"$f":"IFERROR(VLOOKUP(F1630,Hoja1!$A$50:$C$63,3),\"\")","v":5}]
[1621,20259910031344,"2025-02-27","Persona natural","Virtual - Correo electrónico","Solicitud de documentos o información","Registros ambientales",null,"Subdirección de Hidrología","2025-03-13","Correo electrónico","2025-03-13",null,"",null,{"$f":"IFERROR(WORKDAY(N1631,Y1631,Hoja1!F1623:F1739),\"\")","v":""},{"$f":"+IF(N1631=\"\",\"\",IF(O1631=\"\",\"SIN RESPUESTA\",(IF(O1631<=P1631,\"A TIEMPO\",\"FUERA DE TIEMPO\"))))","v":""},null,"A TIEMPO",10,0,null,null,{"$f":"IFERROR(VLOOKUP(F1631,Hoja1!$A$50:$C$63,2),\"\")","v":5},{"$f":"IFERROR(VLOOKUP(F1631,Hoja1!$A$50:$C$63,3),\"\")","v":5}]
[1622,20259050031364,"2025-02-27","Persona natural","Virtual - Formulario PQRSDF","Solicitud de documentos o información","Solicitud de información hidrometeorológica",null,"Subdirección de Meteorología","2025-03-12","Correo electrónico","2025-03-13",null,"",null,{"$f":"IFERROR(WORKDAY(N1632,Y1632,Hoja1!F1624:F1740),\"\")","v":""},{"$f":"+IF(N1632=\"\",\"\",IF(O1632=\"\",\"SIN RESPUESTA\",(IF(O1632<=P1632,\"A TIEMPO\",\"FUERA DE TIEMPO\"))))","v":""},null,"A TIEMPO",9,0,null,null,{"$f":"IFERROR(VLOOKUP(F1632,Hoja1!$A$50:$C$63,2),\"\")","v":5},{"$f":"IFERROR(VLOOKUP(F1632,Hoja1!$A$50:$C$63,3),\"\")","v":5}]
[1623,20259910031404,"2025-02-28","Persona natural","Virtual - Correo electrónico","Solicitud de documentos o información","Solicitud de información hidrometeorológica",null,"Grupo de Servicio al Ciudadano","2025-03-10","Correo electrónico","2025-03-14",null,"",null,{"$f":"IFERROR(WORKDAY(N1633,Y1633,Hoja1!F1625:F1741),\"\")","v":""},{"$f":"+IF(N1633=\"\",\"\",IF(O1633=\"\",\"SIN RESPUESTA\",(IF(O1633<=P1633,\"A TIEMPO\",\"FUERA DE TIEMPO\"))))","v":""},null,"A TIEMPO",6,0,null,null,{"$f":"IFERROR(VLOOKUP(F1633,Hoja1!$A$50:$C$63,2),\"\")","v":5},{"$f":"IFERROR(VLOOKUP(F1633,Hoja1!$A$50:$C$63,3),\"\")","v":5}]
[1624,20259910031414,"2025-02-28","Persona jurídica","Virtual - Correo electrónico","Certificación de contrato","Administrativa",null,"Oficina Asesora Jurídica","2025-03-19","Correo electrónico","2025-03-14",null,"",null,{"$f":"IFERROR(WORKDAY(N1634,Y1634,Hoja1!F1626:F1742),\"\")","v":""},{"$f":"+IF(N1634=\"\",\"\",IF(O1634=\"\",\"SIN RESPUESTA\",(IF(O1634<=P1634,\"A TIEMPO\",\"FUERA DE TIEMPO\"))))","v":""},null,{"$f":"+IF(C1634=\"\",\"\",IF(J1634=\"\",\"SIN RESPUESTA\",(IF(J1634<=L1634,\"A TIEMPO\",\"FUERA DE TIEMPO\"))))","v":"FUERA DE TIEMPO"},12,2,null,null,{"$f":"IFERROR(VLOOKUP(F1634,Hoja1!$A$50:$C$63,2),\"\")","v":15},{"$f":"IFERROR(VLOOKUP(F1634,Hoja1!$A$50:$C$63,3),\"\")","v":15}]
[1625,20259910031454,"2025-02-28","Persona jurídica","Virtual - Correo electrónico","Petición entre autoridades","Administrativa",null,"Secretaría General","2025-03-10","Correo electrónico","2025-03-14",null,"",null,{"$f":"IFERROR(WORKDAY(N1635,Y1635,Hoja1!F1627:F1743),\"\")","v":""},{"$f":"+IF(N1635=\"\",\"\",IF(O1635=\"\",\"SIN RESPUESTA\",(IF(O1635<=P1635,\"A TIEMPO\",\"FUERA DE TIEMPO\"))))","v":""},null,"A TIEMPO",6,0,null,null,{"$f":"IFERROR(VLOOKUP(F1635,Hoja1!$A$50:$C$63,2),\"\")","v":10},{"$f":"IFERROR(VLOOKUP(F1635,Hoja1!$A$50:$C$63,3),\"\")","v":10}]
[1626,20259910031464,"2025-02-28","Persona jurídica","Virtual - Correo electrónico","Solicitud de documentos o información","Bosques",null,"Subdirección de Ecosistemas e Información Ambiental","2025-03-14","Correo electrónico","2025-03-14",null,"",null,{"$f":"IFERROR(WORKDAY(N1636,Y1636,Hoja1!F1628:F1744),\"\")","v":""},{"$f":"+IF(N1636=\"\",\"\",IF(O1636=\"\",\"SIN RESPUESTA\",(IF(O1636<=P1636,\"A TIEMPO\",\"FUERA DE TIEMPO\"))))","v":""},null,"A TIEMPO",10,0,null,null,{"$f":"IFERROR(VLOOKUP(F1636,Hoja1!$A$50:$C$63,2),\"\")","v":5},{"$f":"IFERROR(VLOOKUP(F1636,Hoja1!$A$50:$C$63,3),\"\")","v":5}]
[1627,20259910031474,"2025-02-28","Persona natural","Virtual - Correo electrónico","Solicitud de documentos o información","Solicitud de información hidrometeorológica",null,"Grupo de Servicio al Ciudadano","2025-03-10","Correo electrónico","2025-03-14",null,"",null,{"$f":"IFERROR(WORKDAY(N1637,Y1637,Hoja1!F1629:F1745),\"\")","v":""},{"$f":"+IF(N1637=\"\",\"\",IF(O1637=\"\",\"SIN RESPUESTA\",(IF(O1637<=P1637,\"A TIEMPO\",\"FUERA DE TIEMPO\"))))","v":""},null,"A TIEMPO",6,0,null,null,{"$f":"IFERROR(VLOOKUP(F1637,Hoja1!$A$50:$C$63,2),\"\")","v":5},{"$f":"IFERROR(VLOOKUP(F1637,Hoja1!$A$50:$C$63,3),\"\")","v":5}]
[1628,20259050031484,"2025-02-28","Persona natural","Virtual - Formulario PQRSDF","Queja","Administrativa",null,"Dirección General","2025-03-12","Correo electrónico","2025-03-25",null,"",null,{"$f":"IFERROR(WORKDAY(N1638,Y1638,Hoja1!F1630:F1746),\"\")","v":""},{"$f":"+IF(N1638=\"\",\"\",IF(O1638=\"\",\"SIN RESPUESTA\",(IF(O1638<=P1638,\"A TIEMPO\",\"FUERA DE TIEMPO\"))))","v":""},null,"A TIEMPO",8,0,null,null,{"$f":"IFERROR(VLOOKUP(F1638,Hoja1!$A$50:$C$63,2),\"\")","v":15},{"$f":"IFERROR(VLOOKUP(F1638,Hoja1!$A$50:$C$63,3),\"\")","v":15}]
[1629,20259910031554,"2025-02-28","Persona natural","Virtual - Correo electrónico","Solicitud de documentos o información","Informes ambientales",null,"Subdirección de Estudios Ambientales","2025-03-13","Correo electrónico","2025-03-14",null,"",null,{"$f":"IFERROR(WORKDAY(N1639,Y1639,Hoja1!F1631:F1747),\"\")","v":""},{"$f":"+IF(N1639=\"\",\"\",IF(O1639=\"\",\"SIN RESPUESTA\",(IF(O1639<=P1639,\"A TIEMPO\",\"FUERA DE TIEMPO\"))))","v":""},null,"A TIEMPO",9,0,null,null,{"$f":"IFERROR(VLOOKUP(F1639,Hoja1!$A$50:$C$63,2),\"\")","v":5},{"$f":"IFERROR(VLOOKUP(F1639,Hoja1!$A$50:$C$63,3),\"\")","v":5}]
[1630,20259910031614,"2025-02-28","Persona natural","Virtual - Correo electrónico","Solicitud de documentos o información","Laboratorio de calidad ambiental",null,"Subdirección de Estudios Ambientales","2025-03-13","Correo electrónico","2025-03-14",null,"",null,{"$f":"IFERROR(WORKDAY(N1640,Y1640,Hoja1!F1632:F1748),\"\")","v":""},{"$f":"+IF(N1640=\"\",\"\",IF(O1640=\"\",\"SIN RESPUESTA\",(IF(O1640<=P1640,\"A TIEMPO\",\"FUERA DE TIEMPO\"))))","v":""},null,"A TIEMPO",9,0,null,null,{"$f":"IFERROR(VLOOKUP(F1640,Hoja1!$A$50:$C$63,2),\"\")","v":5},{"$f":"IFERROR(VLOOKUP(F1640,Hoja1!$A$50:$C$63,3),\"\")","v":5}]
[1631,20259910031644,"2025-02-28","Persona jurídica","Virtual - Correo electrónico","Petición entre autoridades","Cambio climático",null,"Subdirección de Meteorología","2025-03-04","Correo electrónico","2025-03-14",null,"",null,{"$f":"IFERROR(WORKDAY(N1641,Y1641,Hoja1!F1633:F1749),\"\")","v":""},{"$f":"+IF(N1641=\"\",\"\",IF(O1641=\"\",\"SIN RESPUESTA\",(IF(O1641<=P1641,\"A TIEMPO\",\"FUERA DE TIEMPO\"))))","v":""},null,"A TIEMPO",2,0,null,null,{"$f":"IFERROR(VLOOKUP(F1641,Hoja1!$A$50:$C$63,2),\"\")","v":10},{"$f":"IFERROR(VLOOKUP(F1641,Hoja1!$A$50:$C$63,3),\"\")","v":10}]
[1632,20259910031664,"2025-02-28","Persona jurídica","Virtual - Correo electrónico","Consulta (Información técnica)","Informes ambientales",null,"Subdirección de Estudios Ambientales","2025-03-31","Correo electrónico","2025-04-15",null,"",null,{"$f":"IFERROR(WORKDAY(N1642,Y1642,Hoja1!F1634:F1750),\"\")","v":""},{"$f":"+IF(N1642=\"\",\"\",IF(O1642=\"\",\"SIN RESPUESTA\",(IF(O1642<=P1642,\"A TIEMPO\",\"FUERA DE TIEMPO\"))))","v":""},null,"A TIEMPO",19,0,null,null,{"$f":"IFERROR(VLOOKUP(F1642,Hoja1!$A$50:$C$63,2),\"\")","v":30},{"$f":"IFERROR(VLOOKUP(F1642,Hoja1!$A$50:$C$63,3),\"\")","v":30}]
[1633,20259050031684,"2025-02-28","Persona natural","Virtual - Formulario PQRSDF","Solicitud de documentos o información","Administrativa",null,"Grupo de Administración y Desarrollo del Talento Humano","2025-03-17","Correo electrónico","2025-03-14",null,"",null,{"$f":"IFERROR(WORKDAY(N1643,Y1643,Hoja1!F1635:F1751),\"\")","v":""},{"$f":"+IF(N1643=\"\",\"\",IF(O1643=\"\",\"SIN RESPUESTA\",(IF(O1643<=P1643,\"A TIEMPO\",\"FUERA DE TIEMPO\"))))","v":""},null,{"$f":"+IF(C1643=\"\",\"\",IF(J1643=\"\",\"SIN RESPUESTA\",(IF(J1643<=L1643,\"A TIEMPO\",\"FUERA DE TIEMPO\"))))","v":"FUERA DE TIEMPO"},11,1,null,null,{"$f":"IFERROR(VLOOKUP(F1643,Hoja1!$A$50:$C$63,2),\"\")","v":5},{"$f":"IFERROR(VLOOKUP(F1643,Hoja1!$A$50:$C$63,3),\"\")","v":5}]
[1634,20259050031754,"2025-02-28","Persona natural","Virtual - Formulario PQRSDF","Solicitud de documentos o información","Registros ambientales",null,"Subdirección de Estudios Ambientales","2025-03-12","Correo electrónico","2025-03-14",null,"",null,{"$f":"IFERROR(WORKDAY(N1644,Y1644,Hoja1!F1636:F1752),\"\")","v":""},{"$f":"+IF(N1644=\"\",\"\",IF(O1644=\"\",\"SIN RESPUESTA\",(IF(O1644<=P1644,\"A TIEMPO\",\"FUERA DE TIEMPO\"))))","v":""},null,"A TIEMPO",8,0,null,null,{"$f":"IFERROR(VLOOKUP(F1644,Hoja1!$A$50:$C$63,2),\"\")","v":5},{"$f":"IFERROR(VLOOKUP(F1644,Hoja1!$A$50:$C$63,3),\"\")","v":5}]
[1635,20259910031784,"2025-02-28","Persona jurídica","Virtual - Correo electrónico","Consulta (Información técnica)","Bosques",null,"Subdirección de Estudios Ambientales","2025-04-29","Correo electrónico","2025-04-15",null,"",null,{"$f":"IFERROR(WORKDAY(N1645,Y1645,Hoja1!F1637:F1753),\"\")","v":""},{"$f":"+IF(N1645=\"\",\"\",IF(O1645=\"\",\"SIN RESPUESTA\",(IF(O1645<=P1645,\"A TIEMPO\",\"FUERA DE TIEMPO\"))))","v":""},null,{"$f":"+IF(C1645=\"\",\"\",IF(J1645=\"\",\"SIN RESPUESTA\",(IF(J1645<=L1645,\"A TIEMPO\",\"FUERA DE TIEMPO\"))))","v":"FUERA DE TIEMPO"},38,8,null,null,{"$f":"IFERROR(VLOOKUP(F1645,Hoja1!$A$50:$C$63,2),\"\")","v":30},{"$f":"IFERROR(VLOOKUP(F1645,Hoja1!$A$50:$C$63,3),\"\")","v":30}]
[1636,20259910031814,"2025-02-28","Persona jurídica","Virtual - Correo electrónico","Solicitud de documentos o información","Registros ambientales",null,"Subdirección de Estudios Ambientales","2025-03-07","Correo electrónico","2025-03-14",null,"",null,{"$f":"IFERROR(WORKDAY(N1646,Y1646,Hoja1!F1638:F1754),\"\")","v":""},{"$f":"+IF(N1646=\"\",\"\",IF(O1646=\"\",\"SIN RESPUESTA\",(IF(O1646<=P1646,\"A TIEMPO\",\"FUERA DE TIEMPO\"))))","v":""},null,"A TIEMPO",5,0,null,null,{"$f":"IFERROR(VLOOKUP(F1646,Hoja1!$A$50:$C$63,2),\"\")","v":5},{"$f":"IFERROR(VLOOKUP(F1646,Hoja1!$A$50:$C$63,3),\"\")","v":5}]
[1637,20259910031834,"2025-02-28","Persona jurídica","Virtual - Correo electrónico","Solicitud de documentos o información","Informes ambientales",null,"Subdirección de Estudios Ambientales","2025-03-17","Correo electrónico","2025-03-14",null,"",null,{"$f":"IFERROR(WORKDAY(N1647,Y1647,Hoja1!F1639:F1755),\"\")","v":""},{"$f":"+IF(N1647=\"\",\"\",IF(O1647=\"\",\"SIN RESPUESTA\",(IF(O1647<=P1647,\"A TIEMPO\",\"FUERA DE TIEMPO\"))))","v":""},null,{"$f":"+IF(C1647=\"\",\"\",IF(J1647=\"\",\"SIN RESPUESTA\",(IF(J1647<=L1647,\"A TIEMPO\",\"FUERA DE TIEMPO\"))))","v":"FUERA DE TIEMPO"},11,1,null,null,{"$f":"IFERROR(VLOOKUP(F1647,Hoja1!$A$50:$C$63,2),\"\")","v":5},{"$f":"IFERROR(VLOOKUP(F1647,Hoja1!$A$50:$C$63,3),\"\")","v":5}]
[1638,20259910031854,"2025-02-28","Persona jurídica","Virtual - Correo electrónico","Solicitud de documentos o información","Informes ambientales",null,"Subdirección de Estudios Ambientales","2025-03-17","Correo electrónico","2025-03-14",null,"",null,{"$f":"IFERROR(WORKDAY(N1648,Y1648,Hoja1!F1640:F1756),\"\")","v":""},{"$f":"+IF(N1648=\"\",\"\",IF(O1648=\"\",\"SIN RESPUESTA\",(IF(O1648<=P1648,\"A TIEMPO\",\"FUERA DE TIEMPO\"))))","v":""},null,{"$f":"+IF(C1648=\"\",\"\",IF(J1648=\"\",\"SIN RESPUESTA\",(IF(J1648<=L1648,\"A TIEMPO\",\"FUERA DE TIEMPO\"))))","v":"FUERA DE TIEMPO"},11,1,null,null,{"$f":"IFERROR(VLOOKUP(F1648,Hoja1!$A$50:$C$63,2),\"\")","v":5},{"$f":"IFERROR(VLOOKUP(F1648,Hoja1!$A$50:$C$63,3),\"\")","v":5}]
[1639,20259910031844,"2025-02-28","Persona jurídica","Virtual - Correo electrónico","Certificación de ingresos y retenciones","Administrativa",null,"Grupo de Contabilidad","2025-03-13","Correo electrónico","2025-03-14",null,"",null,{"$f":"IFERROR(WORKDAY(N1649,Y1649,Hoja1!F1641:F1757),\"\")","v":""},{"$f":"+IF(N1649=\"\",\"\",IF(O1649=\"\",\"SIN RESPUESTA\",(IF(O1649<=P1649,\"A TIEMPO\",\"FUERA DE TIEMPO\"))))","v":""},null,"A TIEMPO",9,0,null,null,{"$f":"IFERROR(VLOOKUP(F1649,Hoja1!$A$50:$C$63,2),\"\")","v":15},{"$f":"IFERROR(VLOOKUP(F1649,Hoja1!$A$50:$C$63,3),\"\")","v":15}]
[1640,20259910031864,"2025-02-28","Persona jurídica","Virtual - Correo electrónico","Petición entre entidades","Administrativa",null,"Oficina Asesora Jurídica","2025-03-01","No aplica","2025-03-14",null,"",null,{"$f":"IFERROR(WORKDAY(N1650,Y1650,Hoja1!F1642:F1758),\"\")","v":""},{"$f":"+IF(N1650=\"\",\"\",IF(O1650=\"\",\"SIN RESPUESTA\",(IF(O1650<=P1650,\"A TIEMPO\",\"FUERA DE TIEMPO\"))))","v":""},null,"A TIEMPO",0,0,null,null,{"$f":"IFERROR(VLOOKUP(F1650,Hoja1!$A$50:$C$63,2),\"\")","v":10},{"$f":"IFERROR(VLOOKUP(F1650,Hoja1!$A$50:$C$63,3),\"\")","v":10}]
[1641,20259050031884,"2025-02-28","Persona natural","Virtual - Formulario PQRSDF","Solicitud de documentos o información","Solicitud de información hidrometeorológica",null,"Grupo de Servicio al Ciudadano","2025-03-10","Correo electrónico","2025-03-14",null,"",null,{"$f":"IFERROR(WORKDAY(N1651,Y1651,Hoja1!F1643:F1759),\"\")","v":""},{"$f":"+IF(N1651=\"\",\"\",IF(O1651=\"\",\"SIN RESPUESTA\",(IF(O1651<=P1651,\"A TIEMPO\",\"FUERA DE TIEMPO\"))))","v":""},null,"A TIEMPO",6,0,null,null,{"$f":"IFERROR(VLOOKUP(F1651,Hoja1!$A$50:$C$63,2),\"\")","v":5},{"$f":"IFERROR(VLOOKUP(F1651,Hoja1!$A$50:$C$63,3),\"\")","v":5}]
[1642,20259910031954,"2025-02-28","Persona jurídica","Virtual - Correo electrónico","Solicitud de documentos o información","Web y correo",null,"Subdirección de Ecosistemas e Información Ambiental","2025-03-10","Correo electrónico","2025-03-14","SI","2025-04-01","2025-03-10",{"$f":"IFERROR(WORKDAY(N1652,Y1652,Hoja1!F1644:F1760),\"\")","v":"2025-04-08"},{"$f":"+IF(N1652=\"\",\"\",IF(O1652=\"\",\"SIN RESPUESTA\",(IF(O1652<=P1652,\"A TIEMPO\",\"FUERA DE TIEMPO\"))))","v":"A TIEMPO"},null,"A TIEMPO",6,0,null,null,{"$f":"IFERROR(VLOOKUP(F1652,Hoja1!$A$50:$C$63,2),\"\")","v":5},{"$f":"IFERROR(VLOOKUP(F1652,Hoja1!$A$50:$C$63,3),\"\")","v":5}]
[1643,20259910031964,"2025-02-28","Persona natural","Virtual - Correo electrónico","Solicitud de documentos o información","Visitas académicas",null,"Grupo de Servicio al Ciudadano","2025-03-12","Correo electrónico","2025-03-14",null,"",null,{"$f":"IFERROR(WORKDAY(N1653,Y1653,Hoja1!F1645:F1761),\"\")","v":""},{"$f":"+IF(N1653=\"\",\"\",IF(O1653=\"\",\"SIN RESPUESTA\",(IF(O1653<=P1653,\"A TIEMPO\",\"FUERA DE TIEMPO\"))))","v":""},null,"A TIEMPO",8,0,null,null,{"$f":"IFERROR(VLOOKUP(F1653,Hoja1!$A$50:$C$63,2),\"\")","v":5},{"$f":"IFERROR(VLOOKUP(F1653,Hoja1!$A$50:$C$63,3),\"\")","v":5}]
[1644,20259910031984,"2025-02-28","Persona jurídica","Virtual - Correo electrónico","Consulta (Información técnica)","Solicitud de información hidrometeorológica",null,"Subdirección de Meteorología","2025-03-10","Correo electrónico","2025-04-15",null,"",null,{"$f":"IFERROR(WORKDAY(N1654,Y1654,Hoja1!F1646:F1762),\"\")","v":""},{"$f":"+IF(N1654=\"\",\"\",IF(O1654=\"\",\"SIN RESPUESTA\",(IF(O1654<=P1654,\"A TIEMPO\",\"FUERA DE TIEMPO\"))))","v":""},null,"A TIEMPO",6,0,null,null,{"$f":"IFERROR(VLOOKUP(F1654,Hoja1!$A$50:$C$63,2),\"\")","v":30},{"$f":"IFERROR(VLOOKUP(F1654,Hoja1!$A$50:$C$63,3),\"\")","v":30}]
[1645,20259910031994,"2025-02-28","Persona jurídica","Virtual - Correo electrónico","Solicitud de documentos o información","Informes ambientales",null,"Subdirección de Estudios Ambientales","2025-03-06","Correo electrónico","2025-03-14",null,"",null,{"$f":"IFERROR(WORKDAY(N1655,Y1655,Hoja1!F1647:F1763),\"\")","v":""},{"$f":"+IF(N1655=\"\",\"\",IF(O1655=\"\",\"SIN RESPUESTA\",(IF(O1655<=P1655,\"A TIEMPO\",\"FUERA DE TIEMPO\"))))","v":""},null,"A TIEMPO",4,0,null,null,{"$f":"IFERROR(VLOOKUP(F1655,Hoja1!$A$50:$C$63,2),\"\")","v":5},{"$f":"IFERROR(VLOOKUP(F1655,Hoja1!$A$50:$C$63,3),\"\")","v":5}]
[1646,20259910032004,"2025-02-28","Persona natural","Virtual - Correo electrónico","Solicitud de documentos o información","Solicitud de información hidrometeorológica",null,"Oficina Asesora de Planeación","2025-03-13","Correo electrónico","2025-03-14",null,"",null,{"$f":"IFERROR(WORKDAY(N1656,Y1656,Hoja1!F1648:F1764),\"\")","v":""},{"$f":"+IF(N1656=\"\",\"\",IF(O1656=\"\",\"SIN RESPUESTA\",(IF(O1656<=P1656,\"A TIEMPO\",\"FUERA DE TIEMPO\"))))","v":""},null,"A TIEMPO",9,0,null,null,{"$f":"IFERROR(VLOOKUP(F1656,Hoja1!$A$50:$C$63,2),\"\")","v":5},{"$f":"IFERROR(VLOOKUP(F1656,Hoja1!$A$50:$C$63,3),\"\")","v":5}]
[1647,20259910032014,"2025-02-28","Persona jurídica","Virtual - Correo electrónico","Solicitud de documentos o información","Administrativa",null,"Grupo de Servicio al Ciudadano","2025-03-01","No aplica","2025-03-14",null,"",null,{"$f":"IFERROR(WORKDAY(N1657,Y1657,Hoja1!F1649:F1765),\"\")","v":""},{"$f":"+IF(N1657=\"\",\"\",IF(O1657=\"\",\"SIN RESPUESTA\",(IF(O1657<=P1657,\"A TIEMPO\",\"FUERA DE TIEMPO\"))))","v":""},null,"A TIEMPO",0,0,null,null,{"$f":"IFERROR(VLOOKUP(F1657,Hoja1!$A$50:$C$63,2),\"\")","v":5},{"$f":"IFERROR(VLOOKUP(F1657,Hoja1!$A$50:$C$63,3),\"\")","v":5}]
[1648,20259910032024,"2025-02-28","Persona natural","Virtual - Correo electrónico","Solicitud de documentos o información","Solicitud de información hidrometeorológica",null,"Subdirección de Meteorología","2025-03-12","Correo electrónico","2025-03-14",null,"",null,{"$f":"IFERROR(WORKDAY(N1658,Y1658,Hoja1!F1650:F1766),\"\")","v":""},{"$f":"+IF(N1658=\"\",\"\",IF(O1658=\"\",\"SIN RESPUESTA\",(IF(O1658<=P1658,\"A TIEMPO\",\"FUERA DE TIEMPO\"))))","v":""},null,"A TIEMPO",8,0,null,null,{"$f":"IFERROR(VLOOKUP(F1658,Hoja1!$A$50:$C$63,2),\"\")","v":5},{"$f":"IFERROR(VLOOKUP(F1658,Hoja1!$A$50:$C$63,3),\"\")","v":5}]
[1649,20259910032034,"2025-02-28","Persona jurídica","Virtual - Correo electrónico","Solicitud de documentos o información","Administrativa",null,"Grupo de Servicio al Ciudadano","2025-03-01","No aplica","2025-03-14",null,"",null,{"$f":"IFERROR(WORKDAY(N1659,Y1659,Hoja1!F1651:F1767),\"\")","v":""},{"$f":"+IF(N1659=\"\",\"\",IF(O1659=\"\",\"SIN RESPUESTA\",(IF(O1659<=P1659,\"A TIEMPO\",\"FUERA DE TIEMPO\"))))","v":""},null,"A TIEMPO",0,0,null,null,{"$f":"IFERROR(VLOOKUP(F1659,Hoja1!$A$50:$C$63,2),\"\")","v":5},{"$f":"IFERROR(VLOOKUP(F1659,Hoja1!$A$50:$C$63,3),\"\")","v":5}]
[1650,20259910032064,"2025-02-28","Persona jurídica","Virtual - Correo electrónico","Certificación de tiempo, clima y eventos hidrológicos","Certificaciones del tiempo y clima",null,"Subdirección de Meteorología","2025-04-01","Correo electrónico","2025-04-15",null,"",null,{"$f":"IFERROR(WORKDAY(N1660,Y1660,Hoja1!F1652:F1768),\"\")","v":""},{"$f":"+IF(N1660=\"\",\"\",IF(O1660=\"\",\"SIN RESPUESTA\",(IF(O1660<=P1660,\"A TIEMPO\",\"FUERA DE TIEMPO\"))))","v":""},null,"A TIEMPO",20,0,null,null,{"$f":"IFERROR(VLOOKUP(F1660,Hoja1!$A$50:$C$63,2),\"\")","v":15},{"$f":"IFERROR(VLOOKUP(F1660,Hoja1!$A$50:$C$63,3),\"\")","v":15}]
[1651,20259050032084,"2025-02-28","Persona natural","Virtual - Formulario PQRSDF","Petición de interés general o particular","Administrativa",null,"Grupo de Administración y Desarrollo del Talento Humano","2025-05-07","Correo electrónico","2025-03-25",null,"",null,{"$f":"IFERROR(WORKDAY(N1661,Y1661,Hoja1!F1653:F1769),\"\")","v":""},{"$f":"+IF(N1661=\"\",\"\",IF(O1661=\"\",\"SIN RESPUESTA\",(IF(O1661<=P1661,\"A TIEMPO\",\"FUERA DE TIEMPO\"))))","v":""},null,{"$f":"+IF(C1661=\"\",\"\",IF(J1661=\"\",\"SIN RESPUESTA\",(IF(J1661<=L1661,\"A TIEMPO\",\"FUERA DE TIEMPO\"))))","v":"FUERA DE TIEMPO"},43,28,null,null,{"$f":"IFERROR(VLOOKUP(F1661,Hoja1!$A$50:$C$63,2),\"\")","v":15},{"$f":"IFERROR(VLOOKUP(F1661,Hoja1!$A$50:$C$63,3),\"\")","v":15}]
[1652,20259910032114,"2025-02-28","Persona natural","Virtual - Correo electrónico","Solicitud de documentos o información","Zonificación hidrográfica",null,"Subdirección de Hidrología","2025-03-03","Correo electrónico","2025-03-14",null,"",null,{"$f":"IFERROR(WORKDAY(N1662,Y1662,Hoja1!F1654:F1770),\"\")","v":""},{"$f":"+IF(N1662=\"\",\"\",IF(O1662=\"\",\"SIN RESPUESTA\",(IF(O1662<=P1662,\"A TIEMPO\",\"FUERA DE TIEMPO\"))))","v":""},null,"A TIEMPO",1,0,null,null,{"$f":"IFERROR(VLOOKUP(F1662,Hoja1!$A$50:$C$63,2),\"\")","v":5},{"$f":"IFERROR(VLOOKUP(F1662,Hoja1!$A$50:$C$63,3),\"\")","v":5}]
[1653,20259910032244,"2025-03-02","Persona jurídica","Virtual - Correo electrónico","Solicitud de documentos o información","Registros ambientales",null,"Subdirección de Estudios Ambientales","2025-03-06","Correo electrónico","2025-03-14",null,"",null,{"$f":"IFERROR(WORKDAY(N1663,Y1663,Hoja1!F1655:F1771),\"\")","v":""},{"$f":"+IF(N1663=\"\",\"\",IF(O1663=\"\",\"SIN RESPUESTA\",(IF(O1663<=P1663,\"A TIEMPO\",\"FUERA DE TIEMPO\"))))","v":""},null,"A TIEMPO",3,0,null,null,{"$f":"IFERROR(VLOOKUP(F1663,Hoja1!$A$50:$C$63,2),\"\")","v":5},{"$f":"IFERROR(VLOOKUP(F1663,Hoja1!$A$50:$C$63,3),\"\")","v":5}]
[1654,20259910032214,"2025-03-02","Persona jurídica","Virtual - Correo electrónico","Solicitud de documentos o información","Registros ambientales",null,"Subdirección de Estudios Ambientales","2025-03-12","Correo electrónico","2025-03-14",null,"",null,{"$f":"IFERROR(WORKDAY(N1664,Y1664,Hoja1!F1656:F1772),\"\")","v":""},{"$f":"+IF(N1664=\"\",\"\",IF(O1664=\"\",\"SIN RESPUESTA\",(IF(O1664<=P1664,\"A TIEMPO\",\"FUERA DE TIEMPO\"))))","v":""},null,"A TIEMPO",7,0,null,null,{"$f":"IFERROR(VLOOKUP(F1664,Hoja1!$A$50:$C$63,2),\"\")","v":5},{"$f":"IFERROR(VLOOKUP(F1664,Hoja1!$A$50:$C$63,3),\"\")","v":5}]
[1655,20259910032204,"2025-03-02","Persona jurídica","Virtual - Correo electrónico","Solicitud de documentos o información","Registros ambientales",null,"Subdirección de Estudios Ambientales","2025-03-06","Correo electrónico","2025-03-14",null,"",null,{"$f":"IFERROR(WORKDAY(N1665,Y1665,Hoja1!F1657:F1773),\"\")","v":""},{"$f":"+IF(N1665=\"\",\"\",IF(O1665=\"\",\"SIN RESPUESTA\",(IF(O1665<=P1665,\"A TIEMPO\",\"FUERA DE TIEMPO\"))))","v":""},null,"A TIEMPO",3,0,null,null,{"$f":"IFERROR(VLOOKUP(F1665,Hoja1!$A$50:$C$63,2),\"\")","v":5},{"$f":"IFERROR(VLOOKUP(F1665,Hoja1!$A$50:$C$63,3),\"\")","v":5}]
[1656,20259050032284,"2025-02-28","Persona natural","Virtual - Formulario PQRSDF","Petición de interés general o particular","Administrativa",null,"Grupo de Administración y Desarrollo del Talento Humano","2025-03-01","Correo electrónico","2025-03-25",null,"",null,{"$f":"IFERROR(WORKDAY(N1666,Y1666,Hoja1!F1658:F1774),\"\")","v":""},{"$f":"+IF(N1666=\"\",\"\",IF(O1666=\"\",\"SIN RESPUESTA\",(IF(O1666<=P1666,\"A TIEMPO\",\"FUERA DE TIEMPO\"))))","v":""},null,"A TIEMPO",0,0,null,null,{"$f":"IFERROR(VLOOKUP(F1666,Hoja1!$A$50:$C$63,2),\"\")","v":15},{"$f":"IFERROR(VLOOKUP(F1666,Hoja1!$A$50:$C$63,3),\"\")","v":15}]
[1657,20259910032254,"2025-02-28","Persona jurídica","Virtual - Correo electrónico","Solicitud de documentos o información","Registros ambientales",null,"Subdirección de Estudios Ambientales","2025-03-17","Correo electrónico","2025-03-14",null,"",null,{"$f":"IFERROR(WORKDAY(N1667,Y1667,Hoja1!F1659:F1775),\"\")","v":""},{"$f":"+IF(N1667=\"\",\"\",IF(O1667=\"\",\"SIN RESPUESTA\",(IF(O1667<=P1667,\"A TIEMPO\",\"FUERA DE TIEMPO\"))))","v":""},null,{"$f":"+IF(C1667=\"\",\"\",IF(J1667=\"\",\"SIN RESPUESTA\",(IF(J1667<=L1667,\"A TIEMPO\",\"FUERA DE TIEMPO\"))))","v":"FUERA DE TIEMPO"},11,1,null,null,{"$f":"IFERROR(VLOOKUP(F1667,Hoja1!$A$50:$C$63,2),\"\")","v":5},{"$f":"IFERROR(VLOOKUP(F1667,Hoja1!$A$50:$C$63,3),\"\")","v":5}]
[1658,20259910032324,"2025-02-28","Persona jurídica","Virtual - Correo electrónico","Solicitud de documentos o información","Registros ambientales",null,"Subdirección de Estudios Ambientales","2025-03-17","Correo electrónico","2025-03-14",null,"",null,{"$f":"IFERROR(WORKDAY(N1668,Y1668,Hoja1!F1660:F1776),\"\")","v":""},{"$f":"+IF(N1668=\"\",\"\",IF(O1668=\"\",\"SIN RESPUESTA\",(IF(O1668<=P1668,\"A TIEMPO\",\"FUERA DE TIEMPO\"))))","v":""},null,{"$f":"+IF(C1668=\"\",\"\",IF(J1668=\"\",\"SIN RESPUESTA\",(IF(J1668<=L1668,\"A TIEMPO\",\"FUERA DE TIEMPO\"))))","v":"FUERA DE TIEMPO"},11,1,null,null,{"$f":"IFERROR(VLOOKUP(F1668,Hoja1!$A$50:$C$63,2),\"\")","v":5},{"$f":"IFERROR(VLOOKUP(F1668,Hoja1!$A$50:$C$63,3),\"\")","v":5}]
[1659,20259050032464,"2025-03-02","Persona natural","Virtual - Formulario PQRSDF","Solicitud de documentos o información","Registros ambientales",null,"Subdirección de Estudios Ambientales","2025-03-13","Correo electrónico","2025-03-14",null,"",null,{"$f":"IFERROR(WORKDAY(N1669,Y1669,Hoja1!F1661:F1777),\"\")","v":""},{"$f":"+IF(N1669=\"\",\"\",IF(O1669=\"\",\"SIN RESPUESTA\",(IF(O1669<=P1669,\"A TIEMPO\",\"FUERA DE TIEMPO\"))))","v":""},null,"A TIEMPO",8,0,null,null,{"$f":"IFERROR(VLOOKUP(F1669,Hoja1!$A$50:$C$63,2),\"\")","v":5},{"$f":"IFERROR(VLOOKUP(F1669,Hoja1!$A$50:$C$63,3),\"\")","v":5}]
[1660,20259050032424,"2025-03-01","Persona natural","Virtual - Formulario PQRSDF","Solicitud de documentos o información","Solicitud de información hidrometeorológica",null,"Subdirección de Meteorología","2025-03-12","Correo electrónico","2025-03-14",null,"",null,{"$f":"IFERROR(WORKDAY(N1670,Y1670,Hoja1!F1662:F1778),\"\")","v":""},{"$f":"+IF(N1670=\"\",\"\",IF(O1670=\"\",\"SIN RESPUESTA\",(IF(O1670<=P1670,\"A TIEMPO\",\"FUERA DE TIEMPO\"))))","v":""},null,"A TIEMPO",7,0,null,null,{"$f":"IFERROR(VLOOKUP(F1670,Hoja1!$A$50:$C$63,2),\"\")","v":5},{"$f":"IFERROR(VLOOKUP(F1670,Hoja1!$A$50:$C$63,3),\"\")","v":5}]
[1661,20259910032314,"2025-02-28","Persona jurídica","Virtual - Correo electrónico","Petición entre autoridades","Bosques",null,"Subdirección de Ecosistemas e Información Ambiental","2025-03-17","Correo electrónico","2025-03-14",null,"",null,{"$f":"IFERROR(WORKDAY(N1671,Y1671,Hoja1!F1663:F1779),\"\")","v":""},{"$f":"+IF(N1671=\"\",\"\",IF(O1671=\"\",\"SIN RESPUESTA\",(IF(O1671<=P1671,\"A TIEMPO\",\"FUERA DE TIEMPO\"))))","v":""},null,{"$f":"+IF(C1671=\"\",\"\",IF(J1671=\"\",\"SIN RESPUESTA\",(IF(J1671<=L1671,\"A TIEMPO\",\"FUERA DE TIEMPO\"))))","v":"FUERA DE TIEMPO"},11,1,null,null,{"$f":"IFERROR(VLOOKUP(F1671,Hoja1!$A$50:$C$63,2),\"\")","v":10},{"$f":"IFERROR(VLOOKUP(F1671,Hoja1!$A$50:$C$63,3),\"\")","v":10}]
[1662,20259050032334,"2025-02-28","Persona jurídica","Virtual - Formulario PQRSDF","Solicitud de documentos o información","Bosques",null,"Oficina del Servicio de Pronósticos y Alertas","2025-03-05","Correo electrónico","2025-03-14",null,"",null,{"$f":"IFERROR(WORKDAY(N1672,Y1672,Hoja1!F1664:F1780),\"\")","v":""},{"$f":"+IF(N1672=\"\",\"\",IF(O1672=\"\",\"SIN RESPUESTA\",(IF(O1672<=P1672,\"A TIEMPO\",\"FUERA DE TIEMPO\"))))","v":""},null,"A TIEMPO",3,0,null,null,{"$f":"IFERROR(VLOOKUP(F1672,Hoja1!$A$50:$C$63,2),\"\")","v":5},{"$f":"IFERROR(VLOOKUP(F1672,Hoja1!$A$50:$C$63,3),\"\")","v":5}]
[1663,20259910032344,"2025-02-28","Persona jurídica","Virtual - Correo electrónico","Petición de congresistas","Bosques",null,"Subdirección de Ecosistemas e Información Ambiental","2025-03-07","Correo electrónico","2025-03-07",null,"",null,{"$f":"IFERROR(WORKDAY(N1673,Y1673,Hoja1!F1665:F1781),\"\")","v":""},{"$f":"+IF(N1673=\"\",\"\",IF(O1673=\"\",\"SIN RESPUESTA\",(IF(O1673<=P1673,\"A TIEMPO\",\"FUERA DE TIEMPO\"))))","v":""},null,"A TIEMPO",5,0,null,null,{"$f":"IFERROR(VLOOKUP(F1673,Hoja1!$A$50:$C$63,2),\"\")","v":15},{"$f":"IFERROR(VLOOKUP(F1673,Hoja1!$A$50:$C$63,3),\"\")","v":15}]
[1664,20259050032414,"2025-02-28","Persona natural","Virtual - Formulario PQRSDF","Solicitud de documentos o información","Bosques",null,"Subdirección de Ecosistemas e Información Ambiental","2025-03-07","Correo electrónico","2025-03-14",null,"",null,{"$f":"IFERROR(WORKDAY(N1674,Y1674,Hoja1!F1666:F1782),\"\")","v":""},{"$f":"+IF(N1674=\"\",\"\",IF(O1674=\"\",\"SIN RESPUESTA\",(IF(O1674<=P1674,\"A TIEMPO\",\"FUERA DE TIEMPO\"))))","v":""},null,"A TIEMPO",5,0,null,null,{"$f":"IFERROR(VLOOKUP(F1674,Hoja1!$A$50:$C$63,2),\"\")","v":5},{"$f":"IFERROR(VLOOKUP(F1674,Hoja1!$A$50:$C$63,3),\"\")","v":5}]
[1665,20259910032354,"2025-02-28","Persona jurídica","Virtual - Correo electrónico","Petición entre autoridades","Sistema de información ambiental",null,"Subdirección de Hidrología","2025-03-03","Correo electrónico","2025-03-14",null,"",null,{"$f":"IFERROR(WORKDAY(N1675,Y1675,Hoja1!F1667:F1783),\"\")","v":""},{"$f":"+IF(N1675=\"\",\"\",IF(O1675=\"\",\"SIN RESPUESTA\",(IF(O1675<=P1675,\"A TIEMPO\",\"FUERA DE TIEMPO\"))))","v":""},null,"A TIEMPO",1,0,null,null,{"$f":"IFERROR(VLOOKUP(F1675,Hoja1!$A$50:$C$63,2),\"\")","v":10},{"$f":"IFERROR(VLOOKUP(F1675,Hoja1!$A$50:$C$63,3),\"\")","v":10}]
[1666,20259050032434,"2025-03-01","Persona jurídica","Virtual - Formulario PQRSDF","Solicitud de documentos o información","Solicitud de información hidrometeorológica",null,"Grupo de Servicio al Ciudadano","2025-03-12","Correo electrónico","2025-03-14",null,"",null,{"$f":"IFERROR(WORKDAY(N1676,Y1676,Hoja1!F1668:F1784),\"\")","v":""},{"$f":"+IF(N1676=\"\",\"\",IF(O1676=\"\",\"SIN RESPUESTA\",(IF(O1676<=P1676,\"A TIEMPO\",\"FUERA DE TIEMPO\"))))","v":""},null,"A TIEMPO",7,0,null,null,{"$f":"IFERROR(VLOOKUP(F1676,Hoja1!$A$50:$C$63,2),\"\")","v":5},{"$f":"IFERROR(VLOOKUP(F1676,Hoja1!$A$50:$C$63,3),\"\")","v":5}]
[1667,20259050032444,"2025-03-01","Persona natural","Virtual - Formulario PQRSDF","Solicitud de documentos o información","Sistema de información del recurso hídrico",null,"Subdirección de Meteorología","2025-03-11","Correo electrónico","2025-03-14",null,"",null,{"$f":"IFERROR(WORKDAY(N1677,Y1677,Hoja1!F1669:F1785),\"\")","v":""},{"$f":"+IF(N1677=\"\",\"\",IF(O1677=\"\",\"SIN RESPUESTA\",(IF(O1677<=P1677,\"A TIEMPO\",\"FUERA DE TIEMPO\"))))","v":""},null,"A TIEMPO",6,0,null,null,{"$f":"IFERROR(VLOOKUP(F1677,Hoja1!$A$50:$C$63,2),\"\")","v":5},{"$f":"IFERROR(VLOOKUP(F1677,Hoja1!$A$50:$C$63,3),\"\")","v":5}]
[1668,20259050032474,"2025-03-02","Persona natural","Virtual - Formulario PQRSDF","Certificación de contrato","Administrativa",null,"Oficina Asesora Jurídica","2025-03-17","Correo certificado","2025-03-14",null,"",null,{"$f":"IFERROR(WORKDAY(N1678,Y1678,Hoja1!F1670:F1786),\"\")","v":""},{"$f":"+IF(N1678=\"\",\"\",IF(O1678=\"\",\"SIN RESPUESTA\",(IF(O1678<=P1678,\"A TIEMPO\",\"FUERA DE TIEMPO\"))))","v":""},null,{"$f":"+IF(C1678=\"\",\"\",IF(J1678=\"\",\"SIN RESPUESTA\",(IF(J1678<=L1678,\"A TIEMPO\",\"FUERA DE TIEMPO\"))))","v":"FUERA DE TIEMPO"},10,1,null,null,{"$f":"IFERROR(VLOOKUP(F1678,Hoja1!$A$50:$C$63,2),\"\")","v":15},{"$f":"IFERROR(VLOOKUP(F1678,Hoja1!$A$50:$C$63,3),\"\")","v":15}]
[1669,20259050032484,"2025-03-03","Persona jurídica","Virtual - Formulario PQRSDF","Solicitud de documentos o información","Registros ambientales",null,"Subdirección de Estudios Ambientales","2025-03-17","Correo electrónico","2025-03-17",null,"",null,{"$f":"IFERROR(WORKDAY(N1679,Y1679,Hoja1!F1671:F1787),\"\")","v":""},{"$f":"+IF(N1679=\"\",\"\",IF(O1679=\"\",\"SIN RESPUESTA\",(IF(O1679<=P1679,\"A TIEMPO\",\"FUERA DE TIEMPO\"))))","v":""},null,"A TIEMPO",10,0,null,null,{"$f":"IFERROR(VLOOKUP(F1679,Hoja1!$A$50:$C$63,2),\"\")","v":5},{"$f":"IFERROR(VLOOKUP(F1679,Hoja1!$A$50:$C$63,3),\"\")","v":5}]
[1670,20259050032494,"2025-03-03","Persona jurídica","Virtual - Formulario PQRSDF","Solicitud de documentos o información","Registros ambientales",null,"Subdirección de Estudios Ambientales","2025-03-17","Correo electrónico","2025-03-17",null,"",null,{"$f":"IFERROR(WORKDAY(N1680,Y1680,Hoja1!F1672:F1788),\"\")","v":""},{"$f":"+IF(N1680=\"\",\"\",IF(O1680=\"\",\"SIN RESPUESTA\",(IF(O1680<=P1680,\"A TIEMPO\",\"FUERA DE TIEMPO\"))))","v":""},null,"A TIEMPO",10,0,null,null,{"$f":"IFERROR(VLOOKUP(F1680,Hoja1!$A$50:$C$63,2),\"\")","v":5},{"$f":"IFERROR(VLOOKUP(F1680,Hoja1!$A$50:$C$63,3),\"\")","v":5}]
[{"$f":"IF(B1681<>\"\",A1680+1,\"\")","v":1671},20259050032504,"2025-03-03","Persona jurídica","Virtual - Formulario PQRSDF","Solicitud judicial","Bosques",null,"Subdirección de Ecosistemas e Información Ambiental","2025-03-07","Correo electrónico","2025-03-10",null,"",null,{"$f":"IFERROR(WORKDAY(N1681,Y1681,Hoja1!F1673:F1789),\"\")","v":""},{"$f":"+IF(N1681=\"\",\"\",IF(O1681=\"\",\"SIN RESPUESTA\",(IF(O1681<=P1681,\"A TIEMPO\",\"FUERA DE TIEMPO\"))))","v":""},null,"A TIEMPO",4,0,null,null,{"$f":"IFERROR(VLOOKUP(F1681,Hoja1!$A$50:$C$63,2),\"\")","v":5},{"$f":"IFERROR(VLOOKUP(F1681,Hoja1!$A$50:$C$63,3),\"\")","v":5}]
[1672,20259910032564,"2025-03-03","Persona natural","Virtual - Correo electrónico","Certificación de contrato","Administrativa",null,"Oficina Asesora Jurídica","2025-03-19","Correo electrónico","2025-03-17",null,"",null,{"$f":"IFERROR(WORKDAY(N1682,Y1682,Hoja1!F1674:F1790),\"\")","v":""},{"$f":"+IF(N1682=\"\",\"\",IF(O1682=\"\",\"SIN RESPUESTA\",(IF(O1682<=P1682,\"A TIEMPO\",\"FUERA DE TIEMPO\"))))","v":""},null,{"$f":"+IF(C1682=\"\",\"\",IF(J1682=\"\",\"SIN RESPUESTA\",(IF(J1682<=L1682,\"A TIEMPO\",\"FUERA DE TIEMPO\"))))","v":"FUERA DE TIEMPO"},11,1,null,null,{"$f":"IFERROR(VLOOKUP(F1682,Hoja1!$A$50:$C$63,2),\"\")","v":15},{"$f":"IFERROR(VLOOKUP(F1682,Hoja1!$A$50:$C$63,3),\"\")","v":15}]
[1673,20259050032554,"2025-03-03","Persona jurídica","Virtual - Formulario PQRSDF","Solicitud de documentos o información","Pronósticos y alertas",null,"Subdirección de Meteorología","2025-03-13","Correo electrónico","2025-03-17",null,"",null,{"$f":"IFERROR(WORKDAY(N1683,Y1683,Hoja1!F1675:F1791),\"\")","v":""},{"$f":"+IF(N1683=\"\",\"\",IF(O1683=\"\",\"SIN RESPUESTA\",(IF(O1683<=P1683,\"A TIEMPO\",\"FUERA DE TIEMPO\"))))","v":""},null,"A TIEMPO",8,0,null,null,{"$f":"IFERROR(VLOOKUP(F1683,Hoja1!$A$50:$C$63,2),\"\")","v":5},{"$f":"IFERROR(VLOOKUP(F1683,Hoja1!$A$50:$C$63,3),\"\")","v":5}]
[1674,20259910032584,"2025-03-03","Persona natural","Virtual - Correo electrónico","Certificación laboral o pasantía","Administrativa",null,"Grupo de Administración y Desarrollo del Talento Humano","2025-03-20","Correo electrónico","2025-03-17",null,"",null,{"$f":"IFERROR(WORKDAY(N1684,Y1684,Hoja1!F1676:F1792),\"\")","v":""},{"$f":"+IF(N1684=\"\",\"\",IF(O1684=\"\",\"SIN RESPUESTA\",(IF(O1684<=P1684,\"A TIEMPO\",\"FUERA DE TIEMPO\"))))","v":""},null,{"$f":"+IF(C1684=\"\",\"\",IF(J1684=\"\",\"SIN RESPUESTA\",(IF(J1684<=L1684,\"A TIEMPO\",\"FUERA DE TIEMPO\"))))","v":"FUERA DE TIEMPO"},12,2,null,null,{"$f":"IFERROR(VLOOKUP(F1684,Hoja1!$A$50:$C$63,2),\"\")","v":15},{"$f":"IFERROR(VLOOKUP(F1684,Hoja1!$A$50:$C$63,3),\"\")","v":15}]
[1675,20259910032574,"2025-03-03","Persona jurídica","Virtual - Correo electrónico","Petición entre autoridades","Bosques",null,"Subdirección de Ecosistemas e Información Ambiental","2025-03-17","Correo electrónico","2025-03-17",null,"",null,{"$f":"IFERROR(WORKDAY(N1685,Y1685,Hoja1!F1677:F1793),\"\")","v":""},{"$f":"+IF(N1685=\"\",\"\",IF(O1685=\"\",\"SIN RESPUESTA\",(IF(O1685<=P1685,\"A TIEMPO\",\"FUERA DE TIEMPO\"))))","v":""},null,"A TIEMPO",10,0,null,null,{"$f":"IFERROR(VLOOKUP(F1685,Hoja1!$A$50:$C$63,2),\"\")","v":10},{"$f":"IFERROR(VLOOKUP(F1685,Hoja1!$A$50:$C$63,3),\"\")","v":10}]
[1676,20259910032594,"2025-03-03","Persona natural","Virtual - Correo electrónico","Solicitud de documentos o información","Sistema de información del recurso hídrico",null,"Subdirección de Hidrología","2025-03-07","Correo electrónico","2025-03-17",null,"",null,{"$f":"IFERROR(WORKDAY(N1686,Y1686,Hoja1!F1678:F1794),\"\")","v":""},{"$f":"+IF(N1686=\"\",\"\",IF(O1686=\"\",\"SIN RESPUESTA\",(IF(O1686<=P1686,\"A TIEMPO\",\"FUERA DE TIEMPO\"))))","v":""},null,"A TIEMPO",4,0,null,null,{"$f":"IFERROR(VLOOKUP(F1686,Hoja1!$A$50:$C$63,2),\"\")","v":5},{"$f":"IFERROR(VLOOKUP(F1686,Hoja1!$A$50:$C$63,3),\"\")","v":5}]
[1677,20259910032614,"2025-03-03","Persona natural","Virtual - Correo electrónico","Certificación de contrato","Administrativa",null,"Oficina Asesora Jurídica","2025-03-19","Correo electrónico","2025-03-17",null,"",null,{"$f":"IFERROR(WORKDAY(N1687,Y1687,Hoja1!F1679:F1795),\"\")","v":""},{"$f":"+IF(N1687=\"\",\"\",IF(O1687=\"\",\"SIN RESPUESTA\",(IF(O1687<=P1687,\"A TIEMPO\",\"FUERA DE TIEMPO\"))))","v":""},null,{"$f":"+IF(C1687=\"\",\"\",IF(J1687=\"\",\"SIN RESPUESTA\",(IF(J1687<=L1687,\"A TIEMPO\",\"FUERA DE TIEMPO\"))))","v":"FUERA DE TIEMPO"},11,1,null,null,{"$f":"IFERROR(VLOOKUP(F1687,Hoja1!$A$50:$C$63,2),\"\")","v":15},{"$f":"IFERROR(VLOOKUP(F1687,Hoja1!$A$50:$C$63,3),\"\")","v":15}]
[1678,20259910032634,"2025-03-03","Persona jurídica","Virtual - Correo electrónico","Solicitud de documentos o información","Registros ambientales",null,"Subdirección de Estudios Ambientales","2025-03-13","Correo electrónico","2025-03-17",null,"",null,{"$f":"IFERROR(WORKDAY(N1688,Y1688,Hoja1!F1680:F1796),\"\")","v":""},{"$f":"+IF(N1688=\"\",\"\",IF(O1688=\"\",\"SIN RESPUESTA\",(IF(O1688<=P1688,\"A TIEMPO\",\"FUERA DE TIEMPO\"))))","v":""},null,"A TIEMPO",8,0,null,null,{"$f":"IFERROR(VLOOKUP(F1688,Hoja1!$A$50:$C$63,2),\"\")","v":5},{"$f":"IFERROR(VLOOKUP(F1688,Hoja1!$A$50:$C$63,3),\"\")","v":5}]
[1679,20259910032654,"2025-03-03","Persona jurídica","Virtual - Correo electrónico","Solicitud de documentos o información","Solicitud de información hidrometeorológica",null,"Grupo de Servicio al Ciudadano","2025-03-14","Correo electrónico","2025-03-17",null,"",null,{"$f":"IFERROR(WORKDAY(N1689,Y1689,Hoja1!F1681:F1797),\"\")","v":""},{"$f":"+IF(N1689=\"\",\"\",IF(O1689=\"\",\"SIN RESPUESTA\",(IF(O1689<=P1689,\"A TIEMPO\",\"FUERA DE TIEMPO\"))))","v":""},null,"A TIEMPO",9,0,null,null,{"$f":"IFERROR(VLOOKUP(F1689,Hoja1!$A$50:$C$63,2),\"\")","v":5},{"$f":"IFERROR(VLOOKUP(F1689,Hoja1!$A$50:$C$63,3),\"\")","v":5}]
[1680,20259910032674,"2025-03-03","Persona jurídica","Virtual - Correo electrónico","Solicitud de documentos o información","Registros ambientales",null,"Subdirección de Estudios Ambientales","2025-03-14","Correo electrónico","2025-03-17",null,"",null,{"$f":"IFERROR(WORKDAY(N1690,Y1690,Hoja1!F1682:F1798),\"\")","v":""},{"$f":"+IF(N1690=\"\",\"\",IF(O1690=\"\",\"SIN RESPUESTA\",(IF(O1690<=P1690,\"A TIEMPO\",\"FUERA DE TIEMPO\"))))","v":""},null,"A TIEMPO",9,0,null,null,{"$f":"IFERROR(VLOOKUP(F1690,Hoja1!$A$50:$C$63,2),\"\")","v":5},{"$f":"IFERROR(VLOOKUP(F1690,Hoja1!$A$50:$C$63,3),\"\")","v":5}]
[1681,20259050032684,"2025-03-03","Persona natural","Virtual - Formulario PQRSDF","Solicitud de documentos o información","Solicitud de información hidrometeorológica",null,"Grupo de Servicio al Ciudadano","2025-03-14","Correo electrónico","2025-03-17",null,"",null,{"$f":"IFERROR(WORKDAY(N1691,Y1691,Hoja1!F1683:F1799),\"\")","v":""},{"$f":"+IF(N1691=\"\",\"\",IF(O1691=\"\",\"SIN RESPUESTA\",(IF(O1691<=P1691,\"A TIEMPO\",\"FUERA DE TIEMPO\"))))","v":""},null,"A TIEMPO",9,0,null,null,{"$f":"IFERROR(VLOOKUP(F1691,Hoja1!$A$50:$C$63,2),\"\")","v":5},{"$f":"IFERROR(VLOOKUP(F1691,Hoja1!$A$50:$C$63,3),\"\")","v":5}]
[1682,20259910032694,"2025-03-03","Persona jurídica","Virtual - Correo electrónico","Solicitud de documentos o información","Registros ambientales",null,"Subdirección de Estudios Ambientales","2025-03-14","Correo electrónico","2025-03-17",null,"",null,{"$f":"IFERROR(WORKDAY(N1692,Y1692,Hoja1!F1684:F1800),\"\")","v":""},{"$f":"+IF(N1692=\"\",\"\",IF(O1692=\"\",\"SIN RESPUESTA\",(IF(O1692<=P1692,\"A TIEMPO\",\"FUERA DE TIEMPO\"))))","v":""},null,"A TIEMPO",9,0,null,null,{"$f":"IFERROR(VLOOKUP(F1692,Hoja1!$A$50:$C$63,2),\"\")","v":5},{"$f":"IFERROR(VLOOKUP(F1692,Hoja1!$A$50:$C$63,3),\"\")","v":5}]
[1683,20259260032754,"2025-03-03","Persona jurídica","Virtual - Correo electrónico","Solicitud de documentos o información","Visitas académicas",null,"Área Operativa No. 6 - Duitama","2025-03-04","Correo electrónico","2025-03-17",null,"",null,{"$f":"IFERROR(WORKDAY(N1693,Y1693,Hoja1!F1685:F1801),\"\")","v":""},{"$f":"+IF(N1693=\"\",\"\",IF(O1693=\"\",\"SIN RESPUESTA\",(IF(O1693<=P1693,\"A TIEMPO\",\"FUERA DE TIEMPO\"))))","v":""},null,"A TIEMPO",1,0,null,null,{"$f":"IFERROR(VLOOKUP(F1693,Hoja1!$A$50:$C$63,2),\"\")","v":5},{"$f":"IFERROR(VLOOKUP(F1693,Hoja1!$A$50:$C$63,3),\"\")","v":5}]
[1684,20259260032774,"2025-03-03","Persona jurídica","Virtual - Correo electrónico","Petición entre autoridades","Solicitud de información hidrometeorológica",null,"Grupo de Servicio al Ciudadano","2025-03-14","Correo electrónico","2025-03-17",null,"",null,{"$f":"IFERROR(WORKDAY(N1694,Y1694,Hoja1!F1686:F1802),\"\")","v":""},{"$f":"+IF(N1694=\"\",\"\",IF(O1694=\"\",\"SIN RESPUESTA\",(IF(O1694<=P1694,\"A TIEMPO\",\"FUERA DE TIEMPO\"))))","v":""},null,"A TIEMPO",9,0,null,null,{"$f":"IFERROR(VLOOKUP(F1694,Hoja1!$A$50:$C$63,2),\"\")","v":10},{"$f":"IFERROR(VLOOKUP(F1694,Hoja1!$A$50:$C$63,3),\"\")","v":10}]
[1685,20259050032834,"2025-03-03","Persona jurídica","Virtual - Formulario PQRSDF","Solicitud de bienes y/o servicios","Solicitud de información hidrometeorológica",null,"Grupo de Servicio al Ciudadano","2025-03-14","Correo electrónico","2025-03-26",null,"",null,{"$f":"IFERROR(WORKDAY(N1695,Y1695,Hoja1!F1687:F1803),\"\")","v":""},{"$f":"+IF(N1695=\"\",\"\",IF(O1695=\"\",\"SIN RESPUESTA\",(IF(O1695<=P1695,\"A TIEMPO\",\"FUERA DE TIEMPO\"))))","v":""},null,"A TIEMPO",9,0,null,null,{"$f":"IFERROR(VLOOKUP(F1695,Hoja1!$A$50:$C$63,2),\"\")","v":5},{"$f":"IFERROR(VLOOKUP(F1695,Hoja1!$A$50:$C$63,3),\"\")","v":5}]
[1686,20259910032924,"2025-03-03","Persona jurídica","Virtual - Correo electrónico","Solicitud de documentos o información","Registros ambientales",null,"Subdirección de Estudios Ambientales","2025-03-14","Correo electrónico","2025-03-17",null,"",null,{"$f":"IFERROR(WORKDAY(N1696,Y1696,Hoja1!F1688:F1804),\"\")","v":""},{"$f":"+IF(N1696=\"\",\"\",IF(O1696=\"\",\"SIN RESPUESTA\",(IF(O1696<=P1696,\"A TIEMPO\",\"FUERA DE TIEMPO\"))))","v":""},null,"A TIEMPO",9,0,null,null,{"$f":"IFERROR(VLOOKUP(F1696,Hoja1!$A$50:$C$63,2),\"\")","v":5},{"$f":"IFERROR(VLOOKUP(F1696,Hoja1!$A$50:$C$63,3),\"\")","v":5}]
[1687,20259910032944,"2025-03-03","Persona jurídica","Virtual - Correo electrónico","Solicitud de documentos o información","Registros ambientales",null,"Subdirección de Estudios Ambientales","2025-03-06","Correo electrónico","2025-03-17",null,"",null,{"$f":"IFERROR(WORKDAY(N1697,Y1697,Hoja1!F1689:F1805),\"\")","v":""},{"$f":"+IF(N1697=\"\",\"\",IF(O1697=\"\",\"SIN RESPUESTA\",(IF(O1697<=P1697,\"A TIEMPO\",\"FUERA DE TIEMPO\"))))","v":""},null,"A TIEMPO",3,0,null,null,{"$f":"IFERROR(VLOOKUP(F1697,Hoja1!$A$50:$C$63,2),\"\")","v":5},{"$f":"IFERROR(VLOOKUP(F1697,Hoja1!$A$50:$C$63,3),\"\")","v":5}]
[1688,20259910032954,"2025-03-03","Persona jurídica","Virtual - Correo electrónico","Solicitud de documentos o información","Sistema de información del recurso hídrico",null,"Subdirección de Hidrología","2025-03-05","Correo electrónico","2025-03-17",null,"",null,{"$f":"IFERROR(WORKDAY(N1698,Y1698,Hoja1!F1690:F1806),\"\")","v":""},{"$f":"+IF(N1698=\"\",\"\",IF(O1698=\"\",\"SIN RESPUESTA\",(IF(O1698<=P1698,\"A TIEMPO\",\"FUERA DE TIEMPO\"))))","v":""},null,"A TIEMPO",2,0,null,null,{"$f":"IFERROR(VLOOKUP(F1698,Hoja1!$A$50:$C$63,2),\"\")","v":5},{"$f":"IFERROR(VLOOKUP(F1698,Hoja1!$A$50:$C$63,3),\"\")","v":5}]
[1689,20259910032974,"2025-03-03","Persona jurídica","Virtual - Correo electrónico","Petición entre autoridades","Bosques",null,"Subdirección de Ecosistemas e Información Ambiental","2025-03-17","Correo electrónico","2025-03-17",null,"",null,{"$f":"IFERROR(WORKDAY(N1699,Y1699,Hoja1!F1691:F1807),\"\")","v":""},{"$f":"+IF(N1699=\"\",\"\",IF(O1699=\"\",\"SIN RESPUESTA\",(IF(O1699<=P1699,\"A TIEMPO\",\"FUERA DE TIEMPO\"))))","v":""},null,"A TIEMPO",10,0,null,null,{"$f":"IFERROR(VLOOKUP(F1699,Hoja1!$A$50:$C$63,2),\"\")","v":10},{"$f":"IFERROR(VLOOKUP(F1699,Hoja1!$A$50:$C$63,3),\"\")","v":10}]
[1690,20259910032984,"2025-03-03","Persona jurídica","Virtual - Correo electrónico","Solicitud de documentos o información","Registros ambientales",null,"Subdirección de Estudios Ambientales","2025-03-17","Correo electrónico","2025-03-17",null,"",null,{"$f":"IFERROR(WORKDAY(N1700,Y1700,Hoja1!F1692:F1808),\"\")","v":""},{"$f":"+IF(N1700=\"\",\"\",IF(O1700=\"\",\"SIN RESPUESTA\",(IF(O1700<=P1700,\"A TIEMPO\",\"FUERA DE TIEMPO\"))))","v":""},null,"A TIEMPO",10,0,null,null,{"$f":"IFERROR(VLOOKUP(F1700,Hoja1!$A$50:$C$63,2),\"\")","v":5},{"$f":"IFERROR(VLOOKUP(F1700,Hoja1!$A$50:$C$63,3),\"\")","v":5}]
[1691,20259910032994,"2025-03-03","Persona jurídica","Virtual - Correo electrónico","Certificación de tiempo, clima y eventos hidrológicos","Certificaciones del tiempo y clima",null,"Subdirección de Meteorología","2025-03-17","Correo electrónico","2025-04-16",null,"",null,{"$f":"IFERROR(WORKDAY(N1701,Y1701,Hoja1!F1693:F1809),\"\")","v":""},{"$f":"+IF(N1701=\"\",\"\",IF(O1701=\"\",\"SIN RESPUESTA\",(IF(O1701<=P1701,\"A TIEMPO\",\"FUERA DE TIEMPO\"))))","v":""},null,"A TIEMPO",10,0,null,null,{"$f":"IFERROR(VLOOKUP(F1701,Hoja1!$A$50:$C$63,2),\"\")","v":15},{"$f":"IFERROR(VLOOKUP(F1701,Hoja1!$A$50:$C$63,3),\"\")","v":15}]
[1692,20259910033004,"2025-03-03","Persona jurídica","Virtual - Correo electrónico","Solicitud de documentos o información","Sistema de información del recurso hídrico",null,"Subdirección de Meteorología","2025-03-07","Correo electrónico","2025-03-17",null,"",null,{"$f":"IFERROR(WORKDAY(N1702,Y1702,Hoja1!F1694:F1810),\"\")","v":""},{"$f":"+IF(N1702=\"\",\"\",IF(O1702=\"\",\"SIN RESPUESTA\",(IF(O1702<=P1702,\"A TIEMPO\",\"FUERA DE TIEMPO\"))))","v":""},null,"A TIEMPO",4,0,null,null,{"$f":"IFERROR(VLOOKUP(F1702,Hoja1!$A$50:$C$63,2),\"\")","v":5},{"$f":"IFERROR(VLOOKUP(F1702,Hoja1!$A$50:$C$63,3),\"\")","v":5}]
[1693,20259910033034,"2025-03-03","Persona jurídica","Virtual - Correo electrónico","Certificación de tiempo, clima y eventos hidrológicos","Certificaciones del tiempo y clima",null,"Subdirección de Meteorología","2025-04-01","Correo electrónico","2025-04-16",null,"",null,{"$f":"IFERROR(WORKDAY(N1703,Y1703,Hoja1!F1695:F1811),\"\")","v":""},{"$f":"+IF(N1703=\"\",\"\",IF(O1703=\"\",\"SIN RESPUESTA\",(IF(O1703<=P1703,\"A TIEMPO\",\"FUERA DE TIEMPO\"))))","v":""},null,"A TIEMPO",19,0,null,null,{"$f":"IFERROR(VLOOKUP(F1703,Hoja1!$A$50:$C$63,2),\"\")","v":15},{"$f":"IFERROR(VLOOKUP(F1703,Hoja1!$A$50:$C$63,3),\"\")","v":15}]
[1694,20259910033054,"2025-03-03","Persona natural","Virtual - Correo electrónico","Certificación de ingresos y retenciones","Administrativa",null,"Grupo de Tesorería","2025-03-03","Correo electrónico","2025-03-17",null,"",null,{"$f":"IFERROR(WORKDAY(N1704,Y1704,Hoja1!F1696:F1812),\"\")","v":""},{"$f":"+IF(N1704=\"\",\"\",IF(O1704=\"\",\"SIN RESPUESTA\",(IF(O1704<=P1704,\"A TIEMPO\",\"FUERA DE TIEMPO\"))))","v":""},null,"A TIEMPO",0,0,null,null,{"$f":"IFERROR(VLOOKUP(F1704,Hoja1!$A$50:$C$63,2),\"\")","v":15},{"$f":"IFERROR(VLOOKUP(F1704,Hoja1!$A$50:$C$63,3),\"\")","v":15}]
[1695,20259050033094,"2025-03-03","Persona natural","Virtual - Formulario PQRSDF","Solicitud de documentos o información","Sistema de información del recurso hídrico",null,"Subdirección de Hidrología","2025-03-13","Correo electrónico","2025-03-17",null,"",null,{"$f":"IFERROR(WORKDAY(N1705,Y1705,Hoja1!F1697:F1813),\"\")","v":""},{"$f":"+IF(N1705=\"\",\"\",IF(O1705=\"\",\"SIN RESPUESTA\",(IF(O1705<=P1705,\"A TIEMPO\",\"FUERA DE TIEMPO\"))))","v":""},null,"A TIEMPO",8,0,null,null,{"$f":"IFERROR(VLOOKUP(F1705,Hoja1!$A$50:$C$63,2),\"\")","v":5},{"$f":"IFERROR(VLOOKUP(F1705,Hoja1!$A$50:$C$63,3),\"\")","v":5}]
[1696,20259050033184,"2025-03-03","Persona jurídica","Virtual - Formulario PQRSDF","Solicitud de documentos o información","Registros ambientales",null,"Subdirección de Estudios Ambientales","2025-03-11","Correo electrónico","2025-03-17",null,"",null,{"$f":"IFERROR(WORKDAY(N1706,Y1706,Hoja1!F1698:F1814),\"\")","v":""},{"$f":"+IF(N1706=\"\",\"\",IF(O1706=\"\",\"SIN RESPUESTA\",(IF(O1706<=P1706,\"A TIEMPO\",\"FUERA DE TIEMPO\"))))","v":""},null,"A TIEMPO",6,0,null,null,{"$f":"IFERROR(VLOOKUP(F1706,Hoja1!$A$50:$C$63,2),\"\")","v":5},{"$f":"IFERROR(VLOOKUP(F1706,Hoja1!$A$50:$C$63,3),\"\")","v":5}]
[1697,20259910033194,"2025-03-03","Persona natural","Virtual - Correo electrónico","Petición de interés general o particular","Administrativa",null,"Grupo de Administración y Desarrollo del Talento Humano","2025-03-26","Correo electrónico","2025-03-26",null,"",null,{"$f":"IFERROR(WORKDAY(N1707,Y1707,Hoja1!F1699:F1815),\"\")","v":""},{"$f":"+IF(N1707=\"\",\"\",IF(O1707=\"\",\"SIN RESPUESTA\",(IF(O1707<=P1707,\"A TIEMPO\",\"FUERA DE TIEMPO\"))))","v":""},null,"A TIEMPO",15,0,null,null,{"$f":"IFERROR(VLOOKUP(F1707,Hoja1!$A$50:$C$63,2),\"\")","v":15},{"$f":"IFERROR(VLOOKUP(F1707,Hoja1!$A$50:$C$63,3),\"\")","v":15}]
[1698,20259910033204,"2025-03-03","Persona jurídica","Virtual - Correo electrónico","Solicitud de documentos o información","Solicitud de información hidrometeorológica",null,"Subdirección de Meteorología","2025-03-07","Correo electrónico","2025-03-17",null,"",null,{"$f":"IFERROR(WORKDAY(N1708,Y1708,Hoja1!F1700:F1816),\"\")","v":""},{"$f":"+IF(N1708=\"\",\"\",IF(O1708=\"\",\"SIN RESPUESTA\",(IF(O1708<=P1708,\"A TIEMPO\",\"FUERA DE TIEMPO\"))))","v":""},null,"A TIEMPO",4,0,null,null,{"$f":"IFERROR(VLOOKUP(F1708,Hoja1!$A$50:$C$63,2),\"\")","v":5},{"$f":"IFERROR(VLOOKUP(F1708,Hoja1!$A$50:$C$63,3),\"\")","v":5}]
[1699,20259910033214,"2025-03-03","Persona natural","Virtual - Correo electrónico","Solicitud de documentos o información","Solicitud de información hidrometeorológica",null,"Subdirección de Meteorología","2025-03-12","Correo electrónico","2025-03-17",null,"",null,{"$f":"IFERROR(WORKDAY(N1709,Y1709,Hoja1!F1701:F1817),\"\")","v":""},{"$f":"+IF(N1709=\"\",\"\",IF(O1709=\"\",\"SIN RESPUESTA\",(IF(O1709<=P1709,\"A TIEMPO\",\"FUERA DE TIEMPO\"))))","v":""},null,"A TIEMPO",7,0,null,null,{"$f":"IFERROR(VLOOKUP(F1709,Hoja1!$A$50:$C$63,2),\"\")","v":5},{"$f":"IFERROR(VLOOKUP(F1709,Hoja1!$A$50:$C$63,3),\"\")","v":5}]
[1700,20259910033244,"2025-03-03","Persona jurídica","Virtual - Correo electrónico","Petición de congresistas","Bosques",null,"Subdirección de Ecosistemas e Información Ambiental","2025-03-07","Correo electrónico","2025-03-10",null,"",null,{"$f":"IFERROR(WORKDAY(N1710,Y1710,Hoja1!F1702:F1818),\"\")","v":""},{"$f":"+IF(N1710=\"\",\"\",IF(O1710=\"\",\"SIN RESPUESTA\",(IF(O1710<=P1710,\"A TIEMPO\",\"FUERA DE TIEMPO\"))))","v":""},null,"A TIEMPO",4,0,null,null,{"$f":"IFERROR(VLOOKUP(F1710,Hoja1!$A$50:$C$63,2),\"\")","v":15},{"$f":"IFERROR(VLOOKUP(F1710,Hoja1!$A$50:$C$63,3),\"\")","v":15}]
[1701,20259910033414,"2025-03-03","Persona natural","Virtual - Correo electrónico","Solicitud de documentos o información","Solicitud de información hidrometeorológica",null,"Grupo de Servicio al Ciudadano","2025-03-14","Correo electrónico","2025-03-17",null,"",null,{"$f":"IFERROR(WORKDAY(N1711,Y1711,Hoja1!F1703:F1819),\"\")","v":""},{"$f":"+IF(N1711=\"\",\"\",IF(O1711=\"\",\"SIN RESPUESTA\",(IF(O1711<=P1711,\"A TIEMPO\",\"FUERA DE TIEMPO\"))))","v":""},null,"A TIEMPO",9,0,null,null,{"$f":"IFERROR(VLOOKUP(F1711,Hoja1!$A$50:$C$63,2),\"\")","v":5},{"$f":"IFERROR(VLOOKUP(F1711,Hoja1!$A$50:$C$63,3),\"\")","v":5}]
[1702,20259910033274,"2025-03-03","Persona jurídica","Virtual - Correo electrónico","Petición entre autoridades","Bosques",null,"Subdirección de Ecosistemas e Información Ambiental","2025-03-17","Correo electrónico","2025-03-17",null,"",null,{"$f":"IFERROR(WORKDAY(N1712,Y1712,Hoja1!F1704:F1820),\"\")","v":""},{"$f":"+IF(N1712=\"\",\"\",IF(O1712=\"\",\"SIN RESPUESTA\",(IF(O1712<=P1712,\"A TIEMPO\",\"FUERA DE TIEMPO\"))))","v":""},null,"A TIEMPO",10,0,null,null,{"$f":"IFERROR(VLOOKUP(F1712,Hoja1!$A$50:$C$63,2),\"\")","v":10},{"$f":"IFERROR(VLOOKUP(F1712,Hoja1!$A$50:$C$63,3),\"\")","v":10}]
[1703,20259050033534,"2025-03-03","Persona natural","Virtual - Formulario PQRSDF","Petición de interés general o particular","Administrativa",null,"Grupo de Administración y Desarrollo del Talento Humano","2025-03-26","Correo electrónico","2025-03-26",null,"",null,{"$f":"IFERROR(WORKDAY(N1713,Y1713,Hoja1!F1705:F1821),\"\")","v":""},{"$f":"+IF(N1713=\"\",\"\",IF(O1713=\"\",\"SIN RESPUESTA\",(IF(O1713<=P1713,\"A TIEMPO\",\"FUERA DE TIEMPO\"))))","v":""},null,"A TIEMPO",15,0,null,null,{"$f":"IFERROR(VLOOKUP(F1713,Hoja1!$A$50:$C$63,2),\"\")","v":15},{"$f":"IFERROR(VLOOKUP(F1713,Hoja1!$A$50:$C$63,3),\"\")","v":15}]
[1704,20259910033284,"2025-03-03","Persona natural","Correo certificado","Solicitud de documentos o información","Sistema de información del recurso hídrico",null,"Subdirección de Hidrología","2025-03-12","Correo electrónico","2025-03-17",null,"",null,{"$f":"IFERROR(WORKDAY(N1714,Y1714,Hoja1!F1706:F1822),\"\")","v":""},{"$f":"+IF(N1714=\"\",\"\",IF(O1714=\"\",\"SIN RESPUESTA\",(IF(O1714<=P1714,\"A TIEMPO\",\"FUERA DE TIEMPO\"))))","v":""},null,"A TIEMPO",7,0,null,null,{"$f":"IFERROR(VLOOKUP(F1714,Hoja1!$A$50:$C$63,2),\"\")","v":5},{"$f":"IFERROR(VLOOKUP(F1714,Hoja1!$A$50:$C$63,3),\"\")","v":5}]
[1705,20259050033304,"2025-03-03","Persona jurídica","Virtual - Formulario PQRSDF","Solicitud de documentos o información","Solicitud de información hidrometeorológica",null,"Grupo de Servicio al Ciudadano","2025-03-14","Correo electrónico","2025-03-17",null,"",null,{"$f":"IFERROR(WORKDAY(N1715,Y1715,Hoja1!F1707:F1823),\"\")","v":""},{"$f":"+IF(N1715=\"\",\"\",IF(O1715=\"\",\"SIN RESPUESTA\",(IF(O1715<=P1715,\"A TIEMPO\",\"FUERA DE TIEMPO\"))))","v":""},null,"A TIEMPO",9,0,null,null,{"$f":"IFERROR(VLOOKUP(F1715,Hoja1!$A$50:$C$63,2),\"\")","v":5},{"$f":"IFERROR(VLOOKUP(F1715,Hoja1!$A$50:$C$63,3),\"\")","v":5}]
[1706,20259050033364,"2025-03-03","Persona natural","Virtual - Formulario PQRSDF","Solicitud de documentos o información","Solicitud de información hidrometeorológica",null,"Grupo de Servicio al Ciudadano","2025-03-14","Correo electrónico","2025-03-17",null,"",null,{"$f":"IFERROR(WORKDAY(N1716,Y1716,Hoja1!F1708:F1824),\"\")","v":""},{"$f":"+IF(N1716=\"\",\"\",IF(O1716=\"\",\"SIN RESPUESTA\",(IF(O1716<=P1716,\"A TIEMPO\",\"FUERA DE TIEMPO\"))))","v":""},null,"A TIEMPO",9,0,null,null,{"$f":"IFERROR(VLOOKUP(F1716,Hoja1!$A$50:$C$63,2),\"\")","v":5},{"$f":"IFERROR(VLOOKUP(F1716,Hoja1!$A$50:$C$63,3),\"\")","v":5}]
[1707,20259910033374,"2025-03-03","Persona jurídica","Virtual - Correo electrónico","Solicitud de documentos o información","Solicitud de información hidrometeorológica",null,"Subdirección de Meteorología","2025-03-12","Correo electrónico","2025-03-17",null,"",null,{"$f":"IFERROR(WORKDAY(N1717,Y1717,Hoja1!F1709:F1825),\"\")","v":""},{"$f":"+IF(N1717=\"\",\"\",IF(O1717=\"\",\"SIN RESPUESTA\",(IF(O1717<=P1717,\"A TIEMPO\",\"FUERA DE TIEMPO\"))))","v":""},null,"A TIEMPO",7,0,null,null,{"$f":"IFERROR(VLOOKUP(F1717,Hoja1!$A$50:$C$63,2),\"\")","v":5},{"$f":"IFERROR(VLOOKUP(F1717,Hoja1!$A$50:$C$63,3),\"\")","v":5}]
[1708,20259910033424,"2025-03-03","Persona natural","Virtual - Correo electrónico","Certificación de tiempo, clima y eventos hidrológicos","Certificaciones del tiempo y clima",null,"Subdirección de Meteorología","2025-04-08","Correo electrónico","2025-04-16",null,"",null,{"$f":"IFERROR(WORKDAY(N1718,Y1718,Hoja1!F1710:F1826),\"\")","v":""},{"$f":"+IF(N1718=\"\",\"\",IF(O1718=\"\",\"SIN RESPUESTA\",(IF(O1718<=P1718,\"A TIEMPO\",\"FUERA DE TIEMPO\"))))","v":""},null,"A TIEMPO",24,0,null,null,{"$f":"IFERROR(VLOOKUP(F1718,Hoja1!$A$50:$C$63,2),\"\")","v":15},{"$f":"IFERROR(VLOOKUP(F1718,Hoja1!$A$50:$C$63,3),\"\")","v":15}]
[1709,20259910033434,"2025-03-03","Persona jurídica","Virtual - Correo electrónico","Solicitud de documentos o información","Registros ambientales",null,"Subdirección de Estudios Ambientales",null,null,"2025-03-17",null,"",null,{"$f":"IFERROR(WORKDAY(N1719,Y1719,Hoja1!F1711:F1827),\"\")","v":""},{"$f":"+IF(N1719=\"\",\"\",IF(O1719=\"\",\"SIN RESPUESTA\",(IF(O1719<=P1719,\"A TIEMPO\",\"FUERA DE TIEMPO\"))))","v":""},null,{"$f":"+IF(C1719=\"\",\"\",IF(J1719=\"\",\"SIN RESPUESTA\",(IF(J1719<=L1719,\"A TIEMPO\",\"FUERA DE TIEMPO\"))))","v":"SIN RESPUESTA"},0,0,null,null,{"$f":"IFERROR(VLOOKUP(F1719,Hoja1!$A$50:$C$63,2),\"\")","v":5},{"$f":"IFERROR(VLOOKUP(F1719,Hoja1!$A$50:$C$63,3),\"\")","v":5}]
[1710,20259050033444,"2025-03-03","Persona jurídica","Virtual - Formulario PQRSDF","Solicitud de documentos o información","Solicitud de información hidrometeorológica",null,"Subdirección de Hidrología","2025-03-13","Correo electrónico","2025-03-17",null,"",null,{"$f":"IFERROR(WORKDAY(N1720,Y1720,Hoja1!F1712:F1828),\"\")","v":""},{"$f":"+IF(N1720=\"\",\"\",IF(O1720=\"\",\"SIN RESPUESTA\",(IF(O1720<=P1720,\"A TIEMPO\",\"FUERA DE TIEMPO\"))))","v":""},null,"A TIEMPO",8,0,null,null,{"$f":"IFERROR(VLOOKUP(F1720,Hoja1!$A$50:$C$63,2),\"\")","v":5},{"$f":"IFERROR(VLOOKUP(F1720,Hoja1!$A$50:$C$63,3),\"\")","v":5}]
[1711,20259910033474,"2025-03-03","Persona jurídica","Virtual - Correo electrónico","Solicitud de documentos o información","Registros ambientales",null,"Subdirección de Estudios Ambientales","2025-03-07","Correo electrónico","2025-03-17",null,"",null,{"$f":"IFERROR(WORKDAY(N1721,Y1721,Hoja1!F1713:F1829),\"\")","v":""},{"$f":"+IF(N1721=\"\",\"\",IF(O1721=\"\",\"SIN RESPUESTA\",(IF(O1721<=P1721,\"A TIEMPO\",\"FUERA DE TIEMPO\"))))","v":""},null,"A TIEMPO",4,0,null,null,{"$f":"IFERROR(VLOOKUP(F1721,Hoja1!$A$50:$C$63,2),\"\")","v":5},{"$f":"IFERROR(VLOOKUP(F1721,Hoja1!$A$50:$C$63,3),\"\")","v":5}]
[1712,20259910033524,"2025-03-03","Persona jurídica","Virtual - Correo electrónico","Solicitud de documentos o información","Registros ambientales",null,"Subdirección de Estudios Ambientales","2025-03-06","Correo electrónico","2025-03-17",null,"",null,{"$f":"IFERROR(WORKDAY(N1722,Y1722,Hoja1!F1714:F1830),\"\")","v":""},{"$f":"+IF(N1722=\"\",\"\",IF(O1722=\"\",\"SIN RESPUESTA\",(IF(O1722<=P1722,\"A TIEMPO\",\"FUERA DE TIEMPO\"))))","v":""},null,"A TIEMPO",3,0,null,null,{"$f":"IFERROR(VLOOKUP(F1722,Hoja1!$A$50:$C$63,2),\"\")","v":5},{"$f":"IFERROR(VLOOKUP(F1722,Hoja1!$A$50:$C$63,3),\"\")","v":5}]
[1713,20259050033544,"2025-03-03","Persona natural","Virtual - Formulario PQRSDF","Solicitud de documentos o información","Sistema de información del recurso hídrico",null,"Subdirección de Hidrología","2025-03-13","Correo electrónico","2025-03-17",null,"",null,{"$f":"IFERROR(WORKDAY(N1723,Y1723,Hoja1!F1715:F1831),\"\")","v":""},{"$f":"+IF(N1723=\"\",\"\",IF(O1723=\"\",\"SIN RESPUESTA\",(IF(O1723<=P1723,\"A TIEMPO\",\"FUERA DE TIEMPO\"))))","v":""},null,"A TIEMPO",8,0,null,null,{"$f":"IFERROR(VLOOKUP(F1723,Hoja1!$A$50:$C$63,2),\"\")","v":5},{"$f":"IFERROR(VLOOKUP(F1723,Hoja1!$A$50:$C$63,3),\"\")","v":5}]
[1714,20259050033554,"2025-03-03","Persona natural","Virtual - Formulario PQRSDF","Solicitud de documentos o información","Informes ambientales",null,"Subdirección de Estudios Ambientales","2025-03-14","Correo electrónico","2025-03-17",null,"",null,{"$f":"IFERROR(WORKDAY(N1724,Y1724,Hoja1!F1716:F1832),\"\")","v":""},{"$f":"+IF(N1724=\"\",\"\",IF(O1724=\"\",\"SIN RESPUESTA\",(IF(O1724<=P1724,\"A TIEMPO\",\"FUERA DE TIEMPO\"))))","v":""},null,"A TIEMPO",9,0,null,null,{"$f":"IFERROR(VLOOKUP(F1724,Hoja1!$A$50:$C$63,2),\"\")","v":5},{"$f":"IFERROR(VLOOKUP(F1724,Hoja1!$A$50:$C$63,3),\"\")","v":5}]
[1715,20259050033584,"2025-03-04","Persona natural","Virtual - Formulario PQRSDF","Solicitud de documentos o información","Bosques",null,"Subdirección de Ecosistemas e Información Ambiental","2025-04-29","Correo electrónico","2025-03-19",null,"",null,{"$f":"IFERROR(WORKDAY(N1725,Y1725,Hoja1!F1717:F1833),\"\")","v":""},{"$f":"+IF(N1725=\"\",\"\",IF(O1725=\"\",\"SIN RESPUESTA\",(IF(O1725<=P1725,\"A TIEMPO\",\"FUERA DE TIEMPO\"))))","v":""},null,{"$f":"+IF(C1725=\"\",\"\",IF(J1725=\"\",\"SIN RESPUESTA\",(IF(J1725<=L1725,\"A TIEMPO\",\"FUERA DE TIEMPO\"))))","v":"FUERA DE TIEMPO"},36,26,null,null,{"$f":"IFERROR(VLOOKUP(F1725,Hoja1!$A$50:$C$63,2),\"\")","v":5},{"$f":"IFERROR(VLOOKUP(F1725,Hoja1!$A$50:$C$63,3),\"\")","v":5}]
[1716,20259910033594,"2025-03-04","Persona jurídica","Virtual - Correo electrónico","Solicitud de documentos o información","Registros ambientales",null,"Subdirección de Estudios Ambientales","2025-03-14","Correo electrónico","2025-03-19",null,"",null,{"$f":"IFERROR(WORKDAY(N1726,Y1726,Hoja1!F1718:F1834),\"\")","v":""},{"$f":"+IF(N1726=\"\",\"\",IF(O1726=\"\",\"SIN RESPUESTA\",(IF(O1726<=P1726,\"A TIEMPO\",\"FUERA DE TIEMPO\"))))","v":""},null,"A TIEMPO",8,0,null,null,{"$f":"IFERROR(VLOOKUP(F1726,Hoja1!$A$50:$C$63,2),\"\")","v":5},{"$f":"IFERROR(VLOOKUP(F1726,Hoja1!$A$50:$C$63,3),\"\")","v":5}]
[1717,20259050033644,"2025-03-04","Persona jurídica","Virtual - Formulario PQRSDF","Solicitud de documentos o información","Sistema de información del recurso hídrico",null,"Subdirección de Hidrología","2025-03-25","Correo electrónico","2025-03-19","Si","2025-04-03","2025-03-25",{"$f":"IFERROR(WORKDAY(N1727,Y1727,Hoja1!F1719:F1835),\"\")","v":"2025-04-10"},{"$f":"+IF(N1727=\"\",\"\",IF(O1727=\"\",\"SIN RESPUESTA\",(IF(O1727<=P1727,\"A TIEMPO\",\"FUERA DE TIEMPO\"))))","v":"A TIEMPO"},null,"A TIEMPO",13,0,null,null,{"$f":"IFERROR(VLOOKUP(F1727,Hoja1!$A$50:$C$63,2),\"\")","v":5},{"$f":"IFERROR(VLOOKUP(F1727,Hoja1!$A$50:$C$63,3),\"\")","v":5}]
[1718,20259910033654,"2025-03-04","Persona jurídica","Virtual - Correo electrónico","Certificación de tiempo, clima y eventos hidrológicos","Certificaciones del tiempo y clima",null,"Subdirección de Meteorología","2025-03-26","Correo electrónico","2025-04-21",null,"",null,{"$f":"IFERROR(WORKDAY(N1728,Y1728,Hoja1!F1720:F1836),\"\")","v":""},{"$f":"+IF(N1728=\"\",\"\",IF(O1728=\"\",\"SIN RESPUESTA\",(IF(O1728<=P1728,\"A TIEMPO\",\"FUERA DE TIEMPO\"))))","v":""},null,"A TIEMPO",14,0,null,null,{"$f":"IFERROR(VLOOKUP(F1728,Hoja1!$A$50:$C$63,2),\"\")","v":15},{"$f":"IFERROR(VLOOKUP(F1728,Hoja1!$A$50:$C$63,3),\"\")","v":15}]
[1719,20259910033684,"2025-03-04","Persona jurídica","Virtual - Correo electrónico","Petición de congresistas","Sistema de información del recurso hídrico",null,"Oficina del Servicio de Pronósticos y Alertas","2025-03-07","Correo electrónico","2025-03-11",null,"",null,{"$f":"IFERROR(WORKDAY(N1729,Y1729,Hoja1!F1721:F1837),\"\")","v":""},{"$f":"+IF(N1729=\"\",\"\",IF(O1729=\"\",\"SIN RESPUESTA\",(IF(O1729<=P1729,\"A TIEMPO\",\"FUERA DE TIEMPO\"))))","v":""},null,"A TIEMPO",3,0,null,null,{"$f":"IFERROR(VLOOKUP(F1729,Hoja1!$A$50:$C$63,2),\"\")","v":15},{"$f":"IFERROR(VLOOKUP(F1729,Hoja1!$A$50:$C$63,3),\"\")","v":15}]
[1720,20259910033634,"2025-03-04","Persona jurídica","Correo certificado","Solicitud de documentos o información","Administrativa",null,"Secretaría General","2025-03-10","Correo electrónico","2025-03-19",null,"",null,{"$f":"IFERROR(WORKDAY(N1730,Y1730,Hoja1!F1722:F1838),\"\")","v":""},{"$f":"+IF(N1730=\"\",\"\",IF(O1730=\"\",\"SIN RESPUESTA\",(IF(O1730<=P1730,\"A TIEMPO\",\"FUERA DE TIEMPO\"))))","v":""},null,"A TIEMPO",4,0,null,null,{"$f":"IFERROR(VLOOKUP(F1730,Hoja1!$A$50:$C$63,2),\"\")","v":5},{"$f":"IFERROR(VLOOKUP(F1730,Hoja1!$A$50:$C$63,3),\"\")","v":5}]
[1721,20259910033694,"2025-03-04","Persona natural","Virtual - Correo electrónico","Solicitud de documentos o información","Administrativa",null,"Oficina Asesora Jurídica","2025-03-31","Correo electrónico","2025-03-19",null,"",null,{"$f":"IFERROR(WORKDAY(N1731,Y1731,Hoja1!F1723:F1839),\"\")","v":""},{"$f":"+IF(N1731=\"\",\"\",IF(O1731=\"\",\"SIN RESPUESTA\",(IF(O1731<=P1731,\"A TIEMPO\",\"FUERA DE TIEMPO\"))))","v":""},null,{"$f":"+IF(C1731=\"\",\"\",IF(J1731=\"\",\"SIN RESPUESTA\",(IF(J1731<=L1731,\"A TIEMPO\",\"FUERA DE TIEMPO\"))))","v":"FUERA DE TIEMPO"},17,7,null,null,{"$f":"IFERROR(VLOOKUP(F1731,Hoja1!$A$50:$C$63,2),\"\")","v":5},{"$f":"IFERROR(VLOOKUP(F1731,Hoja1!$A$50:$C$63,3),\"\")","v":5}]
[1722,20259910033764,"2025-03-04","Persona jurídica","Virtual - Correo electrónico","Solicitud de documentos o información","Registros ambientales",null,"Subdirección de Estudios Ambientales","2025-03-10","Correo electrónico","2025-03-19",null,"",null,{"$f":"IFERROR(WORKDAY(N1732,Y1732,Hoja1!F1724:F1840),\"\")","v":""},{"$f":"+IF(N1732=\"\",\"\",IF(O1732=\"\",\"SIN RESPUESTA\",(IF(O1732<=P1732,\"A TIEMPO\",\"FUERA DE TIEMPO\"))))","v":""},null,"A TIEMPO",4,0,null,null,{"$f":"IFERROR(VLOOKUP(F1732,Hoja1!$A$50:$C$63,2),\"\")","v":5},{"$f":"IFERROR(VLOOKUP(F1732,Hoja1!$A$50:$C$63,3),\"\")","v":5}]
[1723,20259910033774,"2025-03-04","Persona jurídica","Virtual - Correo electrónico","Petición entre autoridades","Certificaciones del tiempo y clima",null,"Subdirección de Meteorología","2025-03-13","Correo electrónico","2025-03-19",null,"",null,{"$f":"IFERROR(WORKDAY(N1733,Y1733,Hoja1!F1725:F1841),\"\")","v":""},{"$f":"+IF(N1733=\"\",\"\",IF(O1733=\"\",\"SIN RESPUESTA\",(IF(O1733<=P1733,\"A TIEMPO\",\"FUERA DE TIEMPO\"))))","v":""},null,"A TIEMPO",7,0,null,null,{"$f":"IFERROR(VLOOKUP(F1733,Hoja1!$A$50:$C$63,2),\"\")","v":10},{"$f":"IFERROR(VLOOKUP(F1733,Hoja1!$A$50:$C$63,3),\"\")","v":10}]
[1724,20259910033804,"2025-03-04","Persona jurídica","Virtual - Correo electrónico","Certificación de tiempo, clima y eventos hidrológicos","Certificaciones del tiempo y clima",null,"Subdirección de Meteorología","2025-03-17","Correo electrónico","2025-04-21",null,"",null,{"$f":"IFERROR(WORKDAY(N1734,Y1734,Hoja1!F1726:F1842),\"\")","v":""},{"$f":"+IF(N1734=\"\",\"\",IF(O1734=\"\",\"SIN RESPUESTA\",(IF(O1734<=P1734,\"A TIEMPO\",\"FUERA DE TIEMPO\"))))","v":""},null,"A TIEMPO",9,0,null,null,{"$f":"IFERROR(VLOOKUP(F1734,Hoja1!$A$50:$C$63,2),\"\")","v":15},{"$f":"IFERROR(VLOOKUP(F1734,Hoja1!$A$50:$C$63,3),\"\")","v":15}]
[1725,20259910033814,"2025-03-04","Persona natural","Virtual - Correo electrónico","Solicitud de documentos o información","Administrativa",null,"Grupo de Administración y Desarrollo del Talento Humano","2025-03-12","Correo electrónico","2025-03-19",null,"",null,{"$f":"IFERROR(WORKDAY(N1735,Y1735,Hoja1!F1727:F1843),\"\")","v":""},{"$f":"+IF(N1735=\"\",\"\",IF(O1735=\"\",\"SIN RESPUESTA\",(IF(O1735<=P1735,\"A TIEMPO\",\"FUERA DE TIEMPO\"))))","v":""},null,"A TIEMPO",6,0,null,null,{"$f":"IFERROR(VLOOKUP(F1735,Hoja1!$A$50:$C$63,2),\"\")","v":5},{"$f":"IFERROR(VLOOKUP(F1735,Hoja1!$A$50:$C$63,3),\"\")","v":5}]
[1726,20259050033854,"2025-03-04","Persona jurídica","Virtual - Formulario PQRSDF","Solicitud de documentos o información","Registros ambientales",null,"Subdirección de Estudios Ambientales","2025-03-07","Correo electrónico","2025-03-19",null,"",null,{"$f":"IFERROR(WORKDAY(N1736,Y1736,Hoja1!F1728:F1844),\"\")","v":""},{"$f":"+IF(N1736=\"\",\"\",IF(O1736=\"\",\"SIN RESPUESTA\",(IF(O1736<=P1736,\"A TIEMPO\",\"FUERA DE TIEMPO\"))))","v":""},null,"A TIEMPO",3,0,null,null,{"$f":"IFERROR(VLOOKUP(F1736,Hoja1!$A$50:$C$63,2),\"\")","v":5},{"$f":"IFERROR(VLOOKUP(F1736,Hoja1!$A$50:$C$63,3),\"\")","v":5}]
[1727,20259910033864,"2025-03-04","Persona jurídica","Virtual - Correo electrónico","Petición de congresistas","Sistema de información ambiental",null,"Dirección General","2025-03-17","Correo electrónico","2025-03-11",null,"",null,{"$f":"IFERROR(WORKDAY(N1737,Y1737,Hoja1!F1729:F1845),\"\")","v":""},{"$f":"+IF(N1737=\"\",\"\",IF(O1737=\"\",\"SIN RESPUESTA\",(IF(O1737<=P1737,\"A TIEMPO\",\"FUERA DE TIEMPO\"))))","v":""},null,{"$f":"+IF(C1737=\"\",\"\",IF(J1737=\"\",\"SIN RESPUESTA\",(IF(J1737<=L1737,\"A TIEMPO\",\"FUERA DE TIEMPO\"))))","v":"FUERA DE TIEMPO"},9,4,null,null,{"$f":"IFERROR(VLOOKUP(F1737,Hoja1!$A$50:$C$63,2),\"\")","v":15},{"$f":"IFERROR(VLOOKUP(F1737,Hoja1!$A$50:$C$63,3),\"\")","v":15}]
[1728,20259910033954,"2025-03-04","Persona jurídica","Virtual - Correo electrónico","Solicitud de documentos o información","Registros ambientales",null,"Subdirección de Estudios Ambientales","2025-03-10","Correo electrónico","2025-03-19",null,"",null,{"$f":"IFERROR(WORKDAY(N1738,Y1738,Hoja1!F1730:F1846),\"\")","v":""},{"$f":"+IF(N1738=\"\",\"\",IF(O1738=\"\",\"SIN RESPUESTA\",(IF(O1738<=P1738,\"A TIEMPO\",\"FUERA DE TIEMPO\"))))","v":""},null,"A TIEMPO",4,0,null,null,{"$f":"IFERROR(VLOOKUP(F1738,Hoja1!$A$50:$C$63,2),\"\")","v":5},{"$f":"IFERROR(VLOOKUP(F1738,Hoja1!$A$50:$C$63,3),\"\")","v":5}]
[1729,20259050033974,"2025-03-04","Persona natural","Virtual - Formulario PQRSDF","Solicitud de documentos o información","Administrativa",null,"Grupo de Administración y Desarrollo del Talento Humano","2025-03-12","Correo electrónico","2025-03-19",null,"",null,{"$f":"IFERROR(WORKDAY(N1739,Y1739,Hoja1!F1731:F1847),\"\")","v":""},{"$f":"+IF(N1739=\"\",\"\",IF(O1739=\"\",\"SIN RESPUESTA\",(IF(O1739<=P1739,\"A TIEMPO\",\"FUERA DE TIEMPO\"))))","v":""},null,"A TIEMPO",6,0,null,null,{"$f":"IFERROR(VLOOKUP(F1739,Hoja1!$A$50:$C$63,2),\"\")","v":5},{"$f":"IFERROR(VLOOKUP(F1739,Hoja1!$A$50:$C$63,3),\"\")","v":5}]
[1730,20259050034004,"2025-03-04","Persona jurídica","Virtual - Formulario PQRSDF","Solicitud de documentos o información","Registros ambientales",null,"Subdirección de Estudios Ambientales","2025-03-17","Correo electrónico","2025-03-19",null,"",null,{"$f":"IFERROR(WORKDAY(N1740,Y1740,Hoja1!F1732:F1848),\"\")","v":""},{"$f":"+IF(N1740=\"\",\"\",IF(O1740=\"\",\"SIN RESPUESTA\",(IF(O1740<=P1740,\"A TIEMPO\",\"FUERA DE TIEMPO\"))))","v":""},null,"A TIEMPO",9,0,null,null,{"$f":"IFERROR(VLOOKUP(F1740,Hoja1!$A$50:$C$63,2),\"\")","v":5},{"$f":"IFERROR(VLOOKUP(F1740,Hoja1!$A$50:$C$63,3),\"\")","v":5}]
[1731,20259910033754,"2025-03-04","Persona jurídica","Virtual - Correo electrónico","Petición entre autoridades","Sistema de información ambiental",null,"Grupo de Servicio al Ciudadano","2025-03-19","Correo electrónico","2025-03-19",null,"",null,{"$f":"IFERROR(WORKDAY(N1741,Y1741,Hoja1!F1733:F1849),\"\")","v":""},{"$f":"+IF(N1741=\"\",\"\",IF(O1741=\"\",\"SIN RESPUESTA\",(IF(O1741<=P1741,\"A TIEMPO\",\"FUERA DE TIEMPO\"))))","v":""},null,"A TIEMPO",10,0,null,null,{"$f":"IFERROR(VLOOKUP(F1741,Hoja1!$A$50:$C$63,2),\"\")","v":10},{"$f":"IFERROR(VLOOKUP(F1741,Hoja1!$A$50:$C$63,3),\"\")","v":10}]
[1732,20259910034014,"2025-03-04","Persona natural","Virtual - Correo electrónico","Solicitud de documentos o información","Solicitud de información hidrometeorológica",null,"Grupo de Servicio al Ciudadano","2025-03-17","Correo electrónico","2025-03-19",null,"",null,{"$f":"IFERROR(WORKDAY(N1742,Y1742,Hoja1!F1734:F1850),\"\")","v":""},{"$f":"+IF(N1742=\"\",\"\",IF(O1742=\"\",\"SIN RESPUESTA\",(IF(O1742<=P1742,\"A TIEMPO\",\"FUERA DE TIEMPO\"))))","v":""},null,"A TIEMPO",9,0,null,null,{"$f":"IFERROR(VLOOKUP(F1742,Hoja1!$A$50:$C$63,2),\"\")","v":5},{"$f":"IFERROR(VLOOKUP(F1742,Hoja1!$A$50:$C$63,3),\"\")","v":5}]
[1733,20259910034034,"2025-03-04","Persona natural","Virtual - Correo electrónico","Solicitud de documentos o información","Acreditación de laboratorios",null,"Subdirección de Estudios Ambientales","2025-03-07","Correo electrónico","2025-03-19",null,"",null,{"$f":"IFERROR(WORKDAY(N1743,Y1743,Hoja1!F1735:F1851),\"\")","v":""},{"$f":"+IF(N1743=\"\",\"\",IF(O1743=\"\",\"SIN RESPUESTA\",(IF(O1743<=P1743,\"A TIEMPO\",\"FUERA DE TIEMPO\"))))","v":""},null,"A TIEMPO",3,0,null,null,{"$f":"IFERROR(VLOOKUP(F1743,Hoja1!$A$50:$C$63,2),\"\")","v":5},{"$f":"IFERROR(VLOOKUP(F1743,Hoja1!$A$50:$C$63,3),\"\")","v":5}]
[1734,20259910034044,"2025-03-04","Persona jurídica","Virtual - Correo electrónico","Petición de congresistas","Administrativa",null,"Grupo de Administración y Desarrollo del Talento Humano","2025-03-14","Correo electrónico","2025-03-11",null,"",null,{"$f":"IFERROR(WORKDAY(N1744,Y1744,Hoja1!F1736:F1852),\"\")","v":""},{"$f":"+IF(N1744=\"\",\"\",IF(O1744=\"\",\"SIN RESPUESTA\",(IF(O1744<=P1744,\"A TIEMPO\",\"FUERA DE TIEMPO\"))))","v":""},null,{"$f":"+IF(C1744=\"\",\"\",IF(J1744=\"\",\"SIN RESPUESTA\",(IF(J1744<=L1744,\"A TIEMPO\",\"FUERA DE TIEMPO\"))))","v":"FUERA DE TIEMPO"},8,3,null,null,{"$f":"IFERROR(VLOOKUP(F1744,Hoja1!$A$50:$C$63,2),\"\")","v":15},{"$f":"IFERROR(VLOOKUP(F1744,Hoja1!$A$50:$C$63,3),\"\")","v":15}]
[{"$f":"IF(B1745<>\"\",A1744+1,\"\")","v":1735},20259910034054,"2025-03-04","Persona natural","Virtual - Correo electrónico","Solicitud de documentos o información","Visitas académicas",null,"Grupo de Servicio al Ciudadano","2025-03-17","Correo electrónico","2025-03-19",null,"",null,{"$f":"IFERROR(WORKDAY(N1745,Y1745,Hoja1!F1737:F1853),\"\")","v":""},{"$f":"+IF(N1745=\"\",\"\",IF(O1745=\"\",\"SIN RESPUESTA\",(IF(O1745<=P1745,\"A TIEMPO\",\"FUERA DE TIEMPO\"))))","v":""},null,"A TIEMPO",9,0,null,null,{"$f":"IFERROR(VLOOKUP(F1745,Hoja1!$A$50:$C$63,2),\"\")","v":5},{"$f":"IFERROR(VLOOKUP(F1745,Hoja1!$A$50:$C$63,3),\"\")","v":5}]
[1736,20259910034064,"2025-03-04","Persona jurídica","Virtual - Correo electrónico","Solicitud de documentos o información","Solicitud de información hidrometeorológica",null,"Grupo de Servicio al Ciudadano","2025-03-17","Correo electrónico","2025-03-19",null,"",null,{"$f":"IFERROR(WORKDAY(N1746,Y1746,Hoja1!F1738:F1854),\"\")","v":""},{"$f":"+IF(N1746=\"\",\"\",IF(O1746=\"\",\"SIN RESPUESTA\",(IF(O1746<=P1746,\"A TIEMPO\",\"FUERA DE TIEMPO\"))))","v":""},null,"A TIEMPO",9,0,null,null,{"$f":"IFERROR(VLOOKUP(F1746,Hoja1!$A$50:$C$63,2),\"\")","v":5},{"$f":"IFERROR(VLOOKUP(F1746,Hoja1!$A$50:$C$63,3),\"\")","v":5}]
[1737,20259910034084,"2025-03-04","Persona jurídica","Virtual - Correo electrónico","Solicitud de documentos o información","Registros ambientales",null,"Subdirección de Estudios Ambientales","2025-03-10","Correo electrónico","2025-03-19",null,"",null,{"$f":"IFERROR(WORKDAY(N1747,Y1747,Hoja1!F1739:F1855),\"\")","v":""},{"$f":"+IF(N1747=\"\",\"\",IF(O1747=\"\",\"SIN RESPUESTA\",(IF(O1747<=P1747,\"A TIEMPO\",\"FUERA DE TIEMPO\"))))","v":""},null,"A TIEMPO",4,0,null,null,{"$f":"IFERROR(VLOOKUP(F1747,Hoja1!$A$50:$C$63,2),\"\")","v":5},{"$f":"IFERROR(VLOOKUP(F1747,Hoja1!$A$50:$C$63,3),\"\")","v":5}]
[1738,20259910034074,"2025-03-04","Persona jurídica","Virtual - Correo electrónico","Consulta (Información técnica)","Suelos y tierras",null,"Subdirección de Ecosistemas e Información Ambiental","2025-04-15","Correo electrónico","2025-04-21",null,"",null,{"$f":"IFERROR(WORKDAY(N1748,Y1748,Hoja1!F1740:F1856),\"\")","v":""},{"$f":"+IF(N1748=\"\",\"\",IF(O1748=\"\",\"SIN RESPUESTA\",(IF(O1748<=P1748,\"A TIEMPO\",\"FUERA DE TIEMPO\"))))","v":""},null,"A TIEMPO",28,0,null,null,{"$f":"IFERROR(VLOOKUP(F1748,Hoja1!$A$50:$C$63,2),\"\")","v":30},{"$f":"IFERROR(VLOOKUP(F1748,Hoja1!$A$50:$C$63,3),\"\")","v":30}]
[1739,20259910034094,"2025-03-04","Persona natural","Virtual - Correo electrónico","Solicitud de documentos o información","Administrativa",null,"Grupo de Administración y Desarrollo del Talento Humano","2025-03-17","Correo electrónico","2025-03-19",null,"",null,{"$f":"IFERROR(WORKDAY(N1749,Y1749,Hoja1!F1741:F1857),\"\")","v":""},{"$f":"+IF(N1749=\"\",\"\",IF(O1749=\"\",\"SIN RESPUESTA\",(IF(O1749<=P1749,\"A TIEMPO\",\"FUERA DE TIEMPO\"))))","v":""},null,"A TIEMPO",9,0,null,null,{"$f":"IFERROR(VLOOKUP(F1749,Hoja1!$A$50:$C$63,2),\"\")","v":5},{"$f":"IFERROR(VLOOKUP(F1749,Hoja1!$A$50:$C$63,3),\"\")","v":5}]
[1740,20259910034104,"2025-03-04","Persona jurídica","Virtual - Correo electrónico","Solicitud de documentos o información","Registros ambientales",null,"Subdirección de Estudios Ambientales","2025-03-17","Correo electrónico","2025-03-19",null,"",null,{"$f":"IFERROR(WORKDAY(N1750,Y1750,Hoja1!F1742:F1858),\"\")","v":""},{"$f":"+IF(N1750=\"\",\"\",IF(O1750=\"\",\"SIN RESPUESTA\",(IF(O1750<=P1750,\"A TIEMPO\",\"FUERA DE TIEMPO\"))))","v":""},null,"A TIEMPO",9,0,null,null,{"$f":"IFERROR(VLOOKUP(F1750,Hoja1!$A$50:$C$63,2),\"\")","v":5},{"$f":"IFERROR(VLOOKUP(F1750,Hoja1!$A$50:$C$63,3),\"\")","v":5}]
[1741,20259910034114,"2025-03-04","Persona jurídica","Virtual - Correo electrónico","Solicitud de documentos o información","Registros ambientales",null,"Subdirección de Estudios Ambientales","2025-03-14","Correo electrónico","2025-03-19",null,"",null,{"$f":"IFERROR(WORKDAY(N1751,Y1751,Hoja1!F1743:F1859),\"\")","v":""},{"$f":"+IF(N1751=\"\",\"\",IF(O1751=\"\",\"SIN RESPUESTA\",(IF(O1751<=P1751,\"A TIEMPO\",\"FUERA DE TIEMPO\"))))","v":""},null,"A TIEMPO",8,0,null,null,{"$f":"IFERROR(VLOOKUP(F1751,Hoja1!$A$50:$C$63,2),\"\")","v":5},{"$f":"IFERROR(VLOOKUP(F1751,Hoja1!$A$50:$C$63,3),\"\")","v":5}]
[1742,20259050034184,"2025-03-04","Persona jurídica","Virtual - Formulario PQRSDF","Solicitud de documentos o información","Registros ambientales",null,"Subdirección de Estudios Ambientales","2025-03-17","Correo electrónico","2025-03-19",null,"",null,{"$f":"IFERROR(WORKDAY(N1752,Y1752,Hoja1!F1744:F1860),\"\")","v":""},{"$f":"+IF(N1752=\"\",\"\",IF(O1752=\"\",\"SIN RESPUESTA\",(IF(O1752<=P1752,\"A TIEMPO\",\"FUERA DE TIEMPO\"))))","v":""},null,"A TIEMPO",9,0,null,null,{"$f":"IFERROR(VLOOKUP(F1752,Hoja1!$A$50:$C$63,2),\"\")","v":5},{"$f":"IFERROR(VLOOKUP(F1752,Hoja1!$A$50:$C$63,3),\"\")","v":5}]
[1743,20259910034224,"2025-03-04","Persona jurídica","Virtual - Correo electrónico","Certificación de tiempo, clima y eventos hidrológicos","Certificaciones del tiempo y clima",null,"Subdirección de Meteorología","2025-04-14","Correo electrónico","2025-04-21",null,"",null,{"$f":"IFERROR(WORKDAY(N1753,Y1753,Hoja1!F1745:F1861),\"\")","v":""},{"$f":"+IF(N1753=\"\",\"\",IF(O1753=\"\",\"SIN RESPUESTA\",(IF(O1753<=P1753,\"A TIEMPO\",\"FUERA DE TIEMPO\"))))","v":""},null,"A TIEMPO",27,0,null,null,{"$f":"IFERROR(VLOOKUP(F1753,Hoja1!$A$50:$C$63,2),\"\")","v":15},{"$f":"IFERROR(VLOOKUP(F1753,Hoja1!$A$50:$C$63,3),\"\")","v":15}]
[1744,20259910034244,"2025-03-04","Persona natural","Virtual - Correo electrónico","Solicitud de documentos o información","Solicitud de información hidrometeorológica",null,"Grupo de Servicio al Ciudadano","2025-03-17","Correo electrónico","2025-03-19",null,"",null,{"$f":"IFERROR(WORKDAY(N1754,Y1754,Hoja1!F1746:F1862),\"\")","v":""},{"$f":"+IF(N1754=\"\",\"\",IF(O1754=\"\",\"SIN RESPUESTA\",(IF(O1754<=P1754,\"A TIEMPO\",\"FUERA DE TIEMPO\"))))","v":""},null,"A TIEMPO",9,0,null,null,{"$f":"IFERROR(VLOOKUP(F1754,Hoja1!$A$50:$C$63,2),\"\")","v":5},{"$f":"IFERROR(VLOOKUP(F1754,Hoja1!$A$50:$C$63,3),\"\")","v":5}]
[1745,20259910034254,"2025-03-04","Persona jurídica","Virtual - Correo electrónico","Solicitud de documentos o información","Registros ambientales",null,"Subdirección de Estudios Ambientales","2025-03-19","Correo electrónico","2025-03-19",null,"",null,{"$f":"IFERROR(WORKDAY(N1755,Y1755,Hoja1!F1747:F1863),\"\")","v":""},{"$f":"+IF(N1755=\"\",\"\",IF(O1755=\"\",\"SIN RESPUESTA\",(IF(O1755<=P1755,\"A TIEMPO\",\"FUERA DE TIEMPO\"))))","v":""},null,"A TIEMPO",10,0,null,null,{"$f":"IFERROR(VLOOKUP(F1755,Hoja1!$A$50:$C$63,2),\"\")","v":5},{"$f":"IFERROR(VLOOKUP(F1755,Hoja1!$A$50:$C$63,3),\"\")","v":5}]
[1746,20259910034274,"2025-03-04","Persona jurídica","Virtual - Correo electrónico","Solicitud de documentos o información","Registros ambientales",null,"Subdirección de Estudios Ambientales","2025-03-11","Correo electrónico","2025-03-19",null,"",null,{"$f":"IFERROR(WORKDAY(N1756,Y1756,Hoja1!F1748:F1864),\"\")","v":""},{"$f":"+IF(N1756=\"\",\"\",IF(O1756=\"\",\"SIN RESPUESTA\",(IF(O1756<=P1756,\"A TIEMPO\",\"FUERA DE TIEMPO\"))))","v":""},null,"A TIEMPO",5,0,null,null,{"$f":"IFERROR(VLOOKUP(F1756,Hoja1!$A$50:$C$63,2),\"\")","v":5},{"$f":"IFERROR(VLOOKUP(F1756,Hoja1!$A$50:$C$63,3),\"\")","v":5}]
[1747,20259910034284,"2025-03-04","Persona jurídica","Virtual - Correo electrónico","Solicitud de documentos o información","Administrativa",null,"Subdirección de Hidrología","2025-04-20","Correo electrónico","2025-03-19",null,"",null,{"$f":"IFERROR(WORKDAY(N1757,Y1757,Hoja1!F1749:F1865),\"\")","v":""},{"$f":"+IF(N1757=\"\",\"\",IF(O1757=\"\",\"SIN RESPUESTA\",(IF(O1757<=P1757,\"A TIEMPO\",\"FUERA DE TIEMPO\"))))","v":""},null,{"$f":"+IF(C1757=\"\",\"\",IF(J1757=\"\",\"SIN RESPUESTA\",(IF(J1757<=L1757,\"A TIEMPO\",\"FUERA DE TIEMPO\"))))","v":"FUERA DE TIEMPO"},29,19,null,null,{"$f":"IFERROR(VLOOKUP(F1757,Hoja1!$A$50:$C$63,2),\"\")","v":5},{"$f":"IFERROR(VLOOKUP(F1757,Hoja1!$A$50:$C$63,3),\"\")","v":5}]
[1748,20259910034294,"2025-03-04","Persona jurídica","Virtual - Correo electrónico","Solicitud de documentos o información","Registros ambientales",null,"Subdirección de Estudios Ambientales","2025-03-17","Correo electrónico","2025-03-19",null,"",null,{"$f":"IFERROR(WORKDAY(N1758,Y1758,Hoja1!F1750:F1866),\"\")","v":""},{"$f":"+IF(N1758=\"\",\"\",IF(O1758=\"\",\"SIN RESPUESTA\",(IF(O1758<=P1758,\"A TIEMPO\",\"FUERA DE TIEMPO\"))))","v":""},null,"A TIEMPO",9,0,null,null,{"$f":"IFERROR(VLOOKUP(F1758,Hoja1!$A$50:$C$63,2),\"\")","v":5},{"$f":"IFERROR(VLOOKUP(F1758,Hoja1!$A$50:$C$63,3),\"\")","v":5}]
[1749,20259910034314,"2025-03-04","Persona jurídica","Virtual - Correo electrónico","Solicitud de documentos o información","Registros ambientales",null,"Subdirección de Estudios Ambientales","2025-03-17","Correo electrónico","2025-03-19",null,"",null,{"$f":"IFERROR(WORKDAY(N1759,Y1759,Hoja1!F1751:F1867),\"\")","v":""},{"$f":"+IF(N1759=\"\",\"\",IF(O1759=\"\",\"SIN RESPUESTA\",(IF(O1759<=P1759,\"A TIEMPO\",\"FUERA DE TIEMPO\"))))","v":""},null,"A TIEMPO",9,0,null,null,{"$f":"IFERROR(VLOOKUP(F1759,Hoja1!$A$50:$C$63,2),\"\")","v":5},{"$f":"IFERROR(VLOOKUP(F1759,Hoja1!$A$50:$C$63,3),\"\")","v":5}]
[1750,20259910034324,"2025-03-04","Persona natural","Virtual - Correo electrónico","Solicitud de documentos o información","Solicitud de información hidrometeorológica",null,"Grupo de Servicio al Ciudadano","2025-03-17","Correo electrónico","2025-03-19",null,"",null,{"$f":"IFERROR(WORKDAY(N1760,Y1760,Hoja1!F1752:F1868),\"\")","v":""},{"$f":"+IF(N1760=\"\",\"\",IF(O1760=\"\",\"SIN RESPUESTA\",(IF(O1760<=P1760,\"A TIEMPO\",\"FUERA DE TIEMPO\"))))","v":""},null,"A TIEMPO",9,0,null,null,{"$f":"IFERROR(VLOOKUP(F1760,Hoja1!$A$50:$C$63,2),\"\")","v":5},{"$f":"IFERROR(VLOOKUP(F1760,Hoja1!$A$50:$C$63,3),\"\")","v":5}]
[1751,20259910034344,"2025-03-04","Persona jurídica","Virtual - Correo electrónico","Solicitud de documentos o información","Registros ambientales",null,"Subdirección de Estudios Ambientales","2025-03-11","Correo electrónico","2025-03-19",null,"",null,{"$f":"IFERROR(WORKDAY(N1761,Y1761,Hoja1!F1753:F1869),\"\")","v":""},{"$f":"+IF(N1761=\"\",\"\",IF(O1761=\"\",\"SIN RESPUESTA\",(IF(O1761<=P1761,\"A TIEMPO\",\"FUERA DE TIEMPO\"))))","v":""},null,"A TIEMPO",5,0,null,null,{"$f":"IFERROR(VLOOKUP(F1761,Hoja1!$A$50:$C$63,2),\"\")","v":5},{"$f":"IFERROR(VLOOKUP(F1761,Hoja1!$A$50:$C$63,3),\"\")","v":5}]
[1752,20259910034354,"2025-03-04","Persona jurídica","Virtual - Correo electrónico","Petición entre autoridades","Bosques",null,"Subdirección de Ecosistemas e Información Ambiental","2025-03-17","Correo electrónico","2025-03-19",null,"",null,{"$f":"IFERROR(WORKDAY(N1762,Y1762,Hoja1!F1754:F1870),\"\")","v":""},{"$f":"+IF(N1762=\"\",\"\",IF(O1762=\"\",\"SIN RESPUESTA\",(IF(O1762<=P1762,\"A TIEMPO\",\"FUERA DE TIEMPO\"))))","v":""},null,"A TIEMPO",9,0,null,null,{"$f":"IFERROR(VLOOKUP(F1762,Hoja1!$A$50:$C$63,2),\"\")","v":10},{"$f":"IFERROR(VLOOKUP(F1762,Hoja1!$A$50:$C$63,3),\"\")","v":10}]
[1753,20259910034384,"2025-03-04","Persona jurídica","Virtual - Correo electrónico","Petición entre autoridades","Registros ambientales",null,"Subdirección de Estudios Ambientales","2025-03-12","Correo electrónico","2025-03-19",null,"",null,{"$f":"IFERROR(WORKDAY(N1763,Y1763,Hoja1!F1755:F1871),\"\")","v":""},{"$f":"+IF(N1763=\"\",\"\",IF(O1763=\"\",\"SIN RESPUESTA\",(IF(O1763<=P1763,\"A TIEMPO\",\"FUERA DE TIEMPO\"))))","v":""},null,"A TIEMPO",6,0,null,null,{"$f":"IFERROR(VLOOKUP(F1763,Hoja1!$A$50:$C$63,2),\"\")","v":10},{"$f":"IFERROR(VLOOKUP(F1763,Hoja1!$A$50:$C$63,3),\"\")","v":10}]
[1754,20259050034374,"2025-03-04","Persona natural","Virtual - Formulario PQRSDF","Solicitud de documentos o información","Solicitud de información hidrometeorológica",null,"Grupo de Servicio al Ciudadano","2025-03-17","Correo electrónico","2025-03-19",null,"",null,{"$f":"IFERROR(WORKDAY(N1764,Y1764,Hoja1!F1756:F1872),\"\")","v":""},{"$f":"+IF(N1764=\"\",\"\",IF(O1764=\"\",\"SIN RESPUESTA\",(IF(O1764<=P1764,\"A TIEMPO\",\"FUERA DE TIEMPO\"))))","v":""},null,"A TIEMPO",9,0,null,null,{"$f":"IFERROR(VLOOKUP(F1764,Hoja1!$A$50:$C$63,2),\"\")","v":5},{"$f":"IFERROR(VLOOKUP(F1764,Hoja1!$A$50:$C$63,3),\"\")","v":5}]
[1755,20259910034394,"2025-03-04","Persona jurídica","Virtual - Correo electrónico","Solicitud de documentos o información","Pronósticos y alertas",null,"Subdirección de Estudios Ambientales","2025-03-06","Correo electrónico","2025-03-19",null,"",null,{"$f":"IFERROR(WORKDAY(N1765,Y1765,Hoja1!F1757:F1873),\"\")","v":""},{"$f":"+IF(N1765=\"\",\"\",IF(O1765=\"\",\"SIN RESPUESTA\",(IF(O1765<=P1765,\"A TIEMPO\",\"FUERA DE TIEMPO\"))))","v":""},null,"A TIEMPO",2,0,null,null,{"$f":"IFERROR(VLOOKUP(F1765,Hoja1!$A$50:$C$63,2),\"\")","v":5},{"$f":"IFERROR(VLOOKUP(F1765,Hoja1!$A$50:$C$63,3),\"\")","v":5}]
[1756,20259910034404,"2025-03-04","Persona jurídica","Virtual - Correo electrónico","Petición entre entidades","Registros ambientales",null,"Subdirección de Estudios Ambientales","2025-03-17","Correo electrónico","2025-03-19",null,"",null,{"$f":"IFERROR(WORKDAY(N1766,Y1766,Hoja1!F1758:F1874),\"\")","v":""},{"$f":"+IF(N1766=\"\",\"\",IF(O1766=\"\",\"SIN RESPUESTA\",(IF(O1766<=P1766,\"A TIEMPO\",\"FUERA DE TIEMPO\"))))","v":""},null,"A TIEMPO",9,0,null,null,{"$f":"IFERROR(VLOOKUP(F1766,Hoja1!$A$50:$C$63,2),\"\")","v":10},{"$f":"IFERROR(VLOOKUP(F1766,Hoja1!$A$50:$C$63,3),\"\")","v":10}]
[1757,20259910034414,"2025-03-04","Persona jurídica","Virtual - Correo electrónico","Petición de congresistas","Sistema de información del recurso hídrico",null,"Subdirección de Hidrología","2025-03-10","Correo electrónico","2025-03-11",null,"",null,{"$f":"IFERROR(WORKDAY(N1767,Y1767,Hoja1!F1759:F1875),\"\")","v":""},{"$f":"+IF(N1767=\"\",\"\",IF(O1767=\"\",\"SIN RESPUESTA\",(IF(O1767<=P1767,\"A TIEMPO\",\"FUERA DE TIEMPO\"))))","v":""},null,"A TIEMPO",4,0,null,null,{"$f":"IFERROR(VLOOKUP(F1767,Hoja1!$A$50:$C$63,2),\"\")","v":15},{"$f":"IFERROR(VLOOKUP(F1767,Hoja1!$A$50:$C$63,3),\"\")","v":15}]
[1758,20259050034424,"2025-03-04","Persona natural","Virtual - Formulario PQRSDF","Solicitud de documentos o información","Sistema de información ambiental",null,"Subdirección de Estudios Ambientales","2025-03-17","Correo electrónico","2025-03-19",null,"",null,{"$f":"IFERROR(WORKDAY(N1768,Y1768,Hoja1!F1760:F1876),\"\")","v":""},{"$f":"+IF(N1768=\"\",\"\",IF(O1768=\"\",\"SIN RESPUESTA\",(IF(O1768<=P1768,\"A TIEMPO\",\"FUERA DE TIEMPO\"))))","v":""},null,"A TIEMPO",9,0,null,null,{"$f":"IFERROR(VLOOKUP(F1768,Hoja1!$A$50:$C$63,2),\"\")","v":5},{"$f":"IFERROR(VLOOKUP(F1768,Hoja1!$A$50:$C$63,3),\"\")","v":5}]
[1759,20259050034434,"2025-03-05","Persona natural","Virtual - Formulario PQRSDF","Solicitud de documentos o información","Solicitud de información hidrometeorológica",null,"Subdirección de Hidrología","2025-03-13","Correo electrónico","2025-03-20",null,"",null,{"$f":"IFERROR(WORKDAY(N1769,Y1769,Hoja1!F1761:F1877),\"\")","v":""},{"$f":"+IF(N1769=\"\",\"\",IF(O1769=\"\",\"SIN RESPUESTA\",(IF(O1769<=P1769,\"A TIEMPO\",\"FUERA DE TIEMPO\"))))","v":""},null,"A TIEMPO",6,0,null,null,{"$f":"IFERROR(VLOOKUP(F1769,Hoja1!$A$50:$C$63,2),\"\")","v":5},{"$f":"IFERROR(VLOOKUP(F1769,Hoja1!$A$50:$C$63,3),\"\")","v":5}]
[1760,20259050034444,"2025-03-05","Persona jurídica","Virtual - Formulario PQRSDF","Solicitud de documentos o información","Registros ambientales",null,"Subdirección de Estudios Ambientales","2025-03-07","Correo electrónico","2025-03-20",null,"",null,{"$f":"IFERROR(WORKDAY(N1770,Y1770,Hoja1!F1762:F1878),\"\")","v":""},{"$f":"+IF(N1770=\"\",\"\",IF(O1770=\"\",\"SIN RESPUESTA\",(IF(O1770<=P1770,\"A TIEMPO\",\"FUERA DE TIEMPO\"))))","v":""},null,"A TIEMPO",2,0,null,null,{"$f":"IFERROR(VLOOKUP(F1770,Hoja1!$A$50:$C$63,2),\"\")","v":5},{"$f":"IFERROR(VLOOKUP(F1770,Hoja1!$A$50:$C$63,3),\"\")","v":5}]
[1761,20259050034454,"2025-03-05","Persona natural","Virtual - Formulario PQRSDF","Solicitud de documentos o información","Solicitud de información hidrometeorológica",null,"Grupo de Servicio al Ciudadano","2025-03-19","Correo electrónico","2025-03-20",null,"",null,{"$f":"IFERROR(WORKDAY(N1771,Y1771,Hoja1!F1763:F1879),\"\")","v":""},{"$f":"+IF(N1771=\"\",\"\",IF(O1771=\"\",\"SIN RESPUESTA\",(IF(O1771<=P1771,\"A TIEMPO\",\"FUERA DE TIEMPO\"))))","v":""},null,"A TIEMPO",9,0,null,null,{"$f":"IFERROR(VLOOKUP(F1771,Hoja1!$A$50:$C$63,2),\"\")","v":5},{"$f":"IFERROR(VLOOKUP(F1771,Hoja1!$A$50:$C$63,3),\"\")","v":5}]
[1762,20259050034464,"2025-03-05","Persona jurídica","Virtual - Formulario PQRSDF","Solicitud de documentos o información","Registros ambientales",null,"Subdirección de Estudios Ambientales","2025-03-13","Correo electrónico","2025-03-20",null,"",null,{"$f":"IFERROR(WORKDAY(N1772,Y1772,Hoja1!F1764:F1880),\"\")","v":""},{"$f":"+IF(N1772=\"\",\"\",IF(O1772=\"\",\"SIN RESPUESTA\",(IF(O1772<=P1772,\"A TIEMPO\",\"FUERA DE TIEMPO\"))))","v":""},null,"A TIEMPO",6,0,null,null,{"$f":"IFERROR(VLOOKUP(F1772,Hoja1!$A$50:$C$63,2),\"\")","v":5},{"$f":"IFERROR(VLOOKUP(F1772,Hoja1!$A$50:$C$63,3),\"\")","v":5}]
[1763,20259910034514,"2025-03-05","Persona natural","Virtual - Correo electrónico","Solicitud de documentos o información","Administrativa",null,"Grupo de Administración y Desarrollo del Talento Humano","2025-03-20","Correo electrónico","2025-03-20",null,"",null,{"$f":"IFERROR(WORKDAY(N1773,Y1773,Hoja1!F1765:F1881),\"\")","v":""},{"$f":"+IF(N1773=\"\",\"\",IF(O1773=\"\",\"SIN RESPUESTA\",(IF(O1773<=P1773,\"A TIEMPO\",\"FUERA DE TIEMPO\"))))","v":""},null,"A TIEMPO",10,0,null,null,{"$f":"IFERROR(VLOOKUP(F1773,Hoja1!$A$50:$C$63,2),\"\")","v":5},{"$f":"IFERROR(VLOOKUP(F1773,Hoja1!$A$50:$C$63,3),\"\")","v":5}]
[1764,20259910034524,"2025-03-05","Persona jurídica","Virtual - Correo electrónico","Solicitud de documentos o información","Sistema de información del recurso hídrico",null,"Subdirección de Hidrología","2025-03-12","Correo certificado","2025-03-20",null,"",null,{"$f":"IFERROR(WORKDAY(N1774,Y1774,Hoja1!F1766:F1882),\"\")","v":""},{"$f":"+IF(N1774=\"\",\"\",IF(O1774=\"\",\"SIN RESPUESTA\",(IF(O1774<=P1774,\"A TIEMPO\",\"FUERA DE TIEMPO\"))))","v":""},null,"A TIEMPO",5,0,null,null,{"$f":"IFERROR(VLOOKUP(F1774,Hoja1!$A$50:$C$63,2),\"\")","v":5},{"$f":"IFERROR(VLOOKUP(F1774,Hoja1!$A$50:$C$63,3),\"\")","v":5}]
[1765,20259910034564,"2025-03-05","Persona jurídica","Virtual - Correo electrónico","Petición entre autoridades","Bosques",null,"Subdirección de Ecosistemas e Información Ambiental","2025-03-19","Correo electrónico","2025-03-20",null,"",null,{"$f":"IFERROR(WORKDAY(N1775,Y1775,Hoja1!F1767:F1883),\"\")","v":""},{"$f":"+IF(N1775=\"\",\"\",IF(O1775=\"\",\"SIN RESPUESTA\",(IF(O1775<=P1775,\"A TIEMPO\",\"FUERA DE TIEMPO\"))))","v":""},null,"A TIEMPO",9,0,null,null,{"$f":"IFERROR(VLOOKUP(F1775,Hoja1!$A$50:$C$63,2),\"\")","v":10},{"$f":"IFERROR(VLOOKUP(F1775,Hoja1!$A$50:$C$63,3),\"\")","v":10}]
[1766,20259910034614,"2025-03-05","Persona jurídica","Virtual - Correo electrónico","Petición entre autoridades","Bosques",null,"Subdirección de Ecosistemas e Información Ambiental","2025-03-12","Correo electrónico","2025-03-20",null,"",null,{"$f":"IFERROR(WORKDAY(N1776,Y1776,Hoja1!F1768:F1884),\"\")","v":""},{"$f":"+IF(N1776=\"\",\"\",IF(O1776=\"\",\"SIN RESPUESTA\",(IF(O1776<=P1776,\"A TIEMPO\",\"FUERA DE TIEMPO\"))))","v":""},null,"A TIEMPO",5,0,null,null,{"$f":"IFERROR(VLOOKUP(F1776,Hoja1!$A$50:$C$63,2),\"\")","v":10},{"$f":"IFERROR(VLOOKUP(F1776,Hoja1!$A$50:$C$63,3),\"\")","v":10}]
[1767,20259910034734,"2025-03-05","Persona jurídica","Virtual - Correo electrónico","Solicitud de documentos o información","Registros ambientales",null,"Subdirección de Estudios Ambientales","2025-03-17","Correo electrónico","2025-03-20",null,"",null,{"$f":"IFERROR(WORKDAY(N1777,Y1777,Hoja1!F1769:F1885),\"\")","v":""},{"$f":"+IF(N1777=\"\",\"\",IF(O1777=\"\",\"SIN RESPUESTA\",(IF(O1777<=P1777,\"A TIEMPO\",\"FUERA DE TIEMPO\"))))","v":""},null,"A TIEMPO",8,0,null,null,{"$f":"IFERROR(VLOOKUP(F1777,Hoja1!$A$50:$C$63,2),\"\")","v":5},{"$f":"IFERROR(VLOOKUP(F1777,Hoja1!$A$50:$C$63,3),\"\")","v":5}]
[1768,20259050034754,"2025-03-05","Persona natural","Virtual - Formulario PQRSDF","Solicitud de documentos o información","Solicitud de información hidrometeorológica",null,"Grupo de Servicio al Ciudadano","2025-03-19","Correo electrónico","2025-03-20",null,"",null,{"$f":"IFERROR(WORKDAY(N1778,Y1778,Hoja1!F1770:F1886),\"\")","v":""},{"$f":"+IF(N1778=\"\",\"\",IF(O1778=\"\",\"SIN RESPUESTA\",(IF(O1778<=P1778,\"A TIEMPO\",\"FUERA DE TIEMPO\"))))","v":""},null,"A TIEMPO",9,0,null,null,{"$f":"IFERROR(VLOOKUP(F1778,Hoja1!$A$50:$C$63,2),\"\")","v":5},{"$f":"IFERROR(VLOOKUP(F1778,Hoja1!$A$50:$C$63,3),\"\")","v":5}]
[1769,20259910034724,"2025-03-05","Persona natural","Virtual - Correo electrónico","Solicitud de documentos o información","Bosques",null,"Subdirección de Ecosistemas e Información Ambiental","2025-03-19","Correo electrónico","2025-03-20",null,"",null,{"$f":"IFERROR(WORKDAY(N1779,Y1779,Hoja1!F1771:F1887),\"\")","v":""},{"$f":"+IF(N1779=\"\",\"\",IF(O1779=\"\",\"SIN RESPUESTA\",(IF(O1779<=P1779,\"A TIEMPO\",\"FUERA DE TIEMPO\"))))","v":""},null,"A TIEMPO",9,0,null,null,{"$f":"IFERROR(VLOOKUP(F1779,Hoja1!$A$50:$C$63,2),\"\")","v":5},{"$f":"IFERROR(VLOOKUP(F1779,Hoja1!$A$50:$C$63,3),\"\")","v":5}]
[1770,20259050034764,"2025-03-05","Persona natural","Virtual - Formulario PQRSDF","Solicitud de documentos o información","Solicitud de información hidrometeorológica",null,"Grupo de Servicio al Ciudadano","2025-03-19","Correo electrónico","2025-03-20",null,"",null,{"$f":"IFERROR(WORKDAY(N1780,Y1780,Hoja1!F1772:F1888),\"\")","v":""},{"$f":"+IF(N1780=\"\",\"\",IF(O1780=\"\",\"SIN RESPUESTA\",(IF(O1780<=P1780,\"A TIEMPO\",\"FUERA DE TIEMPO\"))))","v":""},null,"A TIEMPO",9,0,null,null,{"$f":"IFERROR(VLOOKUP(F1780,Hoja1!$A$50:$C$63,2),\"\")","v":5},{"$f":"IFERROR(VLOOKUP(F1780,Hoja1!$A$50:$C$63,3),\"\")","v":5}]
[1771,20259050034774,"2025-03-05","Persona natural","Virtual - Formulario PQRSDF","Solicitud de documentos o información","Solicitud de información hidrometeorológica",null,"Subdirección de Meteorología","2025-03-14","Correo electrónico","2025-03-20",null,"",null,{"$f":"IFERROR(WORKDAY(N1781,Y1781,Hoja1!F1773:F1889),\"\")","v":""},{"$f":"+IF(N1781=\"\",\"\",IF(O1781=\"\",\"SIN RESPUESTA\",(IF(O1781<=P1781,\"A TIEMPO\",\"FUERA DE TIEMPO\"))))","v":""},null,"A TIEMPO",7,0,null,null,{"$f":"IFERROR(VLOOKUP(F1781,Hoja1!$A$50:$C$63,2),\"\")","v":5},{"$f":"IFERROR(VLOOKUP(F1781,Hoja1!$A$50:$C$63,3),\"\")","v":5}]
[1772,20259910034784,"2025-03-05","Persona natural","Virtual - Correo electrónico","Certificación de contrato","Administrativa",null,"Subdirección de Estudios Ambientales","2025-03-20","Correo electrónico","2025-03-20",null,"",null,{"$f":"IFERROR(WORKDAY(N1782,Y1782,Hoja1!F1774:F1890),\"\")","v":""},{"$f":"+IF(N1782=\"\",\"\",IF(O1782=\"\",\"SIN RESPUESTA\",(IF(O1782<=P1782,\"A TIEMPO\",\"FUERA DE TIEMPO\"))))","v":""},null,"A TIEMPO",10,0,null,null,{"$f":"IFERROR(VLOOKUP(F1782,Hoja1!$A$50:$C$63,2),\"\")","v":15},{"$f":"IFERROR(VLOOKUP(F1782,Hoja1!$A$50:$C$63,3),\"\")","v":15}]
[1773,20259910034794,"2025-03-05","Persona jurídica","Virtual - Correo electrónico","Solicitud de documentos o información","Solicitud de información hidrometeorológica",null,"Grupo de Servicio al Ciudadano","2025-03-19","Correo electrónico","2025-03-20",null,"",null,{"$f":"IFERROR(WORKDAY(N1783,Y1783,Hoja1!F1775:F1891),\"\")","v":""},{"$f":"+IF(N1783=\"\",\"\",IF(O1783=\"\",\"SIN RESPUESTA\",(IF(O1783<=P1783,\"A TIEMPO\",\"FUERA DE TIEMPO\"))))","v":""},null,"A TIEMPO",9,0,null,null,{"$f":"IFERROR(VLOOKUP(F1783,Hoja1!$A$50:$C$63,2),\"\")","v":5},{"$f":"IFERROR(VLOOKUP(F1783,Hoja1!$A$50:$C$63,3),\"\")","v":5}]
[1774,20259910034874,"2025-03-05","Persona jurídica","Virtual - Correo electrónico","Solicitud de documentos o información","Informes ambientales",null,"Subdirección de Estudios Ambientales","2025-03-17","Correo electrónico","2025-03-20",null,"",null,{"$f":"IFERROR(WORKDAY(N1784,Y1784,Hoja1!F1776:F1892),\"\")","v":""},{"$f":"+IF(N1784=\"\",\"\",IF(O1784=\"\",\"SIN RESPUESTA\",(IF(O1784<=P1784,\"A TIEMPO\",\"FUERA DE TIEMPO\"))))","v":""},null,"A TIEMPO",8,0,null,null,{"$f":"IFERROR(VLOOKUP(F1784,Hoja1!$A$50:$C$63,2),\"\")","v":5},{"$f":"IFERROR(VLOOKUP(F1784,Hoja1!$A$50:$C$63,3),\"\")","v":5}]
[1775,20259910034884,"2025-03-05","Persona natural","Virtual - Correo electrónico","Solicitud de documentos o información","Solicitud de información hidrometeorológica",null,"Grupo de Servicio al Ciudadano","2025-03-19","Correo electrónico","2025-03-20",null,"",null,{"$f":"IFERROR(WORKDAY(N1785,Y1785,Hoja1!F1777:F1893),\"\")","v":""},{"$f":"+IF(N1785=\"\",\"\",IF(O1785=\"\",\"SIN RESPUESTA\",(IF(O1785<=P1785,\"A TIEMPO\",\"FUERA DE TIEMPO\"))))","v":""},null,"A TIEMPO",9,0,null,null,{"$f":"IFERROR(VLOOKUP(F1785,Hoja1!$A$50:$C$63,2),\"\")","v":5},{"$f":"IFERROR(VLOOKUP(F1785,Hoja1!$A$50:$C$63,3),\"\")","v":5}]
[1776,20259910034894,"2025-03-05","Persona natural","Virtual - Correo electrónico","Solicitud de documentos o información","Modelamiento meteorológico",null,"Subdirección de Meteorología","2025-03-14","Correo electrónico","2025-03-20",null,"",null,{"$f":"IFERROR(WORKDAY(N1786,Y1786,Hoja1!F1778:F1894),\"\")","v":""},{"$f":"+IF(N1786=\"\",\"\",IF(O1786=\"\",\"SIN RESPUESTA\",(IF(O1786<=P1786,\"A TIEMPO\",\"FUERA DE TIEMPO\"))))","v":""},null,"A TIEMPO",7,0,null,null,{"$f":"IFERROR(VLOOKUP(F1786,Hoja1!$A$50:$C$63,2),\"\")","v":5},{"$f":"IFERROR(VLOOKUP(F1786,Hoja1!$A$50:$C$63,3),\"\")","v":5}]
[1777,20259910034904,"2025-03-05","Persona natural","Virtual - Correo electrónico","Certificación de tiempo, clima y eventos hidrológicos","Certificaciones del tiempo y clima",null,"Subdirección de Meteorología","2025-03-17","Correo electrónico","2025-04-22",null,"",null,{"$f":"IFERROR(WORKDAY(N1787,Y1787,Hoja1!F1779:F1895),\"\")","v":""},{"$f":"+IF(N1787=\"\",\"\",IF(O1787=\"\",\"SIN RESPUESTA\",(IF(O1787<=P1787,\"A TIEMPO\",\"FUERA DE TIEMPO\"))))","v":""},null,"A TIEMPO",8,0,null,null,{"$f":"IFERROR(VLOOKUP(F1787,Hoja1!$A$50:$C$63,2),\"\")","v":15},{"$f":"IFERROR(VLOOKUP(F1787,Hoja1!$A$50:$C$63,3),\"\")","v":15}]
[1778,20259910034914,"2025-03-05","Persona natural","Virtual - Correo electrónico","Solicitud de documentos o información","Solicitud de información hidrometeorológica",null,"Subdirección de Hidrología","2025-03-13","Correo electrónico","2025-03-20",null,"",null,{"$f":"IFERROR(WORKDAY(N1788,Y1788,Hoja1!F1780:F1896),\"\")","v":""},{"$f":"+IF(N1788=\"\",\"\",IF(O1788=\"\",\"SIN RESPUESTA\",(IF(O1788<=P1788,\"A TIEMPO\",\"FUERA DE TIEMPO\"))))","v":""},null,"A TIEMPO",6,0,null,null,{"$f":"IFERROR(VLOOKUP(F1788,Hoja1!$A$50:$C$63,2),\"\")","v":5},{"$f":"IFERROR(VLOOKUP(F1788,Hoja1!$A$50:$C$63,3),\"\")","v":5}]
[1779,20259910034924,"2025-03-05","Persona jurídica","Virtual - Correo electrónico","Solicitud de documentos o información","Registros ambientales",null,"Subdirección de Estudios Ambientales","2025-03-17","Correo electrónico","2025-03-20",null,"",null,{"$f":"IFERROR(WORKDAY(N1789,Y1789,Hoja1!F1781:F1897),\"\")","v":""},{"$f":"+IF(N1789=\"\",\"\",IF(O1789=\"\",\"SIN RESPUESTA\",(IF(O1789<=P1789,\"A TIEMPO\",\"FUERA DE TIEMPO\"))))","v":""},null,"A TIEMPO",8,0,null,null,{"$f":"IFERROR(VLOOKUP(F1789,Hoja1!$A$50:$C$63,2),\"\")","v":5},{"$f":"IFERROR(VLOOKUP(F1789,Hoja1!$A$50:$C$63,3),\"\")","v":5}]
[1780,20259910034934,"2025-03-05","Persona jurídica","Virtual - Correo electrónico","Solicitud de documentos o información","Registros ambientales",null,"Subdirección de Estudios Ambientales","2025-03-19","Correo electrónico","2025-03-20",null,"",null,{"$f":"IFERROR(WORKDAY(N1790,Y1790,Hoja1!F1782:F1898),\"\")","v":""},{"$f":"+IF(N1790=\"\",\"\",IF(O1790=\"\",\"SIN RESPUESTA\",(IF(O1790<=P1790,\"A TIEMPO\",\"FUERA DE TIEMPO\"))))","v":""},null,"A TIEMPO",9,0,null,null,{"$f":"IFERROR(VLOOKUP(F1790,Hoja1!$A$50:$C$63,2),\"\")","v":5},{"$f":"IFERROR(VLOOKUP(F1790,Hoja1!$A$50:$C$63,3),\"\")","v":5}]
[1781,20259910034954,"2025-03-05","Persona jurídica","Virtual - Correo electrónico","Solicitud de documentos o información","Informes ambientales",null,"Subdirección de Estudios Ambientales","2025-03-10","Correo electrónico","2025-03-20",null,"",null,{"$f":"IFERROR(WORKDAY(N1791,Y1791,Hoja1!F1783:F1899),\"\")","v":""},{"$f":"+IF(N1791=\"\",\"\",IF(O1791=\"\",\"SIN RESPUESTA\",(IF(O1791<=P1791,\"A TIEMPO\",\"FUERA DE TIEMPO\"))))","v":""},null,"A TIEMPO",3,0,null,null,{"$f":"IFERROR(VLOOKUP(F1791,Hoja1!$A$50:$C$63,2),\"\")","v":5},{"$f":"IFERROR(VLOOKUP(F1791,Hoja1!$A$50:$C$63,3),\"\")","v":5}]
[1782,20259910034944,"2025-03-05","Persona jurídica","Virtual - Correo electrónico","Petición entre autoridades","Bosques",null,"Subdirección de Ecosistemas e Información Ambiental","2025-03-19","Correo electrónico","2025-03-20",null,"",null,{"$f":"IFERROR(WORKDAY(N1792,Y1792,Hoja1!F1784:F1900),\"\")","v":""},{"$f":"+IF(N1792=\"\",\"\",IF(O1792=\"\",\"SIN RESPUESTA\",(IF(O1792<=P1792,\"A TIEMPO\",\"FUERA DE TIEMPO\"))))","v":""},null,"A TIEMPO",9,0,null,null,{"$f":"IFERROR(VLOOKUP(F1792,Hoja1!$A$50:$C$63,2),\"\")","v":10},{"$f":"IFERROR(VLOOKUP(F1792,Hoja1!$A$50:$C$63,3),\"\")","v":10}]
[1783,20259910035014,"2025-03-05","Persona jurídica","Virtual - Correo electrónico","Solicitud de documentos o información","Informes ambientales",null,"Subdirección de Estudios Ambientales","2025-03-07","Correo electrónico","2025-03-20",null,"",null,{"$f":"IFERROR(WORKDAY(N1793,Y1793,Hoja1!F1785:F1901),\"\")","v":""},{"$f":"+IF(N1793=\"\",\"\",IF(O1793=\"\",\"SIN RESPUESTA\",(IF(O1793<=P1793,\"A TIEMPO\",\"FUERA DE TIEMPO\"))))","v":""},null,"A TIEMPO",2,0,null,null,{"$f":"IFERROR(VLOOKUP(F1793,Hoja1!$A$50:$C$63,2),\"\")","v":5},{"$f":"IFERROR(VLOOKUP(F1793,Hoja1!$A$50:$C$63,3),\"\")","v":5}]
[1784,20259050035024,"2025-03-05","Persona jurídica","Virtual - Formulario PQRSDF","Solicitud de documentos o información","Solicitud de información hidrometeorológica",null,"Grupo de Servicio al Ciudadano","2025-03-19","Correo electrónico","2025-03-20",null,"",null,{"$f":"IFERROR(WORKDAY(N1794,Y1794,Hoja1!F1786:F1902),\"\")","v":""},{"$f":"+IF(N1794=\"\",\"\",IF(O1794=\"\",\"SIN RESPUESTA\",(IF(O1794<=P1794,\"A TIEMPO\",\"FUERA DE TIEMPO\"))))","v":""},null,"A TIEMPO",9,0,null,null,{"$f":"IFERROR(VLOOKUP(F1794,Hoja1!$A$50:$C$63,2),\"\")","v":5},{"$f":"IFERROR(VLOOKUP(F1794,Hoja1!$A$50:$C$63,3),\"\")","v":5}]
[1785,20259910035034,"2025-03-05","Persona jurídica","Virtual - Correo electrónico","Solicitud de documentos o información","Modelamiento meteorológico",null,"Subdirección de Meteorología","2025-03-10","Correo electrónico","2025-03-20",null,"",null,{"$f":"IFERROR(WORKDAY(N1795,Y1795,Hoja1!F1787:F1903),\"\")","v":""},{"$f":"+IF(N1795=\"\",\"\",IF(O1795=\"\",\"SIN RESPUESTA\",(IF(O1795<=P1795,\"A TIEMPO\",\"FUERA DE TIEMPO\"))))","v":""},null,"A TIEMPO",3,0,null,null,{"$f":"IFERROR(VLOOKUP(F1795,Hoja1!$A$50:$C$63,2),\"\")","v":5},{"$f":"IFERROR(VLOOKUP(F1795,Hoja1!$A$50:$C$63,3),\"\")","v":5}]
[1786,20259910035044,"2025-03-05","Persona jurídica","Virtual - Correo electrónico","Certificación de tiempo, clima y eventos hidrológicos","Certificaciones del tiempo y clima",null,"Subdirección de Meteorología","2025-04-14","Correo electrónico","2025-04-22",null,"",null,{"$f":"IFERROR(WORKDAY(N1796,Y1796,Hoja1!F1788:F1904),\"\")","v":""},{"$f":"+IF(N1796=\"\",\"\",IF(O1796=\"\",\"SIN RESPUESTA\",(IF(O1796<=P1796,\"A TIEMPO\",\"FUERA DE TIEMPO\"))))","v":""},null,"A TIEMPO",26,0,null,null,{"$f":"IFERROR(VLOOKUP(F1796,Hoja1!$A$50:$C$63,2),\"\")","v":15},{"$f":"IFERROR(VLOOKUP(F1796,Hoja1!$A$50:$C$63,3),\"\")","v":15}]
[1787,20259910035074,"2025-03-05","Persona jurídica","Virtual - Correo electrónico","Solicitud de documentos o información","Solicitud de información hidrometeorológica",null,"Subdirección de Hidrología","2025-03-12","Correo electrónico","2025-03-20",null,"",null,{"$f":"IFERROR(WORKDAY(N1797,Y1797,Hoja1!F1789:F1905),\"\")","v":""},{"$f":"+IF(N1797=\"\",\"\",IF(O1797=\"\",\"SIN RESPUESTA\",(IF(O1797<=P1797,\"A TIEMPO\",\"FUERA DE TIEMPO\"))))","v":""},null,"A TIEMPO",5,0,null,null,{"$f":"IFERROR(VLOOKUP(F1797,Hoja1!$A$50:$C$63,2),\"\")","v":5},{"$f":"IFERROR(VLOOKUP(F1797,Hoja1!$A$50:$C$63,3),\"\")","v":5}]
[1788,20259910034994,"2025-03-05","Persona jurídica","Virtual - Correo electrónico","Consulta (Información técnica)","Administrativa",null,"Oficina Asesora de Planeación","2025-04-01","Correo electrónico","2025-04-22",null,"",null,{"$f":"IFERROR(WORKDAY(N1798,Y1798,Hoja1!F1790:F1906),\"\")","v":""},{"$f":"+IF(N1798=\"\",\"\",IF(O1798=\"\",\"SIN RESPUESTA\",(IF(O1798<=P1798,\"A TIEMPO\",\"FUERA DE TIEMPO\"))))","v":""},null,"A TIEMPO",17,0,null,null,{"$f":"IFERROR(VLOOKUP(F1798,Hoja1!$A$50:$C$63,2),\"\")","v":30},{"$f":"IFERROR(VLOOKUP(F1798,Hoja1!$A$50:$C$63,3),\"\")","v":30}]
[1789,20259910035154,"2025-03-05","Persona natural","Virtual - Correo electrónico","Solicitud de documentos o información","Suelos y tierras",null,"Subdirección de Ecosistemas e Información Ambiental","2025-03-12","Correo electrónico","2025-03-20",null,"",null,{"$f":"IFERROR(WORKDAY(N1799,Y1799,Hoja1!F1791:F1907),\"\")","v":""},{"$f":"+IF(N1799=\"\",\"\",IF(O1799=\"\",\"SIN RESPUESTA\",(IF(O1799<=P1799,\"A TIEMPO\",\"FUERA DE TIEMPO\"))))","v":""},null,"A TIEMPO",5,0,null,null,{"$f":"IFERROR(VLOOKUP(F1799,Hoja1!$A$50:$C$63,2),\"\")","v":5},{"$f":"IFERROR(VLOOKUP(F1799,Hoja1!$A$50:$C$63,3),\"\")","v":5}]
[1790,20259910035174,"2025-03-05","Persona jurídica","Virtual - Correo electrónico","Solicitud de documentos o información","Informes ambientales",null,"Subdirección de Estudios Ambientales","2025-03-17","Correo electrónico","2025-03-20",null,"",null,{"$f":"IFERROR(WORKDAY(N1800,Y1800,Hoja1!F1792:F1908),\"\")","v":""},{"$f":"+IF(N1800=\"\",\"\",IF(O1800=\"\",\"SIN RESPUESTA\",(IF(O1800<=P1800,\"A TIEMPO\",\"FUERA DE TIEMPO\"))))","v":""},null,"A TIEMPO",8,0,null,null,{"$f":"IFERROR(VLOOKUP(F1800,Hoja1!$A$50:$C$63,2),\"\")","v":5},{"$f":"IFERROR(VLOOKUP(F1800,Hoja1!$A$50:$C$63,3),\"\")","v":5}]
[1791,20259050035194,"2025-03-05","Persona natural","Virtual - Formulario PQRSDF","Solicitud de documentos o información","Solicitud de información hidrometeorológica",null,"Grupo de Servicio al Ciudadano","2025-03-17","Correo electrónico","2025-03-20",null,"",null,{"$f":"IFERROR(WORKDAY(N1801,Y1801,Hoja1!F1793:F1909),\"\")","v":""},{"$f":"+IF(N1801=\"\",\"\",IF(O1801=\"\",\"SIN RESPUESTA\",(IF(O1801<=P1801,\"A TIEMPO\",\"FUERA DE TIEMPO\"))))","v":""},null,"A TIEMPO",8,0,null,null,{"$f":"IFERROR(VLOOKUP(F1801,Hoja1!$A$50:$C$63,2),\"\")","v":5},{"$f":"IFERROR(VLOOKUP(F1801,Hoja1!$A$50:$C$63,3),\"\")","v":5}]
[1792,20259910035224,"2025-03-05","Persona jurídica","Virtual - Correo electrónico","Solicitud de documentos o información","Administrativa",null,"Oficina de Control Interno","2025-03-20","Correo electrónico","2025-03-20",null,"",null,{"$f":"IFERROR(WORKDAY(N1802,Y1802,Hoja1!F1794:F1910),\"\")","v":""},{"$f":"+IF(N1802=\"\",\"\",IF(O1802=\"\",\"SIN RESPUESTA\",(IF(O1802<=P1802,\"A TIEMPO\",\"FUERA DE TIEMPO\"))))","v":""},null,"A TIEMPO",10,0,null,null,{"$f":"IFERROR(VLOOKUP(F1802,Hoja1!$A$50:$C$63,2),\"\")","v":5},{"$f":"IFERROR(VLOOKUP(F1802,Hoja1!$A$50:$C$63,3),\"\")","v":5}]
[1793,20259910035254,"2025-03-05","Persona jurídica","Virtual - Correo electrónico","Solicitud de documentos o información","Registros ambientales",null,"Subdirección de Estudios Ambientales","2025-03-20","Correo electrónico","2025-03-20",null,"",null,{"$f":"IFERROR(WORKDAY(N1803,Y1803,Hoja1!F1795:F1911),\"\")","v":""},{"$f":"+IF(N1803=\"\",\"\",IF(O1803=\"\",\"SIN RESPUESTA\",(IF(O1803<=P1803,\"A TIEMPO\",\"FUERA DE TIEMPO\"))))","v":""},null,"A TIEMPO",10,0,null,null,{"$f":"IFERROR(VLOOKUP(F1803,Hoja1!$A$50:$C$63,2),\"\")","v":5},{"$f":"IFERROR(VLOOKUP(F1803,Hoja1!$A$50:$C$63,3),\"\")","v":5}]
[1794,20259050035294,"2025-03-05","Anónimo","Virtual - Formulario PQRSDF","Solicitud de documentos o información","Laboratorio de calidad ambiental",null,"Subdirección de Estudios Ambientales","2025-03-12","Correo electrónico","2025-03-20",null,"",null,{"$f":"IFERROR(WORKDAY(N1804,Y1804,Hoja1!F1796:F1912),\"\")","v":""},{"$f":"+IF(N1804=\"\",\"\",IF(O1804=\"\",\"SIN RESPUESTA\",(IF(O1804<=P1804,\"A TIEMPO\",\"FUERA DE TIEMPO\"))))","v":""},null,"A TIEMPO",5,0,null,null,{"$f":"IFERROR(VLOOKUP(F1804,Hoja1!$A$50:$C$63,2),\"\")","v":5},{"$f":"IFERROR(VLOOKUP(F1804,Hoja1!$A$50:$C$63,3),\"\")","v":5}]
[1795,20259050035304,"2025-03-05","Persona jurídica","Virtual - Formulario PQRSDF","Solicitud de documentos o información","Registros ambientales",null,"Subdirección de Estudios Ambientales","2025-03-10","Correo electrónico","2025-03-20",null,"",null,{"$f":"IFERROR(WORKDAY(N1805,Y1805,Hoja1!F1797:F1913),\"\")","v":""},{"$f":"+IF(N1805=\"\",\"\",IF(O1805=\"\",\"SIN RESPUESTA\",(IF(O1805<=P1805,\"A TIEMPO\",\"FUERA DE TIEMPO\"))))","v":""},null,"A TIEMPO",3,0,null,null,{"$f":"IFERROR(VLOOKUP(F1805,Hoja1!$A$50:$C$63,2),\"\")","v":5},{"$f":"IFERROR(VLOOKUP(F1805,Hoja1!$A$50:$C$63,3),\"\")","v":5}]
[1796,20259050035314,"2025-03-05","Persona natural","Virtual - Formulario PQRSDF","Solicitud de documentos o información","Solicitud de información hidrometeorológica",null,"Grupo de Servicio al Ciudadano","2025-03-17","Correo electrónico","2025-03-20",null,"",null,{"$f":"IFERROR(WORKDAY(N1806,Y1806,Hoja1!F1798:F1914),\"\")","v":""},{"$f":"+IF(N1806=\"\",\"\",IF(O1806=\"\",\"SIN RESPUESTA\",(IF(O1806<=P1806,\"A TIEMPO\",\"FUERA DE TIEMPO\"))))","v":""},null,"A TIEMPO",8,0,null,null,{"$f":"IFERROR(VLOOKUP(F1806,Hoja1!$A$50:$C$63,2),\"\")","v":5},{"$f":"IFERROR(VLOOKUP(F1806,Hoja1!$A$50:$C$63,3),\"\")","v":5}]
[1797,20259050035324,"2025-03-05","Persona jurídica","Virtual - Formulario PQRSDF","Solicitud de documentos o información","Solicitud de información hidrometeorológica",null,"Grupo de Servicio al Ciudadano","2025-03-19","Correo electrónico","2025-03-20",null,"",null,{"$f":"IFERROR(WORKDAY(N1807,Y1807,Hoja1!F1799:F1915),\"\")","v":""},{"$f":"+IF(N1807=\"\",\"\",IF(O1807=\"\",\"SIN RESPUESTA\",(IF(O1807<=P1807,\"A TIEMPO\",\"FUERA DE TIEMPO\"))))","v":""},null,"A TIEMPO",9,0,null,null,{"$f":"IFERROR(VLOOKUP(F1807,Hoja1!$A$50:$C$63,2),\"\")","v":5},{"$f":"IFERROR(VLOOKUP(F1807,Hoja1!$A$50:$C$63,3),\"\")","v":5}]
[1798,20259050035334,"2025-03-05","Persona natural","Virtual - Formulario PQRSDF","Solicitud de documentos o información","Administrativa",null,"Oficina Asesora Jurídica","2025-03-25","Correo electrónico","2025-03-20",null,"",null,{"$f":"IFERROR(WORKDAY(N1808,Y1808,Hoja1!F1800:F1916),\"\")","v":""},{"$f":"+IF(N1808=\"\",\"\",IF(O1808=\"\",\"SIN RESPUESTA\",(IF(O1808<=P1808,\"A TIEMPO\",\"FUERA DE TIEMPO\"))))","v":""},null,{"$f":"+IF(C1808=\"\",\"\",IF(J1808=\"\",\"SIN RESPUESTA\",(IF(J1808<=L1808,\"A TIEMPO\",\"FUERA DE TIEMPO\"))))","v":"FUERA DE TIEMPO"},12,2,null,null,{"$f":"IFERROR(VLOOKUP(F1808,Hoja1!$A$50:$C$63,2),\"\")","v":5},{"$f":"IFERROR(VLOOKUP(F1808,Hoja1!$A$50:$C$63,3),\"\")","v":5}]
[{"$f":"IF(B1809<>\"\",A1808+1,\"\")","v":1799},20259050035344,"2025-03-05","Persona natural","Virtual - Formulario PQRSDF","Solicitud de documentos o información","Administrativa",null,"Oficina Asesora Jurídica","2025-03-25","Correo electrónico","2025-03-20",null,"",null,{"$f":"IFERROR(WORKDAY(N1809,Y1809,Hoja1!F1801:F1917),\"\")","v":""},{"$f":"+IF(N1809=\"\",\"\",IF(O1809=\"\",\"SIN RESPUESTA\",(IF(O1809<=P1809,\"A TIEMPO\",\"FUERA DE TIEMPO\"))))","v":""},null,{"$f":"+IF(C1809=\"\",\"\",IF(J1809=\"\",\"SIN RESPUESTA\",(IF(J1809<=L1809,\"A TIEMPO\",\"FUERA DE TIEMPO\"))))","v":"FUERA DE TIEMPO"},12,2,null,null,{"$f":"IFERROR(VLOOKUP(F1809,Hoja1!$A$50:$C$63,2),\"\")","v":5},{"$f":"IFERROR(VLOOKUP(F1809,Hoja1!$A$50:$C$63,3),\"\")","v":5}]
[1800,20259910035354,"2025-03-06","Persona jurídica","Virtual - Correo electrónico","Solicitud de documentos o información","Climatología",null,"Subdirección de Meteorología","2025-03-14","Correo electrónico","2025-03-21",null,"",null,{"$f":"IFERROR(WORKDAY(N1810,Y1810,Hoja1!F1802:F1918),\"\")","v":""},{"$f":"+IF(N1810=\"\",\"\",IF(O1810=\"\",\"SIN RESPUESTA\",(IF(O1810<=P1810,\"A TIEMPO\",\"FUERA DE TIEMPO\"))))","v":""},null,"A TIEMPO",6,0,null,null,{"$f":"IFERROR(VLOOKUP(F1810,Hoja1!$A$50:$C$63,2),\"\")","v":5},{"$f":"IFERROR(VLOOKUP(F1810,Hoja1!$A$50:$C$63,3),\"\")","v":5}]
[1801,20259910035364,"2025-03-06","Persona natural","Virtual - Correo electrónico","Solicitud de documentos o información","Bosques",null,"Subdirección de Ecosistemas e Información Ambiental","2025-03-17","Correo electrónico","2025-03-21",null,"",null,{"$f":"IFERROR(WORKDAY(N1811,Y1811,Hoja1!F1803:F1919),\"\")","v":""},{"$f":"+IF(N1811=\"\",\"\",IF(O1811=\"\",\"SIN RESPUESTA\",(IF(O1811<=P1811,\"A TIEMPO\",\"FUERA DE TIEMPO\"))))","v":""},null,"A TIEMPO",7,0,null,null,{"$f":"IFERROR(VLOOKUP(F1811,Hoja1!$A$50:$C$63,2),\"\")","v":5},{"$f":"IFERROR(VLOOKUP(F1811,Hoja1!$A$50:$C$63,3),\"\")","v":5}]
[1802,20259910035374,"2025-03-06","Persona natural","Virtual - Correo electrónico","Solicitud de documentos o información","Administrativa",null,"Grupo de Administración y Desarrollo del Talento Humano",null,null,"2025-03-21",null,"",null,{"$f":"IFERROR(WORKDAY(N1812,Y1812,Hoja1!F1804:F1920),\"\")","v":""},{"$f":"+IF(N1812=\"\",\"\",IF(O1812=\"\",\"SIN RESPUESTA\",(IF(O1812<=P1812,\"A TIEMPO\",\"FUERA DE TIEMPO\"))))","v":""},null,{"$f":"+IF(C1812=\"\",\"\",IF(J1812=\"\",\"SIN RESPUESTA\",(IF(J1812<=L1812,\"A TIEMPO\",\"FUERA DE TIEMPO\"))))","v":"SIN RESPUESTA"},0,0,null,null,{"$f":"IFERROR(VLOOKUP(F1812,Hoja1!$A$50:$C$63,2),\"\")","v":5},{"$f":"IFERROR(VLOOKUP(F1812,Hoja1!$A$50:$C$63,3),\"\")","v":5}]
[1803,20259050035384,"2025-03-06","Persona natural","Virtual - Formulario PQRSDF","Solicitud de documentos o información","Climatología",null,"Subdirección de Meteorología","2025-03-11","Correo electrónico","2025-03-21",null,"",null,{"$f":"IFERROR(WORKDAY(N1813,Y1813,Hoja1!F1805:F1921),\"\")","v":""},{"$f":"+IF(N1813=\"\",\"\",IF(O1813=\"\",\"SIN RESPUESTA\",(IF(O1813<=P1813,\"A TIEMPO\",\"FUERA DE TIEMPO\"))))","v":""},null,"A TIEMPO",3,0,null,null,{"$f":"IFERROR(VLOOKUP(F1813,Hoja1!$A$50:$C$63,2),\"\")","v":5},{"$f":"IFERROR(VLOOKUP(F1813,Hoja1!$A$50:$C$63,3),\"\")","v":5}]
[1804,20259910035404,"2025-03-06","Persona jurídica","Virtual - Correo electrónico","Certificación de tiempo, clima y eventos hidrológicos","Certificaciones del tiempo y clima",null,"Subdirección de Meteorología","2025-03-19","Correo electrónico","2025-04-23",null,"",null,{"$f":"IFERROR(WORKDAY(N1814,Y1814,Hoja1!F1806:F1922),\"\")","v":""},{"$f":"+IF(N1814=\"\",\"\",IF(O1814=\"\",\"SIN RESPUESTA\",(IF(O1814<=P1814,\"A TIEMPO\",\"FUERA DE TIEMPO\"))))","v":""},null,"A TIEMPO",8,0,null,null,{"$f":"IFERROR(VLOOKUP(F1814,Hoja1!$A$50:$C$63,2),\"\")","v":15},{"$f":"IFERROR(VLOOKUP(F1814,Hoja1!$A$50:$C$63,3),\"\")","v":15}]
[1805,20259910035394,"2025-03-06","Persona jurídica","Virtual - Correo electrónico","Petición de interés general o particular","Registros ambientales",null,"Subdirección de Estudios Ambientales","2025-03-28","Correo electrónico","2025-03-31",null,"",null,{"$f":"IFERROR(WORKDAY(N1815,Y1815,Hoja1!F1807:F1923),\"\")","v":""},{"$f":"+IF(N1815=\"\",\"\",IF(O1815=\"\",\"SIN RESPUESTA\",(IF(O1815<=P1815,\"A TIEMPO\",\"FUERA DE TIEMPO\"))))","v":""},null,"A TIEMPO",14,0,null,null,{"$f":"IFERROR(VLOOKUP(F1815,Hoja1!$A$50:$C$63,2),\"\")","v":15},{"$f":"IFERROR(VLOOKUP(F1815,Hoja1!$A$50:$C$63,3),\"\")","v":15}]
[1806,20259910035414,"2025-03-06","Persona natural","Virtual - Correo electrónico","Solicitud de documentos o información","Acreditación de laboratorios",null,"Subdirección de Estudios Ambientales","2025-03-20","Correo electrónico","2025-03-21",null,"",null,{"$f":"IFERROR(WORKDAY(N1816,Y1816,Hoja1!F1808:F1924),\"\")","v":""},{"$f":"+IF(N1816=\"\",\"\",IF(O1816=\"\",\"SIN RESPUESTA\",(IF(O1816<=P1816,\"A TIEMPO\",\"FUERA DE TIEMPO\"))))","v":""},null,"A TIEMPO",9,0,null,null,{"$f":"IFERROR(VLOOKUP(F1816,Hoja1!$A$50:$C$63,2),\"\")","v":5},{"$f":"IFERROR(VLOOKUP(F1816,Hoja1!$A$50:$C$63,3),\"\")","v":5}]
[1807,20259910035424,"2025-03-06","Persona jurídica","Virtual - Correo electrónico","Petición de interés general o particular","Registros ambientales",null,"Subdirección de Estudios Ambientales","2025-03-31","Correo electrónico","2025-03-31",null,"",null,{"$f":"IFERROR(WORKDAY(N1817,Y1817,Hoja1!F1809:F1925),\"\")","v":""},{"$f":"+IF(N1817=\"\",\"\",IF(O1817=\"\",\"SIN RESPUESTA\",(IF(O1817<=P1817,\"A TIEMPO\",\"FUERA DE TIEMPO\"))))","v":""},null,"A TIEMPO",15,0,null,null,{"$f":"IFERROR(VLOOKUP(F1817,Hoja1!$A$50:$C$63,2),\"\")","v":15},{"$f":"IFERROR(VLOOKUP(F1817,Hoja1!$A$50:$C$63,3),\"\")","v":15}]
[1808,20259910035444,"2025-03-06","Persona natural","Virtual - Correo electrónico","Certificación laboral o pasantía","Administrativa",null,"Grupo de Administración y Desarrollo del Talento Humano","2025-03-25","Correo electrónico","2025-03-21",null,"",null,{"$f":"IFERROR(WORKDAY(N1818,Y1818,Hoja1!F1810:F1926),\"\")","v":""},{"$f":"+IF(N1818=\"\",\"\",IF(O1818=\"\",\"SIN RESPUESTA\",(IF(O1818<=P1818,\"A TIEMPO\",\"FUERA DE TIEMPO\"))))","v":""},null,{"$f":"+IF(C1818=\"\",\"\",IF(J1818=\"\",\"SIN RESPUESTA\",(IF(J1818<=L1818,\"A TIEMPO\",\"FUERA DE TIEMPO\"))))","v":"FUERA DE TIEMPO"},11,1,null,null,{"$f":"IFERROR(VLOOKUP(F1818,Hoja1!$A$50:$C$63,2),\"\")","v":15},{"$f":"IFERROR(VLOOKUP(F1818,Hoja1!$A$50:$C$63,3),\"\")","v":15}]
[1809,20259050035454,"2025-03-06","Persona natural","Virtual - Formulario PQRSDF","Petición de interés general o particular","Administrativa",null,"Grupo de Control Disciplinario Interno","2025-03-07","Correo electrónico","2025-03-31",null,"",null,{"$f":"IFERROR(WORKDAY(N1819,Y1819,Hoja1!F1811:F1927),\"\")","v":""},{"$f":"+IF(N1819=\"\",\"\",IF(O1819=\"\",\"SIN RESPUESTA\",(IF(O1819<=P1819,\"A TIEMPO\",\"FUERA DE TIEMPO\"))))","v":""},null,"A TIEMPO",1,0,null,null,{"$f":"IFERROR(VLOOKUP(F1819,Hoja1!$A$50:$C$63,2),\"\")","v":15},{"$f":"IFERROR(VLOOKUP(F1819,Hoja1!$A$50:$C$63,3),\"\")","v":15}]
[1810,20259910035464,"2025-03-06","Persona natural","Virtual - Correo electrónico","Certificación de tiempo, clima y eventos hidrológicos","Certificaciones del tiempo y clima",null,"Subdirección de Meteorología","2025-04-01","Correo electrónico","2025-04-23",null,"",null,{"$f":"IFERROR(WORKDAY(N1820,Y1820,Hoja1!F1812:F1928),\"\")","v":""},{"$f":"+IF(N1820=\"\",\"\",IF(O1820=\"\",\"SIN RESPUESTA\",(IF(O1820<=P1820,\"A TIEMPO\",\"FUERA DE TIEMPO\"))))","v":""},null,"A TIEMPO",16,0,null,null,{"$f":"IFERROR(VLOOKUP(F1820,Hoja1!$A$50:$C$63,2),\"\")","v":15},{"$f":"IFERROR(VLOOKUP(F1820,Hoja1!$A$50:$C$63,3),\"\")","v":15}]
[1811,20259910035474,"2025-03-06","Persona natural","Virtual - Correo electrónico","Solicitud de documentos o información","Solicitud de información hidrometeorológica",null,"Grupo de Servicio al Ciudadano","2025-03-19","Correo electrónico","2025-03-21",null,"",null,{"$f":"IFERROR(WORKDAY(N1821,Y1821,Hoja1!F1813:F1929),\"\")","v":""},{"$f":"+IF(N1821=\"\",\"\",IF(O1821=\"\",\"SIN RESPUESTA\",(IF(O1821<=P1821,\"A TIEMPO\",\"FUERA DE TIEMPO\"))))","v":""},null,"A TIEMPO",8,0,null,null,{"$f":"IFERROR(VLOOKUP(F1821,Hoja1!$A$50:$C$63,2),\"\")","v":5},{"$f":"IFERROR(VLOOKUP(F1821,Hoja1!$A$50:$C$63,3),\"\")","v":5}]
[1812,20259910035484,"2025-03-06","Persona jurídica","Virtual - Correo electrónico","Solicitud de documentos o información","Bosques",null,"Subdirección de Ecosistemas e Información Ambiental","2025-03-19","Correo electrónico","2025-03-21",null,"",null,{"$f":"IFERROR(WORKDAY(N1822,Y1822,Hoja1!F1814:F1930),\"\")","v":""},{"$f":"+IF(N1822=\"\",\"\",IF(O1822=\"\",\"SIN RESPUESTA\",(IF(O1822<=P1822,\"A TIEMPO\",\"FUERA DE TIEMPO\"))))","v":""},null,"A TIEMPO",8,0,null,null,{"$f":"IFERROR(VLOOKUP(F1822,Hoja1!$A$50:$C$63,2),\"\")","v":5},{"$f":"IFERROR(VLOOKUP(F1822,Hoja1!$A$50:$C$63,3),\"\")","v":5}]
[1813,20259910035494,"2025-03-06","Persona natural","Virtual - Correo electrónico","Solicitud de documentos o información","Informes ambientales",null,"Subdirección de Estudios Ambientales","2025-03-17","Correo electrónico","2025-03-21",null,"",null,{"$f":"IFERROR(WORKDAY(N1823,Y1823,Hoja1!F1815:F1931),\"\")","v":""},{"$f":"+IF(N1823=\"\",\"\",IF(O1823=\"\",\"SIN RESPUESTA\",(IF(O1823<=P1823,\"A TIEMPO\",\"FUERA DE TIEMPO\"))))","v":""},null,"A TIEMPO",7,0,null,null,{"$f":"IFERROR(VLOOKUP(F1823,Hoja1!$A$50:$C$63,2),\"\")","v":5},{"$f":"IFERROR(VLOOKUP(F1823,Hoja1!$A$50:$C$63,3),\"\")","v":5}]
[1814,20259050035504,"2025-03-06","Persona natural","Virtual - Formulario PQRSDF","Solicitud de documentos o información","Solicitud de información hidrometeorológica",null,"Subdirección de Meteorología","2025-03-14","Correo electrónico","2025-03-21",null,"",null,{"$f":"IFERROR(WORKDAY(N1824,Y1824,Hoja1!F1816:F1932),\"\")","v":""},{"$f":"+IF(N1824=\"\",\"\",IF(O1824=\"\",\"SIN RESPUESTA\",(IF(O1824<=P1824,\"A TIEMPO\",\"FUERA DE TIEMPO\"))))","v":""},null,"A TIEMPO",6,0,null,null,{"$f":"IFERROR(VLOOKUP(F1824,Hoja1!$A$50:$C$63,2),\"\")","v":5},{"$f":"IFERROR(VLOOKUP(F1824,Hoja1!$A$50:$C$63,3),\"\")","v":5}]
[1815,20259050035524,"2025-03-06","Persona natural","Virtual - Formulario PQRSDF","Solicitud de documentos o información","Bosques",null,"Subdirección de Ecosistemas e Información Ambiental","2025-03-20","Correo electrónico","2025-03-21",null,"",null,{"$f":"IFERROR(WORKDAY(N1825,Y1825,Hoja1!F1817:F1933),\"\")","v":""},{"$f":"+IF(N1825=\"\",\"\",IF(O1825=\"\",\"SIN RESPUESTA\",(IF(O1825<=P1825,\"A TIEMPO\",\"FUERA DE TIEMPO\"))))","v":""},null,"A TIEMPO",9,0,null,null,{"$f":"IFERROR(VLOOKUP(F1825,Hoja1!$A$50:$C$63,2),\"\")","v":5},{"$f":"IFERROR(VLOOKUP(F1825,Hoja1!$A$50:$C$63,3),\"\")","v":5}]
[1816,20259910035554,"2025-03-06","Persona natural","Virtual - Correo electrónico","Certificación de contrato","Administrativa",null,"Oficina Asesora Jurídica","2025-03-25","Correo electrónico","2025-03-21",null,"",null,{"$f":"IFERROR(WORKDAY(N1826,Y1826,Hoja1!F1818:F1934),\"\")","v":""},{"$f":"+IF(N1826=\"\",\"\",IF(O1826=\"\",\"SIN RESPUESTA\",(IF(O1826<=P1826,\"A TIEMPO\",\"FUERA DE TIEMPO\"))))","v":""},null,{"$f":"+IF(C1826=\"\",\"\",IF(J1826=\"\",\"SIN RESPUESTA\",(IF(J1826<=L1826,\"A TIEMPO\",\"FUERA DE TIEMPO\"))))","v":"FUERA DE TIEMPO"},11,1,null,null,{"$f":"IFERROR(VLOOKUP(F1826,Hoja1!$A$50:$C$63,2),\"\")","v":15},{"$f":"IFERROR(VLOOKUP(F1826,Hoja1!$A$50:$C$63,3),\"\")","v":15}]
[1817,20259910035574,"2025-03-06","Persona natural","Virtual - Correo electrónico","Solicitud de documentos o información","Solicitud de información hidrometeorológica",null,"Grupo de Servicio al Ciudadano","2025-03-19","Correo electrónico","2025-03-21",null,"",null,{"$f":"IFERROR(WORKDAY(N1827,Y1827,Hoja1!F1819:F1935),\"\")","v":""},{"$f":"+IF(N1827=\"\",\"\",IF(O1827=\"\",\"SIN RESPUESTA\",(IF(O1827<=P1827,\"A TIEMPO\",\"FUERA DE TIEMPO\"))))","v":""},null,"A TIEMPO",8,0,null,null,{"$f":"IFERROR(VLOOKUP(F1827,Hoja1!$A$50:$C$63,2),\"\")","v":5},{"$f":"IFERROR(VLOOKUP(F1827,Hoja1!$A$50:$C$63,3),\"\")","v":5}]
[1818,20259910035434,"2025-03-06","Persona natural","Virtual - Correo electrónico","Solicitud de documentos o información","Administrativa",null,"Oficina Asesora Jurídica","2025-03-25","Correo electrónico","2025-03-21",null,"",null,{"$f":"IFERROR(WORKDAY(N1828,Y1828,Hoja1!F1820:F1936),\"\")","v":""},{"$f":"+IF(N1828=\"\",\"\",IF(O1828=\"\",\"SIN RESPUESTA\",(IF(O1828<=P1828,\"A TIEMPO\",\"FUERA DE TIEMPO\"))))","v":""},null,{"$f":"+IF(C1828=\"\",\"\",IF(J1828=\"\",\"SIN RESPUESTA\",(IF(J1828<=L1828,\"A TIEMPO\",\"FUERA DE TIEMPO\"))))","v":"FUERA DE TIEMPO"},11,1,null,null,{"$f":"IFERROR(VLOOKUP(F1828,Hoja1!$A$50:$C$63,2),\"\")","v":5},{"$f":"IFERROR(VLOOKUP(F1828,Hoja1!$A$50:$C$63,3),\"\")","v":5}]
[1819,20259910035604,"2025-03-06","Persona natural","Virtual - Correo electrónico","Solicitud de documentos o información","Jurídico",null,"Oficina Asesora Jurídica","2025-03-19","Correo electrónico","2025-03-21",null,"",null,{"$f":"IFERROR(WORKDAY(N1829,Y1829,Hoja1!F1821:F1937),\"\")","v":""},{"$f":"+IF(N1829=\"\",\"\",IF(O1829=\"\",\"SIN RESPUESTA\",(IF(O1829<=P1829,\"A TIEMPO\",\"FUERA DE TIEMPO\"))))","v":""},null,"A TIEMPO",8,0,null,null,{"$f":"IFERROR(VLOOKUP(F1829,Hoja1!$A$50:$C$63,2),\"\")","v":5},{"$f":"IFERROR(VLOOKUP(F1829,Hoja1!$A$50:$C$63,3),\"\")","v":5}]
[1820,20259910035614,"2025-03-06","Persona natural","Virtual - Correo electrónico","Solicitud de documentos o información","Solicitud de información hidrometeorológica",null,"Grupo de Servicio al Ciudadano","2025-03-20","Correo electrónico","2025-03-21",null,"",null,{"$f":"IFERROR(WORKDAY(N1830,Y1830,Hoja1!F1822:F1938),\"\")","v":""},{"$f":"+IF(N1830=\"\",\"\",IF(O1830=\"\",\"SIN RESPUESTA\",(IF(O1830<=P1830,\"A TIEMPO\",\"FUERA DE TIEMPO\"))))","v":""},null,"A TIEMPO",9,0,null,null,{"$f":"IFERROR(VLOOKUP(F1830,Hoja1!$A$50:$C$63,2),\"\")","v":5},{"$f":"IFERROR(VLOOKUP(F1830,Hoja1!$A$50:$C$63,3),\"\")","v":5}]
[1821,20259910035624,"2025-03-06","Persona jurídica","Virtual - Correo electrónico","Petición de interés general o particular","Administrativa",null,"Secretaría General","2025-03-13","Correo electrónico","2025-03-31",null,"",null,{"$f":"IFERROR(WORKDAY(N1831,Y1831,Hoja1!F1823:F1939),\"\")","v":""},{"$f":"+IF(N1831=\"\",\"\",IF(O1831=\"\",\"SIN RESPUESTA\",(IF(O1831<=P1831,\"A TIEMPO\",\"FUERA DE TIEMPO\"))))","v":""},null,"A TIEMPO",5,0,null,null,{"$f":"IFERROR(VLOOKUP(F1831,Hoja1!$A$50:$C$63,2),\"\")","v":15},{"$f":"IFERROR(VLOOKUP(F1831,Hoja1!$A$50:$C$63,3),\"\")","v":15}]
[1822,20259910035584,"2025-03-06","Persona jurídica","Virtual - Correo electrónico","Solicitud de documentos o información","Solicitud de información hidrometeorológica",null,"Subdirección de Meteorología","2025-03-19","Correo electrónico","2025-03-21",null,"",null,{"$f":"IFERROR(WORKDAY(N1832,Y1832,Hoja1!F1824:F1940),\"\")","v":""},{"$f":"+IF(N1832=\"\",\"\",IF(O1832=\"\",\"SIN RESPUESTA\",(IF(O1832<=P1832,\"A TIEMPO\",\"FUERA DE TIEMPO\"))))","v":""},null,"A TIEMPO",8,0,null,null,{"$f":"IFERROR(VLOOKUP(F1832,Hoja1!$A$50:$C$63,2),\"\")","v":5},{"$f":"IFERROR(VLOOKUP(F1832,Hoja1!$A$50:$C$63,3),\"\")","v":5}]
[1823,20259910035674,"2025-03-06","Persona jurídica","Virtual - Correo electrónico","Solicitud de documentos o información","Informes ambientales",null,"Subdirección de Hidrología","2025-03-14","Correo electrónico","2025-03-21",null,"",null,{"$f":"IFERROR(WORKDAY(N1833,Y1833,Hoja1!F1825:F1941),\"\")","v":""},{"$f":"+IF(N1833=\"\",\"\",IF(O1833=\"\",\"SIN RESPUESTA\",(IF(O1833<=P1833,\"A TIEMPO\",\"FUERA DE TIEMPO\"))))","v":""},null,"A TIEMPO",6,0,null,null,{"$f":"IFERROR(VLOOKUP(F1833,Hoja1!$A$50:$C$63,2),\"\")","v":5},{"$f":"IFERROR(VLOOKUP(F1833,Hoja1!$A$50:$C$63,3),\"\")","v":5}]
[1824,20259910035794,"2025-03-06","Persona jurídica","Virtual - Correo electrónico","Solicitud de documentos o información","Registros ambientales",null,"Subdirección de Estudios Ambientales","2025-03-13","Correo electrónico","2025-03-21",null,"",null,{"$f":"IFERROR(WORKDAY(N1834,Y1834,Hoja1!F1826:F1942),\"\")","v":""},{"$f":"+IF(N1834=\"\",\"\",IF(O1834=\"\",\"SIN RESPUESTA\",(IF(O1834<=P1834,\"A TIEMPO\",\"FUERA DE TIEMPO\"))))","v":""},null,"A TIEMPO",5,0,null,null,{"$f":"IFERROR(VLOOKUP(F1834,Hoja1!$A$50:$C$63,2),\"\")","v":5},{"$f":"IFERROR(VLOOKUP(F1834,Hoja1!$A$50:$C$63,3),\"\")","v":5}]
[1825,20259910035804,"2025-03-06","Persona natural","Virtual - Correo electrónico","Solicitud de documentos o información","Solicitud de información hidrometeorológica",null,"Subdirección de Hidrología","2025-03-17","Correo electrónico","2025-03-21",null,"",null,{"$f":"IFERROR(WORKDAY(N1835,Y1835,Hoja1!F1827:F1943),\"\")","v":""},{"$f":"+IF(N1835=\"\",\"\",IF(O1835=\"\",\"SIN RESPUESTA\",(IF(O1835<=P1835,\"A TIEMPO\",\"FUERA DE TIEMPO\"))))","v":""},null,"A TIEMPO",7,0,null,null,{"$f":"IFERROR(VLOOKUP(F1835,Hoja1!$A$50:$C$63,2),\"\")","v":5},{"$f":"IFERROR(VLOOKUP(F1835,Hoja1!$A$50:$C$63,3),\"\")","v":5}]
[1826,20259910035834,"2025-03-06","Persona jurídica","Virtual - Correo electrónico","Solicitud de documentos o información","Registros ambientales",null,"Subdirección de Estudios Ambientales","2025-03-19","Correo electrónico","2025-03-21",null,"",null,{"$f":"IFERROR(WORKDAY(N1836,Y1836,Hoja1!F1828:F1944),\"\")","v":""},{"$f":"+IF(N1836=\"\",\"\",IF(O1836=\"\",\"SIN RESPUESTA\",(IF(O1836<=P1836,\"A TIEMPO\",\"FUERA DE TIEMPO\"))))","v":""},null,"A TIEMPO",8,0,null,null,{"$f":"IFERROR(VLOOKUP(F1836,Hoja1!$A$50:$C$63,2),\"\")","v":5},{"$f":"IFERROR(VLOOKUP(F1836,Hoja1!$A$50:$C$63,3),\"\")","v":5}]
[1827,20259050035814,"2025-03-06","Persona natural","Virtual - Formulario PQRSDF","Certificación de contrato","Administrativa",null,"Oficina Asesora Jurídica","2025-03-25","Correo electrónico","2025-03-21",null,"",null,{"$f":"IFERROR(WORKDAY(N1837,Y1837,Hoja1!F1829:F1945),\"\")","v":""},{"$f":"+IF(N1837=\"\",\"\",IF(O1837=\"\",\"SIN RESPUESTA\",(IF(O1837<=P1837,\"A TIEMPO\",\"FUERA DE TIEMPO\"))))","v":""},null,{"$f":"+IF(C1837=\"\",\"\",IF(J1837=\"\",\"SIN RESPUESTA\",(IF(J1837<=L1837,\"A TIEMPO\",\"FUERA DE TIEMPO\"))))","v":"FUERA DE TIEMPO"},11,1,null,null,{"$f":"IFERROR(VLOOKUP(F1837,Hoja1!$A$50:$C$63,2),\"\")","v":15},{"$f":"IFERROR(VLOOKUP(F1837,Hoja1!$A$50:$C$63,3),\"\")","v":15}]
[1828,20259910035864,"2025-03-06","Persona jurídica","Virtual - Correo electrónico","Petición de interés general o particular","Registros ambientales",null,"Subdirección de Estudios Ambientales","2025-03-11","Correo electrónico","2025-03-31",null,"",null,{"$f":"IFERROR(WORKDAY(N1838,Y1838,Hoja1!F1830:F1946),\"\")","v":""},{"$f":"+IF(N1838=\"\",\"\",IF(O1838=\"\",\"SIN RESPUESTA\",(IF(O1838<=P1838,\"A TIEMPO\",\"FUERA DE TIEMPO\"))))","v":""},null,"A TIEMPO",3,0,null,null,{"$f":"IFERROR(VLOOKUP(F1838,Hoja1!$A$50:$C$63,2),\"\")","v":15},{"$f":"IFERROR(VLOOKUP(F1838,Hoja1!$A$50:$C$63,3),\"\")","v":15}]
[1829,20259910035914,"2025-03-06","Persona jurídica","Virtual - Correo electrónico","Solicitud de documentos o información","Registros ambientales",null,"Subdirección de Estudios Ambientales","2025-03-21","Correo electrónico","2025-03-21",null,"",null,{"$f":"IFERROR(WORKDAY(N1839,Y1839,Hoja1!F1831:F1947),\"\")","v":""},{"$f":"+IF(N1839=\"\",\"\",IF(O1839=\"\",\"SIN RESPUESTA\",(IF(O1839<=P1839,\"A TIEMPO\",\"FUERA DE TIEMPO\"))))","v":""},null,"A TIEMPO",10,0,null,null,{"$f":"IFERROR(VLOOKUP(F1839,Hoja1!$A$50:$C$63,2),\"\")","v":5},{"$f":"IFERROR(VLOOKUP(F1839,Hoja1!$A$50:$C$63,3),\"\")","v":5}]
[1830,20259050035924,"2025-03-06","Persona natural","Virtual - Formulario PQRSDF","Solicitud de documentos o información","Solicitud de información hidrometeorológica",null,"Grupo de Servicio al Ciudadano","2025-03-20","Correo electrónico","2025-03-21",null,"",null,{"$f":"IFERROR(WORKDAY(N1840,Y1840,Hoja1!F1832:F1948),\"\")","v":""},{"$f":"+IF(N1840=\"\",\"\",IF(O1840=\"\",\"SIN RESPUESTA\",(IF(O1840<=P1840,\"A TIEMPO\",\"FUERA DE TIEMPO\"))))","v":""},null,"A TIEMPO",9,0,null,null,{"$f":"IFERROR(VLOOKUP(F1840,Hoja1!$A$50:$C$63,2),\"\")","v":5},{"$f":"IFERROR(VLOOKUP(F1840,Hoja1!$A$50:$C$63,3),\"\")","v":5}]
[1831,20259050035964,"2025-03-06","Persona natural","Virtual - Formulario PQRSDF","Certificación laboral o pasantía","Administrativa",null,"Grupo de Administración y Desarrollo del Talento Humano","2025-03-20","Correo electrónico","2025-03-21",null,"",null,{"$f":"IFERROR(WORKDAY(N1841,Y1841,Hoja1!F1833:F1949),\"\")","v":""},{"$f":"+IF(N1841=\"\",\"\",IF(O1841=\"\",\"SIN RESPUESTA\",(IF(O1841<=P1841,\"A TIEMPO\",\"FUERA DE TIEMPO\"))))","v":""},null,"A TIEMPO",9,0,null,null,{"$f":"IFERROR(VLOOKUP(F1841,Hoja1!$A$50:$C$63,2),\"\")","v":15},{"$f":"IFERROR(VLOOKUP(F1841,Hoja1!$A$50:$C$63,3),\"\")","v":15}]
[1832,20259910035994,"2025-03-06","Persona jurídica","Virtual - Correo electrónico","Petición entre entidades","Acreditación de laboratorios",null,"Subdirección de Estudios Ambientales","2025-04-07","Correo electrónico","2025-03-21",null,"",null,{"$f":"IFERROR(WORKDAY(N1842,Y1842,Hoja1!F1834:F1950),\"\")","v":""},{"$f":"+IF(N1842=\"\",\"\",IF(O1842=\"\",\"SIN RESPUESTA\",(IF(O1842<=P1842,\"A TIEMPO\",\"FUERA DE TIEMPO\"))))","v":""},null,{"$f":"+IF(C1842=\"\",\"\",IF(J1842=\"\",\"SIN RESPUESTA\",(IF(J1842<=L1842,\"A TIEMPO\",\"FUERA DE TIEMPO\"))))","v":"FUERA DE TIEMPO"},20,10,null,null,{"$f":"IFERROR(VLOOKUP(F1842,Hoja1!$A$50:$C$63,2),\"\")","v":10},{"$f":"IFERROR(VLOOKUP(F1842,Hoja1!$A$50:$C$63,3),\"\")","v":10}]
[1833,20259910036004,"2025-03-06","Persona jurídica","Virtual - Correo electrónico","Solicitud de documentos o información","Registros ambientales",null,"Subdirección de Estudios Ambientales","2025-03-14","Correo electrónico","2025-03-21",null,"",null,{"$f":"IFERROR(WORKDAY(N1843,Y1843,Hoja1!F1835:F1951),\"\")","v":""},{"$f":"+IF(N1843=\"\",\"\",IF(O1843=\"\",\"SIN RESPUESTA\",(IF(O1843<=P1843,\"A TIEMPO\",\"FUERA DE TIEMPO\"))))","v":""},null,"A TIEMPO",6,0,null,null,{"$f":"IFERROR(VLOOKUP(F1843,Hoja1!$A$50:$C$63,2),\"\")","v":5},{"$f":"IFERROR(VLOOKUP(F1843,Hoja1!$A$50:$C$63,3),\"\")","v":5}]
[1834,20259050036024,"2025-03-06","Persona natural","Virtual - Formulario PQRSDF","Certificación de contrato","Administrativa",null,"Oficina Asesora Jurídica","2025-03-25","Correo electrónico","2025-03-21",null,"",null,{"$f":"IFERROR(WORKDAY(N1844,Y1844,Hoja1!F1836:F1952),\"\")","v":""},{"$f":"+IF(N1844=\"\",\"\",IF(O1844=\"\",\"SIN RESPUESTA\",(IF(O1844<=P1844,\"A TIEMPO\",\"FUERA DE TIEMPO\"))))","v":""},null,{"$f":"+IF(C1844=\"\",\"\",IF(J1844=\"\",\"SIN RESPUESTA\",(IF(J1844<=L1844,\"A TIEMPO\",\"FUERA DE TIEMPO\"))))","v":"FUERA DE TIEMPO"},11,1,null,null,{"$f":"IFERROR(VLOOKUP(F1844,Hoja1!$A$50:$C$63,2),\"\")","v":15},{"$f":"IFERROR(VLOOKUP(F1844,Hoja1!$A$50:$C$63,3),\"\")","v":15}]
[1835,20259910035934,"2025-03-06","Persona jurídica","Virtual - Correo electrónico","Petición entre autoridades","Bosques",null,"Subdirección de Ecosistemas e Información Ambiental","2025-04-03","Correo electrónico","2025-03-21",null,"",null,{"$f":"IFERROR(WORKDAY(N1845,Y1845,Hoja1!F1837:F1953),\"\")","v":""},{"$f":"+IF(N1845=\"\",\"\",IF(O1845=\"\",\"SIN RESPUESTA\",(IF(O1845<=P1845,\"A TIEMPO\",\"FUERA DE TIEMPO\"))))","v":""},null,{"$f":"+IF(C1845=\"\",\"\",IF(J1845=\"\",\"SIN RESPUESTA\",(IF(J1845<=L1845,\"A TIEMPO\",\"FUERA DE TIEMPO\"))))","v":"FUERA DE TIEMPO"},18,8,null,null,{"$f":"IFERROR(VLOOKUP(F1845,Hoja1!$A$50:$C$63,2),\"\")","v":10},{"$f":"IFERROR(VLOOKUP(F1845,Hoja1!$A$50:$C$63,3),\"\")","v":10}]
[1836,20259910035694,"2025-03-06","Persona jurídica","Virtual - Correo electrónico","Consulta (Información técnica)","Informes ambientales",null,"Subdirección de Estudios Ambientales","2025-04-25","Correo electrónico","2025-04-23",null,"",null,{"$f":"IFERROR(WORKDAY(N1846,Y1846,Hoja1!F1838:F1954),\"\")","v":""},{"$f":"+IF(N1846=\"\",\"\",IF(O1846=\"\",\"SIN RESPUESTA\",(IF(O1846<=P1846,\"A TIEMPO\",\"FUERA DE TIEMPO\"))))","v":""},null,{"$f":"+IF(C1846=\"\",\"\",IF(J1846=\"\",\"SIN RESPUESTA\",(IF(J1846<=L1846,\"A TIEMPO\",\"FUERA DE TIEMPO\"))))","v":"FUERA DE TIEMPO"},32,2,null,null,{"$f":"IFERROR(VLOOKUP(F1846,Hoja1!$A$50:$C$63,2),\"\")","v":30},{"$f":"IFERROR(VLOOKUP(F1846,Hoja1!$A$50:$C$63,3),\"\")","v":30}]
[1837,20259050036044,"2025-03-06","Persona natural","Virtual - Formulario PQRSDF","Certificación de contrato","Administrativa",null,"Oficina Asesora Jurídica","2025-03-25","Correo electrónico","2025-03-21",null,"",null,{"$f":"IFERROR(WORKDAY(N1847,Y1847,Hoja1!F1839:F1955),\"\")","v":""},{"$f":"+IF(N1847=\"\",\"\",IF(O1847=\"\",\"SIN RESPUESTA\",(IF(O1847<=P1847,\"A TIEMPO\",\"FUERA DE TIEMPO\"))))","v":""},null,{"$f":"+IF(C1847=\"\",\"\",IF(J1847=\"\",\"SIN RESPUESTA\",(IF(J1847<=L1847,\"A TIEMPO\",\"FUERA DE TIEMPO\"))))","v":"FUERA DE TIEMPO"},11,1,null,null,{"$f":"IFERROR(VLOOKUP(F1847,Hoja1!$A$50:$C$63,2),\"\")","v":15},{"$f":"IFERROR(VLOOKUP(F1847,Hoja1!$A$50:$C$63,3),\"\")","v":15}]
[1838,20259910036054,"2025-03-06","Persona natural","Virtual - Correo electrónico","Certificación laboral o pasantía","Administrativa",null,"Grupo de Administración y Desarrollo del Talento Humano","2025-03-20","Correo electrónico","2025-03-21",null,"",null,{"$f":"IFERROR(WORKDAY(N1848,Y1848,Hoja1!F1840:F1956),\"\")","v":""},{"$f":"+IF(N1848=\"\",\"\",IF(O1848=\"\",\"SIN RESPUESTA\",(IF(O1848<=P1848,\"A TIEMPO\",\"FUERA DE TIEMPO\"))))","v":""},null,"A TIEMPO",9,0,null,null,{"$f":"IFERROR(VLOOKUP(F1848,Hoja1!$A$50:$C$63,2),\"\")","v":15},{"$f":"IFERROR(VLOOKUP(F1848,Hoja1!$A$50:$C$63,3),\"\")","v":15}]
[1839,20259910036064,"2025-03-06","Persona natural","Virtual - Correo electrónico","Solicitud de documentos o información","Solicitud de información hidrometeorológica",null,"Grupo de Servicio al Ciudadano","2025-03-20","Correo electrónico","2025-03-21",null,"",null,{"$f":"IFERROR(WORKDAY(N1849,Y1849,Hoja1!F1841:F1957),\"\")","v":""},{"$f":"+IF(N1849=\"\",\"\",IF(O1849=\"\",\"SIN RESPUESTA\",(IF(O1849<=P1849,\"A TIEMPO\",\"FUERA DE TIEMPO\"))))","v":""},null,"A TIEMPO",9,0,null,null,{"$f":"IFERROR(VLOOKUP(F1849,Hoja1!$A$50:$C$63,2),\"\")","v":5},{"$f":"IFERROR(VLOOKUP(F1849,Hoja1!$A$50:$C$63,3),\"\")","v":5}]
[1840,20259910036074,"2025-03-06","Persona natural","Virtual - Correo electrónico","Solicitud de documentos o información","Solicitud de información hidrometeorológica",null,"Grupo de Servicio al Ciudadano","2025-03-20","Correo electrónico","2025-03-21",null,"",null,{"$f":"IFERROR(WORKDAY(N1850,Y1850,Hoja1!F1842:F1958),\"\")","v":""},{"$f":"+IF(N1850=\"\",\"\",IF(O1850=\"\",\"SIN RESPUESTA\",(IF(O1850<=P1850,\"A TIEMPO\",\"FUERA DE TIEMPO\"))))","v":""},null,"A TIEMPO",9,0,null,null,{"$f":"IFERROR(VLOOKUP(F1850,Hoja1!$A$50:$C$63,2),\"\")","v":5},{"$f":"IFERROR(VLOOKUP(F1850,Hoja1!$A$50:$C$63,3),\"\")","v":5}]
[1841,20259910036084,"2025-03-06","Persona jurídica","Virtual - Correo electrónico","Petición de interés general o particular","Registros ambientales",null,"Subdirección de Estudios Ambientales","2025-03-28","Correo electrónico","2025-03-31",null,"",null,{"$f":"IFERROR(WORKDAY(N1851,Y1851,Hoja1!F1843:F1959),\"\")","v":""},{"$f":"+IF(N1851=\"\",\"\",IF(O1851=\"\",\"SIN RESPUESTA\",(IF(O1851<=P1851,\"A TIEMPO\",\"FUERA DE TIEMPO\"))))","v":""},null,"A TIEMPO",14,0,null,null,{"$f":"IFERROR(VLOOKUP(F1851,Hoja1!$A$50:$C$63,2),\"\")","v":15},{"$f":"IFERROR(VLOOKUP(F1851,Hoja1!$A$50:$C$63,3),\"\")","v":15}]
[1842,20259910036104,"2025-03-06","Persona jurídica","Virtual - Correo electrónico","Consulta (Información técnica)","Informes ambientales",null,"Subdirección de Estudios Ambientales","2025-04-29","Correo electrónico","2025-04-23",null,"",null,{"$f":"IFERROR(WORKDAY(N1852,Y1852,Hoja1!F1844:F1960),\"\")","v":""},{"$f":"+IF(N1852=\"\",\"\",IF(O1852=\"\",\"SIN RESPUESTA\",(IF(O1852<=P1852,\"A TIEMPO\",\"FUERA DE TIEMPO\"))))","v":""},null,{"$f":"+IF(C1852=\"\",\"\",IF(J1852=\"\",\"SIN RESPUESTA\",(IF(J1852<=L1852,\"A TIEMPO\",\"FUERA DE TIEMPO\"))))","v":"FUERA DE TIEMPO"},34,4,null,null,{"$f":"IFERROR(VLOOKUP(F1852,Hoja1!$A$50:$C$63,2),\"\")","v":30},{"$f":"IFERROR(VLOOKUP(F1852,Hoja1!$A$50:$C$63,3),\"\")","v":30}]
[1843,20259910036114,"2025-03-06","Persona jurídica","Virtual - Correo electrónico","Certificación de contrato","Administrativa",null,"Oficina Asesora Jurídica","2025-03-25","Correo electrónico","2025-03-21",null,"",null,{"$f":"IFERROR(WORKDAY(N1853,Y1853,Hoja1!F1845:F1961),\"\")","v":""},{"$f":"+IF(N1853=\"\",\"\",IF(O1853=\"\",\"SIN RESPUESTA\",(IF(O1853<=P1853,\"A TIEMPO\",\"FUERA DE TIEMPO\"))))","v":""},null,{"$f":"+IF(C1853=\"\",\"\",IF(J1853=\"\",\"SIN RESPUESTA\",(IF(J1853<=L1853,\"A TIEMPO\",\"FUERA DE TIEMPO\"))))","v":"FUERA DE TIEMPO"},11,1,null,null,{"$f":"IFERROR(VLOOKUP(F1853,Hoja1!$A$50:$C$63,2),\"\")","v":15},{"$f":"IFERROR(VLOOKUP(F1853,Hoja1!$A$50:$C$63,3),\"\")","v":15}]
[1844,20259910036124,"2025-03-06","Persona jurídica","Virtual - Correo electrónico","Solicitud de documentos o información","Registros ambientales",null,"Subdirección de Estudios Ambientales","2025-03-17","Correo electrónico","2025-03-21",null,"",null,{"$f":"IFERROR(WORKDAY(N1854,Y1854,Hoja1!F1846:F1962),\"\")","v":""},{"$f":"+IF(N1854=\"\",\"\",IF(O1854=\"\",\"SIN RESPUESTA\",(IF(O1854<=P1854,\"A TIEMPO\",\"FUERA DE TIEMPO\"))))","v":""},null,"A TIEMPO",7,0,null,null,{"$f":"IFERROR(VLOOKUP(F1854,Hoja1!$A$50:$C$63,2),\"\")","v":5},{"$f":"IFERROR(VLOOKUP(F1854,Hoja1!$A$50:$C$63,3),\"\")","v":5}]
[1845,20259910036134,"2025-03-06","Persona jurídica","Virtual - Correo electrónico","Certificación de tiempo, clima y eventos hidrológicos","Certificaciones del tiempo y clima",null,"Subdirección de Meteorología","2025-03-26","Correo electrónico","2025-04-23",null,"",null,{"$f":"IFERROR(WORKDAY(N1855,Y1855,Hoja1!F1847:F1963),\"\")","v":""},{"$f":"+IF(N1855=\"\",\"\",IF(O1855=\"\",\"SIN RESPUESTA\",(IF(O1855<=P1855,\"A TIEMPO\",\"FUERA DE TIEMPO\"))))","v":""},null,"A TIEMPO",12,0,null,null,{"$f":"IFERROR(VLOOKUP(F1855,Hoja1!$A$50:$C$63,2),\"\")","v":15},{"$f":"IFERROR(VLOOKUP(F1855,Hoja1!$A$50:$C$63,3),\"\")","v":15}]
[1846,20259910036164,"2025-03-06","Persona jurídica","Virtual - Correo electrónico","Solicitud de documentos o información","Registros ambientales",null,"Subdirección de Estudios Ambientales","2025-03-11","Correo electrónico","2025-03-21",null,"",null,{"$f":"IFERROR(WORKDAY(N1856,Y1856,Hoja1!F1848:F1964),\"\")","v":""},{"$f":"+IF(N1856=\"\",\"\",IF(O1856=\"\",\"SIN RESPUESTA\",(IF(O1856<=P1856,\"A TIEMPO\",\"FUERA DE TIEMPO\"))))","v":""},null,"A TIEMPO",3,0,null,null,{"$f":"IFERROR(VLOOKUP(F1856,Hoja1!$A$50:$C$63,2),\"\")","v":5},{"$f":"IFERROR(VLOOKUP(F1856,Hoja1!$A$50:$C$63,3),\"\")","v":5}]
[1847,20259910036174,"2025-03-06","Persona jurídica","Virtual - Correo electrónico","Solicitud de documentos o información","Cambio climático",null,"Subdirección de Meteorología","2025-03-14","Correo electrónico","2025-03-21",null,"",null,{"$f":"IFERROR(WORKDAY(N1857,Y1857,Hoja1!F1849:F1965),\"\")","v":""},{"$f":"+IF(N1857=\"\",\"\",IF(O1857=\"\",\"SIN RESPUESTA\",(IF(O1857<=P1857,\"A TIEMPO\",\"FUERA DE TIEMPO\"))))","v":""},null,"A TIEMPO",6,0,null,null,{"$f":"IFERROR(VLOOKUP(F1857,Hoja1!$A$50:$C$63,2),\"\")","v":5},{"$f":"IFERROR(VLOOKUP(F1857,Hoja1!$A$50:$C$63,3),\"\")","v":5}]
[1848,20259910036184,"2025-03-06","Persona jurídica","Virtual - Correo electrónico","Solicitud de documentos o información","Solicitud de información hidrometeorológica",null,"Grupo de Servicio al Ciudadano","2025-03-20","Correo electrónico","2025-03-21",null,"",null,{"$f":"IFERROR(WORKDAY(N1858,Y1858,Hoja1!F1850:F1966),\"\")","v":""},{"$f":"+IF(N1858=\"\",\"\",IF(O1858=\"\",\"SIN RESPUESTA\",(IF(O1858<=P1858,\"A TIEMPO\",\"FUERA DE TIEMPO\"))))","v":""},null,"A TIEMPO",9,0,null,null,{"$f":"IFERROR(VLOOKUP(F1858,Hoja1!$A$50:$C$63,2),\"\")","v":5},{"$f":"IFERROR(VLOOKUP(F1858,Hoja1!$A$50:$C$63,3),\"\")","v":5}]
[1849,20259910036214,"2025-03-06","Persona natural","Virtual - Correo electrónico","Certificación laboral o pasantía","Administrativa",null,"Grupo de Administración y Desarrollo del Talento Humano","2025-03-20","Correo electrónico","2025-03-21",null,"",null,{"$f":"IFERROR(WORKDAY(N1859,Y1859,Hoja1!F1851:F1967),\"\")","v":""},{"$f":"+IF(N1859=\"\",\"\",IF(O1859=\"\",\"SIN RESPUESTA\",(IF(O1859<=P1859,\"A TIEMPO\",\"FUERA DE TIEMPO\"))))","v":""},null,"A TIEMPO",9,0,null,null,{"$f":"IFERROR(VLOOKUP(F1859,Hoja1!$A$50:$C$63,2),\"\")","v":15},{"$f":"IFERROR(VLOOKUP(F1859,Hoja1!$A$50:$C$63,3),\"\")","v":15}]
[1850,20259050036254,"2025-03-07","Persona natural","Virtual - Formulario PQRSDF","Solicitud de documentos o información","Registros ambientales",null,"Subdirección de Estudios Ambientales","2025-03-17","Correo electrónico","2025-03-25",null,"",null,{"$f":"IFERROR(WORKDAY(N1860,Y1860,Hoja1!F1852:F1968),\"\")","v":""},{"$f":"+IF(N1860=\"\",\"\",IF(O1860=\"\",\"SIN RESPUESTA\",(IF(O1860<=P1860,\"A TIEMPO\",\"FUERA DE TIEMPO\"))))","v":""},null,"A TIEMPO",6,0,null,null,{"$f":"IFERROR(VLOOKUP(F1860,Hoja1!$A$50:$C$63,2),\"\")","v":5},{"$f":"IFERROR(VLOOKUP(F1860,Hoja1!$A$50:$C$63,3),\"\")","v":5}]
[1851,20259050036264,"2025-03-07","Persona natural","Virtual - Formulario PQRSDF","Solicitud de documentos o información","Solicitud de información hidrometeorológica",null,"Subdirección de Meteorología","2025-03-14","Correo electrónico","2025-03-25",null,"",null,{"$f":"IFERROR(WORKDAY(N1861,Y1861,Hoja1!F1853:F1969),\"\")","v":""},{"$f":"+IF(N1861=\"\",\"\",IF(O1861=\"\",\"SIN RESPUESTA\",(IF(O1861<=P1861,\"A TIEMPO\",\"FUERA DE TIEMPO\"))))","v":""},null,"A TIEMPO",5,0,null,null,{"$f":"IFERROR(VLOOKUP(F1861,Hoja1!$A$50:$C$63,2),\"\")","v":5},{"$f":"IFERROR(VLOOKUP(F1861,Hoja1!$A$50:$C$63,3),\"\")","v":5}]
[1852,20259050036274,"2025-03-07","Persona jurídica","Virtual - Formulario PQRSDF","Certificación de tiempo, clima y eventos hidrológicos","Certificaciones del tiempo y clima",null,"Subdirección de Meteorología","2025-03-28","Correo electrónico","2025-04-24",null,"",null,{"$f":"IFERROR(WORKDAY(N1862,Y1862,Hoja1!F1854:F1970),\"\")","v":""},{"$f":"+IF(N1862=\"\",\"\",IF(O1862=\"\",\"SIN RESPUESTA\",(IF(O1862<=P1862,\"A TIEMPO\",\"FUERA DE TIEMPO\"))))","v":""},null,"A TIEMPO",13,0,null,null,{"$f":"IFERROR(VLOOKUP(F1862,Hoja1!$A$50:$C$63,2),\"\")","v":15},{"$f":"IFERROR(VLOOKUP(F1862,Hoja1!$A$50:$C$63,3),\"\")","v":15}]
[1853,20259910036284,"2025-03-07","Persona jurídica","Virtual - Correo electrónico","Solicitud de documentos o información","Solicitud de información hidrometeorológica",null,"Subdirección de Meteorología","2025-03-14","Correo electrónico","2025-03-25",null,"",null,{"$f":"IFERROR(WORKDAY(N1863,Y1863,Hoja1!F1855:F1971),\"\")","v":""},{"$f":"+IF(N1863=\"\",\"\",IF(O1863=\"\",\"SIN RESPUESTA\",(IF(O1863<=P1863,\"A TIEMPO\",\"FUERA DE TIEMPO\"))))","v":""},null,"A TIEMPO",5,0,null,null,{"$f":"IFERROR(VLOOKUP(F1863,Hoja1!$A$50:$C$63,2),\"\")","v":5},{"$f":"IFERROR(VLOOKUP(F1863,Hoja1!$A$50:$C$63,3),\"\")","v":5}]
[1854,20259910036304,"2025-03-07","Persona natural","Virtual - Correo electrónico","Solicitud de documentos o información","Solicitud de información hidrometeorológica",null,"Grupo de Servicio al Ciudadano","2025-03-20","Correo electrónico","2025-03-25",null,"",null,{"$f":"IFERROR(WORKDAY(N1864,Y1864,Hoja1!F1856:F1972),\"\")","v":""},{"$f":"+IF(N1864=\"\",\"\",IF(O1864=\"\",\"SIN RESPUESTA\",(IF(O1864<=P1864,\"A TIEMPO\",\"FUERA DE TIEMPO\"))))","v":""},null,"A TIEMPO",8,0,null,null,{"$f":"IFERROR(VLOOKUP(F1864,Hoja1!$A$50:$C$63,2),\"\")","v":5},{"$f":"IFERROR(VLOOKUP(F1864,Hoja1!$A$50:$C$63,3),\"\")","v":5}]
[1855,20259910036314,"2025-03-07","Persona jurídica","Virtual - Correo electrónico","Certificación laboral o pasantía","Administrativa",null,"Grupo de Administración y Desarrollo del Talento Humano","2025-03-25","Correo electrónico","2025-03-25",null,"",null,{"$f":"IFERROR(WORKDAY(N1865,Y1865,Hoja1!F1857:F1973),\"\")","v":""},{"$f":"+IF(N1865=\"\",\"\",IF(O1865=\"\",\"SIN RESPUESTA\",(IF(O1865<=P1865,\"A TIEMPO\",\"FUERA DE TIEMPO\"))))","v":""},null,"A TIEMPO",10,0,null,null,{"$f":"IFERROR(VLOOKUP(F1865,Hoja1!$A$50:$C$63,2),\"\")","v":15},{"$f":"IFERROR(VLOOKUP(F1865,Hoja1!$A$50:$C$63,3),\"\")","v":15}]
[1856,20259910036334,"2025-03-07","Persona jurídica","Virtual - Correo electrónico","Solicitud de documentos o información","Registros ambientales",null,"Subdirección de Estudios Ambientales","2025-03-19","Correo electrónico","2025-03-25",null,"",null,{"$f":"IFERROR(WORKDAY(N1866,Y1866,Hoja1!F1858:F1974),\"\")","v":""},{"$f":"+IF(N1866=\"\",\"\",IF(O1866=\"\",\"SIN RESPUESTA\",(IF(O1866<=P1866,\"A TIEMPO\",\"FUERA DE TIEMPO\"))))","v":""},null,"A TIEMPO",7,0,null,null,{"$f":"IFERROR(VLOOKUP(F1866,Hoja1!$A$50:$C$63,2),\"\")","v":5},{"$f":"IFERROR(VLOOKUP(F1866,Hoja1!$A$50:$C$63,3),\"\")","v":5}]
[1857,20259910036364,"2025-03-07","Persona jurídica","Virtual - Correo electrónico","Solicitud de documentos o información","Registros ambientales",null,"Subdirección de Estudios Ambientales","2025-03-19","Correo electrónico","2025-03-25",null,"",null,{"$f":"IFERROR(WORKDAY(N1867,Y1867,Hoja1!F1859:F1975),\"\")","v":""},{"$f":"+IF(N1867=\"\",\"\",IF(O1867=\"\",\"SIN RESPUESTA\",(IF(O1867<=P1867,\"A TIEMPO\",\"FUERA DE TIEMPO\"))))","v":""},null,"A TIEMPO",7,0,null,null,{"$f":"IFERROR(VLOOKUP(F1867,Hoja1!$A$50:$C$63,2),\"\")","v":5},{"$f":"IFERROR(VLOOKUP(F1867,Hoja1!$A$50:$C$63,3),\"\")","v":5}]
[1858,20259050036414,"2025-03-07","Persona natural","Virtual - Formulario PQRSDF","Solicitud de documentos o información","Solicitud de información hidrometeorológica",null,"Grupo de Servicio al Ciudadano","2025-03-20","Correo electrónico","2025-03-25",null,"",null,{"$f":"IFERROR(WORKDAY(N1868,Y1868,Hoja1!F1860:F1976),\"\")","v":""},{"$f":"+IF(N1868=\"\",\"\",IF(O1868=\"\",\"SIN RESPUESTA\",(IF(O1868<=P1868,\"A TIEMPO\",\"FUERA DE TIEMPO\"))))","v":""},null,"A TIEMPO",8,0,null,null,{"$f":"IFERROR(VLOOKUP(F1868,Hoja1!$A$50:$C$63,2),\"\")","v":5},{"$f":"IFERROR(VLOOKUP(F1868,Hoja1!$A$50:$C$63,3),\"\")","v":5}]
[1859,20259910036434,"2025-03-07","Persona jurídica","Virtual - Correo electrónico","Certificación de contrato","Administrativa",null,"Oficina Asesora Jurídica","2025-04-03","Correo electrónico","2025-03-25",null,"",null,{"$f":"IFERROR(WORKDAY(N1869,Y1869,Hoja1!F1861:F1977),\"\")","v":""},{"$f":"+IF(N1869=\"\",\"\",IF(O1869=\"\",\"SIN RESPUESTA\",(IF(O1869<=P1869,\"A TIEMPO\",\"FUERA DE TIEMPO\"))))","v":""},null,{"$f":"+IF(C1869=\"\",\"\",IF(J1869=\"\",\"SIN RESPUESTA\",(IF(J1869<=L1869,\"A TIEMPO\",\"FUERA DE TIEMPO\"))))","v":"FUERA DE TIEMPO"},17,7,null,null,{"$f":"IFERROR(VLOOKUP(F1869,Hoja1!$A$50:$C$63,2),\"\")","v":15},{"$f":"IFERROR(VLOOKUP(F1869,Hoja1!$A$50:$C$63,3),\"\")","v":15}]
[1860,20259910036454,"2025-03-07","Persona jurídica","Virtual - Correo electrónico","Solicitud de documentos o información","Registros ambientales",null,"Subdirección de Estudios Ambientales","2025-03-17","Correo electrónico","2025-03-25",null,"",null,{"$f":"IFERROR(WORKDAY(N1870,Y1870,Hoja1!F1862:F1978),\"\")","v":""},{"$f":"+IF(N1870=\"\",\"\",IF(O1870=\"\",\"SIN RESPUESTA\",(IF(O1870<=P1870,\"A TIEMPO\",\"FUERA DE TIEMPO\"))))","v":""},null,"A TIEMPO",6,0,null,null,{"$f":"IFERROR(VLOOKUP(F1870,Hoja1!$A$50:$C$63,2),\"\")","v":5},{"$f":"IFERROR(VLOOKUP(F1870,Hoja1!$A$50:$C$63,3),\"\")","v":5}]
[1861,20259910036484,"2025-03-07","Persona natural","Virtual - Correo electrónico","Solicitud de documentos o información","Solicitud de información hidrometeorológica",null,"Grupo de Servicio al Ciudadano","2025-03-20","Correo electrónico","2025-03-25",null,"",null,{"$f":"IFERROR(WORKDAY(N1871,Y1871,Hoja1!F1863:F1979),\"\")","v":""},{"$f":"+IF(N1871=\"\",\"\",IF(O1871=\"\",\"SIN RESPUESTA\",(IF(O1871<=P1871,\"A TIEMPO\",\"FUERA DE TIEMPO\"))))","v":""},null,"A TIEMPO",8,0,null,null,{"$f":"IFERROR(VLOOKUP(F1871,Hoja1!$A$50:$C$63,2),\"\")","v":5},{"$f":"IFERROR(VLOOKUP(F1871,Hoja1!$A$50:$C$63,3),\"\")","v":5}]
[1862,20259910036514,"2025-03-07","Persona jurídica","Virtual - Correo electrónico","Certificación de tiempo, clima y eventos hidrológicos","Certificaciones del tiempo y clima",null,"Subdirección de Meteorología","2025-04-02","Correo electrónico","2025-04-24",null,"",null,{"$f":"IFERROR(WORKDAY(N1872,Y1872,Hoja1!F1864:F1980),\"\")","v":""},{"$f":"+IF(N1872=\"\",\"\",IF(O1872=\"\",\"SIN RESPUESTA\",(IF(O1872<=P1872,\"A TIEMPO\",\"FUERA DE TIEMPO\"))))","v":""},null,"A TIEMPO",16,0,null,null,{"$f":"IFERROR(VLOOKUP(F1872,Hoja1!$A$50:$C$63,2),\"\")","v":15},{"$f":"IFERROR(VLOOKUP(F1872,Hoja1!$A$50:$C$63,3),\"\")","v":15}]
[{"$f":"IF(B1873<>\"\",A1872+1,\"\")","v":1863},20259910036554,"2025-03-07","Persona jurídica","Virtual - Correo electrónico","Solicitud de documentos o información","Registros ambientales",null,"Subdirección de Estudios Ambientales","2025-03-10","Correo electrónico","2025-03-25",null,"",null,{"$f":"IFERROR(WORKDAY(N1873,Y1873,Hoja1!F1865:F1981),\"\")","v":""},{"$f":"+IF(N1873=\"\",\"\",IF(O1873=\"\",\"SIN RESPUESTA\",(IF(O1873<=P1873,\"A TIEMPO\",\"FUERA DE TIEMPO\"))))","v":""},null,"A TIEMPO",1,0,null,null,{"$f":"IFERROR(VLOOKUP(F1873,Hoja1!$A$50:$C$63,2),\"\")","v":5},{"$f":"IFERROR(VLOOKUP(F1873,Hoja1!$A$50:$C$63,3),\"\")","v":5}]
[1864,20259910036544,"2025-03-07","Persona jurídica","Virtual - Correo electrónico","Solicitud de documentos o información","Solicitud de información hidrometeorológica",null,"Área Operativa No. 8 - Bucaramanga","2025-03-17","Correo electrónico","2025-03-25",null,"",null,{"$f":"IFERROR(WORKDAY(N1874,Y1874,Hoja1!F1866:F1982),\"\")","v":""},{"$f":"+IF(N1874=\"\",\"\",IF(O1874=\"\",\"SIN RESPUESTA\",(IF(O1874<=P1874,\"A TIEMPO\",\"FUERA DE TIEMPO\"))))","v":""},null,"A TIEMPO",6,0,null,null,{"$f":"IFERROR(VLOOKUP(F1874,Hoja1!$A$50:$C$63,2),\"\")","v":5},{"$f":"IFERROR(VLOOKUP(F1874,Hoja1!$A$50:$C$63,3),\"\")","v":5}]
[1865,20259910036564,"2025-03-07","Persona jurídica","Virtual - Correo electrónico","Solicitud judicial","Administrativa",null,"Secretaría General","2025-03-11","Correo electrónico","2025-03-14",null,"",null,{"$f":"IFERROR(WORKDAY(N1875,Y1875,Hoja1!F1867:F1983),\"\")","v":""},{"$f":"+IF(N1875=\"\",\"\",IF(O1875=\"\",\"SIN RESPUESTA\",(IF(O1875<=P1875,\"A TIEMPO\",\"FUERA DE TIEMPO\"))))","v":""},null,"A TIEMPO",2,0,null,null,{"$f":"IFERROR(VLOOKUP(F1875,Hoja1!$A$50:$C$63,2),\"\")","v":5},{"$f":"IFERROR(VLOOKUP(F1875,Hoja1!$A$50:$C$63,3),\"\")","v":5}]
[1866,20259910036584,"2025-03-07","Persona natural","Virtual - Correo electrónico","Solicitud de documentos o información","Solicitud de información hidrometeorológica",null,"Subdirección de Hidrología","2025-03-13","Correo electrónico","2025-03-25",null,"",null,{"$f":"IFERROR(WORKDAY(N1876,Y1876,Hoja1!F1868:F1984),\"\")","v":""},{"$f":"+IF(N1876=\"\",\"\",IF(O1876=\"\",\"SIN RESPUESTA\",(IF(O1876<=P1876,\"A TIEMPO\",\"FUERA DE TIEMPO\"))))","v":""},null,"A TIEMPO",4,0,null,null,{"$f":"IFERROR(VLOOKUP(F1876,Hoja1!$A$50:$C$63,2),\"\")","v":5},{"$f":"IFERROR(VLOOKUP(F1876,Hoja1!$A$50:$C$63,3),\"\")","v":5}]
[1867,20259910036594,"2025-03-07","Persona jurídica","Virtual - Correo electrónico","Solicitud de documentos o información","Informes ambientales",null,"Subdirección de Estudios Ambientales","2025-03-19","Correo electrónico","2025-03-25",null,"",null,{"$f":"IFERROR(WORKDAY(N1877,Y1877,Hoja1!F1869:F1985),\"\")","v":""},{"$f":"+IF(N1877=\"\",\"\",IF(O1877=\"\",\"SIN RESPUESTA\",(IF(O1877<=P1877,\"A TIEMPO\",\"FUERA DE TIEMPO\"))))","v":""},null,"A TIEMPO",7,0,null,null,{"$f":"IFERROR(VLOOKUP(F1877,Hoja1!$A$50:$C$63,2),\"\")","v":5},{"$f":"IFERROR(VLOOKUP(F1877,Hoja1!$A$50:$C$63,3),\"\")","v":5}]
[1868,20259050036604,"2025-03-07","Persona natural","Virtual - Formulario PQRSDF","Solicitud de documentos o información","Modelamiento meteorológico",null,"Subdirección de Meteorología","2025-03-20","Correo electrónico","2025-03-25",null,"",null,{"$f":"IFERROR(WORKDAY(N1878,Y1878,Hoja1!F1870:F1986),\"\")","v":""},{"$f":"+IF(N1878=\"\",\"\",IF(O1878=\"\",\"SIN RESPUESTA\",(IF(O1878<=P1878,\"A TIEMPO\",\"FUERA DE TIEMPO\"))))","v":""},null,"A TIEMPO",8,0,null,null,{"$f":"IFERROR(VLOOKUP(F1878,Hoja1!$A$50:$C$63,2),\"\")","v":5},{"$f":"IFERROR(VLOOKUP(F1878,Hoja1!$A$50:$C$63,3),\"\")","v":5}]
[1869,20259910036664,"2025-03-07","Persona natural","Virtual - Correo electrónico","Certificación laboral o pasantía","Administrativa",null,"Grupo de Administración y Desarrollo del Talento Humano","2025-03-20","Correo electrónico","2025-03-25",null,"",null,{"$f":"IFERROR(WORKDAY(N1879,Y1879,Hoja1!F1871:F1987),\"\")","v":""},{"$f":"+IF(N1879=\"\",\"\",IF(O1879=\"\",\"SIN RESPUESTA\",(IF(O1879<=P1879,\"A TIEMPO\",\"FUERA DE TIEMPO\"))))","v":""},null,"A TIEMPO",8,0,null,null,{"$f":"IFERROR(VLOOKUP(F1879,Hoja1!$A$50:$C$63,2),\"\")","v":15},{"$f":"IFERROR(VLOOKUP(F1879,Hoja1!$A$50:$C$63,3),\"\")","v":15}]
[1870,20259910036694,"2025-03-07","Persona jurídica","Virtual - Correo electrónico","Solicitud de documentos o información","Informes ambientales",null,"Subdirección de Estudios Ambientales","2025-03-28","Correo electrónico","2025-03-25",null,"",null,{"$f":"IFERROR(WORKDAY(N1880,Y1880,Hoja1!F1872:F1988),\"\")","v":""},{"$f":"+IF(N1880=\"\",\"\",IF(O1880=\"\",\"SIN RESPUESTA\",(IF(O1880<=P1880,\"A TIEMPO\",\"FUERA DE TIEMPO\"))))","v":""},null,{"$f":"+IF(C1880=\"\",\"\",IF(J1880=\"\",\"SIN RESPUESTA\",(IF(J1880<=L1880,\"A TIEMPO\",\"FUERA DE TIEMPO\"))))","v":"FUERA DE TIEMPO"},13,3,null,null,{"$f":"IFERROR(VLOOKUP(F1880,Hoja1!$A$50:$C$63,2),\"\")","v":5},{"$f":"IFERROR(VLOOKUP(F1880,Hoja1!$A$50:$C$63,3),\"\")","v":5}]
[1871,20259910036844,"2025-03-07","PRUEBA","Virtual - Formulario PQRSDF","Solicitud de documentos o información","PRUEBA",null,"PRUEBA","2025-03-07","Correo electrónico","2025-03-25",null,"",null,{"$f":"IFERROR(WORKDAY(N1881,Y1881,Hoja1!F1873:F1989),\"\")","v":""},{"$f":"+IF(N1881=\"\",\"\",IF(O1881=\"\",\"SIN RESPUESTA\",(IF(O1881<=P1881,\"A TIEMPO\",\"FUERA DE TIEMPO\"))))","v":""},null,"A TIEMPO",0,0,null,null,{"$f":"IFERROR(VLOOKUP(F1881,Hoja1!$A$50:$C$63,2),\"\")","v":5},{"$f":"IFERROR(VLOOKUP(F1881,Hoja1!$A$50:$C$63,3),\"\")","v":5}]
[1872,20259910036614,"2025-03-07","Persona natural","Virtual - Correo electrónico","Solicitud de documentos o información","Solicitud de información hidrometeorológica",null,"Subdirección de Meteorología","2025-03-14","Correo electrónico","2025-03-25",null,"",null,{"$f":"IFERROR(WORKDAY(N1882,Y1882,Hoja1!F1874:F1990),\"\")","v":""},{"$f":"+IF(N1882=\"\",\"\",IF(O1882=\"\",\"SIN RESPUESTA\",(IF(O1882<=P1882,\"A TIEMPO\",\"FUERA DE TIEMPO\"))))","v":""},null,"A TIEMPO",5,0,null,null,{"$f":"IFERROR(VLOOKUP(F1882,Hoja1!$A$50:$C$63,2),\"\")","v":5},{"$f":"IFERROR(VLOOKUP(F1882,Hoja1!$A$50:$C$63,3),\"\")","v":5}]
[1873,20259910036634,"2025-03-07","Persona jurídica","Virtual - Correo electrónico","Petición entre entidades","Registros ambientales",null,"Subdirección de Estudios Ambientales","2025-03-27","Correo electrónico","2025-03-25",null,"",null,{"$f":"IFERROR(WORKDAY(N1883,Y1883,Hoja1!F1875:F1991),\"\")","v":""},{"$f":"+IF(N1883=\"\",\"\",IF(O1883=\"\",\"SIN RESPUESTA\",(IF(O1883<=P1883,\"A TIEMPO\",\"FUERA DE TIEMPO\"))))","v":""},null,{"$f":"+IF(C1883=\"\",\"\",IF(J1883=\"\",\"SIN RESPUESTA\",(IF(J1883<=L1883,\"A TIEMPO\",\"FUERA DE TIEMPO\"))))","v":"FUERA DE TIEMPO"},12,2,null,null,{"$f":"IFERROR(VLOOKUP(F1883,Hoja1!$A$50:$C$63,2),\"\")","v":10},{"$f":"IFERROR(VLOOKUP(F1883,Hoja1!$A$50:$C$63,3),\"\")","v":10}]
[1874,20259910036714,"2025-03-07","Persona jurídica","Correo certificado","Solicitud judicial","Solicitud de información hidrometeorológica",null,"Subdirección de Hidrología","2025-03-10","Correo electrónico","2025-03-14",null,"",null,{"$f":"IFERROR(WORKDAY(N1884,Y1884,Hoja1!F1876:F1992),\"\")","v":""},{"$f":"+IF(N1884=\"\",\"\",IF(O1884=\"\",\"SIN RESPUESTA\",(IF(O1884<=P1884,\"A TIEMPO\",\"FUERA DE TIEMPO\"))))","v":""},null,"A TIEMPO",1,0,null,null,{"$f":"IFERROR(VLOOKUP(F1884,Hoja1!$A$50:$C$63,2),\"\")","v":5},{"$f":"IFERROR(VLOOKUP(F1884,Hoja1!$A$50:$C$63,3),\"\")","v":5}]
[1875,20259910036734,"2025-03-07","Persona natural","Virtual - Correo electrónico","Solicitud de documentos o información","Administrativa",null,"Dirección General","2025-03-21","Correo electrónico","2025-03-25",null,"",null,{"$f":"IFERROR(WORKDAY(N1885,Y1885,Hoja1!F1877:F1993),\"\")","v":""},{"$f":"+IF(N1885=\"\",\"\",IF(O1885=\"\",\"SIN RESPUESTA\",(IF(O1885<=P1885,\"A TIEMPO\",\"FUERA DE TIEMPO\"))))","v":""},null,"A TIEMPO",9,0,null,null,{"$f":"IFERROR(VLOOKUP(F1885,Hoja1!$A$50:$C$63,2),\"\")","v":5},{"$f":"IFERROR(VLOOKUP(F1885,Hoja1!$A$50:$C$63,3),\"\")","v":5}]
[1876,20259910036744,"2025-03-07","Persona jurídica","Virtual - Correo electrónico","Solicitud de documentos o información","Registros ambientales",null,"Subdirección de Estudios Ambientales","2025-03-19","Correo electrónico","2025-03-25",null,"",null,{"$f":"IFERROR(WORKDAY(N1886,Y1886,Hoja1!F1878:F1994),\"\")","v":""},{"$f":"+IF(N1886=\"\",\"\",IF(O1886=\"\",\"SIN RESPUESTA\",(IF(O1886<=P1886,\"A TIEMPO\",\"FUERA DE TIEMPO\"))))","v":""},null,"A TIEMPO",7,0,null,null,{"$f":"IFERROR(VLOOKUP(F1886,Hoja1!$A$50:$C$63,2),\"\")","v":5},{"$f":"IFERROR(VLOOKUP(F1886,Hoja1!$A$50:$C$63,3),\"\")","v":5}]
[1877,20259050036754,"2025-03-07","Persona natural","Virtual - Formulario PQRSDF","Solicitud de documentos o información","Solicitud de información hidrometeorológica",null,"Subdirección de Meteorología","2025-03-14","Correo electrónico","2025-03-25",null,"",null,{"$f":"IFERROR(WORKDAY(N1887,Y1887,Hoja1!F1879:F1995),\"\")","v":""},{"$f":"+IF(N1887=\"\",\"\",IF(O1887=\"\",\"SIN RESPUESTA\",(IF(O1887<=P1887,\"A TIEMPO\",\"FUERA DE TIEMPO\"))))","v":""},null,"A TIEMPO",5,0,null,null,{"$f":"IFERROR(VLOOKUP(F1887,Hoja1!$A$50:$C$63,2),\"\")","v":5},{"$f":"IFERROR(VLOOKUP(F1887,Hoja1!$A$50:$C$63,3),\"\")","v":5}]
[1878,20259050036764,"2025-03-07","Persona natural","Virtual - Formulario PQRSDF","Certificación laboral o pasantía","Administrativa",null,"Grupo de Administración y Desarrollo del Talento Humano","2025-03-25","Correo electrónico","2025-03-25",null,"",null,{"$f":"IFERROR(WORKDAY(N1888,Y1888,Hoja1!F1880:F1996),\"\")","v":""},{"$f":"+IF(N1888=\"\",\"\",IF(O1888=\"\",\"SIN RESPUESTA\",(IF(O1888<=P1888,\"A TIEMPO\",\"FUERA DE TIEMPO\"))))","v":""},null,"A TIEMPO",10,0,null,null,{"$f":"IFERROR(VLOOKUP(F1888,Hoja1!$A$50:$C$63,2),\"\")","v":15},{"$f":"IFERROR(VLOOKUP(F1888,Hoja1!$A$50:$C$63,3),\"\")","v":15}]
[1879,20259910036784,"2025-03-07","Persona natural","Virtual - Correo electrónico","Certificación laboral o pasantía","Administrativa",null,"Grupo de Administración y Desarrollo del Talento Humano","2025-03-25","Correo electrónico","2025-03-25",null,"",null,{"$f":"IFERROR(WORKDAY(N1889,Y1889,Hoja1!F1881:F1997),\"\")","v":""},{"$f":"+IF(N1889=\"\",\"\",IF(O1889=\"\",\"SIN RESPUESTA\",(IF(O1889<=P1889,\"A TIEMPO\",\"FUERA DE TIEMPO\"))))","v":""},null,"A TIEMPO",10,0,null,null,{"$f":"IFERROR(VLOOKUP(F1889,Hoja1!$A$50:$C$63,2),\"\")","v":15},{"$f":"IFERROR(VLOOKUP(F1889,Hoja1!$A$50:$C$63,3),\"\")","v":15}]
[1880,20259910036794,"2025-03-07","Persona jurídica","Virtual - Correo electrónico","Solicitud de documentos o información","Registros ambientales",null,"Subdirección de Estudios Ambientales","2025-03-19","Correo electrónico","2025-03-25",null,"",null,{"$f":"IFERROR(WORKDAY(N1890,Y1890,Hoja1!F1882:F1998),\"\")","v":""},{"$f":"+IF(N1890=\"\",\"\",IF(O1890=\"\",\"SIN RESPUESTA\",(IF(O1890<=P1890,\"A TIEMPO\",\"FUERA DE TIEMPO\"))))","v":""},null,"A TIEMPO",7,0,null,null,{"$f":"IFERROR(VLOOKUP(F1890,Hoja1!$A$50:$C$63,2),\"\")","v":5},{"$f":"IFERROR(VLOOKUP(F1890,Hoja1!$A$50:$C$63,3),\"\")","v":5}]
[1881,20259910036804,"2025-03-07","Persona jurídica","Virtual - Correo electrónico","Solicitud de documentos o información","Registros ambientales",null,"Subdirección de Estudios Ambientales","2025-03-12","Correo electrónico","2025-03-25",null,"",null,{"$f":"IFERROR(WORKDAY(N1891,Y1891,Hoja1!F1883:F1999),\"\")","v":""},{"$f":"+IF(N1891=\"\",\"\",IF(O1891=\"\",\"SIN RESPUESTA\",(IF(O1891<=P1891,\"A TIEMPO\",\"FUERA DE TIEMPO\"))))","v":""},null,"A TIEMPO",3,0,null,null,{"$f":"IFERROR(VLOOKUP(F1891,Hoja1!$A$50:$C$63,2),\"\")","v":5},{"$f":"IFERROR(VLOOKUP(F1891,Hoja1!$A$50:$C$63,3),\"\")","v":5}]
[1882,20259910036824,"2025-03-07","Persona jurídica","Virtual - Correo electrónico","Solicitud de documentos o información","Informes ambientales",null,"Subdirección de Estudios Ambientales","2025-04-29","Correo electrónico","2025-03-25",null,"",null,{"$f":"IFERROR(WORKDAY(N1892,Y1892,Hoja1!F1884:F2000),\"\")","v":""},{"$f":"+IF(N1892=\"\",\"\",IF(O1892=\"\",\"SIN RESPUESTA\",(IF(O1892<=P1892,\"A TIEMPO\",\"FUERA DE TIEMPO\"))))","v":""},null,{"$f":"+IF(C1892=\"\",\"\",IF(J1892=\"\",\"SIN RESPUESTA\",(IF(J1892<=L1892,\"A TIEMPO\",\"FUERA DE TIEMPO\"))))","v":"FUERA DE TIEMPO"},33,23,null,null,{"$f":"IFERROR(VLOOKUP(F1892,Hoja1!$A$50:$C$63,2),\"\")","v":5},{"$f":"IFERROR(VLOOKUP(F1892,Hoja1!$A$50:$C$63,3),\"\")","v":5}]
[1883,20259910036834,"2025-03-07","Persona natural","Virtual - Correo electrónico","Solicitud de documentos o información","Administrativa",null,"Secretaría General","2025-03-20","Correo electrónico","2025-03-25",null,"",null,{"$f":"IFERROR(WORKDAY(N1893,Y1893,Hoja1!F1885:F2001),\"\")","v":""},{"$f":"+IF(N1893=\"\",\"\",IF(O1893=\"\",\"SIN RESPUESTA\",(IF(O1893<=P1893,\"A TIEMPO\",\"FUERA DE TIEMPO\"))))","v":""},null,"A TIEMPO",8,0,null,null,{"$f":"IFERROR(VLOOKUP(F1893,Hoja1!$A$50:$C$63,2),\"\")","v":5},{"$f":"IFERROR(VLOOKUP(F1893,Hoja1!$A$50:$C$63,3),\"\")","v":5}]
[1884,20259050036874,"2025-03-07","Persona natural","Virtual - Formulario PQRSDF","Solicitud de documentos o información","Solicitud de información hidrometeorológica",null,"Grupo de Servicio al Ciudadano","2025-03-20","Correo electrónico","2025-03-25",null,"",null,{"$f":"IFERROR(WORKDAY(N1894,Y1894,Hoja1!F1886:F2002),\"\")","v":""},{"$f":"+IF(N1894=\"\",\"\",IF(O1894=\"\",\"SIN RESPUESTA\",(IF(O1894<=P1894,\"A TIEMPO\",\"FUERA DE TIEMPO\"))))","v":""},null,"A TIEMPO",8,0,null,null,{"$f":"IFERROR(VLOOKUP(F1894,Hoja1!$A$50:$C$63,2),\"\")","v":5},{"$f":"IFERROR(VLOOKUP(F1894,Hoja1!$A$50:$C$63,3),\"\")","v":5}]
[1885,20259910036894,"2025-03-07","Persona jurídica","Virtual - Correo electrónico","Solicitud de documentos o información","Solicitud de información hidrometeorológica",null,"Subdirección de Meteorología","2025-03-30","Correo electrónico","2025-03-25",null,"",null,{"$f":"IFERROR(WORKDAY(N1895,Y1895,Hoja1!F1887:F2003),\"\")","v":""},{"$f":"+IF(N1895=\"\",\"\",IF(O1895=\"\",\"SIN RESPUESTA\",(IF(O1895<=P1895,\"A TIEMPO\",\"FUERA DE TIEMPO\"))))","v":""},null,{"$f":"+IF(C1895=\"\",\"\",IF(J1895=\"\",\"SIN RESPUESTA\",(IF(J1895<=L1895,\"A TIEMPO\",\"FUERA DE TIEMPO\"))))","v":"FUERA DE TIEMPO"},13,3,null,null,{"$f":"IFERROR(VLOOKUP(F1895,Hoja1!$A$50:$C$63,2),\"\")","v":5},{"$f":"IFERROR(VLOOKUP(F1895,Hoja1!$A$50:$C$63,3),\"\")","v":5}]
[1886,20259910036914,"2025-03-07","Persona jurídica","Virtual - Correo electrónico","Solicitud de documentos o información","Registros ambientales",null,"Subdirección de Estudios Ambientales","2025-03-21","Correo electrónico","2025-03-25",null,"",null,{"$f":"IFERROR(WORKDAY(N1896,Y1896,Hoja1!F1888:F2004),\"\")","v":""},{"$f":"+IF(N1896=\"\",\"\",IF(O1896=\"\",\"SIN RESPUESTA\",(IF(O1896<=P1896,\"A TIEMPO\",\"FUERA DE TIEMPO\"))))","v":""},null,"A TIEMPO",9,0,null,null,{"$f":"IFERROR(VLOOKUP(F1896,Hoja1!$A$50:$C$63,2),\"\")","v":5},{"$f":"IFERROR(VLOOKUP(F1896,Hoja1!$A$50:$C$63,3),\"\")","v":5}]
[1887,20259910036924,"2025-03-07","Persona jurídica","Virtual - Correo electrónico","Solicitud de documentos o información","Registros ambientales",null,"Subdirección de Estudios Ambientales","2025-03-26","Correo electrónico","2025-03-25",null,"",null,{"$f":"IFERROR(WORKDAY(N1897,Y1897,Hoja1!F1889:F2005),\"\")","v":""},{"$f":"+IF(N1897=\"\",\"\",IF(O1897=\"\",\"SIN RESPUESTA\",(IF(O1897<=P1897,\"A TIEMPO\",\"FUERA DE TIEMPO\"))))","v":""},null,{"$f":"+IF(C1897=\"\",\"\",IF(J1897=\"\",\"SIN RESPUESTA\",(IF(J1897<=L1897,\"A TIEMPO\",\"FUERA DE TIEMPO\"))))","v":"FUERA DE TIEMPO"},11,1,null,null,{"$f":"IFERROR(VLOOKUP(F1897,Hoja1!$A$50:$C$63,2),\"\")","v":5},{"$f":"IFERROR(VLOOKUP(F1897,Hoja1!$A$50:$C$63,3),\"\")","v":5}]
[1888,20259910036944,"2025-03-07","Persona natural","Virtual - Correo electrónico","Solicitud de documentos o información","Solicitud de información hidrometeorológica",null,"Grupo de Servicio al Ciudadano","2025-03-25","Correo electrónico","2025-03-25",null,"",null,{"$f":"IFERROR(WORKDAY(N1898,Y1898,Hoja1!F1890:F2006),\"\")","v":""},{"$f":"+IF(N1898=\"\",\"\",IF(O1898=\"\",\"SIN RESPUESTA\",(IF(O1898<=P1898,\"A TIEMPO\",\"FUERA DE TIEMPO\"))))","v":""},null,"A TIEMPO",10,0,null,null,{"$f":"IFERROR(VLOOKUP(F1898,Hoja1!$A$50:$C$63,2),\"\")","v":5},{"$f":"IFERROR(VLOOKUP(F1898,Hoja1!$A$50:$C$63,3),\"\")","v":5}]
[1889,20259910036954,"2025-03-07","Persona jurídica","Virtual - Correo electrónico","Solicitud judicial","Modelamiento meteorológico",null,"Subdirección de Meteorología","2025-03-12","Correo electrónico","2025-03-14",null,"",null,{"$f":"IFERROR(WORKDAY(N1899,Y1899,Hoja1!F1891:F2007),\"\")","v":""},{"$f":"+IF(N1899=\"\",\"\",IF(O1899=\"\",\"SIN RESPUESTA\",(IF(O1899<=P1899,\"A TIEMPO\",\"FUERA DE TIEMPO\"))))","v":""},null,"A TIEMPO",3,0,null,null,{"$f":"IFERROR(VLOOKUP(F1899,Hoja1!$A$50:$C$63,2),\"\")","v":5},{"$f":"IFERROR(VLOOKUP(F1899,Hoja1!$A$50:$C$63,3),\"\")","v":5}]
[1890,20259910036964,"2025-03-07","Persona jurídica","Virtual - Correo electrónico","Solicitud de documentos o información","Solicitud de información hidrometeorológica",null,"Oficina del Servicio de Pronósticos y Alertas","2025-03-26","Correo electrónico","2025-03-25","Si","2025-04-08","2025-03-26",{"$f":"IFERROR(WORKDAY(N1900,Y1900,Hoja1!F1892:F2008),\"\")","v":"2025-04-15"},{"$f":"+IF(N1900=\"\",\"\",IF(O1900=\"\",\"SIN RESPUESTA\",(IF(O1900<=P1900,\"A TIEMPO\",\"FUERA DE TIEMPO\"))))","v":"A TIEMPO"},null,"A TIEMPO",11,0,null,null,{"$f":"IFERROR(VLOOKUP(F1900,Hoja1!$A$50:$C$63,2),\"\")","v":5},{"$f":"IFERROR(VLOOKUP(F1900,Hoja1!$A$50:$C$63,3),\"\")","v":5}]
[1891,20259050036994,"2025-03-07","Persona natural","Virtual - Formulario PQRSDF","Solicitud de documentos o información","Solicitud de información hidrometeorológica",null,"Grupo de Servicio al Ciudadano","2025-03-19","Correo electrónico","2025-03-25",null,"",null,{"$f":"IFERROR(WORKDAY(N1901,Y1901,Hoja1!F1893:F2009),\"\")","v":""},{"$f":"+IF(N1901=\"\",\"\",IF(O1901=\"\",\"SIN RESPUESTA\",(IF(O1901<=P1901,\"A TIEMPO\",\"FUERA DE TIEMPO\"))))","v":""},null,"A TIEMPO",7,0,null,null,{"$f":"IFERROR(VLOOKUP(F1901,Hoja1!$A$50:$C$63,2),\"\")","v":5},{"$f":"IFERROR(VLOOKUP(F1901,Hoja1!$A$50:$C$63,3),\"\")","v":5}]
[1892,20259050037224,"2025-03-07","Persona jurídica","Virtual - Formulario PQRSDF","Solicitud de documentos o información","Registros ambientales",null,"Subdirección de Estudios Ambientales","2025-03-25","Correo electrónico","2025-03-25",null,"",null,{"$f":"IFERROR(WORKDAY(N1902,Y1902,Hoja1!F1894:F2010),\"\")","v":""},{"$f":"+IF(N1902=\"\",\"\",IF(O1902=\"\",\"SIN RESPUESTA\",(IF(O1902<=P1902,\"A TIEMPO\",\"FUERA DE TIEMPO\"))))","v":""},null,"A TIEMPO",10,0,null,null,{"$f":"IFERROR(VLOOKUP(F1902,Hoja1!$A$50:$C$63,2),\"\")","v":5},{"$f":"IFERROR(VLOOKUP(F1902,Hoja1!$A$50:$C$63,3),\"\")","v":5}]
[1893,20259050037234,"2025-03-08","Persona natural","Virtual - Formulario PQRSDF","Solicitud de documentos o información","Solicitud de información hidrometeorológica",null,"Grupo de Servicio al Ciudadano","2025-03-14","Correo electrónico","2025-03-25",null,"",null,{"$f":"IFERROR(WORKDAY(N1903,Y1903,Hoja1!F1895:F2011),\"\")","v":""},{"$f":"+IF(N1903=\"\",\"\",IF(O1903=\"\",\"SIN RESPUESTA\",(IF(O1903<=P1903,\"A TIEMPO\",\"FUERA DE TIEMPO\"))))","v":""},null,"A TIEMPO",4,0,null,null,{"$f":"IFERROR(VLOOKUP(F1903,Hoja1!$A$50:$C$63,2),\"\")","v":5},{"$f":"IFERROR(VLOOKUP(F1903,Hoja1!$A$50:$C$63,3),\"\")","v":5}]
[1894,20259260037304,"2025-03-10","Persona jurídica","Virtual - Correo electrónico","Petición entre autoridades","Administrativa",null,"Subdirección de Meteorología","2025-03-10","Correo electrónico","2025-03-26",null,"",null,{"$f":"IFERROR(WORKDAY(N1904,Y1904,Hoja1!F1896:F2012),\"\")","v":""},{"$f":"+IF(N1904=\"\",\"\",IF(O1904=\"\",\"SIN RESPUESTA\",(IF(O1904<=P1904,\"A TIEMPO\",\"FUERA DE TIEMPO\"))))","v":""},null,"A TIEMPO",0,0,null,null,{"$f":"IFERROR(VLOOKUP(F1904,Hoja1!$A$50:$C$63,2),\"\")","v":10},{"$f":"IFERROR(VLOOKUP(F1904,Hoja1!$A$50:$C$63,3),\"\")","v":10}]
[1895,20259260037314,"2025-03-10","Persona natural","Virtual - Correo electrónico","Solicitud de documentos o información","Solicitud de información hidrometeorológica",null,"Grupo de Servicio al Ciudadano","2025-03-19","Correo electrónico","2025-03-26",null,"",null,{"$f":"IFERROR(WORKDAY(N1905,Y1905,Hoja1!F1897:F2013),\"\")","v":""},{"$f":"+IF(N1905=\"\",\"\",IF(O1905=\"\",\"SIN RESPUESTA\",(IF(O1905<=P1905,\"A TIEMPO\",\"FUERA DE TIEMPO\"))))","v":""},null,"A TIEMPO",6,0,null,null,{"$f":"IFERROR(VLOOKUP(F1905,Hoja1!$A$50:$C$63,2),\"\")","v":5},{"$f":"IFERROR(VLOOKUP(F1905,Hoja1!$A$50:$C$63,3),\"\")","v":5}]
[1896,20259910037334,"2025-03-10","Persona jurídica","Virtual - Correo electrónico","Solicitud de documentos o información","Registros ambientales",null,"Subdirección de Estudios Ambientales","2025-03-25","Correo electrónico","2025-03-26",null,"",null,{"$f":"IFERROR(WORKDAY(N1906,Y1906,Hoja1!F1898:F2014),\"\")","v":""},{"$f":"+IF(N1906=\"\",\"\",IF(O1906=\"\",\"SIN RESPUESTA\",(IF(O1906<=P1906,\"A TIEMPO\",\"FUERA DE TIEMPO\"))))","v":""},null,"A TIEMPO",9,0,null,null,{"$f":"IFERROR(VLOOKUP(F1906,Hoja1!$A$50:$C$63,2),\"\")","v":5},{"$f":"IFERROR(VLOOKUP(F1906,Hoja1!$A$50:$C$63,3),\"\")","v":5}]
[1897,20259910037344,"2025-03-10","Persona jurídica","Virtual - Correo electrónico","Solicitud de documentos o información","Registros ambientales",null,"Subdirección de Estudios Ambientales","2025-03-19","Correo electrónico","2025-03-26",null,"",null,{"$f":"IFERROR(WORKDAY(N1907,Y1907,Hoja1!F1899:F2015),\"\")","v":""},{"$f":"+IF(N1907=\"\",\"\",IF(O1907=\"\",\"SIN RESPUESTA\",(IF(O1907<=P1907,\"A TIEMPO\",\"FUERA DE TIEMPO\"))))","v":""},null,"A TIEMPO",6,0,null,null,{"$f":"IFERROR(VLOOKUP(F1907,Hoja1!$A$50:$C$63,2),\"\")","v":5},{"$f":"IFERROR(VLOOKUP(F1907,Hoja1!$A$50:$C$63,3),\"\")","v":5}]
[1898,20259910037364,"2025-03-10","Persona natural","Virtual - Correo electrónico","Solicitud de documentos o información","Registros ambientales",null,"Subdirección de Estudios Ambientales","2025-03-25","Correo electrónico","2025-03-26",null,"",null,{"$f":"IFERROR(WORKDAY(N1908,Y1908,Hoja1!F1900:F2016),\"\")","v":""},{"$f":"+IF(N1908=\"\",\"\",IF(O1908=\"\",\"SIN RESPUESTA\",(IF(O1908<=P1908,\"A TIEMPO\",\"FUERA DE TIEMPO\"))))","v":""},null,"A TIEMPO",9,0,null,null,{"$f":"IFERROR(VLOOKUP(F1908,Hoja1!$A$50:$C$63,2),\"\")","v":5},{"$f":"IFERROR(VLOOKUP(F1908,Hoja1!$A$50:$C$63,3),\"\")","v":5}]
[1899,20259910037404,"2025-03-10","Persona jurídica","Virtual - Correo electrónico","Solicitud de documentos o información","Registros ambientales",null,"Subdirección de Estudios Ambientales","2025-03-25","Correo electrónico","2025-03-26",null,"",null,{"$f":"IFERROR(WORKDAY(N1909,Y1909,Hoja1!F1901:F2017),\"\")","v":""},{"$f":"+IF(N1909=\"\",\"\",IF(O1909=\"\",\"SIN RESPUESTA\",(IF(O1909<=P1909,\"A TIEMPO\",\"FUERA DE TIEMPO\"))))","v":""},null,"A TIEMPO",9,0,null,null,{"$f":"IFERROR(VLOOKUP(F1909,Hoja1!$A$50:$C$63,2),\"\")","v":5},{"$f":"IFERROR(VLOOKUP(F1909,Hoja1!$A$50:$C$63,3),\"\")","v":5}]
[1900,20259050037424,"2025-03-10","Persona natural","Virtual - Formulario PQRSDF","Solicitud de documentos o información","Solicitud de información hidrometeorológica",null,"Grupo de Servicio al Ciudadano","2025-03-19","Correo electrónico","2025-03-26",null,"",null,{"$f":"IFERROR(WORKDAY(N1910,Y1910,Hoja1!F1902:F2018),\"\")","v":""},{"$f":"+IF(N1910=\"\",\"\",IF(O1910=\"\",\"SIN RESPUESTA\",(IF(O1910<=P1910,\"A TIEMPO\",\"FUERA DE TIEMPO\"))))","v":""},null,"A TIEMPO",6,0,null,null,{"$f":"IFERROR(VLOOKUP(F1910,Hoja1!$A$50:$C$63,2),\"\")","v":5},{"$f":"IFERROR(VLOOKUP(F1910,Hoja1!$A$50:$C$63,3),\"\")","v":5}]
[1901,20259910037434,"2025-03-10","Persona jurídica","Virtual - Correo electrónico","Certificación de tiempo, clima y eventos hidrológicos","Certificaciones del tiempo y clima",null,"Subdirección de Meteorología","2025-04-21","Correo electrónico","2025-04-25",null,"",null,{"$f":"IFERROR(WORKDAY(N1911,Y1911,Hoja1!F1903:F2019),\"\")","v":""},{"$f":"+IF(N1911=\"\",\"\",IF(O1911=\"\",\"SIN RESPUESTA\",(IF(O1911<=P1911,\"A TIEMPO\",\"FUERA DE TIEMPO\"))))","v":""},null,"A TIEMPO",26,0,null,null,{"$f":"IFERROR(VLOOKUP(F1911,Hoja1!$A$50:$C$63,2),\"\")","v":15},{"$f":"IFERROR(VLOOKUP(F1911,Hoja1!$A$50:$C$63,3),\"\")","v":15}]
[1902,20259050037454,"2025-03-10","Persona natural","Virtual - Formulario PQRSDF","Solicitud de documentos o información","Solicitud de información hidrometeorológica",null,"Grupo de Servicio al Ciudadano","2025-03-19","Correo electrónico","2025-03-26",null,"",null,{"$f":"IFERROR(WORKDAY(N1912,Y1912,Hoja1!F1904:F2020),\"\")","v":""},{"$f":"+IF(N1912=\"\",\"\",IF(O1912=\"\",\"SIN RESPUESTA\",(IF(O1912<=P1912,\"A TIEMPO\",\"FUERA DE TIEMPO\"))))","v":""},null,"A TIEMPO",6,0,null,null,{"$f":"IFERROR(VLOOKUP(F1912,Hoja1!$A$50:$C$63,2),\"\")","v":5},{"$f":"IFERROR(VLOOKUP(F1912,Hoja1!$A$50:$C$63,3),\"\")","v":5}]
[1903,20259910037464,"2025-03-10","Persona jurídica","Virtual - Correo electrónico","Solicitud de documentos o información","Registros ambientales",null,"Subdirección de Estudios Ambientales","2025-04-23","Correo electrónico","2025-03-26","Si","2025-04-09","2025-04-23",{"$f":"IFERROR(WORKDAY(N1913,Y1913,Hoja1!F1905:F2021),\"\")","v":"2025-04-16"},{"$f":"+IF(N1913=\"\",\"\",IF(O1913=\"\",\"SIN RESPUESTA\",(IF(O1913<=P1913,\"A TIEMPO\",\"FUERA DE TIEMPO\"))))","v":"FUERA DE TIEMPO"},null,{"$f":"+IF(C1913=\"\",\"\",IF(J1913=\"\",\"SIN RESPUESTA\",(IF(J1913<=L1913,\"A TIEMPO\",\"FUERA DE TIEMPO\"))))","v":"FUERA DE TIEMPO"},28,8,null,null,{"$f":"IFERROR(VLOOKUP(F1913,Hoja1!$A$50:$C$63,2),\"\")","v":5},{"$f":"IFERROR(VLOOKUP(F1913,Hoja1!$A$50:$C$63,3),\"\")","v":5}]
[1904,20259050037474,"2025-03-10","Persona natural","Virtual - Formulario PQRSDF","Solicitud de documentos o información","Solicitud de información hidrometeorológica",null,"Grupo de Servicio al Ciudadano","2025-03-25","Correo electrónico","2025-03-26",null,"",null,{"$f":"IFERROR(WORKDAY(N1914,Y1914,Hoja1!F1906:F2022),\"\")","v":""},{"$f":"+IF(N1914=\"\",\"\",IF(O1914=\"\",\"SIN RESPUESTA\",(IF(O1914<=P1914,\"A TIEMPO\",\"FUERA DE TIEMPO\"))))","v":""},null,"A TIEMPO",9,0,null,null,{"$f":"IFERROR(VLOOKUP(F1914,Hoja1!$A$50:$C$63,2),\"\")","v":5},{"$f":"IFERROR(VLOOKUP(F1914,Hoja1!$A$50:$C$63,3),\"\")","v":5}]
[1905,20259050037484,"2025-03-10","Persona natural","Virtual - Formulario PQRSDF","Solicitud de documentos o información","Solicitud de información hidrometeorológica",null,"Grupo de Servicio al Ciudadano","2025-03-25","Correo electrónico","2025-03-26",null,"",null,{"$f":"IFERROR(WORKDAY(N1915,Y1915,Hoja1!F1907:F2023),\"\")","v":""},{"$f":"+IF(N1915=\"\",\"\",IF(O1915=\"\",\"SIN RESPUESTA\",(IF(O1915<=P1915,\"A TIEMPO\",\"FUERA DE TIEMPO\"))))","v":""},null,"A TIEMPO",9,0,null,null,{"$f":"IFERROR(VLOOKUP(F1915,Hoja1!$A$50:$C$63,2),\"\")","v":5},{"$f":"IFERROR(VLOOKUP(F1915,Hoja1!$A$50:$C$63,3),\"\")","v":5}]
[1906,20259050037514,"2025-03-10","Persona natural","Virtual - Formulario PQRSDF","Solicitud de documentos o información","Solicitud de información hidrometeorológica",null,"Grupo de Servicio al Ciudadano","2025-03-25","Correo electrónico","2025-03-26",null,"",null,{"$f":"IFERROR(WORKDAY(N1916,Y1916,Hoja1!F1908:F2024),\"\")","v":""},{"$f":"+IF(N1916=\"\",\"\",IF(O1916=\"\",\"SIN RESPUESTA\",(IF(O1916<=P1916,\"A TIEMPO\",\"FUERA DE TIEMPO\"))))","v":""},null,"A TIEMPO",9,0,null,null,{"$f":"IFERROR(VLOOKUP(F1916,Hoja1!$A$50:$C$63,2),\"\")","v":5},{"$f":"IFERROR(VLOOKUP(F1916,Hoja1!$A$50:$C$63,3),\"\")","v":5}]
[1907,20259910037504,"2025-03-10","Persona natural","Virtual - Correo electrónico","Solicitud de documentos o información","Visitas académicas",null,"Grupo de Servicio al Ciudadano","2025-03-25","Correo electrónico","2025-03-26",null,"",null,{"$f":"IFERROR(WORKDAY(N1917,Y1917,Hoja1!F1909:F2025),\"\")","v":""},{"$f":"+IF(N1917=\"\",\"\",IF(O1917=\"\",\"SIN RESPUESTA\",(IF(O1917<=P1917,\"A TIEMPO\",\"FUERA DE TIEMPO\"))))","v":""},null,"A TIEMPO",9,0,null,null,{"$f":"IFERROR(VLOOKUP(F1917,Hoja1!$A$50:$C$63,2),\"\")","v":5},{"$f":"IFERROR(VLOOKUP(F1917,Hoja1!$A$50:$C$63,3),\"\")","v":5}]
[1908,20259910037524,"2025-03-10","Persona jurídica","Virtual - Correo electrónico","Solicitud de documentos o información","Registros ambientales",null,"Subdirección de Estudios Ambientales","2025-03-25","Correo electrónico","2025-03-26",null,"",null,{"$f":"IFERROR(WORKDAY(N1918,Y1918,Hoja1!F1910:F2026),\"\")","v":""},{"$f":"+IF(N1918=\"\",\"\",IF(O1918=\"\",\"SIN RESPUESTA\",(IF(O1918<=P1918,\"A TIEMPO\",\"FUERA DE TIEMPO\"))))","v":""},null,"A TIEMPO",9,0,null,null,{"$f":"IFERROR(VLOOKUP(F1918,Hoja1!$A$50:$C$63,2),\"\")","v":5},{"$f":"IFERROR(VLOOKUP(F1918,Hoja1!$A$50:$C$63,3),\"\")","v":5}]
[1909,20259910037544,"2025-03-10","Persona jurídica","Virtual - Correo electrónico","Solicitud de documentos o información","Registros ambientales",null,"Subdirección de Estudios Ambientales","2025-03-26","Correo electrónico","2025-03-26",null,"",null,{"$f":"IFERROR(WORKDAY(N1919,Y1919,Hoja1!F1911:F2027),\"\")","v":""},{"$f":"+IF(N1919=\"\",\"\",IF(O1919=\"\",\"SIN RESPUESTA\",(IF(O1919<=P1919,\"A TIEMPO\",\"FUERA DE TIEMPO\"))))","v":""},null,"A TIEMPO",10,0,null,null,{"$f":"IFERROR(VLOOKUP(F1919,Hoja1!$A$50:$C$63,2),\"\")","v":5},{"$f":"IFERROR(VLOOKUP(F1919,Hoja1!$A$50:$C$63,3),\"\")","v":5}]
[1910,20259910037554,"2025-03-10","Persona jurídica","Virtual - Correo electrónico","Solicitud de documentos o información","Registros ambientales",null,"Subdirección de Estudios Ambientales","2025-03-25","Correo electrónico","2025-03-26",null,"",null,{"$f":"IFERROR(WORKDAY(N1920,Y1920,Hoja1!F1912:F2028),\"\")","v":""},{"$f":"+IF(N1920=\"\",\"\",IF(O1920=\"\",\"SIN RESPUESTA\",(IF(O1920<=P1920,\"A TIEMPO\",\"FUERA DE TIEMPO\"))))","v":""},null,"A TIEMPO",9,0,null,null,{"$f":"IFERROR(VLOOKUP(F1920,Hoja1!$A$50:$C$63,2),\"\")","v":5},{"$f":"IFERROR(VLOOKUP(F1920,Hoja1!$A$50:$C$63,3),\"\")","v":5}]
[1911,20259910037564,"2025-03-10","Persona jurídica","Virtual - Correo electrónico","Solicitud de documentos o información","Solicitud de información hidrometeorológica",null,"Subdirección de Meteorología","2025-03-25","Correo electrónico","2025-03-26",null,"",null,{"$f":"IFERROR(WORKDAY(N1921,Y1921,Hoja1!F1913:F2029),\"\")","v":""},{"$f":"+IF(N1921=\"\",\"\",IF(O1921=\"\",\"SIN RESPUESTA\",(IF(O1921<=P1921,\"A TIEMPO\",\"FUERA DE TIEMPO\"))))","v":""},null,"A TIEMPO",9,0,null,null,{"$f":"IFERROR(VLOOKUP(F1921,Hoja1!$A$50:$C$63,2),\"\")","v":5},{"$f":"IFERROR(VLOOKUP(F1921,Hoja1!$A$50:$C$63,3),\"\")","v":5}]
[1912,20259910037574,"2025-03-10","Persona jurídica","Virtual - Correo electrónico","Solicitud de documentos o información","Registros ambientales",null,"Subdirección de Estudios Ambientales","2025-03-13","Correo electrónico","2025-03-26",null,"",null,{"$f":"IFERROR(WORKDAY(N1922,Y1922,Hoja1!F1914:F2030),\"\")","v":""},{"$f":"+IF(N1922=\"\",\"\",IF(O1922=\"\",\"SIN RESPUESTA\",(IF(O1922<=P1922,\"A TIEMPO\",\"FUERA DE TIEMPO\"))))","v":""},null,"A TIEMPO",3,0,null,null,{"$f":"IFERROR(VLOOKUP(F1922,Hoja1!$A$50:$C$63,2),\"\")","v":5},{"$f":"IFERROR(VLOOKUP(F1922,Hoja1!$A$50:$C$63,3),\"\")","v":5}]
[1913,20259910037594,"2025-03-10","Persona jurídica","Virtual - Correo electrónico","Solicitud de documentos o información","Registros ambientales",null,"Subdirección de Estudios Ambientales","2025-03-19","Correo electrónico","2025-03-26",null,"",null,{"$f":"IFERROR(WORKDAY(N1923,Y1923,Hoja1!F1915:F2031),\"\")","v":""},{"$f":"+IF(N1923=\"\",\"\",IF(O1923=\"\",\"SIN RESPUESTA\",(IF(O1923<=P1923,\"A TIEMPO\",\"FUERA DE TIEMPO\"))))","v":""},null,"A TIEMPO",6,0,null,null,{"$f":"IFERROR(VLOOKUP(F1923,Hoja1!$A$50:$C$63,2),\"\")","v":5},{"$f":"IFERROR(VLOOKUP(F1923,Hoja1!$A$50:$C$63,3),\"\")","v":5}]
[1914,20259050037604,"2025-03-10","Persona natural","Virtual - Formulario PQRSDF","Solicitud de documentos o información","Climatología",null,"Subdirección de Meteorología","2025-03-17","Correo electrónico","2025-03-26",null,"",null,{"$f":"IFERROR(WORKDAY(N1924,Y1924,Hoja1!F1916:F2032),\"\")","v":""},{"$f":"+IF(N1924=\"\",\"\",IF(O1924=\"\",\"SIN RESPUESTA\",(IF(O1924<=P1924,\"A TIEMPO\",\"FUERA DE TIEMPO\"))))","v":""},null,"A TIEMPO",5,0,null,null,{"$f":"IFERROR(VLOOKUP(F1924,Hoja1!$A$50:$C$63,2),\"\")","v":5},{"$f":"IFERROR(VLOOKUP(F1924,Hoja1!$A$50:$C$63,3),\"\")","v":5}]
[1915,20259910037614,"2025-03-10","Persona jurídica","Virtual - Correo electrónico","Solicitud de documentos o información","Registros ambientales",null,"Subdirección de Estudios Ambientales","2025-03-11","Correo electrónico","2025-03-26",null,"",null,{"$f":"IFERROR(WORKDAY(N1925,Y1925,Hoja1!F1917:F2033),\"\")","v":""},{"$f":"+IF(N1925=\"\",\"\",IF(O1925=\"\",\"SIN RESPUESTA\",(IF(O1925<=P1925,\"A TIEMPO\",\"FUERA DE TIEMPO\"))))","v":""},null,"A TIEMPO",1,0,null,null,{"$f":"IFERROR(VLOOKUP(F1925,Hoja1!$A$50:$C$63,2),\"\")","v":5},{"$f":"IFERROR(VLOOKUP(F1925,Hoja1!$A$50:$C$63,3),\"\")","v":5}]
[1916,20259910037634,"2025-03-10","Persona jurídica","Virtual - Correo electrónico","Solicitud de documentos o información","Solicitud de información hidrometeorológica",null,"Subdirección de Meteorología","2025-03-25","Correo electrónico","2025-03-26",null,"",null,{"$f":"IFERROR(WORKDAY(N1926,Y1926,Hoja1!F1918:F2034),\"\")","v":""},{"$f":"+IF(N1926=\"\",\"\",IF(O1926=\"\",\"SIN RESPUESTA\",(IF(O1926<=P1926,\"A TIEMPO\",\"FUERA DE TIEMPO\"))))","v":""},null,"A TIEMPO",9,0,null,null,{"$f":"IFERROR(VLOOKUP(F1926,Hoja1!$A$50:$C$63,2),\"\")","v":5},{"$f":"IFERROR(VLOOKUP(F1926,Hoja1!$A$50:$C$63,3),\"\")","v":5}]
[1917,20259910037644,"2025-03-10","Persona natural","Virtual - Correo electrónico","Solicitud de documentos o información","Solicitud de información hidrometeorológica",null,"Subdirección de Meteorología","2025-03-19","Correo electrónico","2025-03-26",null,"",null,{"$f":"IFERROR(WORKDAY(N1927,Y1927,Hoja1!F1919:F2035),\"\")","v":""},{"$f":"+IF(N1927=\"\",\"\",IF(O1927=\"\",\"SIN RESPUESTA\",(IF(O1927<=P1927,\"A TIEMPO\",\"FUERA DE TIEMPO\"))))","v":""},null,"A TIEMPO",6,0,null,null,{"$f":"IFERROR(VLOOKUP(F1927,Hoja1!$A$50:$C$63,2),\"\")","v":5},{"$f":"IFERROR(VLOOKUP(F1927,Hoja1!$A$50:$C$63,3),\"\")","v":5}]
[1918,20259050037744,"2025-03-10","Persona natural","Virtual - Formulario PQRSDF","Solicitud de documentos o información","Solicitud de información hidrometeorológica",null,"Grupo de Servicio al Ciudadano","2025-03-25","Correo electrónico","2025-03-26",null,"",null,{"$f":"IFERROR(WORKDAY(N1928,Y1928,Hoja1!F1920:F2036),\"\")","v":""},{"$f":"+IF(N1928=\"\",\"\",IF(O1928=\"\",\"SIN RESPUESTA\",(IF(O1928<=P1928,\"A TIEMPO\",\"FUERA DE TIEMPO\"))))","v":""},null,"A TIEMPO",9,0,null,null,{"$f":"IFERROR(VLOOKUP(F1928,Hoja1!$A$50:$C$63,2),\"\")","v":5},{"$f":"IFERROR(VLOOKUP(F1928,Hoja1!$A$50:$C$63,3),\"\")","v":5}]
[1919,20259910037764,"2025-03-10","Persona jurídica","Virtual - Correo electrónico","Solicitud de documentos o información","Solicitud de información hidrometeorológica",null,"Grupo de Servicio al Ciudadano","2025-03-25","Correo electrónico","2025-03-26",null,"",null,{"$f":"IFERROR(WORKDAY(N1929,Y1929,Hoja1!F1921:F2037),\"\")","v":""},{"$f":"+IF(N1929=\"\",\"\",IF(O1929=\"\",\"SIN RESPUESTA\",(IF(O1929<=P1929,\"A TIEMPO\",\"FUERA DE TIEMPO\"))))","v":""},null,"A TIEMPO",9,0,null,null,{"$f":"IFERROR(VLOOKUP(F1929,Hoja1!$A$50:$C$63,2),\"\")","v":5},{"$f":"IFERROR(VLOOKUP(F1929,Hoja1!$A$50:$C$63,3),\"\")","v":5}]
[1920,20259910037774,"2025-03-10","Persona jurídica","Virtual - Correo electrónico","Solicitud de documentos o información","Sistema de información ambiental",null,"Subdirección de Estudios Ambientales","2025-04-03","Correo electrónico","2025-03-26",null,"",null,{"$f":"IFERROR(WORKDAY(N1930,Y1930,Hoja1!F1922:F2038),\"\")","v":""},{"$f":"+IF(N1930=\"\",\"\",IF(O1930=\"\",\"SIN RESPUESTA\",(IF(O1930<=P1930,\"A TIEMPO\",\"FUERA DE TIEMPO\"))))","v":""},null,{"$f":"+IF(C1930=\"\",\"\",IF(J1930=\"\",\"SIN RESPUESTA\",(IF(J1930<=L1930,\"A TIEMPO\",\"FUERA DE TIEMPO\"))))","v":"FUERA DE TIEMPO"},16,6,null,null,{"$f":"IFERROR(VLOOKUP(F1930,Hoja1!$A$50:$C$63,2),\"\")","v":5},{"$f":"IFERROR(VLOOKUP(F1930,Hoja1!$A$50:$C$63,3),\"\")","v":5}]
[1921,20259910037784,"2025-03-10","Persona jurídica","Virtual - Correo electrónico","Petición entre autoridades","Sistema de información del recurso hídrico",null,"Subdirección de Hidrología","2025-03-20","Correo electrónico","2025-03-26",null,"",null,{"$f":"IFERROR(WORKDAY(N1931,Y1931,Hoja1!F1923:F2039),\"\")","v":""},{"$f":"+IF(N1931=\"\",\"\",IF(O1931=\"\",\"SIN RESPUESTA\",(IF(O1931<=P1931,\"A TIEMPO\",\"FUERA DE TIEMPO\"))))","v":""},null,"A TIEMPO",7,0,null,null,{"$f":"IFERROR(VLOOKUP(F1931,Hoja1!$A$50:$C$63,2),\"\")","v":10},{"$f":"IFERROR(VLOOKUP(F1931,Hoja1!$A$50:$C$63,3),\"\")","v":10}]
[1922,20259910037804,"2025-03-10","Persona jurídica","Virtual - Correo electrónico","Petición entre autoridades","Registros ambientales",null,"Subdirección de Estudios Ambientales","2025-03-13","Correo electrónico","2025-03-26",null,"",null,{"$f":"IFERROR(WORKDAY(N1932,Y1932,Hoja1!F1924:F2040),\"\")","v":""},{"$f":"+IF(N1932=\"\",\"\",IF(O1932=\"\",\"SIN RESPUESTA\",(IF(O1932<=P1932,\"A TIEMPO\",\"FUERA DE TIEMPO\"))))","v":""},null,"A TIEMPO",3,0,null,null,{"$f":"IFERROR(VLOOKUP(F1932,Hoja1!$A$50:$C$63,2),\"\")","v":10},{"$f":"IFERROR(VLOOKUP(F1932,Hoja1!$A$50:$C$63,3),\"\")","v":10}]
[1923,20259910037814,"2025-03-10","Persona natural","Virtual - Correo electrónico","Solicitud de documentos o información","Administrativa",null,"Oficina Asesora Jurídica","2025-03-25","Correo electrónico","2025-03-26",null,"",null,{"$f":"IFERROR(WORKDAY(N1933,Y1933,Hoja1!F1925:F2041),\"\")","v":""},{"$f":"+IF(N1933=\"\",\"\",IF(O1933=\"\",\"SIN RESPUESTA\",(IF(O1933<=P1933,\"A TIEMPO\",\"FUERA DE TIEMPO\"))))","v":""},null,"A TIEMPO",9,0,null,null,{"$f":"IFERROR(VLOOKUP(F1933,Hoja1!$A$50:$C$63,2),\"\")","v":5},{"$f":"IFERROR(VLOOKUP(F1933,Hoja1!$A$50:$C$63,3),\"\")","v":5}]
[1924,20259910037844,"2025-03-10","Persona jurídica","Virtual - Correo electrónico","Solicitud de documentos o información","Registros ambientales",null,"Subdirección de Estudios Ambientales","2025-03-12","Correo electrónico","2025-03-26",null,"",null,{"$f":"IFERROR(WORKDAY(N1934,Y1934,Hoja1!F1926:F2042),\"\")","v":""},{"$f":"+IF(N1934=\"\",\"\",IF(O1934=\"\",\"SIN RESPUESTA\",(IF(O1934<=P1934,\"A TIEMPO\",\"FUERA DE TIEMPO\"))))","v":""},null,"A TIEMPO",2,0,null,null,{"$f":"IFERROR(VLOOKUP(F1934,Hoja1!$A$50:$C$63,2),\"\")","v":5},{"$f":"IFERROR(VLOOKUP(F1934,Hoja1!$A$50:$C$63,3),\"\")","v":5}]
[1925,20259910037724,"2025-03-10","Persona jurídica","Virtual - Correo electrónico","Petición entre autoridades","Administrativa",null,"Grupo de Administración y Desarrollo del Talento Humano","2025-03-25","Correo electrónico","2025-03-26",null,"",null,{"$f":"IFERROR(WORKDAY(N1935,Y1935,Hoja1!F1927:F2043),\"\")","v":""},{"$f":"+IF(N1935=\"\",\"\",IF(O1935=\"\",\"SIN RESPUESTA\",(IF(O1935<=P1935,\"A TIEMPO\",\"FUERA DE TIEMPO\"))))","v":""},null,"A TIEMPO",9,0,null,null,{"$f":"IFERROR(VLOOKUP(F1935,Hoja1!$A$50:$C$63,2),\"\")","v":10},{"$f":"IFERROR(VLOOKUP(F1935,Hoja1!$A$50:$C$63,3),\"\")","v":10}]
[1926,20259910037794,"2025-03-10","Persona jurídica","Virtual - Correo electrónico","Petición entre autoridades","Administrativa",null,"Grupo de Administración y Desarrollo del Talento Humano","2025-03-25","Correo electrónico","2025-03-26",null,"",null,{"$f":"IFERROR(WORKDAY(N1936,Y1936,Hoja1!F1928:F2044),\"\")","v":""},{"$f":"+IF(N1936=\"\",\"\",IF(O1936=\"\",\"SIN RESPUESTA\",(IF(O1936<=P1936,\"A TIEMPO\",\"FUERA DE TIEMPO\"))))","v":""},null,"A TIEMPO",9,0,null,null,{"$f":"IFERROR(VLOOKUP(F1936,Hoja1!$A$50:$C$63,2),\"\")","v":10},{"$f":"IFERROR(VLOOKUP(F1936,Hoja1!$A$50:$C$63,3),\"\")","v":10}]
[{"$f":"IF(B1937<>\"\",A1936+1,\"\")","v":1927},20259050037864,"2025-03-10","Persona natural","Virtual - Formulario PQRSDF","Solicitud de documentos o información","Sistema de información del recurso hídrico",null,"Subdirección de Meteorología","2025-03-17","Correo electrónico","2025-03-26",null,"",null,{"$f":"IFERROR(WORKDAY(N1937,Y1937,Hoja1!F1929:F2045),\"\")","v":""},{"$f":"+IF(N1937=\"\",\"\",IF(O1937=\"\",\"SIN RESPUESTA\",(IF(O1937<=P1937,\"A TIEMPO\",\"FUERA DE TIEMPO\"))))","v":""},null,"A TIEMPO",5,0,null,null,{"$f":"IFERROR(VLOOKUP(F1937,Hoja1!$A$50:$C$63,2),\"\")","v":5},{"$f":"IFERROR(VLOOKUP(F1937,Hoja1!$A$50:$C$63,3),\"\")","v":5}]
[1928,20259910037924,"2025-03-10","Persona jurídica","Virtual - Correo electrónico","Solicitud de documentos o información","Registros ambientales",null,"Subdirección de Estudios Ambientales","2025-03-25","Correo electrónico","2025-03-26",null,"",null,{"$f":"IFERROR(WORKDAY(N1938,Y1938,Hoja1!F1930:F2046),\"\")","v":""},{"$f":"+IF(N1938=\"\",\"\",IF(O1938=\"\",\"SIN RESPUESTA\",(IF(O1938<=P1938,\"A TIEMPO\",\"FUERA DE TIEMPO\"))))","v":""},null,"A TIEMPO",9,0,null,null,{"$f":"IFERROR(VLOOKUP(F1938,Hoja1!$A$50:$C$63,2),\"\")","v":5},{"$f":"IFERROR(VLOOKUP(F1938,Hoja1!$A$50:$C$63,3),\"\")","v":5}]
[1929,20259910037954,"2025-03-10","Persona jurídica","Virtual - Correo electrónico","Solicitud de documentos o información","Registros ambientales",null,"Subdirección de Estudios Ambientales","2025-03-11","Correo electrónico","2025-03-26",null,"",null,{"$f":"IFERROR(WORKDAY(N1939,Y1939,Hoja1!F1931:F2047),\"\")","v":""},{"$f":"+IF(N1939=\"\",\"\",IF(O1939=\"\",\"SIN RESPUESTA\",(IF(O1939<=P1939,\"A TIEMPO\",\"FUERA DE TIEMPO\"))))","v":""},null,"A TIEMPO",1,0,null,null,{"$f":"IFERROR(VLOOKUP(F1939,Hoja1!$A$50:$C$63,2),\"\")","v":5},{"$f":"IFERROR(VLOOKUP(F1939,Hoja1!$A$50:$C$63,3),\"\")","v":5}]
[1930,20259910037964,"2025-03-10","Persona jurídica","Virtual - Correo electrónico","Solicitud de documentos o información","Registros ambientales",null,"Subdirección de Estudios Ambientales","2025-03-25","Correo electrónico","2025-03-26",null,"",null,{"$f":"IFERROR(WORKDAY(N1940,Y1940,Hoja1!F1932:F2048),\"\")","v":""},{"$f":"+IF(N1940=\"\",\"\",IF(O1940=\"\",\"SIN RESPUESTA\",(IF(O1940<=P1940,\"A TIEMPO\",\"FUERA DE TIEMPO\"))))","v":""},null,"A TIEMPO",9,0,null,null,{"$f":"IFERROR(VLOOKUP(F1940,Hoja1!$A$50:$C$63,2),\"\")","v":5},{"$f":"IFERROR(VLOOKUP(F1940,Hoja1!$A$50:$C$63,3),\"\")","v":5}]
[1931,20259910038014,"2025-03-10","Persona jurídica","Virtual - Correo electrónico","Petición entre autoridades","Registros ambientales",null,"Subdirección de Estudios Ambientales","2025-03-11","No aplica","2025-03-26",null,"",null,{"$f":"IFERROR(WORKDAY(N1941,Y1941,Hoja1!F1933:F2049),\"\")","v":""},{"$f":"+IF(N1941=\"\",\"\",IF(O1941=\"\",\"SIN RESPUESTA\",(IF(O1941<=P1941,\"A TIEMPO\",\"FUERA DE TIEMPO\"))))","v":""},null,"A TIEMPO",1,0,null,null,{"$f":"IFERROR(VLOOKUP(F1941,Hoja1!$A$50:$C$63,2),\"\")","v":10},{"$f":"IFERROR(VLOOKUP(F1941,Hoja1!$A$50:$C$63,3),\"\")","v":10}]
[1932,20259910038024,"2025-03-10","Persona jurídica","Virtual - Correo electrónico","Petición entre autoridades","Bosques",null,"Subdirección de Ecosistemas e Información Ambiental","2025-03-25","Correo electrónico","2025-03-26",null,"",null,{"$f":"IFERROR(WORKDAY(N1942,Y1942,Hoja1!F1934:F2050),\"\")","v":""},{"$f":"+IF(N1942=\"\",\"\",IF(O1942=\"\",\"SIN RESPUESTA\",(IF(O1942<=P1942,\"A TIEMPO\",\"FUERA DE TIEMPO\"))))","v":""},null,"A TIEMPO",9,0,null,null,{"$f":"IFERROR(VLOOKUP(F1942,Hoja1!$A$50:$C$63,2),\"\")","v":10},{"$f":"IFERROR(VLOOKUP(F1942,Hoja1!$A$50:$C$63,3),\"\")","v":10}]
[1933,20259910038074,"2025-03-10","Persona jurídica","Virtual - Correo electrónico","Solicitud de documentos o información","Registros ambientales",null,"Subdirección de Estudios Ambientales","2025-03-14","Correo electrónico","2025-03-26",null,"",null,{"$f":"IFERROR(WORKDAY(N1943,Y1943,Hoja1!F1935:F2051),\"\")","v":""},{"$f":"+IF(N1943=\"\",\"\",IF(O1943=\"\",\"SIN RESPUESTA\",(IF(O1943<=P1943,\"A TIEMPO\",\"FUERA DE TIEMPO\"))))","v":""},null,"A TIEMPO",4,0,null,null,{"$f":"IFERROR(VLOOKUP(F1943,Hoja1!$A$50:$C$63,2),\"\")","v":5},{"$f":"IFERROR(VLOOKUP(F1943,Hoja1!$A$50:$C$63,3),\"\")","v":5}]
[1934,20259050038124,"2025-03-10","Persona natural","Virtual - Formulario PQRSDF","Certificación laboral o pasantía","Administrativa",null,"Grupo de Administración y Desarrollo del Talento Humano","2025-03-25","Correo electrónico","2025-03-26",null,"",null,{"$f":"IFERROR(WORKDAY(N1944,Y1944,Hoja1!F1936:F2052),\"\")","v":""},{"$f":"+IF(N1944=\"\",\"\",IF(O1944=\"\",\"SIN RESPUESTA\",(IF(O1944<=P1944,\"A TIEMPO\",\"FUERA DE TIEMPO\"))))","v":""},null,"A TIEMPO",9,0,null,null,{"$f":"IFERROR(VLOOKUP(F1944,Hoja1!$A$50:$C$63,2),\"\")","v":15},{"$f":"IFERROR(VLOOKUP(F1944,Hoja1!$A$50:$C$63,3),\"\")","v":15}]
[1935,20259910038174,"2025-03-10","Persona natural","Virtual - Correo electrónico","Certificación de contrato","Administrativa",null,"Oficina Asesora Jurídica","2025-04-03","Correo electrónico","2025-03-26",null,"",null,{"$f":"IFERROR(WORKDAY(N1945,Y1945,Hoja1!F1937:F2053),\"\")","v":""},{"$f":"+IF(N1945=\"\",\"\",IF(O1945=\"\",\"SIN RESPUESTA\",(IF(O1945<=P1945,\"A TIEMPO\",\"FUERA DE TIEMPO\"))))","v":""},null,{"$f":"+IF(C1945=\"\",\"\",IF(J1945=\"\",\"SIN RESPUESTA\",(IF(J1945<=L1945,\"A TIEMPO\",\"FUERA DE TIEMPO\"))))","v":"FUERA DE TIEMPO"},16,6,null,null,{"$f":"IFERROR(VLOOKUP(F1945,Hoja1!$A$50:$C$63,2),\"\")","v":15},{"$f":"IFERROR(VLOOKUP(F1945,Hoja1!$A$50:$C$63,3),\"\")","v":15}]
[1936,20259910038034,"2025-03-10","Persona natural","Virtual - Correo electrónico","Solicitud de documentos o información","Solicitud de información hidrometeorológica",null,"Subdirección de Estudios Ambientales","2025-04-03","Correo electrónico","2025-03-26",null,"",null,{"$f":"IFERROR(WORKDAY(N1946,Y1946,Hoja1!F1938:F2054),\"\")","v":""},{"$f":"+IF(N1946=\"\",\"\",IF(O1946=\"\",\"SIN RESPUESTA\",(IF(O1946<=P1946,\"A TIEMPO\",\"FUERA DE TIEMPO\"))))","v":""},null,{"$f":"+IF(C1946=\"\",\"\",IF(J1946=\"\",\"SIN RESPUESTA\",(IF(J1946<=L1946,\"A TIEMPO\",\"FUERA DE TIEMPO\"))))","v":"FUERA DE TIEMPO"},16,6,null,null,{"$f":"IFERROR(VLOOKUP(F1946,Hoja1!$A$50:$C$63,2),\"\")","v":5},{"$f":"IFERROR(VLOOKUP(F1946,Hoja1!$A$50:$C$63,3),\"\")","v":5}]
[1937,20259910038044,"2025-03-10","Persona jurídica","Virtual - Correo electrónico","Certificación de tiempo, clima y eventos hidrológicos","Certificaciones del tiempo y clima",null,"Subdirección de Meteorología","2025-03-20","Correo electrónico","2025-04-25",null,"",null,{"$f":"IFERROR(WORKDAY(N1947,Y1947,Hoja1!F1939:F2055),\"\")","v":""},{"$f":"+IF(N1947=\"\",\"\",IF(O1947=\"\",\"SIN RESPUESTA\",(IF(O1947<=P1947,\"A TIEMPO\",\"FUERA DE TIEMPO\"))))","v":""},null,"A TIEMPO",7,0,null,null,{"$f":"IFERROR(VLOOKUP(F1947,Hoja1!$A$50:$C$63,2),\"\")","v":15},{"$f":"IFERROR(VLOOKUP(F1947,Hoja1!$A$50:$C$63,3),\"\")","v":15}]
[1938,20259910038054,"2025-03-10","Persona jurídica","Virtual - Correo electrónico","Solicitud de documentos o información","Registros ambientales",null,"Subdirección de Estudios Ambientales","2025-03-26","Correo electrónico","2025-03-26",null,"",null,{"$f":"IFERROR(WORKDAY(N1948,Y1948,Hoja1!F1940:F2056),\"\")","v":""},{"$f":"+IF(N1948=\"\",\"\",IF(O1948=\"\",\"SIN RESPUESTA\",(IF(O1948<=P1948,\"A TIEMPO\",\"FUERA DE TIEMPO\"))))","v":""},null,"A TIEMPO",10,0,null,null,{"$f":"IFERROR(VLOOKUP(F1948,Hoja1!$A$50:$C$63,2),\"\")","v":5},{"$f":"IFERROR(VLOOKUP(F1948,Hoja1!$A$50:$C$63,3),\"\")","v":5}]
[1939,20259910038064,"2025-03-10","Persona natural","Virtual - Correo electrónico","Reclamo","Administrativa",null,"Grupo de Contabilidad","2025-04-08","Correo electrónico","2025-04-02",null,"",null,{"$f":"IFERROR(WORKDAY(N1949,Y1949,Hoja1!F1941:F2057),\"\")","v":""},{"$f":"+IF(N1949=\"\",\"\",IF(O1949=\"\",\"SIN RESPUESTA\",(IF(O1949<=P1949,\"A TIEMPO\",\"FUERA DE TIEMPO\"))))","v":""},null,{"$f":"+IF(C1949=\"\",\"\",IF(J1949=\"\",\"SIN RESPUESTA\",(IF(J1949<=L1949,\"A TIEMPO\",\"FUERA DE TIEMPO\"))))","v":"FUERA DE TIEMPO"},19,4,null,null,{"$f":"IFERROR(VLOOKUP(F1949,Hoja1!$A$50:$C$63,2),\"\")","v":15},{"$f":"IFERROR(VLOOKUP(F1949,Hoja1!$A$50:$C$63,3),\"\")","v":15}]
[1940,20259050038094,"2025-03-10","Persona jurídica","Virtual - Formulario PQRSDF","Solicitud de documentos o información","Registros ambientales",null,"Subdirección de Estudios Ambientales","2025-03-19","Correo electrónico","2025-03-26",null,"",null,{"$f":"IFERROR(WORKDAY(N1950,Y1950,Hoja1!F1942:F2058),\"\")","v":""},{"$f":"+IF(N1950=\"\",\"\",IF(O1950=\"\",\"SIN RESPUESTA\",(IF(O1950<=P1950,\"A TIEMPO\",\"FUERA DE TIEMPO\"))))","v":""},null,"A TIEMPO",6,0,null,null,{"$f":"IFERROR(VLOOKUP(F1950,Hoja1!$A$50:$C$63,2),\"\")","v":5},{"$f":"IFERROR(VLOOKUP(F1950,Hoja1!$A$50:$C$63,3),\"\")","v":5}]
[1941,20259910038104,"2025-03-10","Persona jurídica","Virtual - Correo electrónico","Solicitud de documentos o información","Registros ambientales",null,"Subdirección de Estudios Ambientales","2025-03-28","Correo electrónico","2025-03-26",null,"",null,{"$f":"IFERROR(WORKDAY(N1951,Y1951,Hoja1!F1943:F2059),\"\")","v":""},{"$f":"+IF(N1951=\"\",\"\",IF(O1951=\"\",\"SIN RESPUESTA\",(IF(O1951<=P1951,\"A TIEMPO\",\"FUERA DE TIEMPO\"))))","v":""},null,{"$f":"+IF(C1951=\"\",\"\",IF(J1951=\"\",\"SIN RESPUESTA\",(IF(J1951<=L1951,\"A TIEMPO\",\"FUERA DE TIEMPO\"))))","v":"FUERA DE TIEMPO"},12,2,null,null,{"$f":"IFERROR(VLOOKUP(F1951,Hoja1!$A$50:$C$63,2),\"\")","v":5},{"$f":"IFERROR(VLOOKUP(F1951,Hoja1!$A$50:$C$63,3),\"\")","v":5}]
[1942,20259910038084,"2025-03-10","Persona jurídica","Virtual - Correo electrónico","Certificación de tiempo, clima y eventos hidrológicos","Certificaciones del tiempo y clima",null,"Subdirección de Meteorología","2025-03-17","Correo electrónico","2025-04-25",null,"",null,{"$f":"IFERROR(WORKDAY(N1952,Y1952,Hoja1!F1944:F2060),\"\")","v":""},{"$f":"+IF(N1952=\"\",\"\",IF(O1952=\"\",\"SIN RESPUESTA\",(IF(O1952<=P1952,\"A TIEMPO\",\"FUERA DE TIEMPO\"))))","v":""},null,"A TIEMPO",5,0,null,null,{"$f":"IFERROR(VLOOKUP(F1952,Hoja1!$A$50:$C$63,2),\"\")","v":15},{"$f":"IFERROR(VLOOKUP(F1952,Hoja1!$A$50:$C$63,3),\"\")","v":15}]
[1943,20259910038114,"2025-03-10","Persona jurídica","Virtual - Correo electrónico","Solicitud de documentos o información","Registros ambientales",null,"Subdirección de Estudios Ambientales","2025-03-14","Correo electrónico","2025-03-26",null,"",null,{"$f":"IFERROR(WORKDAY(N1953,Y1953,Hoja1!F1945:F2061),\"\")","v":""},{"$f":"+IF(N1953=\"\",\"\",IF(O1953=\"\",\"SIN RESPUESTA\",(IF(O1953<=P1953,\"A TIEMPO\",\"FUERA DE TIEMPO\"))))","v":""},null,"A TIEMPO",4,0,null,null,{"$f":"IFERROR(VLOOKUP(F1953,Hoja1!$A$50:$C$63,2),\"\")","v":5},{"$f":"IFERROR(VLOOKUP(F1953,Hoja1!$A$50:$C$63,3),\"\")","v":5}]
[1944,20259910038144,"2025-03-10","Persona jurídica","Virtual - Correo electrónico","Solicitud de documentos o información","Pronósticos y alertas",null,"Subdirección de Estudios Ambientales","2025-03-17","Correo electrónico","2025-03-26",null,"",null,{"$f":"IFERROR(WORKDAY(N1954,Y1954,Hoja1!F1946:F2062),\"\")","v":""},{"$f":"+IF(N1954=\"\",\"\",IF(O1954=\"\",\"SIN RESPUESTA\",(IF(O1954<=P1954,\"A TIEMPO\",\"FUERA DE TIEMPO\"))))","v":""},null,"A TIEMPO",5,0,null,null,{"$f":"IFERROR(VLOOKUP(F1954,Hoja1!$A$50:$C$63,2),\"\")","v":5},{"$f":"IFERROR(VLOOKUP(F1954,Hoja1!$A$50:$C$63,3),\"\")","v":5}]
[1945,20259910038154,"2025-03-10","Persona natural","Virtual - Correo electrónico","Solicitud de documentos o información","Solicitud de información hidrometeorológica",null,"Grupo de Servicio al Ciudadano","2025-03-25","Correo electrónico","2025-03-26",null,"",null,{"$f":"IFERROR(WORKDAY(N1955,Y1955,Hoja1!F1947:F2063),\"\")","v":""},{"$f":"+IF(N1955=\"\",\"\",IF(O1955=\"\",\"SIN RESPUESTA\",(IF(O1955<=P1955,\"A TIEMPO\",\"FUERA DE TIEMPO\"))))","v":""},null,"A TIEMPO",9,0,null,null,{"$f":"IFERROR(VLOOKUP(F1955,Hoja1!$A$50:$C$63,2),\"\")","v":5},{"$f":"IFERROR(VLOOKUP(F1955,Hoja1!$A$50:$C$63,3),\"\")","v":5}]
[1946,20259910038164,"2025-03-10","Persona jurídica","Virtual - Correo electrónico","Petición de congresistas","Administrativa",null,"Dirección General","2025-03-17","Correo electrónico","2025-03-17",null,"",null,{"$f":"IFERROR(WORKDAY(N1956,Y1956,Hoja1!F1948:F2064),\"\")","v":""},{"$f":"+IF(N1956=\"\",\"\",IF(O1956=\"\",\"SIN RESPUESTA\",(IF(O1956<=P1956,\"A TIEMPO\",\"FUERA DE TIEMPO\"))))","v":""},null,"A TIEMPO",5,0,null,null,{"$f":"IFERROR(VLOOKUP(F1956,Hoja1!$A$50:$C$63,2),\"\")","v":15},{"$f":"IFERROR(VLOOKUP(F1956,Hoja1!$A$50:$C$63,3),\"\")","v":15}]
[1947,20259050038184,"2025-03-10","Persona natural","Virtual - Formulario PQRSDF","Certificación de tiempo, clima y eventos hidrológicos","Certificaciones del tiempo y clima",null,"Grupo de Servicio al Ciudadano","2025-03-20","Correo electrónico","2025-04-25",null,"",null,{"$f":"IFERROR(WORKDAY(N1957,Y1957,Hoja1!F1949:F2065),\"\")","v":""},{"$f":"+IF(N1957=\"\",\"\",IF(O1957=\"\",\"SIN RESPUESTA\",(IF(O1957<=P1957,\"A TIEMPO\",\"FUERA DE TIEMPO\"))))","v":""},null,"A TIEMPO",7,0,null,null,{"$f":"IFERROR(VLOOKUP(F1957,Hoja1!$A$50:$C$63,2),\"\")","v":15},{"$f":"IFERROR(VLOOKUP(F1957,Hoja1!$A$50:$C$63,3),\"\")","v":15}]
[1948,20259050038194,"2025-03-11","Persona jurídica","Virtual - Formulario PQRSDF","Consulta (Información técnica)","Acreditación de laboratorios",null,"Subdirección de Estudios Ambientales","2025-04-07","Correo electrónico","2025-04-28",null,"",null,{"$f":"IFERROR(WORKDAY(N1958,Y1958,Hoja1!F1950:F2066),\"\")","v":""},{"$f":"+IF(N1958=\"\",\"\",IF(O1958=\"\",\"SIN RESPUESTA\",(IF(O1958<=P1958,\"A TIEMPO\",\"FUERA DE TIEMPO\"))))","v":""},null,"A TIEMPO",17,0,null,null,{"$f":"IFERROR(VLOOKUP(F1958,Hoja1!$A$50:$C$63,2),\"\")","v":30},{"$f":"IFERROR(VLOOKUP(F1958,Hoja1!$A$50:$C$63,3),\"\")","v":30}]
[1949,20259910038224,"2025-03-11","Persona jurídica","Virtual - Correo electrónico","Solicitud de documentos o información","Registros ambientales",null,"Subdirección de Estudios Ambientales","2025-03-26","Correo electrónico","2025-03-27",null,"",null,{"$f":"IFERROR(WORKDAY(N1959,Y1959,Hoja1!F1951:F2067),\"\")","v":""},{"$f":"+IF(N1959=\"\",\"\",IF(O1959=\"\",\"SIN RESPUESTA\",(IF(O1959<=P1959,\"A TIEMPO\",\"FUERA DE TIEMPO\"))))","v":""},null,"A TIEMPO",9,0,null,null,{"$f":"IFERROR(VLOOKUP(F1959,Hoja1!$A$50:$C$63,2),\"\")","v":5},{"$f":"IFERROR(VLOOKUP(F1959,Hoja1!$A$50:$C$63,3),\"\")","v":5}]
[1950,20259910038244,"2025-03-11","Persona jurídica","Virtual - Correo electrónico","Solicitud de documentos o información","Solicitud de información hidrometeorológica",null,"Grupo de Servicio al Ciudadano","2025-03-25","Correo electrónico","2025-03-27",null,"",null,{"$f":"IFERROR(WORKDAY(N1960,Y1960,Hoja1!F1952:F2068),\"\")","v":""},{"$f":"+IF(N1960=\"\",\"\",IF(O1960=\"\",\"SIN RESPUESTA\",(IF(O1960<=P1960,\"A TIEMPO\",\"FUERA DE TIEMPO\"))))","v":""},null,"A TIEMPO",8,0,null,null,{"$f":"IFERROR(VLOOKUP(F1960,Hoja1!$A$50:$C$63,2),\"\")","v":5},{"$f":"IFERROR(VLOOKUP(F1960,Hoja1!$A$50:$C$63,3),\"\")","v":5}]
[1951,20259910038254,"2025-03-11","Persona jurídica","Virtual - Correo electrónico","Solicitud de documentos o información","Solicitud de información hidrometeorológica",null,"Subdirección de Hidrología","2025-03-27","Correo electrónico","2025-03-27",null,"",null,{"$f":"IFERROR(WORKDAY(N1961,Y1961,Hoja1!F1953:F2069),\"\")","v":""},{"$f":"+IF(N1961=\"\",\"\",IF(O1961=\"\",\"SIN RESPUESTA\",(IF(O1961<=P1961,\"A TIEMPO\",\"FUERA DE TIEMPO\"))))","v":""},null,"A TIEMPO",10,0,null,null,{"$f":"IFERROR(VLOOKUP(F1961,Hoja1!$A$50:$C$63,2),\"\")","v":5},{"$f":"IFERROR(VLOOKUP(F1961,Hoja1!$A$50:$C$63,3),\"\")","v":5}]
[1952,20259910038284,"2025-03-11","Persona jurídica","Virtual - Correo electrónico","Solicitud de documentos o información","Registros ambientales",null,"Subdirección de Estudios Ambientales","2025-03-27","Correo electrónico","2025-03-27",null,"",null,{"$f":"IFERROR(WORKDAY(N1962,Y1962,Hoja1!F1954:F2070),\"\")","v":""},{"$f":"+IF(N1962=\"\",\"\",IF(O1962=\"\",\"SIN RESPUESTA\",(IF(O1962<=P1962,\"A TIEMPO\",\"FUERA DE TIEMPO\"))))","v":""},null,"A TIEMPO",10,0,null,null,{"$f":"IFERROR(VLOOKUP(F1962,Hoja1!$A$50:$C$63,2),\"\")","v":5},{"$f":"IFERROR(VLOOKUP(F1962,Hoja1!$A$50:$C$63,3),\"\")","v":5}]
[1953,20259910008852,"2025-03-11","Persona jurídica","Virtual - Correo electrónico","Solicitud de documentos o información","Acreditación de laboratorios",null,"Subdirección de Estudios Ambientales",null,null,"2025-03-27",null,"",null,{"$f":"IFERROR(WORKDAY(N1963,Y1963,Hoja1!F1955:F2071),\"\")","v":""},{"$f":"+IF(N1963=\"\",\"\",IF(O1963=\"\",\"SIN RESPUESTA\",(IF(O1963<=P1963,\"A TIEMPO\",\"FUERA DE TIEMPO\"))))","v":""},null,{"$f":"+IF(C1963=\"\",\"\",IF(J1963=\"\",\"SIN RESPUESTA\",(IF(J1963<=L1963,\"A TIEMPO\",\"FUERA DE TIEMPO\"))))","v":"SIN RESPUESTA"},0,0,null,null,{"$f":"IFERROR(VLOOKUP(F1963,Hoja1!$A$50:$C$63,2),\"\")","v":5},{"$f":"IFERROR(VLOOKUP(F1963,Hoja1!$A$50:$C$63,3),\"\")","v":5}]
[1954,20259910038334,"2025-03-11","Persona natural","Virtual - Correo electrónico","Petición de interés general o particular","Administrativa",null,"Grupo de Administración y Desarrollo del Talento Humano","2025-03-20","Correo electrónico","2025-04-03",null,"",null,{"$f":"IFERROR(WORKDAY(N1964,Y1964,Hoja1!F1956:F2072),\"\")","v":""},{"$f":"+IF(N1964=\"\",\"\",IF(O1964=\"\",\"SIN RESPUESTA\",(IF(O1964<=P1964,\"A TIEMPO\",\"FUERA DE TIEMPO\"))))","v":""},null,"A TIEMPO",6,0,null,null,{"$f":"IFERROR(VLOOKUP(F1964,Hoja1!$A$50:$C$63,2),\"\")","v":15},{"$f":"IFERROR(VLOOKUP(F1964,Hoja1!$A$50:$C$63,3),\"\")","v":15}]
[1955,20259910038374,"2025-03-11","Persona jurídica","Virtual - Correo electrónico","Certificación de tiempo, clima y eventos hidrológicos","Certificaciones del tiempo y clima",null,"Subdirección de Meteorología","2025-03-17","Correo electrónico","2025-04-28",null,"",null,{"$f":"IFERROR(WORKDAY(N1965,Y1965,Hoja1!F1957:F2073),\"\")","v":""},{"$f":"+IF(N1965=\"\",\"\",IF(O1965=\"\",\"SIN RESPUESTA\",(IF(O1965<=P1965,\"A TIEMPO\",\"FUERA DE TIEMPO\"))))","v":""},null,"A TIEMPO",4,0,null,null,{"$f":"IFERROR(VLOOKUP(F1965,Hoja1!$A$50:$C$63,2),\"\")","v":15},{"$f":"IFERROR(VLOOKUP(F1965,Hoja1!$A$50:$C$63,3),\"\")","v":15}]
[1956,20259050038584,"2025-03-11","Persona jurídica","Virtual - Formulario PQRSDF","Solicitud de documentos o información","Registros ambientales",null,"Subdirección de Estudios Ambientales","2025-03-25","Correo electrónico","2025-03-27",null,"",null,{"$f":"IFERROR(WORKDAY(N1966,Y1966,Hoja1!F1958:F2074),\"\")","v":""},{"$f":"+IF(N1966=\"\",\"\",IF(O1966=\"\",\"SIN RESPUESTA\",(IF(O1966<=P1966,\"A TIEMPO\",\"FUERA DE TIEMPO\"))))","v":""},null,"A TIEMPO",8,0,null,null,{"$f":"IFERROR(VLOOKUP(F1966,Hoja1!$A$50:$C$63,2),\"\")","v":5},{"$f":"IFERROR(VLOOKUP(F1966,Hoja1!$A$50:$C$63,3),\"\")","v":5}]
[1957,20259050038474,"2025-03-11","Persona natural","Virtual - Formulario PQRSDF","Solicitud de documentos o información","Sistema de información ambiental",null,"Subdirección de Estudios Ambientales","2025-03-25",null,"2025-03-27",null,"",null,{"$f":"IFERROR(WORKDAY(N1967,Y1967,Hoja1!F1959:F2075),\"\")","v":""},{"$f":"+IF(N1967=\"\",\"\",IF(O1967=\"\",\"SIN RESPUESTA\",(IF(O1967<=P1967,\"A TIEMPO\",\"FUERA DE TIEMPO\"))))","v":""},null,"A TIEMPO",8,0,null,null,{"$f":"IFERROR(VLOOKUP(F1967,Hoja1!$A$50:$C$63,2),\"\")","v":5},{"$f":"IFERROR(VLOOKUP(F1967,Hoja1!$A$50:$C$63,3),\"\")","v":5}]
[1958,20259910038394,"2025-03-11","Persona natural","Virtual - Correo electrónico","Solicitud de documentos o información","Administrativa",null,"Grupo de Comunicaciones","2025-03-20","Correo electrónico","2025-03-27",null,"",null,{"$f":"IFERROR(WORKDAY(N1968,Y1968,Hoja1!F1960:F2076),\"\")","v":""},{"$f":"+IF(N1968=\"\",\"\",IF(O1968=\"\",\"SIN RESPUESTA\",(IF(O1968<=P1968,\"A TIEMPO\",\"FUERA DE TIEMPO\"))))","v":""},null,"A TIEMPO",6,0,null,null,{"$f":"IFERROR(VLOOKUP(F1968,Hoja1!$A$50:$C$63,2),\"\")","v":5},{"$f":"IFERROR(VLOOKUP(F1968,Hoja1!$A$50:$C$63,3),\"\")","v":5}]
[1959,20259050038694,"2025-03-11","Persona natural","Virtual - Formulario PQRSDF","Solicitud de documentos o información","Solicitud de información hidrometeorológica",null,"Grupo de Servicio al Ciudadano","2025-03-25","Correo electrónico","2025-03-27",null,"",null,{"$f":"IFERROR(WORKDAY(N1969,Y1969,Hoja1!F1961:F2077),\"\")","v":""},{"$f":"+IF(N1969=\"\",\"\",IF(O1969=\"\",\"SIN RESPUESTA\",(IF(O1969<=P1969,\"A TIEMPO\",\"FUERA DE TIEMPO\"))))","v":""},null,"A TIEMPO",8,0,null,null,{"$f":"IFERROR(VLOOKUP(F1969,Hoja1!$A$50:$C$63,2),\"\")","v":5},{"$f":"IFERROR(VLOOKUP(F1969,Hoja1!$A$50:$C$63,3),\"\")","v":5}]
[1960,20259910038824,"2025-03-11","Persona jurídica","Virtual - Correo electrónico","Solicitud de documentos o información","Registros ambientales",null,"Subdirección de Estudios Ambientales","2025-03-25","Correo electrónico","2025-03-27",null,"",null,{"$f":"IFERROR(WORKDAY(N1970,Y1970,Hoja1!F1962:F2078),\"\")","v":""},{"$f":"+IF(N1970=\"\",\"\",IF(O1970=\"\",\"SIN RESPUESTA\",(IF(O1970<=P1970,\"A TIEMPO\",\"FUERA DE TIEMPO\"))))","v":""},null,"A TIEMPO",8,0,null,null,{"$f":"IFERROR(VLOOKUP(F1970,Hoja1!$A$50:$C$63,2),\"\")","v":5},{"$f":"IFERROR(VLOOKUP(F1970,Hoja1!$A$50:$C$63,3),\"\")","v":5}]
[1961,20259050038914,"2025-03-11","Persona natural","Virtual - Formulario PQRSDF","Solicitud de documentos o información","Solicitud de información hidrometeorológica",null,"Subdirección de Meteorología","2025-04-04","Correo electrónico","2025-03-27","Si","2025-04-10","2025-04-04",{"$f":"IFERROR(WORKDAY(N1971,Y1971,Hoja1!F1963:F2079),\"\")","v":"2025-04-17"},{"$f":"+IF(N1971=\"\",\"\",IF(O1971=\"\",\"SIN RESPUESTA\",(IF(O1971<=P1971,\"A TIEMPO\",\"FUERA DE TIEMPO\"))))","v":"A TIEMPO"},null,"A TIEMPO",16,0,null,null,{"$f":"IFERROR(VLOOKUP(F1971,Hoja1!$A$50:$C$63,2),\"\")","v":5},{"$f":"IFERROR(VLOOKUP(F1971,Hoja1!$A$50:$C$63,3),\"\")","v":5}]
[1962,20259050038944,"2025-03-11","Persona jurídica","Virtual - Formulario PQRSDF","Solicitud de documentos o información","Registros ambientales",null,"Subdirección de Estudios Ambientales","2025-03-26","Correo electrónico","2025-03-27",null,"",null,{"$f":"IFERROR(WORKDAY(N1972,Y1972,Hoja1!F1964:F2080),\"\")","v":""},{"$f":"+IF(N1972=\"\",\"\",IF(O1972=\"\",\"SIN RESPUESTA\",(IF(O1972<=P1972,\"A TIEMPO\",\"FUERA DE TIEMPO\"))))","v":""},null,"A TIEMPO",9,0,null,null,{"$f":"IFERROR(VLOOKUP(F1972,Hoja1!$A$50:$C$63,2),\"\")","v":5},{"$f":"IFERROR(VLOOKUP(F1972,Hoja1!$A$50:$C$63,3),\"\")","v":5}]
[1963,20259910038954,"2025-03-11","Persona natural","Virtual - Correo electrónico","Certificación de contrato","Administrativa",null,"Oficina Asesora Jurídica","2025-03-17","Correo electrónico","2025-03-27",null,"",null,{"$f":"IFERROR(WORKDAY(N1973,Y1973,Hoja1!F1965:F2081),\"\")","v":""},{"$f":"+IF(N1973=\"\",\"\",IF(O1973=\"\",\"SIN RESPUESTA\",(IF(O1973<=P1973,\"A TIEMPO\",\"FUERA DE TIEMPO\"))))","v":""},null,"A TIEMPO",4,0,null,null,{"$f":"IFERROR(VLOOKUP(F1973,Hoja1!$A$50:$C$63,2),\"\")","v":15},{"$f":"IFERROR(VLOOKUP(F1973,Hoja1!$A$50:$C$63,3),\"\")","v":15}]
[1964,20259910038964,"2025-03-11","Persona jurídica","Virtual - Correo electrónico","Solicitud de documentos o información","Registros ambientales",null,"Subdirección de Estudios Ambientales","2025-03-13","Correo electrónico","2025-03-27",null,"",null,{"$f":"IFERROR(WORKDAY(N1974,Y1974,Hoja1!F1966:F2082),\"\")","v":""},{"$f":"+IF(N1974=\"\",\"\",IF(O1974=\"\",\"SIN RESPUESTA\",(IF(O1974<=P1974,\"A TIEMPO\",\"FUERA DE TIEMPO\"))))","v":""},null,"A TIEMPO",2,0,null,null,{"$f":"IFERROR(VLOOKUP(F1974,Hoja1!$A$50:$C$63,2),\"\")","v":5},{"$f":"IFERROR(VLOOKUP(F1974,Hoja1!$A$50:$C$63,3),\"\")","v":5}]
[1965,20259050038994,"2025-03-11","Persona jurídica","Virtual - Formulario PQRSDF","Solicitud de documentos o información","Acreditación de laboratorios",null,"Subdirección de Estudios Ambientales","2025-03-17","Correo electrónico","2025-03-27",null,"",null,{"$f":"IFERROR(WORKDAY(N1975,Y1975,Hoja1!F1967:F2083),\"\")","v":""},{"$f":"+IF(N1975=\"\",\"\",IF(O1975=\"\",\"SIN RESPUESTA\",(IF(O1975<=P1975,\"A TIEMPO\",\"FUERA DE TIEMPO\"))))","v":""},null,"A TIEMPO",4,0,null,null,{"$f":"IFERROR(VLOOKUP(F1975,Hoja1!$A$50:$C$63,2),\"\")","v":5},{"$f":"IFERROR(VLOOKUP(F1975,Hoja1!$A$50:$C$63,3),\"\")","v":5}]
[1966,20259050039004,"2025-03-11","Persona natural","Virtual - Formulario PQRSDF","Solicitud de documentos o información","Solicitud de información hidrometeorológica",null,"Grupo de Servicio al Ciudadano","2025-03-25","Correo electrónico","2025-03-27",null,"",null,{"$f":"IFERROR(WORKDAY(N1976,Y1976,Hoja1!F1968:F2084),\"\")","v":""},{"$f":"+IF(N1976=\"\",\"\",IF(O1976=\"\",\"SIN RESPUESTA\",(IF(O1976<=P1976,\"A TIEMPO\",\"FUERA DE TIEMPO\"))))","v":""},null,"A TIEMPO",8,0,null,null,{"$f":"IFERROR(VLOOKUP(F1976,Hoja1!$A$50:$C$63,2),\"\")","v":5},{"$f":"IFERROR(VLOOKUP(F1976,Hoja1!$A$50:$C$63,3),\"\")","v":5}]
[1967,20259910039014,"2025-03-11","Persona jurídica","Virtual - Correo electrónico","Solicitud de documentos o información","Registros ambientales",null,"Subdirección de Estudios Ambientales","2025-03-28","Correo electrónico","2025-03-27",null,"",null,{"$f":"IFERROR(WORKDAY(N1977,Y1977,Hoja1!F1969:F2085),\"\")","v":""},{"$f":"+IF(N1977=\"\",\"\",IF(O1977=\"\",\"SIN RESPUESTA\",(IF(O1977<=P1977,\"A TIEMPO\",\"FUERA DE TIEMPO\"))))","v":""},null,{"$f":"+IF(C1977=\"\",\"\",IF(J1977=\"\",\"SIN RESPUESTA\",(IF(J1977<=L1977,\"A TIEMPO\",\"FUERA DE TIEMPO\"))))","v":"FUERA DE TIEMPO"},11,1,null,null,{"$f":"IFERROR(VLOOKUP(F1977,Hoja1!$A$50:$C$63,2),\"\")","v":5},{"$f":"IFERROR(VLOOKUP(F1977,Hoja1!$A$50:$C$63,3),\"\")","v":5}]
[1968,20259910039024,"2025-03-11","Persona jurídica","Virtual - Correo electrónico","Petición entre autoridades","Solicitud de información hidrometeorológica",null,"Grupo de Servicio al Ciudadano","2025-03-25","Correo electrónico","2025-03-27",null,"",null,{"$f":"IFERROR(WORKDAY(N1978,Y1978,Hoja1!F1970:F2086),\"\")","v":""},{"$f":"+IF(N1978=\"\",\"\",IF(O1978=\"\",\"SIN RESPUESTA\",(IF(O1978<=P1978,\"A TIEMPO\",\"FUERA DE TIEMPO\"))))","v":""},null,"A TIEMPO",8,0,null,null,{"$f":"IFERROR(VLOOKUP(F1978,Hoja1!$A$50:$C$63,2),\"\")","v":10},{"$f":"IFERROR(VLOOKUP(F1978,Hoja1!$A$50:$C$63,3),\"\")","v":10}]
[1969,20259910039034,"2025-03-11","Persona jurídica","Virtual - Correo electrónico","Certificación de tiempo, clima y eventos hidrológicos","Certificaciones del tiempo y clima",null,"Subdirección de Meteorología","2025-03-28","Correo electrónico","2025-04-28",null,"",null,{"$f":"IFERROR(WORKDAY(N1979,Y1979,Hoja1!F1971:F2087),\"\")","v":""},{"$f":"+IF(N1979=\"\",\"\",IF(O1979=\"\",\"SIN RESPUESTA\",(IF(O1979<=P1979,\"A TIEMPO\",\"FUERA DE TIEMPO\"))))","v":""},null,"A TIEMPO",11,0,null,null,{"$f":"IFERROR(VLOOKUP(F1979,Hoja1!$A$50:$C$63,2),\"\")","v":15},{"$f":"IFERROR(VLOOKUP(F1979,Hoja1!$A$50:$C$63,3),\"\")","v":15}]
[1970,20259910039044,"2025-03-11","Persona jurídica","Virtual - Correo electrónico","Solicitud de documentos o información","Registros ambientales",null,"Subdirección de Estudios Ambientales","2025-03-21","Correo electrónico","2025-03-27",null,"",null,{"$f":"IFERROR(WORKDAY(N1980,Y1980,Hoja1!F1972:F2088),\"\")","v":""},{"$f":"+IF(N1980=\"\",\"\",IF(O1980=\"\",\"SIN RESPUESTA\",(IF(O1980<=P1980,\"A TIEMPO\",\"FUERA DE TIEMPO\"))))","v":""},null,"A TIEMPO",7,0,null,null,{"$f":"IFERROR(VLOOKUP(F1980,Hoja1!$A$50:$C$63,2),\"\")","v":5},{"$f":"IFERROR(VLOOKUP(F1980,Hoja1!$A$50:$C$63,3),\"\")","v":5}]
[1971,20259910039054,"2025-03-11","Persona natural","Virtual - Correo electrónico","Certificación laboral o pasantía","Administrativa",null,"Grupo de Administración y Desarrollo del Talento Humano","2025-03-25","Correo electrónico","2025-03-27",null,"",null,{"$f":"IFERROR(WORKDAY(N1981,Y1981,Hoja1!F1973:F2089),\"\")","v":""},{"$f":"+IF(N1981=\"\",\"\",IF(O1981=\"\",\"SIN RESPUESTA\",(IF(O1981<=P1981,\"A TIEMPO\",\"FUERA DE TIEMPO\"))))","v":""},null,"A TIEMPO",8,0,null,null,{"$f":"IFERROR(VLOOKUP(F1981,Hoja1!$A$50:$C$63,2),\"\")","v":15},{"$f":"IFERROR(VLOOKUP(F1981,Hoja1!$A$50:$C$63,3),\"\")","v":15}]
[1972,20259910039084,"2025-03-11","Persona jurídica","Virtual - Correo electrónico","Solicitud de documentos o información","Registros ambientales",null,"Subdirección de Estudios Ambientales","2025-03-17","Correo electrónico","2025-03-27",null,"",null,{"$f":"IFERROR(WORKDAY(N1982,Y1982,Hoja1!F1974:F2090),\"\")","v":""},{"$f":"+IF(N1982=\"\",\"\",IF(O1982=\"\",\"SIN RESPUESTA\",(IF(O1982<=P1982,\"A TIEMPO\",\"FUERA DE TIEMPO\"))))","v":""},null,"A TIEMPO",4,0,null,null,{"$f":"IFERROR(VLOOKUP(F1982,Hoja1!$A$50:$C$63,2),\"\")","v":5},{"$f":"IFERROR(VLOOKUP(F1982,Hoja1!$A$50:$C$63,3),\"\")","v":5}]
[1973,20259910039134,"2025-03-11","Persona natural","Virtual - Correo electrónico","Solicitud de documentos o información","Bosques",null,"Subdirección de Ecosistemas e Información Ambiental","2025-03-25","Correo electrónico","2025-03-27",null,"",null,{"$f":"IFERROR(WORKDAY(N1983,Y1983,Hoja1!F1975:F2091),\"\")","v":""},{"$f":"+IF(N1983=\"\",\"\",IF(O1983=\"\",\"SIN RESPUESTA\",(IF(O1983<=P1983,\"A TIEMPO\",\"FUERA DE TIEMPO\"))))","v":""},null,"A TIEMPO",8,0,null,null,{"$f":"IFERROR(VLOOKUP(F1983,Hoja1!$A$50:$C$63,2),\"\")","v":5},{"$f":"IFERROR(VLOOKUP(F1983,Hoja1!$A$50:$C$63,3),\"\")","v":5}]
[1974,20259910039174,"2025-03-11","Persona jurídica","Virtual - Correo electrónico","Solicitud de documentos o información","Registros ambientales",null,"Subdirección de Estudios Ambientales","2025-03-28","Correo electrónico","2025-03-27",null,"",null,{"$f":"IFERROR(WORKDAY(N1984,Y1984,Hoja1!F1976:F2092),\"\")","v":""},{"$f":"+IF(N1984=\"\",\"\",IF(O1984=\"\",\"SIN RESPUESTA\",(IF(O1984<=P1984,\"A TIEMPO\",\"FUERA DE TIEMPO\"))))","v":""},null,{"$f":"+IF(C1984=\"\",\"\",IF(J1984=\"\",\"SIN RESPUESTA\",(IF(J1984<=L1984,\"A TIEMPO\",\"FUERA DE TIEMPO\"))))","v":"FUERA DE TIEMPO"},11,1,null,null,{"$f":"IFERROR(VLOOKUP(F1984,Hoja1!$A$50:$C$63,2),\"\")","v":5},{"$f":"IFERROR(VLOOKUP(F1984,Hoja1!$A$50:$C$63,3),\"\")","v":5}]
[1975,20259910039184,"2025-03-11","Persona jurídica","Virtual - Correo electrónico","Solicitud de documentos o información","Registros ambientales",null,"Subdirección de Estudios Ambientales","2025-04-07","Correo electrónico","2025-03-27",null,"",null,{"$f":"IFERROR(WORKDAY(N1985,Y1985,Hoja1!F1977:F2093),\"\")","v":""},{"$f":"+IF(N1985=\"\",\"\",IF(O1985=\"\",\"SIN RESPUESTA\",(IF(O1985<=P1985,\"A TIEMPO\",\"FUERA DE TIEMPO\"))))","v":""},null,{"$f":"+IF(C1985=\"\",\"\",IF(J1985=\"\",\"SIN RESPUESTA\",(IF(J1985<=L1985,\"A TIEMPO\",\"FUERA DE TIEMPO\"))))","v":"FUERA DE TIEMPO"},17,7,null,null,{"$f":"IFERROR(VLOOKUP(F1985,Hoja1!$A$50:$C$63,2),\"\")","v":5},{"$f":"IFERROR(VLOOKUP(F1985,Hoja1!$A$50:$C$63,3),\"\")","v":5}]
[1976,20259910039224,"2025-03-11","Persona jurídica","Virtual - Correo electrónico","Petición entre entidades","Registros ambientales",null,"Subdirección de Estudios Ambientales","2025-03-28","Correo electrónico","2025-03-27",null,"",null,{"$f":"IFERROR(WORKDAY(N1986,Y1986,Hoja1!F1978:F2094),\"\")","v":""},{"$f":"+IF(N1986=\"\",\"\",IF(O1986=\"\",\"SIN RESPUESTA\",(IF(O1986<=P1986,\"A TIEMPO\",\"FUERA DE TIEMPO\"))))","v":""},null,{"$f":"+IF(C1986=\"\",\"\",IF(J1986=\"\",\"SIN RESPUESTA\",(IF(J1986<=L1986,\"A TIEMPO\",\"FUERA DE TIEMPO\"))))","v":"FUERA DE TIEMPO"},11,1,null,null,{"$f":"IFERROR(VLOOKUP(F1986,Hoja1!$A$50:$C$63,2),\"\")","v":10},{"$f":"IFERROR(VLOOKUP(F1986,Hoja1!$A$50:$C$63,3),\"\")","v":10}]
[1977,20259910039244,"2025-03-11","Persona jurídica","Virtual - Correo electrónico","Solicitud de documentos o información","Registros ambientales",null,"Subdirección de Estudios Ambientales","2025-03-19","Correo electrónico","2025-03-27",null,"",null,{"$f":"IFERROR(WORKDAY(N1987,Y1987,Hoja1!F1979:F2095),\"\")","v":""},{"$f":"+IF(N1987=\"\",\"\",IF(O1987=\"\",\"SIN RESPUESTA\",(IF(O1987<=P1987,\"A TIEMPO\",\"FUERA DE TIEMPO\"))))","v":""},null,"A TIEMPO",5,0,null,null,{"$f":"IFERROR(VLOOKUP(F1987,Hoja1!$A$50:$C$63,2),\"\")","v":5},{"$f":"IFERROR(VLOOKUP(F1987,Hoja1!$A$50:$C$63,3),\"\")","v":5}]
[1978,20259910039304,"2025-03-11","Persona jurídica","Virtual - Correo electrónico","Solicitud de documentos o información","Registros ambientales",null,"Subdirección de Estudios Ambientales","2025-03-19","Correo electrónico","2025-03-27",null,"",null,{"$f":"IFERROR(WORKDAY(N1988,Y1988,Hoja1!F1980:F2096),\"\")","v":""},{"$f":"+IF(N1988=\"\",\"\",IF(O1988=\"\",\"SIN RESPUESTA\",(IF(O1988<=P1988,\"A TIEMPO\",\"FUERA DE TIEMPO\"))))","v":""},null,"A TIEMPO",5,0,null,null,{"$f":"IFERROR(VLOOKUP(F1988,Hoja1!$A$50:$C$63,2),\"\")","v":5},{"$f":"IFERROR(VLOOKUP(F1988,Hoja1!$A$50:$C$63,3),\"\")","v":5}]
[1979,20259910039334,"2025-03-11","Persona jurídica","Virtual - Correo electrónico","Solicitud de documentos o información","Solicitud de información hidrometeorológica",null,"Grupo de Servicio al Ciudadano","2025-03-25","Correo electrónico","2025-03-27",null,"",null,{"$f":"IFERROR(WORKDAY(N1989,Y1989,Hoja1!F1981:F2097),\"\")","v":""},{"$f":"+IF(N1989=\"\",\"\",IF(O1989=\"\",\"SIN RESPUESTA\",(IF(O1989<=P1989,\"A TIEMPO\",\"FUERA DE TIEMPO\"))))","v":""},null,"A TIEMPO",8,0,null,null,{"$f":"IFERROR(VLOOKUP(F1989,Hoja1!$A$50:$C$63,2),\"\")","v":5},{"$f":"IFERROR(VLOOKUP(F1989,Hoja1!$A$50:$C$63,3),\"\")","v":5}]
[1980,20259910039364,"2025-03-11","Persona jurídica","Virtual - Correo electrónico","Solicitud de documentos o información","Registros ambientales",null,"Subdirección de Estudios Ambientales","2025-03-25","Correo electrónico","2025-03-27",null,"",null,{"$f":"IFERROR(WORKDAY(N1990,Y1990,Hoja1!F1982:F2098),\"\")","v":""},{"$f":"+IF(N1990=\"\",\"\",IF(O1990=\"\",\"SIN RESPUESTA\",(IF(O1990<=P1990,\"A TIEMPO\",\"FUERA DE TIEMPO\"))))","v":""},null,"A TIEMPO",8,0,null,null,{"$f":"IFERROR(VLOOKUP(F1990,Hoja1!$A$50:$C$63,2),\"\")","v":5},{"$f":"IFERROR(VLOOKUP(F1990,Hoja1!$A$50:$C$63,3),\"\")","v":5}]
[1981,20259910039414,"2025-03-11","Persona natural","Virtual - Correo electrónico","Solicitud de documentos o información","Solicitud de información hidrometeorológica",null,"Grupo de Servicio al Ciudadano","2025-03-25","Correo electrónico","2025-03-27",null,"",null,{"$f":"IFERROR(WORKDAY(N1991,Y1991,Hoja1!F1983:F2099),\"\")","v":""},{"$f":"+IF(N1991=\"\",\"\",IF(O1991=\"\",\"SIN RESPUESTA\",(IF(O1991<=P1991,\"A TIEMPO\",\"FUERA DE TIEMPO\"))))","v":""},null,"A TIEMPO",8,0,null,null,{"$f":"IFERROR(VLOOKUP(F1991,Hoja1!$A$50:$C$63,2),\"\")","v":5},{"$f":"IFERROR(VLOOKUP(F1991,Hoja1!$A$50:$C$63,3),\"\")","v":5}]
[1982,20259910039434,"2025-03-11","Persona jurídica","Virtual - Correo electrónico","Solicitud de documentos o información","Registros ambientales",null,"Subdirección de Estudios Ambientales","2025-03-25","Correo electrónico","2025-03-27",null,"",null,{"$f":"IFERROR(WORKDAY(N1992,Y1992,Hoja1!F1984:F2100),\"\")","v":""},{"$f":"+IF(N1992=\"\",\"\",IF(O1992=\"\",\"SIN RESPUESTA\",(IF(O1992<=P1992,\"A TIEMPO\",\"FUERA DE TIEMPO\"))))","v":""},null,"A TIEMPO",8,0,null,null,{"$f":"IFERROR(VLOOKUP(F1992,Hoja1!$A$50:$C$63,2),\"\")","v":5},{"$f":"IFERROR(VLOOKUP(F1992,Hoja1!$A$50:$C$63,3),\"\")","v":5}]
[1983,20259910039444,"2025-03-11","Persona jurídica","Virtual - Correo electrónico","Solicitud de documentos o información","Registros ambientales",null,"Subdirección de Estudios Ambientales","2025-03-28","Correo electrónico","2025-03-27",null,"",null,{"$f":"IFERROR(WORKDAY(N1993,Y1993,Hoja1!F1985:F2101),\"\")","v":""},{"$f":"+IF(N1993=\"\",\"\",IF(O1993=\"\",\"SIN RESPUESTA\",(IF(O1993<=P1993,\"A TIEMPO\",\"FUERA DE TIEMPO\"))))","v":""},null,{"$f":"+IF(C1993=\"\",\"\",IF(J1993=\"\",\"SIN RESPUESTA\",(IF(J1993<=L1993,\"A TIEMPO\",\"FUERA DE TIEMPO\"))))","v":"FUERA DE TIEMPO"},11,1,null,null,{"$f":"IFERROR(VLOOKUP(F1993,Hoja1!$A$50:$C$63,2),\"\")","v":5},{"$f":"IFERROR(VLOOKUP(F1993,Hoja1!$A$50:$C$63,3),\"\")","v":5}]
[1984,20259910039504,"2025-03-11","Persona natural","Virtual - Correo electrónico","Certificación de contrato","Administrativa",null,"Oficina Asesora Jurídica","2025-03-17","Correo electrónico","2025-03-27",null,"",null,{"$f":"IFERROR(WORKDAY(N1994,Y1994,Hoja1!F1986:F2102),\"\")","v":""},{"$f":"+IF(N1994=\"\",\"\",IF(O1994=\"\",\"SIN RESPUESTA\",(IF(O1994<=P1994,\"A TIEMPO\",\"FUERA DE TIEMPO\"))))","v":""},null,"A TIEMPO",4,0,null,null,{"$f":"IFERROR(VLOOKUP(F1994,Hoja1!$A$50:$C$63,2),\"\")","v":15},{"$f":"IFERROR(VLOOKUP(F1994,Hoja1!$A$50:$C$63,3),\"\")","v":15}]
[1985,20259910039352,"2025-03-11","Persona natural","Virtual - Correo electrónico","Solicitud de documentos o información","Solicitud de información hidrometeorológica",null,"Grupo de Servicio al Ciudadano","2025-03-12","No aplica","2025-03-27",null,"",null,{"$f":"IFERROR(WORKDAY(N1995,Y1995,Hoja1!F1987:F2103),\"\")","v":""},{"$f":"+IF(N1995=\"\",\"\",IF(O1995=\"\",\"SIN RESPUESTA\",(IF(O1995<=P1995,\"A TIEMPO\",\"FUERA DE TIEMPO\"))))","v":""},null,"A TIEMPO",1,0,null,null,{"$f":"IFERROR(VLOOKUP(F1995,Hoja1!$A$50:$C$63,2),\"\")","v":5},{"$f":"IFERROR(VLOOKUP(F1995,Hoja1!$A$50:$C$63,3),\"\")","v":5}]
[1986,20259910039394,"2025-03-11","Persona natural","Virtual - Correo electrónico","Solicitud de documentos o información","Solicitud de información hidrometeorológica",null,"Subdirección de Meteorología","2025-03-13","Correo electrónico","2025-03-27",null,"",null,{"$f":"IFERROR(WORKDAY(N1996,Y1996,Hoja1!F1988:F2104),\"\")","v":""},{"$f":"+IF(N1996=\"\",\"\",IF(O1996=\"\",\"SIN RESPUESTA\",(IF(O1996<=P1996,\"A TIEMPO\",\"FUERA DE TIEMPO\"))))","v":""},null,"A TIEMPO",2,0,null,null,{"$f":"IFERROR(VLOOKUP(F1996,Hoja1!$A$50:$C$63,2),\"\")","v":5},{"$f":"IFERROR(VLOOKUP(F1996,Hoja1!$A$50:$C$63,3),\"\")","v":5}]
[1987,20259910039514,"2025-03-11","Persona jurídica","Virtual - Correo electrónico","Solicitud de documentos o información","Acreditación de laboratorios",null,"Subdirección de Estudios Ambientales","2025-03-13","Correo electrónico","2025-03-27",null,"",null,{"$f":"IFERROR(WORKDAY(N1997,Y1997,Hoja1!F1989:F2105),\"\")","v":""},{"$f":"+IF(N1997=\"\",\"\",IF(O1997=\"\",\"SIN RESPUESTA\",(IF(O1997<=P1997,\"A TIEMPO\",\"FUERA DE TIEMPO\"))))","v":""},null,"A TIEMPO",2,0,null,null,{"$f":"IFERROR(VLOOKUP(F1997,Hoja1!$A$50:$C$63,2),\"\")","v":5},{"$f":"IFERROR(VLOOKUP(F1997,Hoja1!$A$50:$C$63,3),\"\")","v":5}]
[1988,20259910039524,"2025-03-11","Persona natural","Virtual - Correo electrónico","Solicitud de documentos o información","Solicitud de información hidrometeorológica",null,"Subdirección de Meteorología","2025-03-19","Correo electrónico","2025-03-27",null,"",null,{"$f":"IFERROR(WORKDAY(N1998,Y1998,Hoja1!F1990:F2106),\"\")","v":""},{"$f":"+IF(N1998=\"\",\"\",IF(O1998=\"\",\"SIN RESPUESTA\",(IF(O1998<=P1998,\"A TIEMPO\",\"FUERA DE TIEMPO\"))))","v":""},null,"A TIEMPO",5,0,null,null,{"$f":"IFERROR(VLOOKUP(F1998,Hoja1!$A$50:$C$63,2),\"\")","v":5},{"$f":"IFERROR(VLOOKUP(F1998,Hoja1!$A$50:$C$63,3),\"\")","v":5}]
[1989,20259910039534,"2025-03-11","Persona jurídica","Virtual - Correo electrónico","Reclamo","Administrativa",null,"Secretaría General","2025-03-17","Correo electrónico","2025-04-03",null,"",null,{"$f":"IFERROR(WORKDAY(N1999,Y1999,Hoja1!F1991:F2107),\"\")","v":""},{"$f":"+IF(N1999=\"\",\"\",IF(O1999=\"\",\"SIN RESPUESTA\",(IF(O1999<=P1999,\"A TIEMPO\",\"FUERA DE TIEMPO\"))))","v":""},null,"A TIEMPO",4,0,null,null,{"$f":"IFERROR(VLOOKUP(F1999,Hoja1!$A$50:$C$63,2),\"\")","v":15},{"$f":"IFERROR(VLOOKUP(F1999,Hoja1!$A$50:$C$63,3),\"\")","v":15}]
[1990,20259910039544,"2025-03-11","Persona jurídica","Virtual - Correo electrónico","Petición entre entidades","Registros ambientales",null,"Subdirección de Estudios Ambientales","2025-03-28","Correo electrónico","2025-03-27",null,"",null,{"$f":"IFERROR(WORKDAY(N2000,Y2000,Hoja1!F1992:F2108),\"\")","v":""},{"$f":"+IF(N2000=\"\",\"\",IF(O2000=\"\",\"SIN RESPUESTA\",(IF(O2000<=P2000,\"A TIEMPO\",\"FUERA DE TIEMPO\"))))","v":""},null,{"$f":"+IF(C2000=\"\",\"\",IF(J2000=\"\",\"SIN RESPUESTA\",(IF(J2000<=L2000,\"A TIEMPO\",\"FUERA DE TIEMPO\"))))","v":"FUERA DE TIEMPO"},11,1,null,null,{"$f":"IFERROR(VLOOKUP(F2000,Hoja1!$A$50:$C$63,2),\"\")","v":10},{"$f":"IFERROR(VLOOKUP(F2000,Hoja1!$A$50:$C$63,3),\"\")","v":10}]
[{"$f":"IF(B2001<>\"\",A2000+1,\"\")","v":1991},20259050039574,"2025-03-11","Persona natural","Virtual - Formulario PQRSDF","Solicitud de documentos o información","Bosques",null,"Subdirección de Ecosistemas e Información Ambiental","2025-03-25","Correo electrónico","2025-03-27",null,"",null,{"$f":"IFERROR(WORKDAY(N2001,Y2001,Hoja1!F1993:F2109),\"\")","v":""},{"$f":"+IF(N2001=\"\",\"\",IF(O2001=\"\",\"SIN RESPUESTA\",(IF(O2001<=P2001,\"A TIEMPO\",\"FUERA DE TIEMPO\"))))","v":""},null,"A TIEMPO",8,0,null,null,{"$f":"IFERROR(VLOOKUP(F2001,Hoja1!$A$50:$C$63,2),\"\")","v":5},{"$f":"IFERROR(VLOOKUP(F2001,Hoja1!$A$50:$C$63,3),\"\")","v":5}]
[1992,20259050039594,"2025-03-11","Persona jurídica","Virtual - Formulario PQRSDF","Solicitud de documentos o información","Solicitud de información hidrometeorológica",null,"Grupo de Servicio al Ciudadano","2025-03-25","Correo electrónico","2025-03-27",null,"",null,{"$f":"IFERROR(WORKDAY(N2002,Y2002,Hoja1!F1994:F2110),\"\")","v":""},{"$f":"+IF(N2002=\"\",\"\",IF(O2002=\"\",\"SIN RESPUESTA\",(IF(O2002<=P2002,\"A TIEMPO\",\"FUERA DE TIEMPO\"))))","v":""},null,"A TIEMPO",8,0,null,null,{"$f":"IFERROR(VLOOKUP(F2002,Hoja1!$A$50:$C$63,2),\"\")","v":5},{"$f":"IFERROR(VLOOKUP(F2002,Hoja1!$A$50:$C$63,3),\"\")","v":5}]
[1993,20259050039634,"2025-03-12","Persona jurídica","Virtual - Formulario PQRSDF","Solicitud de documentos o información","Registros ambientales",null,"Subdirección de Estudios Ambientales","2025-03-28","Correo electrónico","2025-03-28",null,"",null,{"$f":"IFERROR(WORKDAY(N2003,Y2003,Hoja1!F1995:F2111),\"\")","v":""},{"$f":"+IF(N2003=\"\",\"\",IF(O2003=\"\",\"SIN RESPUESTA\",(IF(O2003<=P2003,\"A TIEMPO\",\"FUERA DE TIEMPO\"))))","v":""},null,"A TIEMPO",10,0,null,null,{"$f":"IFERROR(VLOOKUP(F2003,Hoja1!$A$50:$C$63,2),\"\")","v":5},{"$f":"IFERROR(VLOOKUP(F2003,Hoja1!$A$50:$C$63,3),\"\")","v":5}]
[1994,20259050039664,"2025-03-12","Persona jurídica","Virtual - Formulario PQRSDF","Solicitud de documentos o información","Registros ambientales",null,"Subdirección de Estudios Ambientales","2025-03-25","Correo electrónico","2025-03-28",null,"",null,{"$f":"IFERROR(WORKDAY(N2004,Y2004,Hoja1!F1996:F2112),\"\")","v":""},{"$f":"+IF(N2004=\"\",\"\",IF(O2004=\"\",\"SIN RESPUESTA\",(IF(O2004<=P2004,\"A TIEMPO\",\"FUERA DE TIEMPO\"))))","v":""},null,"A TIEMPO",7,0,null,null,{"$f":"IFERROR(VLOOKUP(F2004,Hoja1!$A$50:$C$63,2),\"\")","v":5},{"$f":"IFERROR(VLOOKUP(F2004,Hoja1!$A$50:$C$63,3),\"\")","v":5}]
[1995,20259910039674,"2025-03-12","Persona jurídica","Virtual - Correo electrónico","Solicitud de documentos o información","Registros ambientales",null,"Subdirección de Estudios Ambientales","2025-03-26","Correo electrónico","2025-03-28",null,"",null,{"$f":"IFERROR(WORKDAY(N2005,Y2005,Hoja1!F1997:F2113),\"\")","v":""},{"$f":"+IF(N2005=\"\",\"\",IF(O2005=\"\",\"SIN RESPUESTA\",(IF(O2005<=P2005,\"A TIEMPO\",\"FUERA DE TIEMPO\"))))","v":""},null,"A TIEMPO",8,0,null,null,{"$f":"IFERROR(VLOOKUP(F2005,Hoja1!$A$50:$C$63,2),\"\")","v":5},{"$f":"IFERROR(VLOOKUP(F2005,Hoja1!$A$50:$C$63,3),\"\")","v":5}]
[1996,20259910039704,"2025-03-12","Persona jurídica","Virtual - Correo electrónico","Solicitud de documentos o información","Solicitud de información hidrometeorológica",null,"Subdirección de Meteorología","2025-03-25","Correo electrónico","2025-03-28",null,"",null,{"$f":"IFERROR(WORKDAY(N2006,Y2006,Hoja1!F1998:F2114),\"\")","v":""},{"$f":"+IF(N2006=\"\",\"\",IF(O2006=\"\",\"SIN RESPUESTA\",(IF(O2006<=P2006,\"A TIEMPO\",\"FUERA DE TIEMPO\"))))","v":""},null,"A TIEMPO",7,0,null,null,{"$f":"IFERROR(VLOOKUP(F2006,Hoja1!$A$50:$C$63,2),\"\")","v":5},{"$f":"IFERROR(VLOOKUP(F2006,Hoja1!$A$50:$C$63,3),\"\")","v":5}]
[1997,20259910039854,"2025-03-12","Persona jurídica","Virtual - Correo electrónico","Petición entre autoridades","Bosques",null,"Subdirección de Ecosistemas e Información Ambiental","2025-03-27","Correo electrónico","2025-03-28",null,"",null,{"$f":"IFERROR(WORKDAY(N2007,Y2007,Hoja1!F1999:F2115),\"\")","v":""},{"$f":"+IF(N2007=\"\",\"\",IF(O2007=\"\",\"SIN RESPUESTA\",(IF(O2007<=P2007,\"A TIEMPO\",\"FUERA DE TIEMPO\"))))","v":""},null,"A TIEMPO",9,0,null,null,{"$f":"IFERROR(VLOOKUP(F2007,Hoja1!$A$50:$C$63,2),\"\")","v":10},{"$f":"IFERROR(VLOOKUP(F2007,Hoja1!$A$50:$C$63,3),\"\")","v":10}]
[1998,20259910039864,"2025-03-12","Persona natural","Virtual - Correo electrónico","Solicitud de documentos o información","Sistema de información ambiental",null,"Subdirección de Estudios Ambientales","2025-03-20","Correo electrónico","2025-03-28",null,"",null,{"$f":"IFERROR(WORKDAY(N2008,Y2008,Hoja1!F2000:F2116),\"\")","v":""},{"$f":"+IF(N2008=\"\",\"\",IF(O2008=\"\",\"SIN RESPUESTA\",(IF(O2008<=P2008,\"A TIEMPO\",\"FUERA DE TIEMPO\"))))","v":""},null,"A TIEMPO",5,0,null,null,{"$f":"IFERROR(VLOOKUP(F2008,Hoja1!$A$50:$C$63,2),\"\")","v":5},{"$f":"IFERROR(VLOOKUP(F2008,Hoja1!$A$50:$C$63,3),\"\")","v":5}]
[1999,20259910039904,"2025-03-12","Persona natural","Virtual - Correo electrónico","Solicitud de documentos o información","Climatología",null,"Grupo de Servicio al Ciudadano","2025-03-25","Correo electrónico","2025-03-28",null,"",null,{"$f":"IFERROR(WORKDAY(N2009,Y2009,Hoja1!F2001:F2117),\"\")","v":""},{"$f":"+IF(N2009=\"\",\"\",IF(O2009=\"\",\"SIN RESPUESTA\",(IF(O2009<=P2009,\"A TIEMPO\",\"FUERA DE TIEMPO\"))))","v":""},null,"A TIEMPO",7,0,null,null,{"$f":"IFERROR(VLOOKUP(F2009,Hoja1!$A$50:$C$63,2),\"\")","v":5},{"$f":"IFERROR(VLOOKUP(F2009,Hoja1!$A$50:$C$63,3),\"\")","v":5}]
[2000,20259910039914,"2025-03-12","Persona jurídica","Virtual - Correo electrónico","Solicitud de documentos o información","Registros ambientales",null,"Subdirección de Estudios Ambientales","2025-03-27","Correo electrónico","2025-03-28",null,"",null,{"$f":"IFERROR(WORKDAY(N2010,Y2010,Hoja1!F2002:F2118),\"\")","v":""},{"$f":"+IF(N2010=\"\",\"\",IF(O2010=\"\",\"SIN RESPUESTA\",(IF(O2010<=P2010,\"A TIEMPO\",\"FUERA DE TIEMPO\"))))","v":""},null,"A TIEMPO",9,0,null,null,{"$f":"IFERROR(VLOOKUP(F2010,Hoja1!$A$50:$C$63,2),\"\")","v":5},{"$f":"IFERROR(VLOOKUP(F2010,Hoja1!$A$50:$C$63,3),\"\")","v":5}]
[2001,20259910039924,"2025-03-12","Persona jurídica","Virtual - Correo electrónico","Solicitud de documentos o información","Registros ambientales",null,"Subdirección de Estudios Ambientales","2025-03-27","Correo electrónico","2025-03-28",null,"",null,{"$f":"IFERROR(WORKDAY(N2011,Y2011,Hoja1!F2003:F2119),\"\")","v":""},{"$f":"+IF(N2011=\"\",\"\",IF(O2011=\"\",\"SIN RESPUESTA\",(IF(O2011<=P2011,\"A TIEMPO\",\"FUERA DE TIEMPO\"))))","v":""},null,"A TIEMPO",9,0,null,null,{"$f":"IFERROR(VLOOKUP(F2011,Hoja1!$A$50:$C$63,2),\"\")","v":5},{"$f":"IFERROR(VLOOKUP(F2011,Hoja1!$A$50:$C$63,3),\"\")","v":5}]
[2002,20259910039944,"2025-03-12","Persona natural","Virtual - Correo electrónico","Certificación laboral o pasantía","Administrativa",null,"Grupo de Administración y Desarrollo del Talento Humano","2025-03-30","Correo electrónico","2025-03-28",null,"",null,{"$f":"IFERROR(WORKDAY(N2012,Y2012,Hoja1!F2004:F2120),\"\")","v":""},{"$f":"+IF(N2012=\"\",\"\",IF(O2012=\"\",\"SIN RESPUESTA\",(IF(O2012<=P2012,\"A TIEMPO\",\"FUERA DE TIEMPO\"))))","v":""},null,{"$f":"+IF(C2012=\"\",\"\",IF(J2012=\"\",\"SIN RESPUESTA\",(IF(J2012<=L2012,\"A TIEMPO\",\"FUERA DE TIEMPO\"))))","v":"FUERA DE TIEMPO"},10,0,null,null,{"$f":"IFERROR(VLOOKUP(F2012,Hoja1!$A$50:$C$63,2),\"\")","v":15},{"$f":"IFERROR(VLOOKUP(F2012,Hoja1!$A$50:$C$63,3),\"\")","v":15}]
[2003,20259910039964,"2025-03-12","Persona jurídica","Virtual - Correo electrónico","Solicitud de documentos o información","Registros ambientales",null,"Subdirección de Estudios Ambientales","2025-03-19","Correo electrónico","2025-03-28",null,"",null,{"$f":"IFERROR(WORKDAY(N2013,Y2013,Hoja1!F2005:F2121),\"\")","v":""},{"$f":"+IF(N2013=\"\",\"\",IF(O2013=\"\",\"SIN RESPUESTA\",(IF(O2013<=P2013,\"A TIEMPO\",\"FUERA DE TIEMPO\"))))","v":""},null,"A TIEMPO",4,0,null,null,{"$f":"IFERROR(VLOOKUP(F2013,Hoja1!$A$50:$C$63,2),\"\")","v":5},{"$f":"IFERROR(VLOOKUP(F2013,Hoja1!$A$50:$C$63,3),\"\")","v":5}]
[2004,20259910039984,"2025-03-12","Persona jurídica","Virtual - Correo electrónico","Solicitud de documentos o información","Registros ambientales",null,"Subdirección de Estudios Ambientales","2025-03-30","Correo electrónico","2025-03-28",null,"",null,{"$f":"IFERROR(WORKDAY(N2014,Y2014,Hoja1!F2006:F2122),\"\")","v":""},{"$f":"+IF(N2014=\"\",\"\",IF(O2014=\"\",\"SIN RESPUESTA\",(IF(O2014<=P2014,\"A TIEMPO\",\"FUERA DE TIEMPO\"))))","v":""},null,{"$f":"+IF(C2014=\"\",\"\",IF(J2014=\"\",\"SIN RESPUESTA\",(IF(J2014<=L2014,\"A TIEMPO\",\"FUERA DE TIEMPO\"))))","v":"FUERA DE TIEMPO"},10,0,null,null,{"$f":"IFERROR(VLOOKUP(F2014,Hoja1!$A$50:$C$63,2),\"\")","v":5},{"$f":"IFERROR(VLOOKUP(F2014,Hoja1!$A$50:$C$63,3),\"\")","v":5}]
[2005,20259910040014,"2025-03-12","Persona natural","Virtual - Correo electrónico","Solicitud de documentos o información","Solicitud de información hidrometeorológica",null,"Grupo de Servicio al Ciudadano","2025-03-13","No aplica","2025-03-28",null,"",null,{"$f":"IFERROR(WORKDAY(N2015,Y2015,Hoja1!F2007:F2123),\"\")","v":""},{"$f":"+IF(N2015=\"\",\"\",IF(O2015=\"\",\"SIN RESPUESTA\",(IF(O2015<=P2015,\"A TIEMPO\",\"FUERA DE TIEMPO\"))))","v":""},null,"A TIEMPO",1,0,null,null,{"$f":"IFERROR(VLOOKUP(F2015,Hoja1!$A$50:$C$63,2),\"\")","v":5},{"$f":"IFERROR(VLOOKUP(F2015,Hoja1!$A$50:$C$63,3),\"\")","v":5}]
[2006,20259910040024,"2025-03-12","Persona jurídica","Virtual - Correo electrónico","Solicitud de documentos o información","Acreditación de laboratorios",null,"Subdirección de Estudios Ambientales","2025-03-14","Correo electrónico","2025-03-28",null,"",null,{"$f":"IFERROR(WORKDAY(N2016,Y2016,Hoja1!F2008:F2124),\"\")","v":""},{"$f":"+IF(N2016=\"\",\"\",IF(O2016=\"\",\"SIN RESPUESTA\",(IF(O2016<=P2016,\"A TIEMPO\",\"FUERA DE TIEMPO\"))))","v":""},null,"A TIEMPO",2,0,null,null,{"$f":"IFERROR(VLOOKUP(F2016,Hoja1!$A$50:$C$63,2),\"\")","v":5},{"$f":"IFERROR(VLOOKUP(F2016,Hoja1!$A$50:$C$63,3),\"\")","v":5}]
[2007,20259910040034,"2025-03-12","Persona jurídica","Virtual - Correo electrónico","Petición de interés general o particular","Registros ambientales",null,"Subdirección de Estudios Ambientales","2025-03-17","Correo electrónico","2025-04-04",null,"",null,{"$f":"IFERROR(WORKDAY(N2017,Y2017,Hoja1!F2009:F2125),\"\")","v":""},{"$f":"+IF(N2017=\"\",\"\",IF(O2017=\"\",\"SIN RESPUESTA\",(IF(O2017<=P2017,\"A TIEMPO\",\"FUERA DE TIEMPO\"))))","v":""},null,"A TIEMPO",3,0,null,null,{"$f":"IFERROR(VLOOKUP(F2017,Hoja1!$A$50:$C$63,2),\"\")","v":15},{"$f":"IFERROR(VLOOKUP(F2017,Hoja1!$A$50:$C$63,3),\"\")","v":15}]
[2008,20259910040054,"2025-03-12","Persona natural","Virtual - Correo electrónico","Solicitud de documentos o información","Sistema de información ambiental",null,"Dirección General","2025-03-19","Correo electrónico","2025-03-28",null,"",null,{"$f":"IFERROR(WORKDAY(N2018,Y2018,Hoja1!F2010:F2126),\"\")","v":""},{"$f":"+IF(N2018=\"\",\"\",IF(O2018=\"\",\"SIN RESPUESTA\",(IF(O2018<=P2018,\"A TIEMPO\",\"FUERA DE TIEMPO\"))))","v":""},null,"A TIEMPO",4,0,null,null,{"$f":"IFERROR(VLOOKUP(F2018,Hoja1!$A$50:$C$63,2),\"\")","v":5},{"$f":"IFERROR(VLOOKUP(F2018,Hoja1!$A$50:$C$63,3),\"\")","v":5}]
[2009,20259910040064,"2025-03-12","Persona natural","Virtual - Correo electrónico","Solicitud de documentos o información","Solicitud de información hidrometeorológica",null,"Subdirección de Meteorología","2025-03-20","Correo electrónico","2025-03-28",null,"",null,{"$f":"IFERROR(WORKDAY(N2019,Y2019,Hoja1!F2011:F2127),\"\")","v":""},{"$f":"+IF(N2019=\"\",\"\",IF(O2019=\"\",\"SIN RESPUESTA\",(IF(O2019<=P2019,\"A TIEMPO\",\"FUERA DE TIEMPO\"))))","v":""},null,"A TIEMPO",5,0,null,null,{"$f":"IFERROR(VLOOKUP(F2019,Hoja1!$A$50:$C$63,2),\"\")","v":5},{"$f":"IFERROR(VLOOKUP(F2019,Hoja1!$A$50:$C$63,3),\"\")","v":5}]
[2010,20259910040084,"2025-03-12","Persona jurídica","Virtual - Correo electrónico","Solicitud de documentos o información","Registros ambientales",null,"Subdirección de Estudios Ambientales","2025-03-30","Correo electrónico","2025-03-28",null,"",null,{"$f":"IFERROR(WORKDAY(N2020,Y2020,Hoja1!F2012:F2128),\"\")","v":""},{"$f":"+IF(N2020=\"\",\"\",IF(O2020=\"\",\"SIN RESPUESTA\",(IF(O2020<=P2020,\"A TIEMPO\",\"FUERA DE TIEMPO\"))))","v":""},null,{"$f":"+IF(C2020=\"\",\"\",IF(J2020=\"\",\"SIN RESPUESTA\",(IF(J2020<=L2020,\"A TIEMPO\",\"FUERA DE TIEMPO\"))))","v":"FUERA DE TIEMPO"},10,0,null,null,{"$f":"IFERROR(VLOOKUP(F2020,Hoja1!$A$50:$C$63,2),\"\")","v":5},{"$f":"IFERROR(VLOOKUP(F2020,Hoja1!$A$50:$C$63,3),\"\")","v":5}]
[2011,20259910040114,"2025-03-12","Persona jurídica","Virtual - Correo electrónico","Solicitud de documentos o información","Registros ambientales",null,"Subdirección de Estudios Ambientales","2025-03-19","Correo electrónico","2025-03-28",null,"",null,{"$f":"IFERROR(WORKDAY(N2021,Y2021,Hoja1!F2013:F2129),\"\")","v":""},{"$f":"+IF(N2021=\"\",\"\",IF(O2021=\"\",\"SIN RESPUESTA\",(IF(O2021<=P2021,\"A TIEMPO\",\"FUERA DE TIEMPO\"))))","v":""},null,"A TIEMPO",4,0,null,null,{"$f":"IFERROR(VLOOKUP(F2021,Hoja1!$A$50:$C$63,2),\"\")","v":5},{"$f":"IFERROR(VLOOKUP(F2021,Hoja1!$A$50:$C$63,3),\"\")","v":5}]
[2012,20259910040124,"2025-03-12","Persona jurídica","Virtual - Correo electrónico","Solicitud de documentos o información","Registros ambientales",null,"Subdirección de Estudios Ambientales","2025-03-26","Correo electrónico","2025-03-28",null,"",null,{"$f":"IFERROR(WORKDAY(N2022,Y2022,Hoja1!F2014:F2130),\"\")","v":""},{"$f":"+IF(N2022=\"\",\"\",IF(O2022=\"\",\"SIN RESPUESTA\",(IF(O2022<=P2022,\"A TIEMPO\",\"FUERA DE TIEMPO\"))))","v":""},null,"A TIEMPO",8,0,null,null,{"$f":"IFERROR(VLOOKUP(F2022,Hoja1!$A$50:$C$63,2),\"\")","v":5},{"$f":"IFERROR(VLOOKUP(F2022,Hoja1!$A$50:$C$63,3),\"\")","v":5}]
[2013,20259910040144,"2025-03-12","Persona jurídica","Virtual - Correo electrónico","Solicitud de documentos o información","Registros ambientales",null,"Subdirección de Estudios Ambientales","2025-03-31","Correo electrónico","2025-03-28",null,"",null,{"$f":"IFERROR(WORKDAY(N2023,Y2023,Hoja1!F2015:F2131),\"\")","v":""},{"$f":"+IF(N2023=\"\",\"\",IF(O2023=\"\",\"SIN RESPUESTA\",(IF(O2023<=P2023,\"A TIEMPO\",\"FUERA DE TIEMPO\"))))","v":""},null,{"$f":"+IF(C2023=\"\",\"\",IF(J2023=\"\",\"SIN RESPUESTA\",(IF(J2023<=L2023,\"A TIEMPO\",\"FUERA DE TIEMPO\"))))","v":"FUERA DE TIEMPO"},11,1,null,null,{"$f":"IFERROR(VLOOKUP(F2023,Hoja1!$A$50:$C$63,2),\"\")","v":5},{"$f":"IFERROR(VLOOKUP(F2023,Hoja1!$A$50:$C$63,3),\"\")","v":5}]
[2014,20259910040174,"2025-03-12","Persona jurídica","Virtual - Correo electrónico","Petición entre autoridades","Sistema de información ambiental",null,"Subdirección de Estudios Ambientales","2025-03-13","No aplica","2025-03-28",null,"",null,{"$f":"IFERROR(WORKDAY(N2024,Y2024,Hoja1!F2016:F2132),\"\")","v":""},{"$f":"+IF(N2024=\"\",\"\",IF(O2024=\"\",\"SIN RESPUESTA\",(IF(O2024<=P2024,\"A TIEMPO\",\"FUERA DE TIEMPO\"))))","v":""},null,"A TIEMPO",1,0,null,null,{"$f":"IFERROR(VLOOKUP(F2024,Hoja1!$A$50:$C$63,2),\"\")","v":10},{"$f":"IFERROR(VLOOKUP(F2024,Hoja1!$A$50:$C$63,3),\"\")","v":10}]
[2015,20259910040194,"2025-03-12","Persona natural","Virtual - Correo electrónico","Certificación laboral o pasantía","Administrativa",null,"Grupo de Administración y Desarrollo del Talento Humano","2025-03-25","Correo electrónico","2025-03-28",null,"",null,{"$f":"IFERROR(WORKDAY(N2025,Y2025,Hoja1!F2017:F2133),\"\")","v":""},{"$f":"+IF(N2025=\"\",\"\",IF(O2025=\"\",\"SIN RESPUESTA\",(IF(O2025<=P2025,\"A TIEMPO\",\"FUERA DE TIEMPO\"))))","v":""},null,"A TIEMPO",7,0,null,null,{"$f":"IFERROR(VLOOKUP(F2025,Hoja1!$A$50:$C$63,2),\"\")","v":15},{"$f":"IFERROR(VLOOKUP(F2025,Hoja1!$A$50:$C$63,3),\"\")","v":15}]
[2016,20259910040204,"2025-03-12","Persona jurídica","Virtual - Correo electrónico","Solicitud de documentos o información","Registros ambientales",null,"Subdirección de Estudios Ambientales","2025-03-28","Correo electrónico","2025-03-28",null,"",null,{"$f":"IFERROR(WORKDAY(N2026,Y2026,Hoja1!F2018:F2134),\"\")","v":""},{"$f":"+IF(N2026=\"\",\"\",IF(O2026=\"\",\"SIN RESPUESTA\",(IF(O2026<=P2026,\"A TIEMPO\",\"FUERA DE TIEMPO\"))))","v":""},null,"A TIEMPO",10,0,null,null,{"$f":"IFERROR(VLOOKUP(F2026,Hoja1!$A$50:$C$63,2),\"\")","v":5},{"$f":"IFERROR(VLOOKUP(F2026,Hoja1!$A$50:$C$63,3),\"\")","v":5}]
[2017,20259910040214,"2025-03-12","Persona jurídica","Virtual - Correo electrónico","Solicitud de documentos o información","Registros ambientales",null,"Subdirección de Estudios Ambientales","2025-03-30","Correo electrónico","2025-03-28",null,"",null,{"$f":"IFERROR(WORKDAY(N2027,Y2027,Hoja1!F2019:F2135),\"\")","v":""},{"$f":"+IF(N2027=\"\",\"\",IF(O2027=\"\",\"SIN RESPUESTA\",(IF(O2027<=P2027,\"A TIEMPO\",\"FUERA DE TIEMPO\"))))","v":""},null,{"$f":"+IF(C2027=\"\",\"\",IF(J2027=\"\",\"SIN RESPUESTA\",(IF(J2027<=L2027,\"A TIEMPO\",\"FUERA DE TIEMPO\"))))","v":"FUERA DE TIEMPO"},10,0,null,null,{"$f":"IFERROR(VLOOKUP(F2027,Hoja1!$A$50:$C$63,2),\"\")","v":5},{"$f":"IFERROR(VLOOKUP(F2027,Hoja1!$A$50:$C$63,3),\"\")","v":5}]
[2018,20259910040244,"2025-03-12","Persona jurídica","Virtual - Correo electrónico","Solicitud de documentos o información","Registros ambientales",null,"Subdirección de Estudios Ambientales","2025-03-14","Correo electrónico","2025-03-28",null,"",null,{"$f":"IFERROR(WORKDAY(N2028,Y2028,Hoja1!F2020:F2136),\"\")","v":""},{"$f":"+IF(N2028=\"\",\"\",IF(O2028=\"\",\"SIN RESPUESTA\",(IF(O2028<=P2028,\"A TIEMPO\",\"FUERA DE TIEMPO\"))))","v":""},null,"A TIEMPO",2,0,null,null,{"$f":"IFERROR(VLOOKUP(F2028,Hoja1!$A$50:$C$63,2),\"\")","v":5},{"$f":"IFERROR(VLOOKUP(F2028,Hoja1!$A$50:$C$63,3),\"\")","v":5}]
[2019,20259050040264,"2025-03-12","Persona natural","Virtual - Formulario PQRSDF","Solicitud de documentos o información","Registros ambientales",null,"Subdirección de Estudios Ambientales","2025-03-28","Correo electrónico","2025-03-28",null,"",null,{"$f":"IFERROR(WORKDAY(N2029,Y2029,Hoja1!F2021:F2137),\"\")","v":""},{"$f":"+IF(N2029=\"\",\"\",IF(O2029=\"\",\"SIN RESPUESTA\",(IF(O2029<=P2029,\"A TIEMPO\",\"FUERA DE TIEMPO\"))))","v":""},null,"A TIEMPO",10,0,null,null,{"$f":"IFERROR(VLOOKUP(F2029,Hoja1!$A$50:$C$63,2),\"\")","v":5},{"$f":"IFERROR(VLOOKUP(F2029,Hoja1!$A$50:$C$63,3),\"\")","v":5}]
[2020,20259910040284,"2025-03-12","Persona jurídica","Virtual - Correo electrónico","Petición entre autoridades","Bosques",null,"Subdirección de Ecosistemas e Información Ambiental","2025-03-27","Correo electrónico","2025-03-28",null,"",null,{"$f":"IFERROR(WORKDAY(N2030,Y2030,Hoja1!F2022:F2138),\"\")","v":""},{"$f":"+IF(N2030=\"\",\"\",IF(O2030=\"\",\"SIN RESPUESTA\",(IF(O2030<=P2030,\"A TIEMPO\",\"FUERA DE TIEMPO\"))))","v":""},null,"A TIEMPO",9,0,null,null,{"$f":"IFERROR(VLOOKUP(F2030,Hoja1!$A$50:$C$63,2),\"\")","v":10},{"$f":"IFERROR(VLOOKUP(F2030,Hoja1!$A$50:$C$63,3),\"\")","v":10}]
[2021,20259910040294,"2025-03-12","Persona jurídica","Virtual - Correo electrónico","Solicitud de documentos o información","Registros ambientales",null,"Subdirección de Estudios Ambientales","2025-03-27","Correo electrónico","2025-03-28",null,"",null,{"$f":"IFERROR(WORKDAY(N2031,Y2031,Hoja1!F2023:F2139),\"\")","v":""},{"$f":"+IF(N2031=\"\",\"\",IF(O2031=\"\",\"SIN RESPUESTA\",(IF(O2031<=P2031,\"A TIEMPO\",\"FUERA DE TIEMPO\"))))","v":""},null,"A TIEMPO",9,0,null,null,{"$f":"IFERROR(VLOOKUP(F2031,Hoja1!$A$50:$C$63,2),\"\")","v":5},{"$f":"IFERROR(VLOOKUP(F2031,Hoja1!$A$50:$C$63,3),\"\")","v":5}]
[2022,20259910040324,"2025-03-12","Persona jurídica","Virtual - Correo electrónico","Solicitud de documentos o información","Acreditación de laboratorios",null,"Subdirección de Estudios Ambientales","2025-03-26","Correo electrónico","2025-03-28",null,"",null,{"$f":"IFERROR(WORKDAY(N2032,Y2032,Hoja1!F2024:F2140),\"\")","v":""},{"$f":"+IF(N2032=\"\",\"\",IF(O2032=\"\",\"SIN RESPUESTA\",(IF(O2032<=P2032,\"A TIEMPO\",\"FUERA DE TIEMPO\"))))","v":""},null,"A TIEMPO",8,0,null,null,{"$f":"IFERROR(VLOOKUP(F2032,Hoja1!$A$50:$C$63,2),\"\")","v":5},{"$f":"IFERROR(VLOOKUP(F2032,Hoja1!$A$50:$C$63,3),\"\")","v":5}]
[2023,20259910040354,"2025-03-12","Persona jurídica","Virtual - Correo electrónico","Solicitud de documentos o información","Registros ambientales",null,"Subdirección de Estudios Ambientales","2025-03-31","Correo electrónico","2025-03-28",null,"",null,{"$f":"IFERROR(WORKDAY(N2033,Y2033,Hoja1!F2025:F2141),\"\")","v":""},{"$f":"+IF(N2033=\"\",\"\",IF(O2033=\"\",\"SIN RESPUESTA\",(IF(O2033<=P2033,\"A TIEMPO\",\"FUERA DE TIEMPO\"))))","v":""},null,{"$f":"+IF(C2033=\"\",\"\",IF(J2033=\"\",\"SIN RESPUESTA\",(IF(J2033<=L2033,\"A TIEMPO\",\"FUERA DE TIEMPO\"))))","v":"FUERA DE TIEMPO"},11,1,null,null,{"$f":"IFERROR(VLOOKUP(F2033,Hoja1!$A$50:$C$63,2),\"\")","v":5},{"$f":"IFERROR(VLOOKUP(F2033,Hoja1!$A$50:$C$63,3),\"\")","v":5}]
[2024,20259910040384,"2025-03-12","Persona jurídica","Virtual - Correo electrónico","Solicitud de documentos o información","Registros ambientales",null,"Subdirección de Estudios Ambientales","2025-03-14","Correo electrónico","2025-03-28",null,"",null,{"$f":"IFERROR(WORKDAY(N2034,Y2034,Hoja1!F2026:F2142),\"\")","v":""},{"$f":"+IF(N2034=\"\",\"\",IF(O2034=\"\",\"SIN RESPUESTA\",(IF(O2034<=P2034,\"A TIEMPO\",\"FUERA DE TIEMPO\"))))","v":""},null,"A TIEMPO",2,0,null,null,{"$f":"IFERROR(VLOOKUP(F2034,Hoja1!$A$50:$C$63,2),\"\")","v":5},{"$f":"IFERROR(VLOOKUP(F2034,Hoja1!$A$50:$C$63,3),\"\")","v":5}]
[2025,20259910040404,"2025-03-12","Persona jurídica","Virtual - Correo electrónico","Solicitud de documentos o información","Registros ambientales",null,"Subdirección de Estudios Ambientales","2025-03-19","Correo electrónico","2025-03-28",null,"",null,{"$f":"IFERROR(WORKDAY(N2035,Y2035,Hoja1!F2027:F2143),\"\")","v":""},{"$f":"+IF(N2035=\"\",\"\",IF(O2035=\"\",\"SIN RESPUESTA\",(IF(O2035<=P2035,\"A TIEMPO\",\"FUERA DE TIEMPO\"))))","v":""},null,"A TIEMPO",4,0,null,null,{"$f":"IFERROR(VLOOKUP(F2035,Hoja1!$A$50:$C$63,2),\"\")","v":5},{"$f":"IFERROR(VLOOKUP(F2035,Hoja1!$A$50:$C$63,3),\"\")","v":5}]
[2026,20259910040414,"2025-03-12","Persona jurídica","Virtual - Correo electrónico","Solicitud de documentos o información","Solicitud de información hidrometeorológica",null,"Grupo de Servicio al Ciudadano","2025-03-25","Correo electrónico","2025-03-28",null,"",null,{"$f":"IFERROR(WORKDAY(N2036,Y2036,Hoja1!F2028:F2144),\"\")","v":""},{"$f":"+IF(N2036=\"\",\"\",IF(O2036=\"\",\"SIN RESPUESTA\",(IF(O2036<=P2036,\"A TIEMPO\",\"FUERA DE TIEMPO\"))))","v":""},null,"A TIEMPO",7,0,null,null,{"$f":"IFERROR(VLOOKUP(F2036,Hoja1!$A$50:$C$63,2),\"\")","v":5},{"$f":"IFERROR(VLOOKUP(F2036,Hoja1!$A$50:$C$63,3),\"\")","v":5}]
[2027,20259050040604,"2025-03-12","Persona jurídica","Virtual - Formulario PQRSDF","Solicitud de documentos o información","Solicitud de información hidrometeorológica",null,"Grupo de Servicio al Ciudadano","2025-03-27","Correo electrónico","2025-03-28",null,"",null,{"$f":"IFERROR(WORKDAY(N2037,Y2037,Hoja1!F2029:F2145),\"\")","v":""},{"$f":"+IF(N2037=\"\",\"\",IF(O2037=\"\",\"SIN RESPUESTA\",(IF(O2037<=P2037,\"A TIEMPO\",\"FUERA DE TIEMPO\"))))","v":""},null,"A TIEMPO",9,0,null,null,{"$f":"IFERROR(VLOOKUP(F2037,Hoja1!$A$50:$C$63,2),\"\")","v":5},{"$f":"IFERROR(VLOOKUP(F2037,Hoja1!$A$50:$C$63,3),\"\")","v":5}]
[2028,20259050040534,"2025-03-12","Persona natural","Virtual - Formulario PQRSDF","Solicitud de documentos o información","Solicitud de información hidrometeorológica",null,"Grupo de Servicio al Ciudadano","2025-03-27","Correo electrónico","2025-03-28",null,"",null,{"$f":"IFERROR(WORKDAY(N2038,Y2038,Hoja1!F2030:F2146),\"\")","v":""},{"$f":"+IF(N2038=\"\",\"\",IF(O2038=\"\",\"SIN RESPUESTA\",(IF(O2038<=P2038,\"A TIEMPO\",\"FUERA DE TIEMPO\"))))","v":""},null,"A TIEMPO",9,0,null,null,{"$f":"IFERROR(VLOOKUP(F2038,Hoja1!$A$50:$C$63,2),\"\")","v":5},{"$f":"IFERROR(VLOOKUP(F2038,Hoja1!$A$50:$C$63,3),\"\")","v":5}]
[2029,20259050040464,"2025-03-12","Persona natural","Virtual - Formulario PQRSDF","Certificación de ingresos y retenciones","Administrativa",null,"Grupo de Tesorería","2025-03-13","Correo electrónico","2025-03-28",null,"",null,{"$f":"IFERROR(WORKDAY(N2039,Y2039,Hoja1!F2031:F2147),\"\")","v":""},{"$f":"+IF(N2039=\"\",\"\",IF(O2039=\"\",\"SIN RESPUESTA\",(IF(O2039<=P2039,\"A TIEMPO\",\"FUERA DE TIEMPO\"))))","v":""},null,"A TIEMPO",1,0,null,null,{"$f":"IFERROR(VLOOKUP(F2039,Hoja1!$A$50:$C$63,2),\"\")","v":15},{"$f":"IFERROR(VLOOKUP(F2039,Hoja1!$A$50:$C$63,3),\"\")","v":15}]
[2030,20259910040494,"2025-03-12","Persona natural","Virtual - Correo electrónico","Certificación laboral o pasantía","Administrativa",null,"Grupo de Administración y Desarrollo del Talento Humano","2025-03-30","Correo electrónico","2025-03-28",null,"",null,{"$f":"IFERROR(WORKDAY(N2040,Y2040,Hoja1!F2032:F2148),\"\")","v":""},{"$f":"+IF(N2040=\"\",\"\",IF(O2040=\"\",\"SIN RESPUESTA\",(IF(O2040<=P2040,\"A TIEMPO\",\"FUERA DE TIEMPO\"))))","v":""},null,{"$f":"+IF(C2040=\"\",\"\",IF(J2040=\"\",\"SIN RESPUESTA\",(IF(J2040<=L2040,\"A TIEMPO\",\"FUERA DE TIEMPO\"))))","v":"FUERA DE TIEMPO"},10,0,null,null,{"$f":"IFERROR(VLOOKUP(F2040,Hoja1!$A$50:$C$63,2),\"\")","v":15},{"$f":"IFERROR(VLOOKUP(F2040,Hoja1!$A$50:$C$63,3),\"\")","v":15}]
[2031,20259910040504,"2025-03-12","Persona jurídica","Virtual - Correo electrónico","Solicitud de documentos o información","Registros ambientales",null,"Subdirección de Estudios Ambientales","2025-03-28","Correo electrónico","2025-03-28",null,"",null,{"$f":"IFERROR(WORKDAY(N2041,Y2041,Hoja1!F2033:F2149),\"\")","v":""},{"$f":"+IF(N2041=\"\",\"\",IF(O2041=\"\",\"SIN RESPUESTA\",(IF(O2041<=P2041,\"A TIEMPO\",\"FUERA DE TIEMPO\"))))","v":""},null,"A TIEMPO",10,0,null,null,{"$f":"IFERROR(VLOOKUP(F2041,Hoja1!$A$50:$C$63,2),\"\")","v":5},{"$f":"IFERROR(VLOOKUP(F2041,Hoja1!$A$50:$C$63,3),\"\")","v":5}]
[2032,20259050040614,"2025-03-12","Persona jurídica","Virtual - Formulario PQRSDF","Solicitud de documentos o información","Registros ambientales",null,"Subdirección de Estudios Ambientales","2025-03-28","Correo electrónico","2025-03-28",null,"",null,{"$f":"IFERROR(WORKDAY(N2042,Y2042,Hoja1!F2034:F2150),\"\")","v":""},{"$f":"+IF(N2042=\"\",\"\",IF(O2042=\"\",\"SIN RESPUESTA\",(IF(O2042<=P2042,\"A TIEMPO\",\"FUERA DE TIEMPO\"))))","v":""},null,"A TIEMPO",10,0,null,null,{"$f":"IFERROR(VLOOKUP(F2042,Hoja1!$A$50:$C$63,2),\"\")","v":5},{"$f":"IFERROR(VLOOKUP(F2042,Hoja1!$A$50:$C$63,3),\"\")","v":5}]
[2033,20259910040434,"2025-03-12","Persona jurídica","Virtual - Correo electrónico","Solicitud de documentos o información","Sistema de información ambiental",null,"Subdirección de Ecosistemas e Información Ambiental","2025-04-30","Correo electrónico","2025-03-28",null,"",null,{"$f":"IFERROR(WORKDAY(N2043,Y2043,Hoja1!F2035:F2151),\"\")","v":""},{"$f":"+IF(N2043=\"\",\"\",IF(O2043=\"\",\"SIN RESPUESTA\",(IF(O2043<=P2043,\"A TIEMPO\",\"FUERA DE TIEMPO\"))))","v":""},null,{"$f":"+IF(C2043=\"\",\"\",IF(J2043=\"\",\"SIN RESPUESTA\",(IF(J2043<=L2043,\"A TIEMPO\",\"FUERA DE TIEMPO\"))))","v":"FUERA DE TIEMPO"},31,21,null,null,{"$f":"IFERROR(VLOOKUP(F2043,Hoja1!$A$50:$C$63,2),\"\")","v":5},{"$f":"IFERROR(VLOOKUP(F2043,Hoja1!$A$50:$C$63,3),\"\")","v":5}]
[2034,20259910040484,"2025-03-12","Persona jurídica","Virtual - Correo electrónico","Petición entre entidades","Registros ambientales",null,"Subdirección de Estudios Ambientales","2025-04-07","Correo electrónico","2025-03-28",null,"",null,{"$f":"IFERROR(WORKDAY(N2044,Y2044,Hoja1!F2036:F2152),\"\")","v":""},{"$f":"+IF(N2044=\"\",\"\",IF(O2044=\"\",\"SIN RESPUESTA\",(IF(O2044<=P2044,\"A TIEMPO\",\"FUERA DE TIEMPO\"))))","v":""},null,{"$f":"+IF(C2044=\"\",\"\",IF(J2044=\"\",\"SIN RESPUESTA\",(IF(J2044<=L2044,\"A TIEMPO\",\"FUERA DE TIEMPO\"))))","v":"FUERA DE TIEMPO"},16,6,null,null,{"$f":"IFERROR(VLOOKUP(F2044,Hoja1!$A$50:$C$63,2),\"\")","v":10},{"$f":"IFERROR(VLOOKUP(F2044,Hoja1!$A$50:$C$63,3),\"\")","v":10}]
[2035,20259910040474,"2025-03-12","Persona jurídica","Virtual - Correo electrónico","Petición de congresistas","Administrativa",null,"Dirección General","2025-03-17","Correo electrónico","2025-03-20",null,"",null,{"$f":"IFERROR(WORKDAY(N2045,Y2045,Hoja1!F2037:F2153),\"\")","v":""},{"$f":"+IF(N2045=\"\",\"\",IF(O2045=\"\",\"SIN RESPUESTA\",(IF(O2045<=P2045,\"A TIEMPO\",\"FUERA DE TIEMPO\"))))","v":""},null,"A TIEMPO",3,0,null,null,{"$f":"IFERROR(VLOOKUP(F2045,Hoja1!$A$50:$C$63,2),\"\")","v":15},{"$f":"IFERROR(VLOOKUP(F2045,Hoja1!$A$50:$C$63,3),\"\")","v":15}]
[2036,20259910040524,"2025-03-12","Persona jurídica","Virtual - Correo electrónico","Solicitud de documentos o información","Registros ambientales",null,"Subdirección de Estudios Ambientales","2025-03-19","Correo electrónico","2025-03-28",null,"",null,{"$f":"IFERROR(WORKDAY(N2046,Y2046,Hoja1!F2038:F2154),\"\")","v":""},{"$f":"+IF(N2046=\"\",\"\",IF(O2046=\"\",\"SIN RESPUESTA\",(IF(O2046<=P2046,\"A TIEMPO\",\"FUERA DE TIEMPO\"))))","v":""},null,"A TIEMPO",4,0,null,null,{"$f":"IFERROR(VLOOKUP(F2046,Hoja1!$A$50:$C$63,2),\"\")","v":5},{"$f":"IFERROR(VLOOKUP(F2046,Hoja1!$A$50:$C$63,3),\"\")","v":5}]
[2037,20259910040544,"2025-03-12","Persona natural","Virtual - Correo electrónico","Solicitud de documentos o información","Solicitud de información hidrometeorológica",null,"Subdirección de Estudios Ambientales","2025-04-29","Correo electrónico","2025-03-28",null,"",null,{"$f":"IFERROR(WORKDAY(N2047,Y2047,Hoja1!F2039:F2155),\"\")","v":""},{"$f":"+IF(N2047=\"\",\"\",IF(O2047=\"\",\"SIN RESPUESTA\",(IF(O2047<=P2047,\"A TIEMPO\",\"FUERA DE TIEMPO\"))))","v":""},null,{"$f":"+IF(C2047=\"\",\"\",IF(J2047=\"\",\"SIN RESPUESTA\",(IF(J2047<=L2047,\"A TIEMPO\",\"FUERA DE TIEMPO\"))))","v":"FUERA DE TIEMPO"},30,20,null,null,{"$f":"IFERROR(VLOOKUP(F2047,Hoja1!$A$50:$C$63,2),\"\")","v":5},{"$f":"IFERROR(VLOOKUP(F2047,Hoja1!$A$50:$C$63,3),\"\")","v":5}]
[2038,20259910040554,"2025-03-12","Persona natural","Virtual - Correo electrónico","Solicitud de documentos o información","Solicitud de información hidrometeorológica",null,"Subdirección de Meteorología","2025-03-25","Correo electrónico","2025-03-28",null,"",null,{"$f":"IFERROR(WORKDAY(N2048,Y2048,Hoja1!F2040:F2156),\"\")","v":""},{"$f":"+IF(N2048=\"\",\"\",IF(O2048=\"\",\"SIN RESPUESTA\",(IF(O2048<=P2048,\"A TIEMPO\",\"FUERA DE TIEMPO\"))))","v":""},null,"A TIEMPO",7,0,null,null,{"$f":"IFERROR(VLOOKUP(F2048,Hoja1!$A$50:$C$63,2),\"\")","v":5},{"$f":"IFERROR(VLOOKUP(F2048,Hoja1!$A$50:$C$63,3),\"\")","v":5}]
[2039,20259910040564,"2025-03-12","Persona jurídica","Virtual - Correo electrónico","Solicitud judicial","Certificaciones del tiempo y clima",null,"Subdirección de Meteorología","2025-03-19","Correo electrónico","2025-03-20",null,"",null,{"$f":"IFERROR(WORKDAY(N2049,Y2049,Hoja1!F2041:F2157),\"\")","v":""},{"$f":"+IF(N2049=\"\",\"\",IF(O2049=\"\",\"SIN RESPUESTA\",(IF(O2049<=P2049,\"A TIEMPO\",\"FUERA DE TIEMPO\"))))","v":""},null,"A TIEMPO",4,0,null,null,{"$f":"IFERROR(VLOOKUP(F2049,Hoja1!$A$50:$C$63,2),\"\")","v":5},{"$f":"IFERROR(VLOOKUP(F2049,Hoja1!$A$50:$C$63,3),\"\")","v":5}]
[2040,20259050040634,"2025-03-13","Persona natural","Virtual - Formulario PQRSDF","Solicitud de documentos o información","Sistema de información del recurso hídrico",null,"Grupo de Servicio al Ciudadano","2025-03-27","Correo electrónico","2025-03-31",null,"",null,{"$f":"IFERROR(WORKDAY(N2050,Y2050,Hoja1!F2042:F2158),\"\")","v":""},{"$f":"+IF(N2050=\"\",\"\",IF(O2050=\"\",\"SIN RESPUESTA\",(IF(O2050<=P2050,\"A TIEMPO\",\"FUERA DE TIEMPO\"))))","v":""},null,"A TIEMPO",8,0,null,null,{"$f":"IFERROR(VLOOKUP(F2050,Hoja1!$A$50:$C$63,2),\"\")","v":5},{"$f":"IFERROR(VLOOKUP(F2050,Hoja1!$A$50:$C$63,3),\"\")","v":5}]
[2041,20259050040654,"2025-03-13","Persona natural","Virtual - Formulario PQRSDF","Solicitud de documentos o información","Solicitud de información hidrometeorológica",null,"Grupo de Servicio al Ciudadano","2025-03-27","Correo electrónico","2025-03-31",null,"",null,{"$f":"IFERROR(WORKDAY(N2051,Y2051,Hoja1!F2043:F2159),\"\")","v":""},{"$f":"+IF(N2051=\"\",\"\",IF(O2051=\"\",\"SIN RESPUESTA\",(IF(O2051<=P2051,\"A TIEMPO\",\"FUERA DE TIEMPO\"))))","v":""},null,"A TIEMPO",8,0,null,null,{"$f":"IFERROR(VLOOKUP(F2051,Hoja1!$A$50:$C$63,2),\"\")","v":5},{"$f":"IFERROR(VLOOKUP(F2051,Hoja1!$A$50:$C$63,3),\"\")","v":5}]
[2042,20259050040664,"2025-03-13","Persona jurídica","Virtual - Formulario PQRSDF","Solicitud de documentos o información","Acreditación de laboratorios",null,"Subdirección de Estudios Ambientales","2025-03-14","Correo electrónico","2025-03-31",null,"",null,{"$f":"IFERROR(WORKDAY(N2052,Y2052,Hoja1!F2044:F2160),\"\")","v":""},{"$f":"+IF(N2052=\"\",\"\",IF(O2052=\"\",\"SIN RESPUESTA\",(IF(O2052<=P2052,\"A TIEMPO\",\"FUERA DE TIEMPO\"))))","v":""},null,"A TIEMPO",1,0,null,null,{"$f":"IFERROR(VLOOKUP(F2052,Hoja1!$A$50:$C$63,2),\"\")","v":5},{"$f":"IFERROR(VLOOKUP(F2052,Hoja1!$A$50:$C$63,3),\"\")","v":5}]
[2043,20259050040674,"2025-03-13","Persona jurídica","Virtual - Formulario PQRSDF","Solicitud de documentos o información","Acreditación de laboratorios",null,"Subdirección de Estudios Ambientales","2025-03-14","Correo electrónico","2025-03-31",null,"",null,{"$f":"IFERROR(WORKDAY(N2053,Y2053,Hoja1!F2045:F2161),\"\")","v":""},{"$f":"+IF(N2053=\"\",\"\",IF(O2053=\"\",\"SIN RESPUESTA\",(IF(O2053<=P2053,\"A TIEMPO\",\"FUERA DE TIEMPO\"))))","v":""},null,"A TIEMPO",1,0,null,null,{"$f":"IFERROR(VLOOKUP(F2053,Hoja1!$A$50:$C$63,2),\"\")","v":5},{"$f":"IFERROR(VLOOKUP(F2053,Hoja1!$A$50:$C$63,3),\"\")","v":5}]
[2044,20259910040694,"2025-03-13","Persona jurídica","Virtual - Correo electrónico","Petición entre autoridades","Registros ambientales",null,"Subdirección de Estudios Ambientales","2025-03-28","Correo electrónico","2025-03-31",null,"",null,{"$f":"IFERROR(WORKDAY(N2054,Y2054,Hoja1!F2046:F2162),\"\")","v":""},{"$f":"+IF(N2054=\"\",\"\",IF(O2054=\"\",\"SIN RESPUESTA\",(IF(O2054<=P2054,\"A TIEMPO\",\"FUERA DE TIEMPO\"))))","v":""},null,"A TIEMPO",9,0,null,null,{"$f":"IFERROR(VLOOKUP(F2054,Hoja1!$A$50:$C$63,2),\"\")","v":10},{"$f":"IFERROR(VLOOKUP(F2054,Hoja1!$A$50:$C$63,3),\"\")","v":10}]
[2045,20259910048744,"2025-03-25","Persona jurídica","Virtual - Correo electrónico","Certificación de contrato","Administrativa",null,"Oficina Asesora Jurídica","2025-04-07","Correo electrónico","2025-04-08",null,"",null,{"$f":"IFERROR(WORKDAY(N2055,Y2055,Hoja1!F2047:F2163),\"\")","v":""},{"$f":"+IF(N2055=\"\",\"\",IF(O2055=\"\",\"SIN RESPUESTA\",(IF(O2055<=P2055,\"A TIEMPO\",\"FUERA DE TIEMPO\"))))","v":""},null,"A TIEMPO",-12,0,null,null,{"$f":"IFERROR(VLOOKUP(F2055,Hoja1!$A$50:$C$63,2),\"\")","v":15},{"$f":"IFERROR(VLOOKUP(F2055,Hoja1!$A$50:$C$63,3),\"\")","v":15}]
[2046,20259910040714,"2025-03-13","Persona natural","Virtual - Correo electrónico","Solicitud de documentos o información","Sistema de información ambiental",null,"Subdirección de Estudios Ambientales","2025-05-02","Correo electrónico","2025-03-31",null,"",null,{"$f":"IFERROR(WORKDAY(N2056,Y2056,Hoja1!F2048:F2164),\"\")","v":""},{"$f":"+IF(N2056=\"\",\"\",IF(O2056=\"\",\"SIN RESPUESTA\",(IF(O2056<=P2056,\"A TIEMPO\",\"FUERA DE TIEMPO\"))))","v":""},null,{"$f":"+IF(C2056=\"\",\"\",IF(J2056=\"\",\"SIN RESPUESTA\",(IF(J2056<=L2056,\"A TIEMPO\",\"FUERA DE TIEMPO\"))))","v":"FUERA DE TIEMPO"},31,21,null,null,{"$f":"IFERROR(VLOOKUP(F2056,Hoja1!$A$50:$C$63,2),\"\")","v":5},{"$f":"IFERROR(VLOOKUP(F2056,Hoja1!$A$50:$C$63,3),\"\")","v":5}]
[2047,20259050040724,"2025-03-13","Persona jurídica","Virtual - Formulario PQRSDF","Solicitud de documentos o información","Registros ambientales",null,"Subdirección de Estudios Ambientales","2025-03-31","Correo electrónico","2025-03-31",null,"",null,{"$f":"IFERROR(WORKDAY(N2057,Y2057,Hoja1!F2049:F2165),\"\")","v":""},{"$f":"+IF(N2057=\"\",\"\",IF(O2057=\"\",\"SIN RESPUESTA\",(IF(O2057<=P2057,\"A TIEMPO\",\"FUERA DE TIEMPO\"))))","v":""},null,"A TIEMPO",10,0,null,null,{"$f":"IFERROR(VLOOKUP(F2057,Hoja1!$A$50:$C$63,2),\"\")","v":5},{"$f":"IFERROR(VLOOKUP(F2057,Hoja1!$A$50:$C$63,3),\"\")","v":5}]
[2048,20259910040764,"2025-03-13","Persona natural","Virtual - Correo electrónico","Certificación de contrato","Administrativa",null,"Oficina Asesora Jurídica","2025-03-17","Correo electrónico","2025-03-31",null,"",null,{"$f":"IFERROR(WORKDAY(N2058,Y2058,Hoja1!F2050:F2166),\"\")","v":""},{"$f":"+IF(N2058=\"\",\"\",IF(O2058=\"\",\"SIN RESPUESTA\",(IF(O2058<=P2058,\"A TIEMPO\",\"FUERA DE TIEMPO\"))))","v":""},null,"A TIEMPO",2,0,null,null,{"$f":"IFERROR(VLOOKUP(F2058,Hoja1!$A$50:$C$63,2),\"\")","v":15},{"$f":"IFERROR(VLOOKUP(F2058,Hoja1!$A$50:$C$63,3),\"\")","v":15}]
[2049,20259910040794,"2025-03-13","Persona jurídica","Virtual - Correo electrónico","Petición entre autoridades","Solicitud de información hidrometeorológica",null,"Subdirección de Hidrología","2025-04-10","Correo electrónico","2025-03-31",null,"",null,{"$f":"IFERROR(WORKDAY(N2059,Y2059,Hoja1!F2051:F2167),\"\")","v":""},{"$f":"+IF(N2059=\"\",\"\",IF(O2059=\"\",\"SIN RESPUESTA\",(IF(O2059<=P2059,\"A TIEMPO\",\"FUERA DE TIEMPO\"))))","v":""},null,{"$f":"+IF(C2059=\"\",\"\",IF(J2059=\"\",\"SIN RESPUESTA\",(IF(J2059<=L2059,\"A TIEMPO\",\"FUERA DE TIEMPO\"))))","v":"FUERA DE TIEMPO"},18,8,null,null,{"$f":"IFERROR(VLOOKUP(F2059,Hoja1!$A$50:$C$63,2),\"\")","v":10},{"$f":"IFERROR(VLOOKUP(F2059,Hoja1!$A$50:$C$63,3),\"\")","v":10}]
[2050,20259910040834,"2025-03-13","Persona jurídica","Virtual - Correo electrónico","Solicitud judicial","Certificaciones del tiempo y clima",null,"Subdirección de Meteorología","2025-03-19","Correo electrónico","2025-03-21",null,"",null,{"$f":"IFERROR(WORKDAY(N2060,Y2060,Hoja1!F2052:F2168),\"\")","v":""},{"$f":"+IF(N2060=\"\",\"\",IF(O2060=\"\",\"SIN RESPUESTA\",(IF(O2060<=P2060,\"A TIEMPO\",\"FUERA DE TIEMPO\"))))","v":""},null,"A TIEMPO",3,0,null,null,{"$f":"IFERROR(VLOOKUP(F2060,Hoja1!$A$50:$C$63,2),\"\")","v":5},{"$f":"IFERROR(VLOOKUP(F2060,Hoja1!$A$50:$C$63,3),\"\")","v":5}]
[2051,20259910040864,"2025-03-13","Persona jurídica","Virtual - Correo electrónico","Solicitud de documentos o información","Sistema de información ambiental",null,"Subdirección de Hidrología","2025-03-26","Correo certificado","2025-03-31",null,"",null,{"$f":"IFERROR(WORKDAY(N2061,Y2061,Hoja1!F2053:F2169),\"\")","v":""},{"$f":"+IF(N2061=\"\",\"\",IF(O2061=\"\",\"SIN RESPUESTA\",(IF(O2061<=P2061,\"A TIEMPO\",\"FUERA DE TIEMPO\"))))","v":""},null,"A TIEMPO",7,0,null,null,{"$f":"IFERROR(VLOOKUP(F2061,Hoja1!$A$50:$C$63,2),\"\")","v":5},{"$f":"IFERROR(VLOOKUP(F2061,Hoja1!$A$50:$C$63,3),\"\")","v":5}]
[2052,20259910040884,"2025-03-13","Persona natural","Virtual - Correo electrónico","Certificación de contrato","Administrativa",null,"Oficina Asesora Jurídica","2025-03-30","Correo certificado","2025-03-31",null,"",null,{"$f":"IFERROR(WORKDAY(N2062,Y2062,Hoja1!F2054:F2170),\"\")","v":""},{"$f":"+IF(N2062=\"\",\"\",IF(O2062=\"\",\"SIN RESPUESTA\",(IF(O2062<=P2062,\"A TIEMPO\",\"FUERA DE TIEMPO\"))))","v":""},null,"A TIEMPO",9,0,null,null,{"$f":"IFERROR(VLOOKUP(F2062,Hoja1!$A$50:$C$63,2),\"\")","v":15},{"$f":"IFERROR(VLOOKUP(F2062,Hoja1!$A$50:$C$63,3),\"\")","v":15}]
[2053,20259050040894,"2025-03-13","Anónimo","Virtual - Formulario PQRSDF","Solicitud de documentos o información","Registros ambientales",null,"Subdirección de Estudios Ambientales","2025-03-31","Página web","2025-03-31",null,"",null,{"$f":"IFERROR(WORKDAY(N2063,Y2063,Hoja1!F2055:F2171),\"\")","v":""},{"$f":"+IF(N2063=\"\",\"\",IF(O2063=\"\",\"SIN RESPUESTA\",(IF(O2063<=P2063,\"A TIEMPO\",\"FUERA DE TIEMPO\"))))","v":""},null,"A TIEMPO",10,0,null,null,{"$f":"IFERROR(VLOOKUP(F2063,Hoja1!$A$50:$C$63,2),\"\")","v":5},{"$f":"IFERROR(VLOOKUP(F2063,Hoja1!$A$50:$C$63,3),\"\")","v":5}]
[2054,20259050040904,"2025-03-13","Anónimo","Virtual - Formulario PQRSDF","Solicitud de documentos o información","Registros ambientales",null,"Subdirección de Estudios Ambientales","2025-03-31","Correo electrónico","2025-03-31",null,"",null,{"$f":"IFERROR(WORKDAY(N2064,Y2064,Hoja1!F2056:F2172),\"\")","v":""},{"$f":"+IF(N2064=\"\",\"\",IF(O2064=\"\",\"SIN RESPUESTA\",(IF(O2064<=P2064,\"A TIEMPO\",\"FUERA DE TIEMPO\"))))","v":""},null,"A TIEMPO",10,0,null,null,{"$f":"IFERROR(VLOOKUP(F2064,Hoja1!$A$50:$C$63,2),\"\")","v":5},{"$f":"IFERROR(VLOOKUP(F2064,Hoja1!$A$50:$C$63,3),\"\")","v":5}]
[{"$f":"IF(B2065<>\"\",A2064+1,\"\")","v":2055},20259050040964,"2025-03-13","Persona jurídica","Virtual - Formulario PQRSDF","Solicitud de documentos o información","Registros ambientales",null,"Subdirección de Estudios Ambientales","2025-03-17","Correo electrónico","2025-03-31",null,"",null,{"$f":"IFERROR(WORKDAY(N2065,Y2065,Hoja1!F2057:F2173),\"\")","v":""},{"$f":"+IF(N2065=\"\",\"\",IF(O2065=\"\",\"SIN RESPUESTA\",(IF(O2065<=P2065,\"A TIEMPO\",\"FUERA DE TIEMPO\"))))","v":""},null,"A TIEMPO",2,0,null,null,{"$f":"IFERROR(VLOOKUP(F2065,Hoja1!$A$50:$C$63,2),\"\")","v":5},{"$f":"IFERROR(VLOOKUP(F2065,Hoja1!$A$50:$C$63,3),\"\")","v":5}]
[2056,20259910041044,"2025-03-13","Persona natural","Virtual - Correo electrónico","Certificación laboral o pasantía","Administrativa",null,"Grupo de Administración y Desarrollo del Talento Humano","2025-04-04","Correo electrónico","2025-03-31",null,"",null,{"$f":"IFERROR(WORKDAY(N2066,Y2066,Hoja1!F2058:F2174),\"\")","v":""},{"$f":"+IF(N2066=\"\",\"\",IF(O2066=\"\",\"SIN RESPUESTA\",(IF(O2066<=P2066,\"A TIEMPO\",\"FUERA DE TIEMPO\"))))","v":""},null,{"$f":"+IF(C2066=\"\",\"\",IF(J2066=\"\",\"SIN RESPUESTA\",(IF(J2066<=L2066,\"A TIEMPO\",\"FUERA DE TIEMPO\"))))","v":"FUERA DE TIEMPO"},14,4,null,null,{"$f":"IFERROR(VLOOKUP(F2066,Hoja1!$A$50:$C$63,2),\"\")","v":15},{"$f":"IFERROR(VLOOKUP(F2066,Hoja1!$A$50:$C$63,3),\"\")","v":15}]
[2057,20259910041064,"2025-03-13","Persona jurídica","Virtual - Correo electrónico","Solicitud de documentos o información","Registros ambientales",null,"Subdirección de Estudios Ambientales","2025-03-31","Correo electrónico","2025-03-31",null,"",null,{"$f":"IFERROR(WORKDAY(N2067,Y2067,Hoja1!F2059:F2175),\"\")","v":""},{"$f":"+IF(N2067=\"\",\"\",IF(O2067=\"\",\"SIN RESPUESTA\",(IF(O2067<=P2067,\"A TIEMPO\",\"FUERA DE TIEMPO\"))))","v":""},null,"A TIEMPO",10,0,null,null,{"$f":"IFERROR(VLOOKUP(F2067,Hoja1!$A$50:$C$63,2),\"\")","v":5},{"$f":"IFERROR(VLOOKUP(F2067,Hoja1!$A$50:$C$63,3),\"\")","v":5}]
[2058,20259910041074,"2025-03-13","Persona jurídica","Virtual - Correo electrónico","Solicitud de documentos o información","Registros ambientales",null,"Subdirección de Estudios Ambientales","2025-03-31","Correo electrónico","2025-03-31",null,"",null,{"$f":"IFERROR(WORKDAY(N2068,Y2068,Hoja1!F2060:F2176),\"\")","v":""},{"$f":"+IF(N2068=\"\",\"\",IF(O2068=\"\",\"SIN RESPUESTA\",(IF(O2068<=P2068,\"A TIEMPO\",\"FUERA DE TIEMPO\"))))","v":""},null,"A TIEMPO",10,0,null,null,{"$f":"IFERROR(VLOOKUP(F2068,Hoja1!$A$50:$C$63,2),\"\")","v":5},{"$f":"IFERROR(VLOOKUP(F2068,Hoja1!$A$50:$C$63,3),\"\")","v":5}]
[2059,20259910041084,"2025-03-13","Persona jurídica","Virtual - Correo electrónico","Solicitud de documentos o información","Registros ambientales",null,"Subdirección de Estudios Ambientales","2025-03-31","Correo electrónico","2025-03-31",null,"",null,{"$f":"IFERROR(WORKDAY(N2069,Y2069,Hoja1!F2061:F2177),\"\")","v":""},{"$f":"+IF(N2069=\"\",\"\",IF(O2069=\"\",\"SIN RESPUESTA\",(IF(O2069<=P2069,\"A TIEMPO\",\"FUERA DE TIEMPO\"))))","v":""},null,"A TIEMPO",10,0,null,null,{"$f":"IFERROR(VLOOKUP(F2069,Hoja1!$A$50:$C$63,2),\"\")","v":5},{"$f":"IFERROR(VLOOKUP(F2069,Hoja1!$A$50:$C$63,3),\"\")","v":5}]
[2060,20259910041094,"2025-03-13","Persona jurídica","Virtual - Correo electrónico","Solicitud de documentos o información","Registros ambientales",null,"Subdirección de Estudios Ambientales","2025-03-30","Correo electrónico","2025-03-31",null,"",null,{"$f":"IFERROR(WORKDAY(N2070,Y2070,Hoja1!F2062:F2178),\"\")","v":""},{"$f":"+IF(N2070=\"\",\"\",IF(O2070=\"\",\"SIN RESPUESTA\",(IF(O2070<=P2070,\"A TIEMPO\",\"FUERA DE TIEMPO\"))))","v":""},null,"A TIEMPO",9,0,null,null,{"$f":"IFERROR(VLOOKUP(F2070,Hoja1!$A$50:$C$63,2),\"\")","v":5},{"$f":"IFERROR(VLOOKUP(F2070,Hoja1!$A$50:$C$63,3),\"\")","v":5}]
[2061,20259050041124,"2025-03-13","Persona jurídica","Virtual - Formulario PQRSDF","Solicitud de documentos o información","Registros ambientales",null,"Subdirección de Estudios Ambientales","2025-03-31","Correo electrónico","2025-03-31",null,"",null,{"$f":"IFERROR(WORKDAY(N2071,Y2071,Hoja1!F2063:F2179),\"\")","v":""},{"$f":"+IF(N2071=\"\",\"\",IF(O2071=\"\",\"SIN RESPUESTA\",(IF(O2071<=P2071,\"A TIEMPO\",\"FUERA DE TIEMPO\"))))","v":""},null,"A TIEMPO",10,0,null,null,{"$f":"IFERROR(VLOOKUP(F2071,Hoja1!$A$50:$C$63,2),\"\")","v":5},{"$f":"IFERROR(VLOOKUP(F2071,Hoja1!$A$50:$C$63,3),\"\")","v":5}]
[2062,20259910041144,"2025-03-13","Persona jurídica","Virtual - Correo electrónico","Solicitud de documentos o información","Registros ambientales",null,"Subdirección de Estudios Ambientales","2025-03-31","Correo electrónico","2025-03-31",null,"",null,{"$f":"IFERROR(WORKDAY(N2072,Y2072,Hoja1!F2064:F2180),\"\")","v":""},{"$f":"+IF(N2072=\"\",\"\",IF(O2072=\"\",\"SIN RESPUESTA\",(IF(O2072<=P2072,\"A TIEMPO\",\"FUERA DE TIEMPO\"))))","v":""},null,"A TIEMPO",10,0,null,null,{"$f":"IFERROR(VLOOKUP(F2072,Hoja1!$A$50:$C$63,2),\"\")","v":5},{"$f":"IFERROR(VLOOKUP(F2072,Hoja1!$A$50:$C$63,3),\"\")","v":5}]
[2063,20259910041134,"2025-03-13","Persona jurídica","Virtual - Correo electrónico","Solicitud de documentos o información","Registros ambientales",null,"Subdirección de Estudios Ambientales","2025-03-31","Correo electrónico","2025-03-31",null,"",null,{"$f":"IFERROR(WORKDAY(N2073,Y2073,Hoja1!F2065:F2181),\"\")","v":""},{"$f":"+IF(N2073=\"\",\"\",IF(O2073=\"\",\"SIN RESPUESTA\",(IF(O2073<=P2073,\"A TIEMPO\",\"FUERA DE TIEMPO\"))))","v":""},null,"A TIEMPO",10,0,null,null,{"$f":"IFERROR(VLOOKUP(F2073,Hoja1!$A$50:$C$63,2),\"\")","v":5},{"$f":"IFERROR(VLOOKUP(F2073,Hoja1!$A$50:$C$63,3),\"\")","v":5}]
[2064,20259050041204,"2025-03-13","Persona natural","Virtual - Formulario PQRSDF","Solicitud de documentos o información","Meteorología aeronáutica",null,"Subdirección de Meteorología","2025-03-31","Correo electrónico","2025-03-31",null,"",null,{"$f":"IFERROR(WORKDAY(N2074,Y2074,Hoja1!F2066:F2182),\"\")","v":""},{"$f":"+IF(N2074=\"\",\"\",IF(O2074=\"\",\"SIN RESPUESTA\",(IF(O2074<=P2074,\"A TIEMPO\",\"FUERA DE TIEMPO\"))))","v":""},null,"A TIEMPO",10,0,null,null,{"$f":"IFERROR(VLOOKUP(F2074,Hoja1!$A$50:$C$63,2),\"\")","v":5},{"$f":"IFERROR(VLOOKUP(F2074,Hoja1!$A$50:$C$63,3),\"\")","v":5}]
[2065,20259910041244,"2025-03-13","Persona natural","Virtual - Correo electrónico","Solicitud de documentos o información","Solicitud de información hidrometeorológica",null,"Subdirección de Meteorología","2025-03-25","Correo electrónico","2025-03-31",null,"",null,{"$f":"IFERROR(WORKDAY(N2075,Y2075,Hoja1!F2067:F2183),\"\")","v":""},{"$f":"+IF(N2075=\"\",\"\",IF(O2075=\"\",\"SIN RESPUESTA\",(IF(O2075<=P2075,\"A TIEMPO\",\"FUERA DE TIEMPO\"))))","v":""},null,"A TIEMPO",6,0,null,null,{"$f":"IFERROR(VLOOKUP(F2075,Hoja1!$A$50:$C$63,2),\"\")","v":5},{"$f":"IFERROR(VLOOKUP(F2075,Hoja1!$A$50:$C$63,3),\"\")","v":5}]
[2066,20259910041254,"2025-03-13","Persona jurídica","Virtual - Correo electrónico","Certificación de contrato","Administrativa",null,"Oficina Asesora Jurídica","2025-03-17","Correo electrónico","2025-03-31",null,"",null,{"$f":"IFERROR(WORKDAY(N2076,Y2076,Hoja1!F2068:F2184),\"\")","v":""},{"$f":"+IF(N2076=\"\",\"\",IF(O2076=\"\",\"SIN RESPUESTA\",(IF(O2076<=P2076,\"A TIEMPO\",\"FUERA DE TIEMPO\"))))","v":""},null,"A TIEMPO",2,0,null,null,{"$f":"IFERROR(VLOOKUP(F2076,Hoja1!$A$50:$C$63,2),\"\")","v":15},{"$f":"IFERROR(VLOOKUP(F2076,Hoja1!$A$50:$C$63,3),\"\")","v":15}]
[2067,20259910041264,"2025-03-13","Persona jurídica","Virtual - Correo electrónico","Solicitud de documentos o información","Registros ambientales",null,"Subdirección de Estudios Ambientales","2025-03-31","Correo electrónico","2025-03-31",null,"",null,{"$f":"IFERROR(WORKDAY(N2077,Y2077,Hoja1!F2069:F2185),\"\")","v":""},{"$f":"+IF(N2077=\"\",\"\",IF(O2077=\"\",\"SIN RESPUESTA\",(IF(O2077<=P2077,\"A TIEMPO\",\"FUERA DE TIEMPO\"))))","v":""},null,"A TIEMPO",10,0,null,null,{"$f":"IFERROR(VLOOKUP(F2077,Hoja1!$A$50:$C$63,2),\"\")","v":5},{"$f":"IFERROR(VLOOKUP(F2077,Hoja1!$A$50:$C$63,3),\"\")","v":5}]
[2068,20259910041364,"2025-03-13","Persona jurídica","Virtual - Correo electrónico","Solicitud de documentos o información","Registros ambientales",null,"Subdirección de Estudios Ambientales","2025-03-31","Correo electrónico","2025-03-31",null,"",null,{"$f":"IFERROR(WORKDAY(N2078,Y2078,Hoja1!F2070:F2186),\"\")","v":""},{"$f":"+IF(N2078=\"\",\"\",IF(O2078=\"\",\"SIN RESPUESTA\",(IF(O2078<=P2078,\"A TIEMPO\",\"FUERA DE TIEMPO\"))))","v":""},null,"A TIEMPO",10,0,null,null,{"$f":"IFERROR(VLOOKUP(F2078,Hoja1!$A$50:$C$63,2),\"\")","v":5},{"$f":"IFERROR(VLOOKUP(F2078,Hoja1!$A$50:$C$63,3),\"\")","v":5}]
[2069,20259910041414,"2025-03-13","Persona natural","Virtual - Correo electrónico","Petición de interés general o particular","Climatología",null,"Subdirección de Estudios Ambientales","2025-03-19","Correo electrónico","2025-04-07",null,"",null,{"$f":"IFERROR(WORKDAY(N2079,Y2079,Hoja1!F2071:F2187),\"\")","v":""},{"$f":"+IF(N2079=\"\",\"\",IF(O2079=\"\",\"SIN RESPUESTA\",(IF(O2079<=P2079,\"A TIEMPO\",\"FUERA DE TIEMPO\"))))","v":""},null,"A TIEMPO",3,0,null,null,{"$f":"IFERROR(VLOOKUP(F2079,Hoja1!$A$50:$C$63,2),\"\")","v":15},{"$f":"IFERROR(VLOOKUP(F2079,Hoja1!$A$50:$C$63,3),\"\")","v":15}]
[2070,20259910041274,"2025-03-13","Persona jurídica","Virtual - Correo electrónico","Petición de congresistas","Sistema de información ambiental",null,"Subdirección de Hidrología","2025-03-19","Correo electrónico","2025-03-21",null,"",null,{"$f":"IFERROR(WORKDAY(N2080,Y2080,Hoja1!F2072:F2188),\"\")","v":""},{"$f":"+IF(N2080=\"\",\"\",IF(O2080=\"\",\"SIN RESPUESTA\",(IF(O2080<=P2080,\"A TIEMPO\",\"FUERA DE TIEMPO\"))))","v":""},null,"A TIEMPO",3,0,null,null,{"$f":"IFERROR(VLOOKUP(F2080,Hoja1!$A$50:$C$63,2),\"\")","v":15},{"$f":"IFERROR(VLOOKUP(F2080,Hoja1!$A$50:$C$63,3),\"\")","v":15}]
[2071,20259050041284,"2025-03-13","Persona natural","Virtual - Formulario PQRSDF","Petición de interés general o particular","Administrativa",null,"Grupo de Administración y Desarrollo del Talento Humano","2025-04-22","Correo electrónico","2025-04-07",null,"",null,{"$f":"IFERROR(WORKDAY(N2081,Y2081,Hoja1!F2073:F2189),\"\")","v":""},{"$f":"+IF(N2081=\"\",\"\",IF(O2081=\"\",\"SIN RESPUESTA\",(IF(O2081<=P2081,\"A TIEMPO\",\"FUERA DE TIEMPO\"))))","v":""},null,{"$f":"+IF(C2081=\"\",\"\",IF(J2081=\"\",\"SIN RESPUESTA\",(IF(J2081<=L2081,\"A TIEMPO\",\"FUERA DE TIEMPO\"))))","v":"FUERA DE TIEMPO"},24,9,null,null,{"$f":"IFERROR(VLOOKUP(F2081,Hoja1!$A$50:$C$63,2),\"\")","v":15},{"$f":"IFERROR(VLOOKUP(F2081,Hoja1!$A$50:$C$63,3),\"\")","v":15}]
[2072,20259910041374,"2025-03-13","Persona jurídica","Presencial","Solicitud de documentos o información","Registros ambientales",null,"Subdirección de Estudios Ambientales","2025-03-17","Correo electrónico","2025-03-31",null,"",null,{"$f":"IFERROR(WORKDAY(N2082,Y2082,Hoja1!F2074:F2190),\"\")","v":""},{"$f":"+IF(N2082=\"\",\"\",IF(O2082=\"\",\"SIN RESPUESTA\",(IF(O2082<=P2082,\"A TIEMPO\",\"FUERA DE TIEMPO\"))))","v":""},null,"A TIEMPO",2,0,null,null,{"$f":"IFERROR(VLOOKUP(F2082,Hoja1!$A$50:$C$63,2),\"\")","v":5},{"$f":"IFERROR(VLOOKUP(F2082,Hoja1!$A$50:$C$63,3),\"\")","v":5}]
[2073,20259910041504,"2025-03-13","Persona natural","Virtual - Correo electrónico","Certificación laboral o pasantía","Administrativa",null,"Grupo de Administración y Desarrollo del Talento Humano","2025-03-25","Correo electrónico","2025-03-31",null,"",null,{"$f":"IFERROR(WORKDAY(N2083,Y2083,Hoja1!F2075:F2191),\"\")","v":""},{"$f":"+IF(N2083=\"\",\"\",IF(O2083=\"\",\"SIN RESPUESTA\",(IF(O2083<=P2083,\"A TIEMPO\",\"FUERA DE TIEMPO\"))))","v":""},null,"A TIEMPO",6,0,null,null,{"$f":"IFERROR(VLOOKUP(F2083,Hoja1!$A$50:$C$63,2),\"\")","v":15},{"$f":"IFERROR(VLOOKUP(F2083,Hoja1!$A$50:$C$63,3),\"\")","v":15}]
[2074,20259910041324,"2025-03-13","Persona jurídica","Virtual - Correo electrónico","Solicitud de documentos o información","Registros ambientales",null,"Subdirección de Estudios Ambientales","2025-03-31","Correo electrónico","2025-03-31",null,"",null,{"$f":"IFERROR(WORKDAY(N2084,Y2084,Hoja1!F2076:F2192),\"\")","v":""},{"$f":"+IF(N2084=\"\",\"\",IF(O2084=\"\",\"SIN RESPUESTA\",(IF(O2084<=P2084,\"A TIEMPO\",\"FUERA DE TIEMPO\"))))","v":""},null,"A TIEMPO",10,0,null,null,{"$f":"IFERROR(VLOOKUP(F2084,Hoja1!$A$50:$C$63,2),\"\")","v":5},{"$f":"IFERROR(VLOOKUP(F2084,Hoja1!$A$50:$C$63,3),\"\")","v":5}]
[2075,20259050041854,"2025-03-13","Persona jurídica","Virtual - Formulario PQRSDF","Solicitud de documentos o información","Solicitud de información hidrometeorológica",null,"Grupo de Servicio al Ciudadano","2025-03-28","Correo electrónico","2025-03-31",null,"",null,{"$f":"IFERROR(WORKDAY(N2085,Y2085,Hoja1!F2077:F2193),\"\")","v":""},{"$f":"+IF(N2085=\"\",\"\",IF(O2085=\"\",\"SIN RESPUESTA\",(IF(O2085<=P2085,\"A TIEMPO\",\"FUERA DE TIEMPO\"))))","v":""},null,"A TIEMPO",9,0,null,null,{"$f":"IFERROR(VLOOKUP(F2085,Hoja1!$A$50:$C$63,2),\"\")","v":5},{"$f":"IFERROR(VLOOKUP(F2085,Hoja1!$A$50:$C$63,3),\"\")","v":5}]
[2076,20259050041834,"2025-03-13","Anónimo","Virtual - Formulario PQRSDF","Solicitud de documentos o información","Suelos y tierras",null,"Subdirección de Ecosistemas e Información Ambiental","2025-03-27","Página web","2025-03-31",null,"",null,{"$f":"IFERROR(WORKDAY(N2086,Y2086,Hoja1!F2078:F2194),\"\")","v":""},{"$f":"+IF(N2086=\"\",\"\",IF(O2086=\"\",\"SIN RESPUESTA\",(IF(O2086<=P2086,\"A TIEMPO\",\"FUERA DE TIEMPO\"))))","v":""},null,"A TIEMPO",8,0,null,null,{"$f":"IFERROR(VLOOKUP(F2086,Hoja1!$A$50:$C$63,2),\"\")","v":5},{"$f":"IFERROR(VLOOKUP(F2086,Hoja1!$A$50:$C$63,3),\"\")","v":5}]
[2077,20259910041514,"2025-03-13","Persona natural","Virtual - Correo electrónico","Solicitud de documentos o información","Solicitud de información hidrometeorológica",null,"Subdirección de Estudios Ambientales","2025-05-06","Correo electrónico","2025-03-31",null,"",null,{"$f":"IFERROR(WORKDAY(N2087,Y2087,Hoja1!F2079:F2195),\"\")","v":""},{"$f":"+IF(N2087=\"\",\"\",IF(O2087=\"\",\"SIN RESPUESTA\",(IF(O2087<=P2087,\"A TIEMPO\",\"FUERA DE TIEMPO\"))))","v":""},null,{"$f":"+IF(C2087=\"\",\"\",IF(J2087=\"\",\"SIN RESPUESTA\",(IF(J2087<=L2087,\"A TIEMPO\",\"FUERA DE TIEMPO\"))))","v":"FUERA DE TIEMPO"},33,23,null,null,{"$f":"IFERROR(VLOOKUP(F2087,Hoja1!$A$50:$C$63,2),\"\")","v":5},{"$f":"IFERROR(VLOOKUP(F2087,Hoja1!$A$50:$C$63,3),\"\")","v":5}]
[2078,20259910041824,"2025-03-13","Persona jurídica","Virtual - Correo electrónico","Petición de interés general o particular","Registros ambientales",null,"Subdirección de Estudios Ambientales","2025-04-04","Correo electrónico","2025-04-07",null,"",null,{"$f":"IFERROR(WORKDAY(N2088,Y2088,Hoja1!F2080:F2196),\"\")","v":""},{"$f":"+IF(N2088=\"\",\"\",IF(O2088=\"\",\"SIN RESPUESTA\",(IF(O2088<=P2088,\"A TIEMPO\",\"FUERA DE TIEMPO\"))))","v":""},null,"A TIEMPO",14,0,null,null,{"$f":"IFERROR(VLOOKUP(F2088,Hoja1!$A$50:$C$63,2),\"\")","v":15},{"$f":"IFERROR(VLOOKUP(F2088,Hoja1!$A$50:$C$63,3),\"\")","v":15}]
[2079,20259050041524,"2025-03-13","Persona jurídica","Virtual - Formulario PQRSDF","Solicitud de documentos o información","Visitas académicas",null,"Grupo de Servicio al Ciudadano","2025-03-27","Correo electrónico","2025-03-31",null,"",null,{"$f":"IFERROR(WORKDAY(N2089,Y2089,Hoja1!F2081:F2197),\"\")","v":""},{"$f":"+IF(N2089=\"\",\"\",IF(O2089=\"\",\"SIN RESPUESTA\",(IF(O2089<=P2089,\"A TIEMPO\",\"FUERA DE TIEMPO\"))))","v":""},null,"A TIEMPO",8,0,null,null,{"$f":"IFERROR(VLOOKUP(F2089,Hoja1!$A$50:$C$63,2),\"\")","v":5},{"$f":"IFERROR(VLOOKUP(F2089,Hoja1!$A$50:$C$63,3),\"\")","v":5}]
[2080,20259910041814,"2025-03-13","Persona natural","Virtual - Correo electrónico","Solicitud de documentos o información","Solicitud de información hidrometeorológica",null,"Subdirección de Hidrología","2025-03-17","Correo electrónico","2025-03-31",null,"",null,{"$f":"IFERROR(WORKDAY(N2090,Y2090,Hoja1!F2082:F2198),\"\")","v":""},{"$f":"+IF(N2090=\"\",\"\",IF(O2090=\"\",\"SIN RESPUESTA\",(IF(O2090<=P2090,\"A TIEMPO\",\"FUERA DE TIEMPO\"))))","v":""},null,"A TIEMPO",2,0,null,null,{"$f":"IFERROR(VLOOKUP(F2090,Hoja1!$A$50:$C$63,2),\"\")","v":5},{"$f":"IFERROR(VLOOKUP(F2090,Hoja1!$A$50:$C$63,3),\"\")","v":5}]
[2081,20259050041804,"2025-03-13","Persona jurídica","Virtual - Formulario PQRSDF","Solicitud de documentos o información","Solicitud de información hidrometeorológica",null,"Subdirección de Hidrología","2025-03-28","Correo electrónico","2025-03-31",null,"",null,{"$f":"IFERROR(WORKDAY(N2091,Y2091,Hoja1!F2083:F2199),\"\")","v":""},{"$f":"+IF(N2091=\"\",\"\",IF(O2091=\"\",\"SIN RESPUESTA\",(IF(O2091<=P2091,\"A TIEMPO\",\"FUERA DE TIEMPO\"))))","v":""},null,"A TIEMPO",9,0,null,null,{"$f":"IFERROR(VLOOKUP(F2091,Hoja1!$A$50:$C$63,2),\"\")","v":5},{"$f":"IFERROR(VLOOKUP(F2091,Hoja1!$A$50:$C$63,3),\"\")","v":5}]
[2082,20259910041544,"2025-03-13","Persona natural","Virtual - Correo electrónico","Solicitud de documentos o información","Solicitud de información hidrometeorológica",null,"Grupo de Servicio al Ciudadano","2025-03-27","Correo electrónico","2025-03-31",null,"",null,{"$f":"IFERROR(WORKDAY(N2092,Y2092,Hoja1!F2084:F2200),\"\")","v":""},{"$f":"+IF(N2092=\"\",\"\",IF(O2092=\"\",\"SIN RESPUESTA\",(IF(O2092<=P2092,\"A TIEMPO\",\"FUERA DE TIEMPO\"))))","v":""},null,"A TIEMPO",8,0,null,null,{"$f":"IFERROR(VLOOKUP(F2092,Hoja1!$A$50:$C$63,2),\"\")","v":5},{"$f":"IFERROR(VLOOKUP(F2092,Hoja1!$A$50:$C$63,3),\"\")","v":5}]
[2083,20259910041794,"2025-03-13","Persona natural","Virtual - Correo electrónico","Solicitud de documentos o información","Solicitud de información hidrometeorológica",null,"Subdirección de Meteorología","2025-03-25","Correo electrónico","2025-03-31",null,"",null,{"$f":"IFERROR(WORKDAY(N2093,Y2093,Hoja1!F2085:F2201),\"\")","v":""},{"$f":"+IF(N2093=\"\",\"\",IF(O2093=\"\",\"SIN RESPUESTA\",(IF(O2093<=P2093,\"A TIEMPO\",\"FUERA DE TIEMPO\"))))","v":""},null,"A TIEMPO",6,0,null,null,{"$f":"IFERROR(VLOOKUP(F2093,Hoja1!$A$50:$C$63,2),\"\")","v":5},{"$f":"IFERROR(VLOOKUP(F2093,Hoja1!$A$50:$C$63,3),\"\")","v":5}]
[2084,20259910041574,"2025-03-13","Persona jurídica","Virtual - Correo electrónico","Solicitud de documentos o información","Registros ambientales",null,"Subdirección de Estudios Ambientales","2025-03-17","Correo electrónico","2025-03-31",null,"",null,{"$f":"IFERROR(WORKDAY(N2094,Y2094,Hoja1!F2086:F2202),\"\")","v":""},{"$f":"+IF(N2094=\"\",\"\",IF(O2094=\"\",\"SIN RESPUESTA\",(IF(O2094<=P2094,\"A TIEMPO\",\"FUERA DE TIEMPO\"))))","v":""},null,"A TIEMPO",2,0,null,null,{"$f":"IFERROR(VLOOKUP(F2094,Hoja1!$A$50:$C$63,2),\"\")","v":5},{"$f":"IFERROR(VLOOKUP(F2094,Hoja1!$A$50:$C$63,3),\"\")","v":5}]
[2085,20259910041664,"2025-03-13","Persona natural","Virtual - Correo electrónico","Solicitud de documentos o información","Solicitud de información hidrometeorológica",null,"Grupo de Servicio al Ciudadano","2025-03-27","Correo electrónico","2025-03-31",null,"",null,{"$f":"IFERROR(WORKDAY(N2095,Y2095,Hoja1!F2087:F2203),\"\")","v":""},{"$f":"+IF(N2095=\"\",\"\",IF(O2095=\"\",\"SIN RESPUESTA\",(IF(O2095<=P2095,\"A TIEMPO\",\"FUERA DE TIEMPO\"))))","v":""},null,"A TIEMPO",8,0,null,null,{"$f":"IFERROR(VLOOKUP(F2095,Hoja1!$A$50:$C$63,2),\"\")","v":5},{"$f":"IFERROR(VLOOKUP(F2095,Hoja1!$A$50:$C$63,3),\"\")","v":5}]
[2086,20259910041564,"2025-03-13","Persona natural","Virtual - Correo electrónico","Solicitud de documentos o información","Solicitud de información hidrometeorológica",null,"Subdirección de Estudios Ambientales","2025-03-21","Correo electrónico","2025-03-31",null,"",null,{"$f":"IFERROR(WORKDAY(N2096,Y2096,Hoja1!F2088:F2204),\"\")","v":""},{"$f":"+IF(N2096=\"\",\"\",IF(O2096=\"\",\"SIN RESPUESTA\",(IF(O2096<=P2096,\"A TIEMPO\",\"FUERA DE TIEMPO\"))))","v":""},null,"A TIEMPO",5,0,null,null,{"$f":"IFERROR(VLOOKUP(F2096,Hoja1!$A$50:$C$63,2),\"\")","v":5},{"$f":"IFERROR(VLOOKUP(F2096,Hoja1!$A$50:$C$63,3),\"\")","v":5}]
[2087,20259910041554,"2025-03-13","Persona natural","Virtual - Correo electrónico","Certificación electrónica de tiempos laborados - CETIL","Administrativa",null,"Grupo de Administración y Desarrollo del Talento Humano","2025-05-07","Correo electrónico","2025-04-07",null,"",null,{"$f":"IFERROR(WORKDAY(N2097,Y2097,Hoja1!F2089:F2205),\"\")","v":""},{"$f":"+IF(N2097=\"\",\"\",IF(O2097=\"\",\"SIN RESPUESTA\",(IF(O2097<=P2097,\"A TIEMPO\",\"FUERA DE TIEMPO\"))))","v":""},null,{"$f":"+IF(C2097=\"\",\"\",IF(J2097=\"\",\"SIN RESPUESTA\",(IF(J2097<=L2097,\"A TIEMPO\",\"FUERA DE TIEMPO\"))))","v":"FUERA DE TIEMPO"},34,19,null,null,{"$f":"IFERROR(VLOOKUP(F2097,Hoja1!$A$50:$C$63,2),\"\")","v":15},{"$f":"IFERROR(VLOOKUP(F2097,Hoja1!$A$50:$C$63,3),\"\")","v":15}]
[2088,20259910041604,"2025-03-13","Persona natural","Virtual - Correo electrónico","Solicitud de documentos o información","Sistema de información del recurso hídrico",null,"Subdirección de Hidrología","2025-03-28","Correo electrónico","2025-03-31",null,"",null,{"$f":"IFERROR(WORKDAY(N2098,Y2098,Hoja1!F2090:F2206),\"\")","v":""},{"$f":"+IF(N2098=\"\",\"\",IF(O2098=\"\",\"SIN RESPUESTA\",(IF(O2098<=P2098,\"A TIEMPO\",\"FUERA DE TIEMPO\"))))","v":""},null,"A TIEMPO",9,0,null,null,{"$f":"IFERROR(VLOOKUP(F2098,Hoja1!$A$50:$C$63,2),\"\")","v":5},{"$f":"IFERROR(VLOOKUP(F2098,Hoja1!$A$50:$C$63,3),\"\")","v":5}]
[2089,20259910041744,"2025-03-13","Persona natural","Virtual - Correo electrónico","Solicitud de documentos o información","Solicitud de información hidrometeorológica",null,"Grupo de Servicio al Ciudadano","2025-03-27","Correo electrónico","2025-03-31",null,"",null,{"$f":"IFERROR(WORKDAY(N2099,Y2099,Hoja1!F2091:F2207),\"\")","v":""},{"$f":"+IF(N2099=\"\",\"\",IF(O2099=\"\",\"SIN RESPUESTA\",(IF(O2099<=P2099,\"A TIEMPO\",\"FUERA DE TIEMPO\"))))","v":""},null,"A TIEMPO",8,0,null,null,{"$f":"IFERROR(VLOOKUP(F2099,Hoja1!$A$50:$C$63,2),\"\")","v":5},{"$f":"IFERROR(VLOOKUP(F2099,Hoja1!$A$50:$C$63,3),\"\")","v":5}]
[2090,20259050041644,"2025-03-13","Persona jurídica","Virtual - Formulario PQRSDF","Petición entre autoridades","Registros ambientales",null,"Subdirección de Estudios Ambientales","2025-03-19","Correo electrónico","2025-03-31",null,"",null,{"$f":"IFERROR(WORKDAY(N2100,Y2100,Hoja1!F2092:F2208),\"\")","v":""},{"$f":"+IF(N2100=\"\",\"\",IF(O2100=\"\",\"SIN RESPUESTA\",(IF(O2100<=P2100,\"A TIEMPO\",\"FUERA DE TIEMPO\"))))","v":""},null,"A TIEMPO",3,0,null,null,{"$f":"IFERROR(VLOOKUP(F2100,Hoja1!$A$50:$C$63,2),\"\")","v":10},{"$f":"IFERROR(VLOOKUP(F2100,Hoja1!$A$50:$C$63,3),\"\")","v":10}]
[2091,20259910041624,"2025-03-13","Persona natural","Virtual - Correo electrónico","Solicitud de documentos o información","Administrativa",null,"Oficina Asesora Jurídica","2025-03-14","No aplica","2025-03-31",null,"",null,{"$f":"IFERROR(WORKDAY(N2101,Y2101,Hoja1!F2093:F2209),\"\")","v":""},{"$f":"+IF(N2101=\"\",\"\",IF(O2101=\"\",\"SIN RESPUESTA\",(IF(O2101<=P2101,\"A TIEMPO\",\"FUERA DE TIEMPO\"))))","v":""},null,"A TIEMPO",1,0,null,null,{"$f":"IFERROR(VLOOKUP(F2101,Hoja1!$A$50:$C$63,2),\"\")","v":5},{"$f":"IFERROR(VLOOKUP(F2101,Hoja1!$A$50:$C$63,3),\"\")","v":5}]
[2092,20259910041654,"2025-03-13","Persona natural","Virtual - Correo electrónico","Solicitud de documentos o información","Sistema de información del recurso hídrico",null,"Subdirección de Hidrología","2025-03-28","Correo electrónico","2025-03-31",null,"",null,{"$f":"IFERROR(WORKDAY(N2102,Y2102,Hoja1!F2094:F2210),\"\")","v":""},{"$f":"+IF(N2102=\"\",\"\",IF(O2102=\"\",\"SIN RESPUESTA\",(IF(O2102<=P2102,\"A TIEMPO\",\"FUERA DE TIEMPO\"))))","v":""},null,"A TIEMPO",9,0,null,null,{"$f":"IFERROR(VLOOKUP(F2102,Hoja1!$A$50:$C$63,2),\"\")","v":5},{"$f":"IFERROR(VLOOKUP(F2102,Hoja1!$A$50:$C$63,3),\"\")","v":5}]
[2093,20259910041754,"2025-03-13","Persona natural","Virtual - Correo electrónico","Solicitud de documentos o información","Solicitud de información hidrometeorológica",null,"Grupo de Servicio al Ciudadano","2025-03-27","Correo electrónico","2025-03-31",null,"",null,{"$f":"IFERROR(WORKDAY(N2103,Y2103,Hoja1!F2095:F2211),\"\")","v":""},{"$f":"+IF(N2103=\"\",\"\",IF(O2103=\"\",\"SIN RESPUESTA\",(IF(O2103<=P2103,\"A TIEMPO\",\"FUERA DE TIEMPO\"))))","v":""},null,"A TIEMPO",8,0,null,null,{"$f":"IFERROR(VLOOKUP(F2103,Hoja1!$A$50:$C$63,2),\"\")","v":5},{"$f":"IFERROR(VLOOKUP(F2103,Hoja1!$A$50:$C$63,3),\"\")","v":5}]
[2094,20259910041784,"2025-03-13","Persona jurídica","Virtual - Correo electrónico","Petición entre entidades","Registros ambientales",null,"Subdirección de Estudios Ambientales","2025-03-31","Correo electrónico","2025-03-31",null,"",null,{"$f":"IFERROR(WORKDAY(N2104,Y2104,Hoja1!F2096:F2212),\"\")","v":""},{"$f":"+IF(N2104=\"\",\"\",IF(O2104=\"\",\"SIN RESPUESTA\",(IF(O2104<=P2104,\"A TIEMPO\",\"FUERA DE TIEMPO\"))))","v":""},null,"A TIEMPO",10,0,null,null,{"$f":"IFERROR(VLOOKUP(F2104,Hoja1!$A$50:$C$63,2),\"\")","v":10},{"$f":"IFERROR(VLOOKUP(F2104,Hoja1!$A$50:$C$63,3),\"\")","v":10}]
[2095,20259910041634,"2025-03-13","Persona natural","Virtual - Correo electrónico","Petición de interés general o particular","Administrativa",null,"Secretaría General","2025-04-04","Correo electrónico","2025-04-07",null,"",null,{"$f":"IFERROR(WORKDAY(N2105,Y2105,Hoja1!F2097:F2213),\"\")","v":""},{"$f":"+IF(N2105=\"\",\"\",IF(O2105=\"\",\"SIN RESPUESTA\",(IF(O2105<=P2105,\"A TIEMPO\",\"FUERA DE TIEMPO\"))))","v":""},null,"A TIEMPO",14,0,null,null,{"$f":"IFERROR(VLOOKUP(F2105,Hoja1!$A$50:$C$63,2),\"\")","v":15},{"$f":"IFERROR(VLOOKUP(F2105,Hoja1!$A$50:$C$63,3),\"\")","v":15}]
[2096,20259910041694,"2025-03-13","Persona natural","Virtual - Correo electrónico","Solicitud de documentos o información","Solicitud de información hidrometeorológica",null,"Grupo de Servicio al Ciudadano","2025-03-27","Correo electrónico","2025-03-31",null,"",null,{"$f":"IFERROR(WORKDAY(N2106,Y2106,Hoja1!F2098:F2214),\"\")","v":""},{"$f":"+IF(N2106=\"\",\"\",IF(O2106=\"\",\"SIN RESPUESTA\",(IF(O2106<=P2106,\"A TIEMPO\",\"FUERA DE TIEMPO\"))))","v":""},null,"A TIEMPO",8,0,null,null,{"$f":"IFERROR(VLOOKUP(F2106,Hoja1!$A$50:$C$63,2),\"\")","v":5},{"$f":"IFERROR(VLOOKUP(F2106,Hoja1!$A$50:$C$63,3),\"\")","v":5}]
[2097,20259910041684,"2025-03-13","Persona jurídica","Virtual - Correo electrónico","Petición entre autoridades","Sistema de información ambiental",null,"Subdirección de Estudios Ambientales","2025-04-11","Correo electrónico","2025-03-31",null,"",null,{"$f":"IFERROR(WORKDAY(N2107,Y2107,Hoja1!F2099:F2215),\"\")","v":""},{"$f":"+IF(N2107=\"\",\"\",IF(O2107=\"\",\"SIN RESPUESTA\",(IF(O2107<=P2107,\"A TIEMPO\",\"FUERA DE TIEMPO\"))))","v":""},null,{"$f":"+IF(C2107=\"\",\"\",IF(J2107=\"\",\"SIN RESPUESTA\",(IF(J2107<=L2107,\"A TIEMPO\",\"FUERA DE TIEMPO\"))))","v":"FUERA DE TIEMPO"},19,9,null,null,{"$f":"IFERROR(VLOOKUP(F2107,Hoja1!$A$50:$C$63,2),\"\")","v":10},{"$f":"IFERROR(VLOOKUP(F2107,Hoja1!$A$50:$C$63,3),\"\")","v":10}]
[2098,20259910041714,"2025-03-13","Persona natural","Virtual - Correo electrónico","Solicitud de documentos o información","Sistema de información del recurso hídrico",null,"Subdirección de Hidrología","2025-03-25","Correo electrónico","2025-03-31",null,"",null,{"$f":"IFERROR(WORKDAY(N2108,Y2108,Hoja1!F2100:F2216),\"\")","v":""},{"$f":"+IF(N2108=\"\",\"\",IF(O2108=\"\",\"SIN RESPUESTA\",(IF(O2108<=P2108,\"A TIEMPO\",\"FUERA DE TIEMPO\"))))","v":""},null,"A TIEMPO",6,0,null,null,{"$f":"IFERROR(VLOOKUP(F2108,Hoja1!$A$50:$C$63,2),\"\")","v":5},{"$f":"IFERROR(VLOOKUP(F2108,Hoja1!$A$50:$C$63,3),\"\")","v":5}]
[2099,20259910041724,"2025-03-13","Persona natural","Virtual - Correo electrónico","Solicitud de documentos o información","Solicitud de información hidrometeorológica",null,"Grupo de Servicio al Ciudadano","2025-03-27","Correo electrónico","2025-03-31",null,"",null,{"$f":"IFERROR(WORKDAY(N2109,Y2109,Hoja1!F2101:F2217),\"\")","v":""},{"$f":"+IF(N2109=\"\",\"\",IF(O2109=\"\",\"SIN RESPUESTA\",(IF(O2109<=P2109,\"A TIEMPO\",\"FUERA DE TIEMPO\"))))","v":""},null,"A TIEMPO",8,0,null,null,{"$f":"IFERROR(VLOOKUP(F2109,Hoja1!$A$50:$C$63,2),\"\")","v":5},{"$f":"IFERROR(VLOOKUP(F2109,Hoja1!$A$50:$C$63,3),\"\")","v":5}]
[2100,20259910041774,"2025-03-13","Persona jurídica","Virtual - Correo electrónico","Solicitud de documentos o información","Solicitud de información hidrometeorológica",null,"Grupo de Servicio al Ciudadano","2025-03-28","Correo electrónico","2025-03-31",null,"",null,{"$f":"IFERROR(WORKDAY(N2110,Y2110,Hoja1!F2102:F2218),\"\")","v":""},{"$f":"+IF(N2110=\"\",\"\",IF(O2110=\"\",\"SIN RESPUESTA\",(IF(O2110<=P2110,\"A TIEMPO\",\"FUERA DE TIEMPO\"))))","v":""},null,"A TIEMPO",9,0,null,null,{"$f":"IFERROR(VLOOKUP(F2110,Hoja1!$A$50:$C$63,2),\"\")","v":5},{"$f":"IFERROR(VLOOKUP(F2110,Hoja1!$A$50:$C$63,3),\"\")","v":5}]
[2101,20259050041964,"2025-03-14","Persona natural","Virtual - Formulario PQRSDF","Certificación de tiempo, clima y eventos hidrológicos","Certificaciones del tiempo y clima",null,"Subdirección de Meteorología","2025-03-20","Correo electrónico","2025-05-02",null,"",null,{"$f":"IFERROR(WORKDAY(N2111,Y2111,Hoja1!F2103:F2219),\"\")","v":""},{"$f":"+IF(N2111=\"\",\"\",IF(O2111=\"\",\"SIN RESPUESTA\",(IF(O2111<=P2111,\"A TIEMPO\",\"FUERA DE TIEMPO\"))))","v":""},null,"A TIEMPO",3,0,null,null,{"$f":"IFERROR(VLOOKUP(F2111,Hoja1!$A$50:$C$63,2),\"\")","v":15},{"$f":"IFERROR(VLOOKUP(F2111,Hoja1!$A$50:$C$63,3),\"\")","v":15}]
[2102,20259050042004,"2025-03-14","Persona jurídica","Virtual - Formulario PQRSDF","Solicitud de documentos o información","Registros ambientales",null,"Subdirección de Estudios Ambientales","2025-04-01","Correo electrónico","2025-04-01",null,"",null,{"$f":"IFERROR(WORKDAY(N2112,Y2112,Hoja1!F2104:F2220),\"\")","v":""},{"$f":"+IF(N2112=\"\",\"\",IF(O2112=\"\",\"SIN RESPUESTA\",(IF(O2112<=P2112,\"A TIEMPO\",\"FUERA DE TIEMPO\"))))","v":""},null,"A TIEMPO",10,0,null,null,{"$f":"IFERROR(VLOOKUP(F2112,Hoja1!$A$50:$C$63,2),\"\")","v":5},{"$f":"IFERROR(VLOOKUP(F2112,Hoja1!$A$50:$C$63,3),\"\")","v":5}]
[2103,20259050042014,"2025-03-14","Persona natural","Virtual - Formulario PQRSDF","Solicitud de documentos o información","Solicitud de información hidrometeorológica",null,"Subdirección de Meteorología","2025-03-27","Correo electrónico","2025-04-01",null,"",null,{"$f":"IFERROR(WORKDAY(N2113,Y2113,Hoja1!F2105:F2221),\"\")","v":""},{"$f":"+IF(N2113=\"\",\"\",IF(O2113=\"\",\"SIN RESPUESTA\",(IF(O2113<=P2113,\"A TIEMPO\",\"FUERA DE TIEMPO\"))))","v":""},null,"A TIEMPO",7,0,null,null,{"$f":"IFERROR(VLOOKUP(F2113,Hoja1!$A$50:$C$63,2),\"\")","v":5},{"$f":"IFERROR(VLOOKUP(F2113,Hoja1!$A$50:$C$63,3),\"\")","v":5}]
[2104,20259910042084,"2025-03-14","Persona jurídica","Virtual - Correo electrónico","Solicitud de documentos o información","Sistema de información del recurso hídrico",null,"Grupo de Servicio al Ciudadano","2025-03-28","Correo electrónico","2025-04-01",null,"",null,{"$f":"IFERROR(WORKDAY(N2114,Y2114,Hoja1!F2106:F2222),\"\")","v":""},{"$f":"+IF(N2114=\"\",\"\",IF(O2114=\"\",\"SIN RESPUESTA\",(IF(O2114<=P2114,\"A TIEMPO\",\"FUERA DE TIEMPO\"))))","v":""},null,"A TIEMPO",8,0,null,null,{"$f":"IFERROR(VLOOKUP(F2114,Hoja1!$A$50:$C$63,2),\"\")","v":5},{"$f":"IFERROR(VLOOKUP(F2114,Hoja1!$A$50:$C$63,3),\"\")","v":5}]
[2105,20259910042104,"2025-03-14","Persona jurídica","Virtual - Correo electrónico","Solicitud de documentos o información","Registros ambientales",null,"Subdirección de Estudios Ambientales","2025-03-19","Correo electrónico","2025-04-01",null,"",null,{"$f":"IFERROR(WORKDAY(N2115,Y2115,Hoja1!F2107:F2223),\"\")","v":""},{"$f":"+IF(N2115=\"\",\"\",IF(O2115=\"\",\"SIN RESPUESTA\",(IF(O2115<=P2115,\"A TIEMPO\",\"FUERA DE TIEMPO\"))))","v":""},null,"A TIEMPO",2,0,null,null,{"$f":"IFERROR(VLOOKUP(F2115,Hoja1!$A$50:$C$63,2),\"\")","v":5},{"$f":"IFERROR(VLOOKUP(F2115,Hoja1!$A$50:$C$63,3),\"\")","v":5}]
[2106,20259910042124,"2025-03-14","Persona natural","Virtual - Correo electrónico","Solicitud de documentos o información","Visitas académicas",null,"Grupo de Servicio al Ciudadano","2025-03-28","Correo electrónico","2025-04-01",null,"",null,{"$f":"IFERROR(WORKDAY(N2116,Y2116,Hoja1!F2108:F2224),\"\")","v":""},{"$f":"+IF(N2116=\"\",\"\",IF(O2116=\"\",\"SIN RESPUESTA\",(IF(O2116<=P2116,\"A TIEMPO\",\"FUERA DE TIEMPO\"))))","v":""},null,"A TIEMPO",8,0,null,null,{"$f":"IFERROR(VLOOKUP(F2116,Hoja1!$A$50:$C$63,2),\"\")","v":5},{"$f":"IFERROR(VLOOKUP(F2116,Hoja1!$A$50:$C$63,3),\"\")","v":5}]
[2107,20259910042144,"2025-03-14","Persona jurídica","Virtual - Correo electrónico","Solicitud de documentos o información","Registros ambientales",null,"Subdirección de Estudios Ambientales","2025-03-31","Correo electrónico","2025-04-01",null,"",null,{"$f":"IFERROR(WORKDAY(N2117,Y2117,Hoja1!F2109:F2225),\"\")","v":""},{"$f":"+IF(N2117=\"\",\"\",IF(O2117=\"\",\"SIN RESPUESTA\",(IF(O2117<=P2117,\"A TIEMPO\",\"FUERA DE TIEMPO\"))))","v":""},null,"A TIEMPO",9,0,null,null,{"$f":"IFERROR(VLOOKUP(F2117,Hoja1!$A$50:$C$63,2),\"\")","v":5},{"$f":"IFERROR(VLOOKUP(F2117,Hoja1!$A$50:$C$63,3),\"\")","v":5}]
[2108,20259910042164,"2025-03-14","Persona jurídica","Virtual - Correo electrónico","Solicitud de documentos o información","Administrativa",null,"Secretaría General","2025-03-20","Correo electrónico","2025-04-01",null,"",null,{"$f":"IFERROR(WORKDAY(N2118,Y2118,Hoja1!F2110:F2226),\"\")","v":""},{"$f":"+IF(N2118=\"\",\"\",IF(O2118=\"\",\"SIN RESPUESTA\",(IF(O2118<=P2118,\"A TIEMPO\",\"FUERA DE TIEMPO\"))))","v":""},null,"A TIEMPO",3,0,null,null,{"$f":"IFERROR(VLOOKUP(F2118,Hoja1!$A$50:$C$63,2),\"\")","v":5},{"$f":"IFERROR(VLOOKUP(F2118,Hoja1!$A$50:$C$63,3),\"\")","v":5}]
[2109,20259910042174,"2025-03-14","Persona jurídica","Virtual - Correo electrónico","Solicitud de documentos o información","Registros ambientales",null,"Subdirección de Estudios Ambientales","2025-03-25","Correo electrónico","2025-04-01",null,"",null,{"$f":"IFERROR(WORKDAY(N2119,Y2119,Hoja1!F2111:F2227),\"\")","v":""},{"$f":"+IF(N2119=\"\",\"\",IF(O2119=\"\",\"SIN RESPUESTA\",(IF(O2119<=P2119,\"A TIEMPO\",\"FUERA DE TIEMPO\"))))","v":""},null,"A TIEMPO",5,0,null,null,{"$f":"IFERROR(VLOOKUP(F2119,Hoja1!$A$50:$C$63,2),\"\")","v":5},{"$f":"IFERROR(VLOOKUP(F2119,Hoja1!$A$50:$C$63,3),\"\")","v":5}]
[2110,20259910042184,"2025-03-14","Persona jurídica","Virtual - Correo electrónico","Solicitud de documentos o información","Registros ambientales",null,"Subdirección de Estudios Ambientales","2025-03-31","Correo electrónico","2025-04-01",null,"",null,{"$f":"IFERROR(WORKDAY(N2120,Y2120,Hoja1!F2112:F2228),\"\")","v":""},{"$f":"+IF(N2120=\"\",\"\",IF(O2120=\"\",\"SIN RESPUESTA\",(IF(O2120<=P2120,\"A TIEMPO\",\"FUERA DE TIEMPO\"))))","v":""},null,"A TIEMPO",9,0,null,null,{"$f":"IFERROR(VLOOKUP(F2120,Hoja1!$A$50:$C$63,2),\"\")","v":5},{"$f":"IFERROR(VLOOKUP(F2120,Hoja1!$A$50:$C$63,3),\"\")","v":5}]
[2111,20259910042194,"2025-03-14","Persona jurídica","Virtual - Correo electrónico","Solicitud de documentos o información","Registros ambientales",null,"Subdirección de Estudios Ambientales","2025-03-31","Correo electrónico","2025-04-01",null,"",null,{"$f":"IFERROR(WORKDAY(N2121,Y2121,Hoja1!F2113:F2229),\"\")","v":""},{"$f":"+IF(N2121=\"\",\"\",IF(O2121=\"\",\"SIN RESPUESTA\",(IF(O2121<=P2121,\"A TIEMPO\",\"FUERA DE TIEMPO\"))))","v":""},null,"A TIEMPO",9,0,null,null,{"$f":"IFERROR(VLOOKUP(F2121,Hoja1!$A$50:$C$63,2),\"\")","v":5},{"$f":"IFERROR(VLOOKUP(F2121,Hoja1!$A$50:$C$63,3),\"\")","v":5}]
[2112,20259910042204,"2025-03-14","Persona jurídica","Virtual - Correo electrónico","Solicitud de documentos o información","Registros ambientales",null,"Subdirección de Estudios Ambientales","2025-03-19","Correo electrónico","2025-04-01",null,"",null,{"$f":"IFERROR(WORKDAY(N2122,Y2122,Hoja1!F2114:F2230),\"\")","v":""},{"$f":"+IF(N2122=\"\",\"\",IF(O2122=\"\",\"SIN RESPUESTA\",(IF(O2122<=P2122,\"A TIEMPO\",\"FUERA DE TIEMPO\"))))","v":""},null,"A TIEMPO",2,0,null,null,{"$f":"IFERROR(VLOOKUP(F2122,Hoja1!$A$50:$C$63,2),\"\")","v":5},{"$f":"IFERROR(VLOOKUP(F2122,Hoja1!$A$50:$C$63,3),\"\")","v":5}]
[2113,20259910042214,"2025-03-14","Persona jurídica","Virtual - Correo electrónico","Solicitud de documentos o información","Solicitud de información hidrometeorológica",null,"Subdirección de Meteorología","2025-03-27","Correo electrónico","2025-04-01",null,"",null,{"$f":"IFERROR(WORKDAY(N2123,Y2123,Hoja1!F2115:F2231),\"\")","v":""},{"$f":"+IF(N2123=\"\",\"\",IF(O2123=\"\",\"SIN RESPUESTA\",(IF(O2123<=P2123,\"A TIEMPO\",\"FUERA DE TIEMPO\"))))","v":""},null,"A TIEMPO",7,0,null,null,{"$f":"IFERROR(VLOOKUP(F2123,Hoja1!$A$50:$C$63,2),\"\")","v":5},{"$f":"IFERROR(VLOOKUP(F2123,Hoja1!$A$50:$C$63,3),\"\")","v":5}]
[2114,20259910042224,"2025-03-14","Persona jurídica","Virtual - Correo electrónico","Solicitud de documentos o información","Registros ambientales",null,"Subdirección de Estudios Ambientales","2025-03-31","Correo electrónico","2025-04-01",null,"",null,{"$f":"IFERROR(WORKDAY(N2124,Y2124,Hoja1!F2116:F2232),\"\")","v":""},{"$f":"+IF(N2124=\"\",\"\",IF(O2124=\"\",\"SIN RESPUESTA\",(IF(O2124<=P2124,\"A TIEMPO\",\"FUERA DE TIEMPO\"))))","v":""},null,"A TIEMPO",9,0,null,null,{"$f":"IFERROR(VLOOKUP(F2124,Hoja1!$A$50:$C$63,2),\"\")","v":5},{"$f":"IFERROR(VLOOKUP(F2124,Hoja1!$A$50:$C$63,3),\"\")","v":5}]
[2115,20259050042234,"2025-03-14","Persona natural","Virtual - Formulario PQRSDF","Solicitud de documentos o información","Solicitud de información hidrometeorológica",null,"Subdirección de Meteorología","2025-03-25","Correo electrónico","2025-04-01",null,"",null,{"$f":"IFERROR(WORKDAY(N2125,Y2125,Hoja1!F2117:F2233),\"\")","v":""},{"$f":"+IF(N2125=\"\",\"\",IF(O2125=\"\",\"SIN RESPUESTA\",(IF(O2125<=P2125,\"A TIEMPO\",\"FUERA DE TIEMPO\"))))","v":""},null,"A TIEMPO",5,0,null,null,{"$f":"IFERROR(VLOOKUP(F2125,Hoja1!$A$50:$C$63,2),\"\")","v":5},{"$f":"IFERROR(VLOOKUP(F2125,Hoja1!$A$50:$C$63,3),\"\")","v":5}]
[2116,20259910042244,"2025-03-14","Persona natural","Virtual - Correo electrónico","Certificación laboral o pasantía","Administrativa",null,"Grupo de Administración y Desarrollo del Talento Humano","2025-04-04","Correo electrónico","2025-04-01",null,"",null,{"$f":"IFERROR(WORKDAY(N2126,Y2126,Hoja1!F2118:F2234),\"\")","v":""},{"$f":"+IF(N2126=\"\",\"\",IF(O2126=\"\",\"SIN RESPUESTA\",(IF(O2126<=P2126,\"A TIEMPO\",\"FUERA DE TIEMPO\"))))","v":""},null,{"$f":"+IF(C2126=\"\",\"\",IF(J2126=\"\",\"SIN RESPUESTA\",(IF(J2126<=L2126,\"A TIEMPO\",\"FUERA DE TIEMPO\"))))","v":"FUERA DE TIEMPO"},13,3,null,null,{"$f":"IFERROR(VLOOKUP(F2126,Hoja1!$A$50:$C$63,2),\"\")","v":15},{"$f":"IFERROR(VLOOKUP(F2126,Hoja1!$A$50:$C$63,3),\"\")","v":15}]
[2117,20259910042254,"2025-03-14","Persona jurídica","Virtual - Correo electrónico","Solicitud de documentos o información","Solicitud de información hidrometeorológica",null,"Subdirección de Meteorología","2025-03-27","Correo electrónico","2025-04-01",null,"",null,{"$f":"IFERROR(WORKDAY(N2127,Y2127,Hoja1!F2119:F2235),\"\")","v":""},{"$f":"+IF(N2127=\"\",\"\",IF(O2127=\"\",\"SIN RESPUESTA\",(IF(O2127<=P2127,\"A TIEMPO\",\"FUERA DE TIEMPO\"))))","v":""},null,"A TIEMPO",7,0,null,null,{"$f":"IFERROR(VLOOKUP(F2127,Hoja1!$A$50:$C$63,2),\"\")","v":5},{"$f":"IFERROR(VLOOKUP(F2127,Hoja1!$A$50:$C$63,3),\"\")","v":5}]
[2118,20259910042094,"2025-03-14","Persona natural","Virtual - Correo electrónico","Solicitud de documentos o información","Sistema de información del recurso hídrico",null,"Grupo de Servicio al Ciudadano","2025-03-19","Correo electrónico","2025-04-01",null,"",null,{"$f":"IFERROR(WORKDAY(N2128,Y2128,Hoja1!F2120:F2236),\"\")","v":""},{"$f":"+IF(N2128=\"\",\"\",IF(O2128=\"\",\"SIN RESPUESTA\",(IF(O2128<=P2128,\"A TIEMPO\",\"FUERA DE TIEMPO\"))))","v":""},null,"A TIEMPO",2,0,null,null,{"$f":"IFERROR(VLOOKUP(F2128,Hoja1!$A$50:$C$63,2),\"\")","v":5},{"$f":"IFERROR(VLOOKUP(F2128,Hoja1!$A$50:$C$63,3),\"\")","v":5}]
[{"$f":"IF(B2129<>\"\",A2128+1,\"\")","v":2119},20259910042264,"2025-03-14","Persona natural","Virtual - Correo electrónico","Certificación laboral o pasantía","Administrativa",null,"Grupo de Administración y Desarrollo del Talento Humano","2025-03-25","Correo electrónico","2025-04-01",null,"",null,{"$f":"IFERROR(WORKDAY(N2129,Y2129,Hoja1!F2121:F2237),\"\")","v":""},{"$f":"+IF(N2129=\"\",\"\",IF(O2129=\"\",\"SIN RESPUESTA\",(IF(O2129<=P2129,\"A TIEMPO\",\"FUERA DE TIEMPO\"))))","v":""},null,"A TIEMPO",5,0,null,null,{"$f":"IFERROR(VLOOKUP(F2129,Hoja1!$A$50:$C$63,2),\"\")","v":15},{"$f":"IFERROR(VLOOKUP(F2129,Hoja1!$A$50:$C$63,3),\"\")","v":15}]
[2120,20259910042274,"2025-03-14","Persona jurídica","Virtual - Correo electrónico","Solicitud de documentos o información","Registros ambientales",null,"Subdirección de Estudios Ambientales","2025-03-31","Correo electrónico","2025-04-01",null,"",null,{"$f":"IFERROR(WORKDAY(N2130,Y2130,Hoja1!F2122:F2238),\"\")","v":""},{"$f":"+IF(N2130=\"\",\"\",IF(O2130=\"\",\"SIN RESPUESTA\",(IF(O2130<=P2130,\"A TIEMPO\",\"FUERA DE TIEMPO\"))))","v":""},null,"A TIEMPO",9,0,null,null,{"$f":"IFERROR(VLOOKUP(F2130,Hoja1!$A$50:$C$63,2),\"\")","v":5},{"$f":"IFERROR(VLOOKUP(F2130,Hoja1!$A$50:$C$63,3),\"\")","v":5}]
[2121,20259910042284,"2025-03-14","Persona jurídica","Virtual - Correo electrónico","Solicitud de documentos o información","Registros ambientales",null,"Subdirección de Estudios Ambientales","2025-03-31","Correo electrónico","2025-04-01",null,"",null,{"$f":"IFERROR(WORKDAY(N2131,Y2131,Hoja1!F2123:F2239),\"\")","v":""},{"$f":"+IF(N2131=\"\",\"\",IF(O2131=\"\",\"SIN RESPUESTA\",(IF(O2131<=P2131,\"A TIEMPO\",\"FUERA DE TIEMPO\"))))","v":""},null,"A TIEMPO",9,0,null,null,{"$f":"IFERROR(VLOOKUP(F2131,Hoja1!$A$50:$C$63,2),\"\")","v":5},{"$f":"IFERROR(VLOOKUP(F2131,Hoja1!$A$50:$C$63,3),\"\")","v":5}]
[2122,20259050042294,"2025-03-14","Persona natural","Virtual - Formulario PQRSDF","Certificación de tiempo, clima y eventos hidrológicos","Certificaciones del tiempo y clima",null,"Subdirección de Meteorología","2025-04-23","Correo electrónico","2025-05-02",null,"",null,{"$f":"IFERROR(WORKDAY(N2132,Y2132,Hoja1!F2124:F2240),\"\")","v":""},{"$f":"+IF(N2132=\"\",\"\",IF(O2132=\"\",\"SIN RESPUESTA\",(IF(O2132<=P2132,\"A TIEMPO\",\"FUERA DE TIEMPO\"))))","v":""},null,"A TIEMPO",24,0,null,null,{"$f":"IFERROR(VLOOKUP(F2132,Hoja1!$A$50:$C$63,2),\"\")","v":15},{"$f":"IFERROR(VLOOKUP(F2132,Hoja1!$A$50:$C$63,3),\"\")","v":15}]
[2123,20259910042304,"2025-03-14","Persona jurídica","Virtual - Correo electrónico","Solicitud de documentos o información","Registros ambientales",null,"Subdirección de Estudios Ambientales","2025-03-31","Correo electrónico","2025-04-01",null,"",null,{"$f":"IFERROR(WORKDAY(N2133,Y2133,Hoja1!F2125:F2241),\"\")","v":""},{"$f":"+IF(N2133=\"\",\"\",IF(O2133=\"\",\"SIN RESPUESTA\",(IF(O2133<=P2133,\"A TIEMPO\",\"FUERA DE TIEMPO\"))))","v":""},null,"A TIEMPO",9,0,null,null,{"$f":"IFERROR(VLOOKUP(F2133,Hoja1!$A$50:$C$63,2),\"\")","v":5},{"$f":"IFERROR(VLOOKUP(F2133,Hoja1!$A$50:$C$63,3),\"\")","v":5}]
[2124,20259910042314,"2025-03-14","Persona jurídica","Virtual - Correo electrónico","Solicitud de documentos o información","Registros ambientales",null,"Subdirección de Estudios Ambientales","2025-03-31","Correo electrónico","2025-04-01",null,"",null,{"$f":"IFERROR(WORKDAY(N2134,Y2134,Hoja1!F2126:F2242),\"\")","v":""},{"$f":"+IF(N2134=\"\",\"\",IF(O2134=\"\",\"SIN RESPUESTA\",(IF(O2134<=P2134,\"A TIEMPO\",\"FUERA DE TIEMPO\"))))","v":""},null,"A TIEMPO",9,0,null,null,{"$f":"IFERROR(VLOOKUP(F2134,Hoja1!$A$50:$C$63,2),\"\")","v":5},{"$f":"IFERROR(VLOOKUP(F2134,Hoja1!$A$50:$C$63,3),\"\")","v":5}]
[2125,20259910042324,"2025-03-14","Persona jurídica","Virtual - Correo electrónico","Petición entre autoridades","Registros ambientales",null,"Subdirección de Estudios Ambientales","2025-03-31","Correo electrónico","2025-04-01",null,"",null,{"$f":"IFERROR(WORKDAY(N2135,Y2135,Hoja1!F2127:F2243),\"\")","v":""},{"$f":"+IF(N2135=\"\",\"\",IF(O2135=\"\",\"SIN RESPUESTA\",(IF(O2135<=P2135,\"A TIEMPO\",\"FUERA DE TIEMPO\"))))","v":""},null,"A TIEMPO",9,0,null,null,{"$f":"IFERROR(VLOOKUP(F2135,Hoja1!$A$50:$C$63,2),\"\")","v":10},{"$f":"IFERROR(VLOOKUP(F2135,Hoja1!$A$50:$C$63,3),\"\")","v":10}]
[2126,20259910042334,"2025-03-14","Persona jurídica","Virtual - Correo electrónico","Solicitud de documentos o información","Registros ambientales",null,"Subdirección de Estudios Ambientales","2025-03-31","Correo electrónico","2025-04-01",null,"",null,{"$f":"IFERROR(WORKDAY(N2136,Y2136,Hoja1!F2128:F2244),\"\")","v":""},{"$f":"+IF(N2136=\"\",\"\",IF(O2136=\"\",\"SIN RESPUESTA\",(IF(O2136<=P2136,\"A TIEMPO\",\"FUERA DE TIEMPO\"))))","v":""},null,"A TIEMPO",9,0,null,null,{"$f":"IFERROR(VLOOKUP(F2136,Hoja1!$A$50:$C$63,2),\"\")","v":5},{"$f":"IFERROR(VLOOKUP(F2136,Hoja1!$A$50:$C$63,3),\"\")","v":5}]
[2127,20259910042464,"2025-03-14","Persona jurídica","Virtual - Correo electrónico","Solicitud de documentos o información","Registros ambientales",null,"Subdirección de Estudios Ambientales","2025-04-01","Correo electrónico","2025-04-01",null,"",null,{"$f":"IFERROR(WORKDAY(N2137,Y2137,Hoja1!F2129:F2245),\"\")","v":""},{"$f":"+IF(N2137=\"\",\"\",IF(O2137=\"\",\"SIN RESPUESTA\",(IF(O2137<=P2137,\"A TIEMPO\",\"FUERA DE TIEMPO\"))))","v":""},null,"A TIEMPO",10,0,null,null,{"$f":"IFERROR(VLOOKUP(F2137,Hoja1!$A$50:$C$63,2),\"\")","v":5},{"$f":"IFERROR(VLOOKUP(F2137,Hoja1!$A$50:$C$63,3),\"\")","v":5}]
[2128,20259910042484,"2025-03-14","Persona jurídica","Virtual - Correo electrónico","Solicitud de documentos o información","Registros ambientales",null,"Subdirección de Estudios Ambientales","2025-04-01","Correo electrónico","2025-04-01",null,"",null,{"$f":"IFERROR(WORKDAY(N2138,Y2138,Hoja1!F2130:F2246),\"\")","v":""},{"$f":"+IF(N2138=\"\",\"\",IF(O2138=\"\",\"SIN RESPUESTA\",(IF(O2138<=P2138,\"A TIEMPO\",\"FUERA DE TIEMPO\"))))","v":""},null,"A TIEMPO",10,0,null,null,{"$f":"IFERROR(VLOOKUP(F2138,Hoja1!$A$50:$C$63,2),\"\")","v":5},{"$f":"IFERROR(VLOOKUP(F2138,Hoja1!$A$50:$C$63,3),\"\")","v":5}]
[2129,20259910042404,"2025-03-14","Persona jurídica","Virtual - Correo electrónico","Solicitud de documentos o información","Solicitud de información hidrometeorológica",null,"Subdirección de Meteorología","2025-03-20","Correo electrónico","2025-04-01",null,"",null,{"$f":"IFERROR(WORKDAY(N2139,Y2139,Hoja1!F2131:F2247),\"\")","v":""},{"$f":"+IF(N2139=\"\",\"\",IF(O2139=\"\",\"SIN RESPUESTA\",(IF(O2139<=P2139,\"A TIEMPO\",\"FUERA DE TIEMPO\"))))","v":""},null,"A TIEMPO",3,0,null,null,{"$f":"IFERROR(VLOOKUP(F2139,Hoja1!$A$50:$C$63,2),\"\")","v":5},{"$f":"IFERROR(VLOOKUP(F2139,Hoja1!$A$50:$C$63,3),\"\")","v":5}]
[2130,20259910042514,"2025-03-14","Persona jurídica","Virtual - Correo electrónico","Solicitud de documentos o información","Solicitud de información hidrometeorológica",null,"Grupo de Servicio al Ciudadano","2025-03-30","Correo electrónico","2025-04-01",null,"",null,{"$f":"IFERROR(WORKDAY(N2140,Y2140,Hoja1!F2132:F2248),\"\")","v":""},{"$f":"+IF(N2140=\"\",\"\",IF(O2140=\"\",\"SIN RESPUESTA\",(IF(O2140<=P2140,\"A TIEMPO\",\"FUERA DE TIEMPO\"))))","v":""},null,"A TIEMPO",8,0,null,null,{"$f":"IFERROR(VLOOKUP(F2140,Hoja1!$A$50:$C$63,2),\"\")","v":5},{"$f":"IFERROR(VLOOKUP(F2140,Hoja1!$A$50:$C$63,3),\"\")","v":5}]
[2131,20259910042534,"2025-03-14","Persona jurídica","Virtual - Correo electrónico","Solicitud de documentos o información","Registros ambientales",null,"Subdirección de Estudios Ambientales","2025-04-03","Correo electrónico","2025-04-01",null,"",null,{"$f":"IFERROR(WORKDAY(N2141,Y2141,Hoja1!F2133:F2249),\"\")","v":""},{"$f":"+IF(N2141=\"\",\"\",IF(O2141=\"\",\"SIN RESPUESTA\",(IF(O2141<=P2141,\"A TIEMPO\",\"FUERA DE TIEMPO\"))))","v":""},null,{"$f":"+IF(C2141=\"\",\"\",IF(J2141=\"\",\"SIN RESPUESTA\",(IF(J2141<=L2141,\"A TIEMPO\",\"FUERA DE TIEMPO\"))))","v":"FUERA DE TIEMPO"},12,2,null,null,{"$f":"IFERROR(VLOOKUP(F2141,Hoja1!$A$50:$C$63,2),\"\")","v":5},{"$f":"IFERROR(VLOOKUP(F2141,Hoja1!$A$50:$C$63,3),\"\")","v":5}]
[2132,20259910042544,"2025-03-14","Persona jurídica","Virtual - Correo electrónico","Petición de interés general o particular","Sistema de información ambiental",null,"Subdirección de Estudios Ambientales","2025-04-01","Correo electrónico","2025-04-08",null,"",null,{"$f":"IFERROR(WORKDAY(N2142,Y2142,Hoja1!F2134:F2250),\"\")","v":""},{"$f":"+IF(N2142=\"\",\"\",IF(O2142=\"\",\"SIN RESPUESTA\",(IF(O2142<=P2142,\"A TIEMPO\",\"FUERA DE TIEMPO\"))))","v":""},null,"A TIEMPO",10,0,null,null,{"$f":"IFERROR(VLOOKUP(F2142,Hoja1!$A$50:$C$63,2),\"\")","v":15},{"$f":"IFERROR(VLOOKUP(F2142,Hoja1!$A$50:$C$63,3),\"\")","v":15}]
[2133,20259910042444,"2025-03-14","Persona jurídica","Virtual - Correo electrónico","Solicitud de documentos o información","Registros ambientales",null,"Subdirección de Estudios Ambientales","2025-03-31","Correo electrónico","2025-04-01",null,"",null,{"$f":"IFERROR(WORKDAY(N2143,Y2143,Hoja1!F2135:F2251),\"\")","v":""},{"$f":"+IF(N2143=\"\",\"\",IF(O2143=\"\",\"SIN RESPUESTA\",(IF(O2143<=P2143,\"A TIEMPO\",\"FUERA DE TIEMPO\"))))","v":""},null,"A TIEMPO",9,0,null,null,{"$f":"IFERROR(VLOOKUP(F2143,Hoja1!$A$50:$C$63,2),\"\")","v":5},{"$f":"IFERROR(VLOOKUP(F2143,Hoja1!$A$50:$C$63,3),\"\")","v":5}]
[2134,20259910042664,"2025-03-14","Persona jurídica","Virtual - Correo electrónico","Solicitud de documentos o información","Registros ambientales",null,"Subdirección de Estudios Ambientales","2025-04-01","Correo electrónico","2025-04-01",null,"",null,{"$f":"IFERROR(WORKDAY(N2144,Y2144,Hoja1!F2136:F2252),\"\")","v":""},{"$f":"+IF(N2144=\"\",\"\",IF(O2144=\"\",\"SIN RESPUESTA\",(IF(O2144<=P2144,\"A TIEMPO\",\"FUERA DE TIEMPO\"))))","v":""},null,"A TIEMPO",10,0,null,null,{"$f":"IFERROR(VLOOKUP(F2144,Hoja1!$A$50:$C$63,2),\"\")","v":5},{"$f":"IFERROR(VLOOKUP(F2144,Hoja1!$A$50:$C$63,3),\"\")","v":5}]
[2135,20259910042684,"2025-03-14","Persona jurídica","Virtual - Correo electrónico","Solicitud de documentos o información","Registros ambientales",null,"Subdirección de Estudios Ambientales","2025-03-25","Correo electrónico","2025-04-01",null,"",null,{"$f":"IFERROR(WORKDAY(N2145,Y2145,Hoja1!F2137:F2253),\"\")","v":""},{"$f":"+IF(N2145=\"\",\"\",IF(O2145=\"\",\"SIN RESPUESTA\",(IF(O2145<=P2145,\"A TIEMPO\",\"FUERA DE TIEMPO\"))))","v":""},null,"A TIEMPO",5,0,null,null,{"$f":"IFERROR(VLOOKUP(F2145,Hoja1!$A$50:$C$63,2),\"\")","v":5},{"$f":"IFERROR(VLOOKUP(F2145,Hoja1!$A$50:$C$63,3),\"\")","v":5}]
[2136,20259910042694,"2025-03-14","Persona natural","Virtual - Correo electrónico","Solicitud de documentos o información","Informes ambientales",null,"Subdirección de Meteorología","2025-04-01","Correo electrónico","2025-04-01","Si","2025-04-15","2025-04-01",{"$f":"IFERROR(WORKDAY(N2146,Y2146,Hoja1!F2138:F2254),\"\")","v":"2025-04-22"},{"$f":"+IF(N2146=\"\",\"\",IF(O2146=\"\",\"SIN RESPUESTA\",(IF(O2146<=P2146,\"A TIEMPO\",\"FUERA DE TIEMPO\"))))","v":"A TIEMPO"},null,"A TIEMPO",10,0,null,null,{"$f":"IFERROR(VLOOKUP(F2146,Hoja1!$A$50:$C$63,2),\"\")","v":5},{"$f":"IFERROR(VLOOKUP(F2146,Hoja1!$A$50:$C$63,3),\"\")","v":5}]
[2137,20259910042714,"2025-03-14","Persona jurídica","Virtual - Correo electrónico","Solicitud de documentos o información","Registros ambientales",null,"Subdirección de Estudios Ambientales","2025-03-31","Correo electrónico","2025-04-01",null,"",null,{"$f":"IFERROR(WORKDAY(N2147,Y2147,Hoja1!F2139:F2255),\"\")","v":""},{"$f":"+IF(N2147=\"\",\"\",IF(O2147=\"\",\"SIN RESPUESTA\",(IF(O2147<=P2147,\"A TIEMPO\",\"FUERA DE TIEMPO\"))))","v":""},null,"A TIEMPO",9,0,null,null,{"$f":"IFERROR(VLOOKUP(F2147,Hoja1!$A$50:$C$63,2),\"\")","v":5},{"$f":"IFERROR(VLOOKUP(F2147,Hoja1!$A$50:$C$63,3),\"\")","v":5}]
[2138,20259910042734,"2025-03-14","Persona natural","Virtual - Correo electrónico","Solicitud de documentos o información","Estudio nacional del agua",null,"Subdirección de Hidrología","2025-03-28","Correo electrónico","2025-04-01",null,"",null,{"$f":"IFERROR(WORKDAY(N2148,Y2148,Hoja1!F2140:F2256),\"\")","v":""},{"$f":"+IF(N2148=\"\",\"\",IF(O2148=\"\",\"SIN RESPUESTA\",(IF(O2148<=P2148,\"A TIEMPO\",\"FUERA DE TIEMPO\"))))","v":""},null,"A TIEMPO",8,0,null,null,{"$f":"IFERROR(VLOOKUP(F2148,Hoja1!$A$50:$C$63,2),\"\")","v":5},{"$f":"IFERROR(VLOOKUP(F2148,Hoja1!$A$50:$C$63,3),\"\")","v":5}]
[2139,20259910042774,"2025-03-14","Persona jurídica","Virtual - Correo electrónico","Petición de interés general o particular","Registros ambientales",null,"Subdirección de Estudios Ambientales","2025-04-01","Correo electrónico","2025-04-08",null,"",null,{"$f":"IFERROR(WORKDAY(N2149,Y2149,Hoja1!F2141:F2257),\"\")","v":""},{"$f":"+IF(N2149=\"\",\"\",IF(O2149=\"\",\"SIN RESPUESTA\",(IF(O2149<=P2149,\"A TIEMPO\",\"FUERA DE TIEMPO\"))))","v":""},null,"A TIEMPO",10,0,null,null,{"$f":"IFERROR(VLOOKUP(F2149,Hoja1!$A$50:$C$63,2),\"\")","v":15},{"$f":"IFERROR(VLOOKUP(F2149,Hoja1!$A$50:$C$63,3),\"\")","v":15}]
[2140,20259910042764,"2025-03-14","Persona jurídica","Virtual - Correo electrónico","Consulta (Información técnica)","Informes ambientales",null,"Subdirección de Ecosistemas e Información Ambiental",null,null,"2025-05-02","Si","2025-06-16",null,{"$f":"IFERROR(WORKDAY(N2150,Y2150,Hoja1!F2142:F2258),\"\")","v":"2025-07-28"},{"$f":"+IF(N2150=\"\",\"\",IF(O2150=\"\",\"SIN RESPUESTA\",(IF(O2150<=P2150,\"A TIEMPO\",\"FUERA DE TIEMPO\"))))","v":"SIN RESPUESTA"},null,{"$f":"+IF(C2150=\"\",\"\",IF(J2150=\"\",\"SIN RESPUESTA\",(IF(J2150<=L2150,\"A TIEMPO\",\"FUERA DE TIEMPO\"))))","v":"SIN RESPUESTA"},0,0,null,null,{"$f":"IFERROR(VLOOKUP(F2150,Hoja1!$A$50:$C$63,2),\"\")","v":30},{"$f":"IFERROR(VLOOKUP(F2150,Hoja1!$A$50:$C$63,3),\"\")","v":30}]
[2141,20259050042914,"2025-03-14","Persona natural","Virtual - Formulario PQRSDF","Solicitud de documentos o información","Sistema de información del recurso hídrico",null,"Subdirección de Hidrología","2025-03-20","Correo electrónico","2025-04-01",null,"",null,{"$f":"IFERROR(WORKDAY(N2151,Y2151,Hoja1!F2143:F2259),\"\")","v":""},{"$f":"+IF(N2151=\"\",\"\",IF(O2151=\"\",\"SIN RESPUESTA\",(IF(O2151<=P2151,\"A TIEMPO\",\"FUERA DE TIEMPO\"))))","v":""},null,"A TIEMPO",3,0,null,null,{"$f":"IFERROR(VLOOKUP(F2151,Hoja1!$A$50:$C$63,2),\"\")","v":5},{"$f":"IFERROR(VLOOKUP(F2151,Hoja1!$A$50:$C$63,3),\"\")","v":5}]
[2142,20259050042934,"2025-03-14","Persona jurídica","Virtual - Formulario PQRSDF","Consulta (Información técnica)","Sistema de información ambiental",null,"Subdirección de Estudios Ambientales","2025-04-29","Correo electrónico","2025-05-02",null,"",null,{"$f":"IFERROR(WORKDAY(N2152,Y2152,Hoja1!F2144:F2260),\"\")","v":""},{"$f":"+IF(N2152=\"\",\"\",IF(O2152=\"\",\"SIN RESPUESTA\",(IF(O2152<=P2152,\"A TIEMPO\",\"FUERA DE TIEMPO\"))))","v":""},null,"A TIEMPO",28,0,null,null,{"$f":"IFERROR(VLOOKUP(F2152,Hoja1!$A$50:$C$63,2),\"\")","v":30},{"$f":"IFERROR(VLOOKUP(F2152,Hoja1!$A$50:$C$63,3),\"\")","v":30}]
[2143,20259050042994,"2025-03-14","Persona natural","Virtual - Formulario PQRSDF","Solicitud de documentos o información","Solicitud de información hidrometeorológica",null,"Grupo de Servicio al Ciudadano","2025-03-31","Correo electrónico","2025-04-01",null,"",null,{"$f":"IFERROR(WORKDAY(N2153,Y2153,Hoja1!F2145:F2261),\"\")","v":""},{"$f":"+IF(N2153=\"\",\"\",IF(O2153=\"\",\"SIN RESPUESTA\",(IF(O2153<=P2153,\"A TIEMPO\",\"FUERA DE TIEMPO\"))))","v":""},null,"A TIEMPO",9,0,null,null,{"$f":"IFERROR(VLOOKUP(F2153,Hoja1!$A$50:$C$63,2),\"\")","v":5},{"$f":"IFERROR(VLOOKUP(F2153,Hoja1!$A$50:$C$63,3),\"\")","v":5}]
[2144,20259050043274,"2025-03-16","Persona jurídica","Virtual - Formulario PQRSDF","Solicitud de documentos o información","Solicitud de información hidrometeorológica",null,"Subdirección de Hidrología","2025-03-28","Correo electrónico","2025-04-01",null,"",null,{"$f":"IFERROR(WORKDAY(N2154,Y2154,Hoja1!F2146:F2262),\"\")","v":""},{"$f":"+IF(N2154=\"\",\"\",IF(O2154=\"\",\"SIN RESPUESTA\",(IF(O2154<=P2154,\"A TIEMPO\",\"FUERA DE TIEMPO\"))))","v":""},null,"A TIEMPO",7,0,null,null,{"$f":"IFERROR(VLOOKUP(F2154,Hoja1!$A$50:$C$63,2),\"\")","v":5},{"$f":"IFERROR(VLOOKUP(F2154,Hoja1!$A$50:$C$63,3),\"\")","v":5}]
[2145,20259910042904,"2025-03-14","Persona natural","Virtual - Correo electrónico","Certificación laboral o pasantía","Administrativa",null,"Grupo de Administración y Desarrollo del Talento Humano","2025-04-04","Correo electrónico","2025-04-01",null,"",null,{"$f":"IFERROR(WORKDAY(N2155,Y2155,Hoja1!F2147:F2263),\"\")","v":""},{"$f":"+IF(N2155=\"\",\"\",IF(O2155=\"\",\"SIN RESPUESTA\",(IF(O2155<=P2155,\"A TIEMPO\",\"FUERA DE TIEMPO\"))))","v":""},null,{"$f":"+IF(C2155=\"\",\"\",IF(J2155=\"\",\"SIN RESPUESTA\",(IF(J2155<=L2155,\"A TIEMPO\",\"FUERA DE TIEMPO\"))))","v":"FUERA DE TIEMPO"},13,3,null,null,{"$f":"IFERROR(VLOOKUP(F2155,Hoja1!$A$50:$C$63,2),\"\")","v":15},{"$f":"IFERROR(VLOOKUP(F2155,Hoja1!$A$50:$C$63,3),\"\")","v":15}]
[2146,20259910042814,"2025-03-14","Persona jurídica","Virtual - Correo electrónico","Solicitud de documentos o información","Registros ambientales",null,"Subdirección de Estudios Ambientales","2025-04-01","Correo electrónico","2025-04-01",null,"",null,{"$f":"IFERROR(WORKDAY(N2156,Y2156,Hoja1!F2148:F2264),\"\")","v":""},{"$f":"+IF(N2156=\"\",\"\",IF(O2156=\"\",\"SIN RESPUESTA\",(IF(O2156<=P2156,\"A TIEMPO\",\"FUERA DE TIEMPO\"))))","v":""},null,"A TIEMPO",10,0,null,null,{"$f":"IFERROR(VLOOKUP(F2156,Hoja1!$A$50:$C$63,2),\"\")","v":5},{"$f":"IFERROR(VLOOKUP(F2156,Hoja1!$A$50:$C$63,3),\"\")","v":5}]
[2147,20259910042824,"2025-03-14","Persona jurídica","Virtual - Correo electrónico","Solicitud de documentos o información","Registros ambientales",null,"Subdirección de Estudios Ambientales","2025-04-01","Correo electrónico","2025-04-01",null,"",null,{"$f":"IFERROR(WORKDAY(N2157,Y2157,Hoja1!F2149:F2265),\"\")","v":""},{"$f":"+IF(N2157=\"\",\"\",IF(O2157=\"\",\"SIN RESPUESTA\",(IF(O2157<=P2157,\"A TIEMPO\",\"FUERA DE TIEMPO\"))))","v":""},null,"A TIEMPO",10,0,null,null,{"$f":"IFERROR(VLOOKUP(F2157,Hoja1!$A$50:$C$63,2),\"\")","v":5},{"$f":"IFERROR(VLOOKUP(F2157,Hoja1!$A$50:$C$63,3),\"\")","v":5}]
[2148,20259910042894,"2025-03-14","Persona jurídica","Virtual - Correo electrónico","Solicitud de documentos o información","Registros ambientales",null,"Subdirección de Estudios Ambientales","2025-04-01","Correo electrónico","2025-04-01",null,"",null,{"$f":"IFERROR(WORKDAY(N2158,Y2158,Hoja1!F2150:F2266),\"\")","v":""},{"$f":"+IF(N2158=\"\",\"\",IF(O2158=\"\",\"SIN RESPUESTA\",(IF(O2158<=P2158,\"A TIEMPO\",\"FUERA DE TIEMPO\"))))","v":""},null,"A TIEMPO",10,0,null,null,{"$f":"IFERROR(VLOOKUP(F2158,Hoja1!$A$50:$C$63,2),\"\")","v":5},{"$f":"IFERROR(VLOOKUP(F2158,Hoja1!$A$50:$C$63,3),\"\")","v":5}]
[2149,20259910042884,"2025-03-14","Persona jurídica","Virtual - Correo electrónico","Certificación de tiempo, clima y eventos hidrológicos","Certificaciones del tiempo y clima",null,"Subdirección de Meteorología","2025-03-28","Correo electrónico","2025-05-02",null,"",null,{"$f":"IFERROR(WORKDAY(N2159,Y2159,Hoja1!F2151:F2267),\"\")","v":""},{"$f":"+IF(N2159=\"\",\"\",IF(O2159=\"\",\"SIN RESPUESTA\",(IF(O2159<=P2159,\"A TIEMPO\",\"FUERA DE TIEMPO\"))))","v":""},null,"A TIEMPO",8,0,null,null,{"$f":"IFERROR(VLOOKUP(F2159,Hoja1!$A$50:$C$63,2),\"\")","v":15},{"$f":"IFERROR(VLOOKUP(F2159,Hoja1!$A$50:$C$63,3),\"\")","v":15}]
[2150,20259910042844,"2025-03-14","Persona jurídica","Virtual - Correo electrónico","Petición entre autoridades","Solicitud de información hidrometeorológica",null,"Subdirección de Meteorología","2025-03-27","Correo electrónico","2025-04-01",null,"",null,{"$f":"IFERROR(WORKDAY(N2160,Y2160,Hoja1!F2152:F2268),\"\")","v":""},{"$f":"+IF(N2160=\"\",\"\",IF(O2160=\"\",\"SIN RESPUESTA\",(IF(O2160<=P2160,\"A TIEMPO\",\"FUERA DE TIEMPO\"))))","v":""},null,"A TIEMPO",7,0,null,null,{"$f":"IFERROR(VLOOKUP(F2160,Hoja1!$A$50:$C$63,2),\"\")","v":10},{"$f":"IFERROR(VLOOKUP(F2160,Hoja1!$A$50:$C$63,3),\"\")","v":10}]
[2151,20259910042864,"2025-03-14","Persona jurídica","Virtual - Correo electrónico","Solicitud de documentos o información","Administrativa",null,"Dirección General","2025-04-15","No aplica","2025-04-01",null,"",null,{"$f":"IFERROR(WORKDAY(N2161,Y2161,Hoja1!F2153:F2269),\"\")","v":""},{"$f":"+IF(N2161=\"\",\"\",IF(O2161=\"\",\"SIN RESPUESTA\",(IF(O2161<=P2161,\"A TIEMPO\",\"FUERA DE TIEMPO\"))))","v":""},null,{"$f":"+IF(C2161=\"\",\"\",IF(J2161=\"\",\"SIN RESPUESTA\",(IF(J2161<=L2161,\"A TIEMPO\",\"FUERA DE TIEMPO\"))))","v":"FUERA DE TIEMPO"},20,10,null,null,{"$f":"IFERROR(VLOOKUP(F2161,Hoja1!$A$50:$C$63,2),\"\")","v":5},{"$f":"IFERROR(VLOOKUP(F2161,Hoja1!$A$50:$C$63,3),\"\")","v":5}]
[2152,20259910042874,"2025-03-14","Persona jurídica","Virtual - Correo electrónico","Solicitud de documentos o información","Administrativa",null,"Dirección General","2025-03-15","No aplica","2025-04-01",null,"",null,{"$f":"IFERROR(WORKDAY(N2162,Y2162,Hoja1!F2154:F2270),\"\")","v":""},{"$f":"+IF(N2162=\"\",\"\",IF(O2162=\"\",\"SIN RESPUESTA\",(IF(O2162<=P2162,\"A TIEMPO\",\"FUERA DE TIEMPO\"))))","v":""},null,"A TIEMPO",0,0,null,null,{"$f":"IFERROR(VLOOKUP(F2162,Hoja1!$A$50:$C$63,2),\"\")","v":5},{"$f":"IFERROR(VLOOKUP(F2162,Hoja1!$A$50:$C$63,3),\"\")","v":5}]
[2153,20259050043164,"2025-03-15","Persona natural","Virtual - Formulario PQRSDF","Consulta (Información técnica)","Administrativa",null,"Subdirección de Hidrología","2025-04-25","Correo certificado","2025-05-02",null,"",null,{"$f":"IFERROR(WORKDAY(N2163,Y2163,Hoja1!F2155:F2271),\"\")","v":""},{"$f":"+IF(N2163=\"\",\"\",IF(O2163=\"\",\"SIN RESPUESTA\",(IF(O2163<=P2163,\"A TIEMPO\",\"FUERA DE TIEMPO\"))))","v":""},null,"A TIEMPO",25,0,null,null,{"$f":"IFERROR(VLOOKUP(F2163,Hoja1!$A$50:$C$63,2),\"\")","v":30},{"$f":"IFERROR(VLOOKUP(F2163,Hoja1!$A$50:$C$63,3),\"\")","v":30}]
[2154,20259050043174,"2025-03-15","Persona natural","Virtual - Formulario PQRSDF","Solicitud de documentos o información","Sistema de información ambiental",null,"Subdirección de Estudios Ambientales","2025-05-06","Correo electrónico","2025-04-01",null,"",null,{"$f":"IFERROR(WORKDAY(N2164,Y2164,Hoja1!F2156:F2272),\"\")","v":""},{"$f":"+IF(N2164=\"\",\"\",IF(O2164=\"\",\"SIN RESPUESTA\",(IF(O2164<=P2164,\"A TIEMPO\",\"FUERA DE TIEMPO\"))))","v":""},null,{"$f":"+IF(C2164=\"\",\"\",IF(J2164=\"\",\"SIN RESPUESTA\",(IF(J2164<=L2164,\"A TIEMPO\",\"FUERA DE TIEMPO\"))))","v":"FUERA DE TIEMPO"},31,22,null,null,{"$f":"IFERROR(VLOOKUP(F2164,Hoja1!$A$50:$C$63,2),\"\")","v":5},{"$f":"IFERROR(VLOOKUP(F2164,Hoja1!$A$50:$C$63,3),\"\")","v":5}]
[2155,20259260043344,"2025-03-17","Persona natural","Virtual - Correo electrónico","Solicitud de documentos o información","Visitas académicas",null,"Área Operativa No. 6 - Duitama","2025-03-21","Correo electrónico","2025-04-02",null,"",null,{"$f":"IFERROR(WORKDAY(N2165,Y2165,Hoja1!F2157:F2273),\"\")","v":""},{"$f":"+IF(N2165=\"\",\"\",IF(O2165=\"\",\"SIN RESPUESTA\",(IF(O2165<=P2165,\"A TIEMPO\",\"FUERA DE TIEMPO\"))))","v":""},null,"A TIEMPO",3,0,null,null,{"$f":"IFERROR(VLOOKUP(F2165,Hoja1!$A$50:$C$63,2),\"\")","v":5},{"$f":"IFERROR(VLOOKUP(F2165,Hoja1!$A$50:$C$63,3),\"\")","v":5}]
[2156,20259910043334,"2025-03-17","Persona jurídica","Virtual - Correo electrónico","Solicitud de documentos o información","Solicitud de información hidrometeorológica",null,"Oficina del Servicio de Pronósticos y Alertas","2025-03-31","Correo electrónico","2025-04-02",null,"",null,{"$f":"IFERROR(WORKDAY(N2166,Y2166,Hoja1!F2158:F2274),\"\")","v":""},{"$f":"+IF(N2166=\"\",\"\",IF(O2166=\"\",\"SIN RESPUESTA\",(IF(O2166<=P2166,\"A TIEMPO\",\"FUERA DE TIEMPO\"))))","v":""},null,"A TIEMPO",8,0,null,null,{"$f":"IFERROR(VLOOKUP(F2166,Hoja1!$A$50:$C$63,2),\"\")","v":5},{"$f":"IFERROR(VLOOKUP(F2166,Hoja1!$A$50:$C$63,3),\"\")","v":5}]
[2157,20259910043354,"2025-03-17","Persona jurídica","Virtual - Correo electrónico","Solicitud de documentos o información","Registros ambientales",null,"Subdirección de Estudios Ambientales","2025-04-01","Correo electrónico","2025-04-02",null,"",null,{"$f":"IFERROR(WORKDAY(N2167,Y2167,Hoja1!F2159:F2275),\"\")","v":""},{"$f":"+IF(N2167=\"\",\"\",IF(O2167=\"\",\"SIN RESPUESTA\",(IF(O2167<=P2167,\"A TIEMPO\",\"FUERA DE TIEMPO\"))))","v":""},null,"A TIEMPO",9,0,null,null,{"$f":"IFERROR(VLOOKUP(F2167,Hoja1!$A$50:$C$63,2),\"\")","v":5},{"$f":"IFERROR(VLOOKUP(F2167,Hoja1!$A$50:$C$63,3),\"\")","v":5}]
[2158,20259910043364,"2025-03-17","Persona jurídica","Virtual - Correo electrónico","Solicitud de documentos o información","Registros ambientales",null,"Subdirección de Estudios Ambientales","2025-04-01","Correo electrónico","2025-04-02",null,"",null,{"$f":"IFERROR(WORKDAY(N2168,Y2168,Hoja1!F2160:F2276),\"\")","v":""},{"$f":"+IF(N2168=\"\",\"\",IF(O2168=\"\",\"SIN RESPUESTA\",(IF(O2168<=P2168,\"A TIEMPO\",\"FUERA DE TIEMPO\"))))","v":""},null,"A TIEMPO",9,0,null,null,{"$f":"IFERROR(VLOOKUP(F2168,Hoja1!$A$50:$C$63,2),\"\")","v":5},{"$f":"IFERROR(VLOOKUP(F2168,Hoja1!$A$50:$C$63,3),\"\")","v":5}]
[2159,20259910043374,"2025-03-17","Persona jurídica","Virtual - Correo electrónico","Solicitud de documentos o información","Registros ambientales",null,"Subdirección de Estudios Ambientales","2025-04-01","Correo electrónico","2025-04-02",null,"",null,{"$f":"IFERROR(WORKDAY(N2169,Y2169,Hoja1!F2161:F2277),\"\")","v":""},{"$f":"+IF(N2169=\"\",\"\",IF(O2169=\"\",\"SIN RESPUESTA\",(IF(O2169<=P2169,\"A TIEMPO\",\"FUERA DE TIEMPO\"))))","v":""},null,"A TIEMPO",9,0,null,null,{"$f":"IFERROR(VLOOKUP(F2169,Hoja1!$A$50:$C$63,2),\"\")","v":5},{"$f":"IFERROR(VLOOKUP(F2169,Hoja1!$A$50:$C$63,3),\"\")","v":5}]
[2160,20259910043384,"2025-03-17","Persona jurídica","Virtual - Correo electrónico","Solicitud de documentos o información","Registros ambientales",null,"Subdirección de Estudios Ambientales","2025-04-01","Correo electrónico","2025-04-02",null,"",null,{"$f":"IFERROR(WORKDAY(N2170,Y2170,Hoja1!F2162:F2278),\"\")","v":""},{"$f":"+IF(N2170=\"\",\"\",IF(O2170=\"\",\"SIN RESPUESTA\",(IF(O2170<=P2170,\"A TIEMPO\",\"FUERA DE TIEMPO\"))))","v":""},null,"A TIEMPO",9,0,null,null,{"$f":"IFERROR(VLOOKUP(F2170,Hoja1!$A$50:$C$63,2),\"\")","v":5},{"$f":"IFERROR(VLOOKUP(F2170,Hoja1!$A$50:$C$63,3),\"\")","v":5}]
[2161,20259910043414,"2025-03-17","Persona jurídica","Virtual - Correo electrónico","Solicitud de documentos o información","Registros ambientales",null,"Subdirección de Estudios Ambientales","2025-03-31","Correo electrónico","2025-04-02",null,"",null,{"$f":"IFERROR(WORKDAY(N2171,Y2171,Hoja1!F2163:F2279),\"\")","v":""},{"$f":"+IF(N2171=\"\",\"\",IF(O2171=\"\",\"SIN RESPUESTA\",(IF(O2171<=P2171,\"A TIEMPO\",\"FUERA DE TIEMPO\"))))","v":""},null,"A TIEMPO",8,0,null,null,{"$f":"IFERROR(VLOOKUP(F2171,Hoja1!$A$50:$C$63,2),\"\")","v":5},{"$f":"IFERROR(VLOOKUP(F2171,Hoja1!$A$50:$C$63,3),\"\")","v":5}]
[2162,20259910043394,"2025-03-17","Persona jurídica","Virtual - Correo electrónico","Solicitud de documentos o información","Registros ambientales",null,"Subdirección de Estudios Ambientales","2025-04-01","Correo electrónico","2025-04-02",null,"",null,{"$f":"IFERROR(WORKDAY(N2172,Y2172,Hoja1!F2164:F2280),\"\")","v":""},{"$f":"+IF(N2172=\"\",\"\",IF(O2172=\"\",\"SIN RESPUESTA\",(IF(O2172<=P2172,\"A TIEMPO\",\"FUERA DE TIEMPO\"))))","v":""},null,"A TIEMPO",9,0,null,null,{"$f":"IFERROR(VLOOKUP(F2172,Hoja1!$A$50:$C$63,2),\"\")","v":5},{"$f":"IFERROR(VLOOKUP(F2172,Hoja1!$A$50:$C$63,3),\"\")","v":5}]
[2163,20259910043444,"2025-03-17","Persona jurídica","Virtual - Correo electrónico","Solicitud de documentos o información","Registros ambientales",null,"Subdirección de Estudios Ambientales","2025-04-01","Correo electrónico","2025-04-02",null,"",null,{"$f":"IFERROR(WORKDAY(N2173,Y2173,Hoja1!F2165:F2281),\"\")","v":""},{"$f":"+IF(N2173=\"\",\"\",IF(O2173=\"\",\"SIN RESPUESTA\",(IF(O2173<=P2173,\"A TIEMPO\",\"FUERA DE TIEMPO\"))))","v":""},null,"A TIEMPO",9,0,null,null,{"$f":"IFERROR(VLOOKUP(F2173,Hoja1!$A$50:$C$63,2),\"\")","v":5},{"$f":"IFERROR(VLOOKUP(F2173,Hoja1!$A$50:$C$63,3),\"\")","v":5}]
[2164,20259910043424,"2025-03-17","Persona jurídica","Virtual - Correo electrónico","Solicitud de documentos o información","Solicitud de información hidrometeorológica",null,"Grupo de Servicio al Ciudadano","2025-03-28","Correo electrónico","2025-04-02",null,"",null,{"$f":"IFERROR(WORKDAY(N2174,Y2174,Hoja1!F2166:F2282),\"\")","v":""},{"$f":"+IF(N2174=\"\",\"\",IF(O2174=\"\",\"SIN RESPUESTA\",(IF(O2174<=P2174,\"A TIEMPO\",\"FUERA DE TIEMPO\"))))","v":""},null,"A TIEMPO",7,0,null,null,{"$f":"IFERROR(VLOOKUP(F2174,Hoja1!$A$50:$C$63,2),\"\")","v":5},{"$f":"IFERROR(VLOOKUP(F2174,Hoja1!$A$50:$C$63,3),\"\")","v":5}]
[2165,20259910043484,"2025-03-17","Persona jurídica","Virtual - Correo electrónico","Solicitud de documentos o información","Registros ambientales",null,"Subdirección de Estudios Ambientales","2025-04-01","Correo electrónico","2025-04-02",null,"",null,{"$f":"IFERROR(WORKDAY(N2175,Y2175,Hoja1!F2167:F2283),\"\")","v":""},{"$f":"+IF(N2175=\"\",\"\",IF(O2175=\"\",\"SIN RESPUESTA\",(IF(O2175<=P2175,\"A TIEMPO\",\"FUERA DE TIEMPO\"))))","v":""},null,"A TIEMPO",9,0,null,null,{"$f":"IFERROR(VLOOKUP(F2175,Hoja1!$A$50:$C$63,2),\"\")","v":5},{"$f":"IFERROR(VLOOKUP(F2175,Hoja1!$A$50:$C$63,3),\"\")","v":5}]
[2166,20259910043574,"2025-03-17","Persona natural","Virtual - Correo electrónico","Certificación laboral o pasantía","Administrativa",null,"Grupo de Administración y Desarrollo del Talento Humano","2025-03-25","Correo electrónico","2025-04-02",null,"",null,{"$f":"IFERROR(WORKDAY(N2176,Y2176,Hoja1!F2168:F2284),\"\")","v":""},{"$f":"+IF(N2176=\"\",\"\",IF(O2176=\"\",\"SIN RESPUESTA\",(IF(O2176<=P2176,\"A TIEMPO\",\"FUERA DE TIEMPO\"))))","v":""},null,"A TIEMPO",4,0,null,null,{"$f":"IFERROR(VLOOKUP(F2176,Hoja1!$A$50:$C$63,2),\"\")","v":15},{"$f":"IFERROR(VLOOKUP(F2176,Hoja1!$A$50:$C$63,3),\"\")","v":15}]
[2167,20259910043474,"2025-03-17","Persona jurídica","Virtual - Correo electrónico","Solicitud de documentos o información","Registros ambientales",null,"Subdirección de Estudios Ambientales","2025-04-01","Correo electrónico","2025-04-02",null,"",null,{"$f":"IFERROR(WORKDAY(N2177,Y2177,Hoja1!F2169:F2285),\"\")","v":""},{"$f":"+IF(N2177=\"\",\"\",IF(O2177=\"\",\"SIN RESPUESTA\",(IF(O2177<=P2177,\"A TIEMPO\",\"FUERA DE TIEMPO\"))))","v":""},null,"A TIEMPO",9,0,null,null,{"$f":"IFERROR(VLOOKUP(F2177,Hoja1!$A$50:$C$63,2),\"\")","v":5},{"$f":"IFERROR(VLOOKUP(F2177,Hoja1!$A$50:$C$63,3),\"\")","v":5}]
[2168,20259910043544,"2025-03-17","Persona jurídica","Virtual - Correo electrónico","Solicitud de documentos o información","Acreditación de laboratorios",null,"Subdirección de Estudios Ambientales","2025-03-20","Correo electrónico","2025-04-02",null,"",null,{"$f":"IFERROR(WORKDAY(N2178,Y2178,Hoja1!F2170:F2286),\"\")","v":""},{"$f":"+IF(N2178=\"\",\"\",IF(O2178=\"\",\"SIN RESPUESTA\",(IF(O2178<=P2178,\"A TIEMPO\",\"FUERA DE TIEMPO\"))))","v":""},null,"A TIEMPO",2,0,null,null,{"$f":"IFERROR(VLOOKUP(F2178,Hoja1!$A$50:$C$63,2),\"\")","v":5},{"$f":"IFERROR(VLOOKUP(F2178,Hoja1!$A$50:$C$63,3),\"\")","v":5}]
[2169,20259910043654,"2025-03-17","Persona jurídica","Virtual - Correo electrónico","Solicitud de documentos o información","Registros ambientales",null,"Subdirección de Estudios Ambientales","2025-04-04","Correo electrónico","2025-04-02",null,"",null,{"$f":"IFERROR(WORKDAY(N2179,Y2179,Hoja1!F2171:F2287),\"\")","v":""},{"$f":"+IF(N2179=\"\",\"\",IF(O2179=\"\",\"SIN RESPUESTA\",(IF(O2179<=P2179,\"A TIEMPO\",\"FUERA DE TIEMPO\"))))","v":""},null,{"$f":"+IF(C2179=\"\",\"\",IF(J2179=\"\",\"SIN RESPUESTA\",(IF(J2179<=L2179,\"A TIEMPO\",\"FUERA DE TIEMPO\"))))","v":"FUERA DE TIEMPO"},12,2,null,null,{"$f":"IFERROR(VLOOKUP(F2179,Hoja1!$A$50:$C$63,2),\"\")","v":5},{"$f":"IFERROR(VLOOKUP(F2179,Hoja1!$A$50:$C$63,3),\"\")","v":5}]
[2170,20259910043454,"2025-03-17","Persona jurídica","Virtual - Correo electrónico","Solicitud de documentos o información","Registros ambientales",null,"Subdirección de Estudios Ambientales","2025-04-01","Correo electrónico","2025-04-02",null,"",null,{"$f":"IFERROR(WORKDAY(N2180,Y2180,Hoja1!F2172:F2288),\"\")","v":""},{"$f":"+IF(N2180=\"\",\"\",IF(O2180=\"\",\"SIN RESPUESTA\",(IF(O2180<=P2180,\"A TIEMPO\",\"FUERA DE TIEMPO\"))))","v":""},null,"A TIEMPO",9,0,null,null,{"$f":"IFERROR(VLOOKUP(F2180,Hoja1!$A$50:$C$63,2),\"\")","v":5},{"$f":"IFERROR(VLOOKUP(F2180,Hoja1!$A$50:$C$63,3),\"\")","v":5}]
[2171,20259910043464,"2025-03-17","Persona jurídica","Virtual - Correo electrónico","Solicitud de documentos o información","Registros ambientales",null,"Subdirección de Estudios Ambientales","2025-04-11","Correo electrónico","2025-04-02",null,"",null,{"$f":"IFERROR(WORKDAY(N2181,Y2181,Hoja1!F2173:F2289),\"\")","v":""},{"$f":"+IF(N2181=\"\",\"\",IF(O2181=\"\",\"SIN RESPUESTA\",(IF(O2181<=P2181,\"A TIEMPO\",\"FUERA DE TIEMPO\"))))","v":""},null,{"$f":"+IF(C2181=\"\",\"\",IF(J2181=\"\",\"SIN RESPUESTA\",(IF(J2181<=L2181,\"A TIEMPO\",\"FUERA DE TIEMPO\"))))","v":"FUERA DE TIEMPO"},17,7,null,null,{"$f":"IFERROR(VLOOKUP(F2181,Hoja1!$A$50:$C$63,2),\"\")","v":5},{"$f":"IFERROR(VLOOKUP(F2181,Hoja1!$A$50:$C$63,3),\"\")","v":5}]
[2172,20259910043494,"2025-03-17","Persona jurídica","Virtual - Correo electrónico","Solicitud de documentos o información","Registros ambientales",null,"Subdirección de Estudios Ambientales","2025-03-19","Correo electrónico","2025-04-02",null,"",null,{"$f":"IFERROR(WORKDAY(N2182,Y2182,Hoja1!F2174:F2290),\"\")","v":""},{"$f":"+IF(N2182=\"\",\"\",IF(O2182=\"\",\"SIN RESPUESTA\",(IF(O2182<=P2182,\"A TIEMPO\",\"FUERA DE TIEMPO\"))))","v":""},null,"A TIEMPO",1,0,null,null,{"$f":"IFERROR(VLOOKUP(F2182,Hoja1!$A$50:$C$63,2),\"\")","v":5},{"$f":"IFERROR(VLOOKUP(F2182,Hoja1!$A$50:$C$63,3),\"\")","v":5}]
[2173,20259910043594,"2025-03-17","Persona jurídica","Virtual - Correo electrónico","Solicitud de documentos o información","Registros ambientales",null,"Subdirección de Estudios Ambientales","2025-04-01","Correo electrónico","2025-04-02",null,"",null,{"$f":"IFERROR(WORKDAY(N2183,Y2183,Hoja1!F2175:F2291),\"\")","v":""},{"$f":"+IF(N2183=\"\",\"\",IF(O2183=\"\",\"SIN RESPUESTA\",(IF(O2183<=P2183,\"A TIEMPO\",\"FUERA DE TIEMPO\"))))","v":""},null,"A TIEMPO",9,0,null,null,{"$f":"IFERROR(VLOOKUP(F2183,Hoja1!$A$50:$C$63,2),\"\")","v":5},{"$f":"IFERROR(VLOOKUP(F2183,Hoja1!$A$50:$C$63,3),\"\")","v":5}]
[2174,20259910043584,"2025-03-17","Persona jurídica","Virtual - Correo electrónico","Petición entre autoridades","Bosques",null,"Subdirección de Ecosistemas e Información Ambiental","2025-03-20","Correo electrónico","2025-04-02",null,"",null,{"$f":"IFERROR(WORKDAY(N2184,Y2184,Hoja1!F2176:F2292),\"\")","v":""},{"$f":"+IF(N2184=\"\",\"\",IF(O2184=\"\",\"SIN RESPUESTA\",(IF(O2184<=P2184,\"A TIEMPO\",\"FUERA DE TIEMPO\"))))","v":""},null,"A TIEMPO",2,0,null,null,{"$f":"IFERROR(VLOOKUP(F2184,Hoja1!$A$50:$C$63,2),\"\")","v":10},{"$f":"IFERROR(VLOOKUP(F2184,Hoja1!$A$50:$C$63,3),\"\")","v":10}]
[2175,20259910043524,"2025-03-17","Persona jurídica","Virtual - Correo electrónico","Solicitud de documentos o información","Registros ambientales",null,"Subdirección de Estudios Ambientales","2025-03-25","Correo electrónico","2025-04-02",null,"",null,{"$f":"IFERROR(WORKDAY(N2185,Y2185,Hoja1!F2177:F2293),\"\")","v":""},{"$f":"+IF(N2185=\"\",\"\",IF(O2185=\"\",\"SIN RESPUESTA\",(IF(O2185<=P2185,\"A TIEMPO\",\"FUERA DE TIEMPO\"))))","v":""},null,"A TIEMPO",4,0,null,null,{"$f":"IFERROR(VLOOKUP(F2185,Hoja1!$A$50:$C$63,2),\"\")","v":5},{"$f":"IFERROR(VLOOKUP(F2185,Hoja1!$A$50:$C$63,3),\"\")","v":5}]
[2176,20259910043604,"2025-03-17","Persona jurídica","Virtual - Correo electrónico","Solicitud de documentos o información","Registros ambientales",null,"Subdirección de Estudios Ambientales","2025-04-02","Correo electrónico","2025-04-02",null,"",null,{"$f":"IFERROR(WORKDAY(N2186,Y2186,Hoja1!F2178:F2294),\"\")","v":""},{"$f":"+IF(N2186=\"\",\"\",IF(O2186=\"\",\"SIN RESPUESTA\",(IF(O2186<=P2186,\"A TIEMPO\",\"FUERA DE TIEMPO\"))))","v":""},null,"A TIEMPO",10,0,null,null,{"$f":"IFERROR(VLOOKUP(F2186,Hoja1!$A$50:$C$63,2),\"\")","v":5},{"$f":"IFERROR(VLOOKUP(F2186,Hoja1!$A$50:$C$63,3),\"\")","v":5}]
[2177,20259910043624,"2025-03-17","Persona jurídica","Virtual - Correo electrónico","Solicitud de documentos o información","Registros ambientales",null,"Subdirección de Estudios Ambientales","2025-04-02","Correo electrónico","2025-04-02",null,"",null,{"$f":"IFERROR(WORKDAY(N2187,Y2187,Hoja1!F2179:F2295),\"\")","v":""},{"$f":"+IF(N2187=\"\",\"\",IF(O2187=\"\",\"SIN RESPUESTA\",(IF(O2187<=P2187,\"A TIEMPO\",\"FUERA DE TIEMPO\"))))","v":""},null,"A TIEMPO",10,0,null,null,{"$f":"IFERROR(VLOOKUP(F2187,Hoja1!$A$50:$C$63,2),\"\")","v":5},{"$f":"IFERROR(VLOOKUP(F2187,Hoja1!$A$50:$C$63,3),\"\")","v":5}]
[2178,20259910043664,"2025-03-17","Persona jurídica","Virtual - Correo electrónico","Solicitud de documentos o información","Registros ambientales",null,"Subdirección de Estudios Ambientales","2025-04-02","Correo electrónico","2025-04-02",null,"",null,{"$f":"IFERROR(WORKDAY(N2188,Y2188,Hoja1!F2180:F2296),\"\")","v":""},{"$f":"+IF(N2188=\"\",\"\",IF(O2188=\"\",\"SIN RESPUESTA\",(IF(O2188<=P2188,\"A TIEMPO\",\"FUERA DE TIEMPO\"))))","v":""},null,"A TIEMPO",10,0,null,null,{"$f":"IFERROR(VLOOKUP(F2188,Hoja1!$A$50:$C$63,2),\"\")","v":5},{"$f":"IFERROR(VLOOKUP(F2188,Hoja1!$A$50:$C$63,3),\"\")","v":5}]
[2179,20259910043684,"2025-03-17","Persona natural","Virtual - Correo electrónico","Solicitud de documentos o información","Solicitud de información hidrometeorológica",null,"Grupo de Servicio al Ciudadano","2025-03-30","Correo electrónico","2025-04-02",null,"",null,{"$f":"IFERROR(WORKDAY(N2189,Y2189,Hoja1!F2181:F2297),\"\")","v":""},{"$f":"+IF(N2189=\"\",\"\",IF(O2189=\"\",\"SIN RESPUESTA\",(IF(O2189<=P2189,\"A TIEMPO\",\"FUERA DE TIEMPO\"))))","v":""},null,"A TIEMPO",7,0,null,null,{"$f":"IFERROR(VLOOKUP(F2189,Hoja1!$A$50:$C$63,2),\"\")","v":5},{"$f":"IFERROR(VLOOKUP(F2189,Hoja1!$A$50:$C$63,3),\"\")","v":5}]
[2180,20259910043694,"2025-03-17","Persona jurídica","Virtual - Correo electrónico","Solicitud de documentos o información","Web y correo",null,"Oficina de Informática","2025-03-31","Correo electrónico","2025-04-02",null,"",null,{"$f":"IFERROR(WORKDAY(N2190,Y2190,Hoja1!F2182:F2298),\"\")","v":""},{"$f":"+IF(N2190=\"\",\"\",IF(O2190=\"\",\"SIN RESPUESTA\",(IF(O2190<=P2190,\"A TIEMPO\",\"FUERA DE TIEMPO\"))))","v":""},null,"A TIEMPO",8,0,null,null,{"$f":"IFERROR(VLOOKUP(F2190,Hoja1!$A$50:$C$63,2),\"\")","v":5},{"$f":"IFERROR(VLOOKUP(F2190,Hoja1!$A$50:$C$63,3),\"\")","v":5}]
[2181,20259910043704,"2025-03-17","Persona natural","Virtual - Correo electrónico","Solicitud de documentos o información","Solicitud de información hidrometeorológica",null,"Grupo de Servicio al Ciudadano","2025-03-30","Correo electrónico","2025-04-02",null,"",null,{"$f":"IFERROR(WORKDAY(N2191,Y2191,Hoja1!F2183:F2299),\"\")","v":""},{"$f":"+IF(N2191=\"\",\"\",IF(O2191=\"\",\"SIN RESPUESTA\",(IF(O2191<=P2191,\"A TIEMPO\",\"FUERA DE TIEMPO\"))))","v":""},null,"A TIEMPO",7,0,null,null,{"$f":"IFERROR(VLOOKUP(F2191,Hoja1!$A$50:$C$63,2),\"\")","v":5},{"$f":"IFERROR(VLOOKUP(F2191,Hoja1!$A$50:$C$63,3),\"\")","v":5}]
[2182,20259050043634,"2025-03-17","Anónimo","Virtual - Formulario PQRSDF","Solicitud de documentos o información","Sistema de información del recurso hídrico",null,"Subdirección de Meteorología","2025-03-25","Correo electrónico","2025-04-02",null,"",null,{"$f":"IFERROR(WORKDAY(N2192,Y2192,Hoja1!F2184:F2300),\"\")","v":""},{"$f":"+IF(N2192=\"\",\"\",IF(O2192=\"\",\"SIN RESPUESTA\",(IF(O2192<=P2192,\"A TIEMPO\",\"FUERA DE TIEMPO\"))))","v":""},null,"A TIEMPO",4,0,null,null,{"$f":"IFERROR(VLOOKUP(F2192,Hoja1!$A$50:$C$63,2),\"\")","v":5},{"$f":"IFERROR(VLOOKUP(F2192,Hoja1!$A$50:$C$63,3),\"\")","v":5}]
[{"$f":"IF(B2193<>\"\",A2192+1,\"\")","v":2183},20259910043764,"2025-03-17","Persona jurídica","Virtual - Correo electrónico","Solicitud de documentos o información","Registros ambientales",null,"Subdirección de Estudios Ambientales","2025-03-31","Correo electrónico","2025-04-02",null,"",null,{"$f":"IFERROR(WORKDAY(N2193,Y2193,Hoja1!F2185:F2301),\"\")","v":""},{"$f":"+IF(N2193=\"\",\"\",IF(O2193=\"\",\"SIN RESPUESTA\",(IF(O2193<=P2193,\"A TIEMPO\",\"FUERA DE TIEMPO\"))))","v":""},null,"A TIEMPO",8,0,null,null,{"$f":"IFERROR(VLOOKUP(F2193,Hoja1!$A$50:$C$63,2),\"\")","v":5},{"$f":"IFERROR(VLOOKUP(F2193,Hoja1!$A$50:$C$63,3),\"\")","v":5}]
[2184,20259910043884,"2025-03-17","Persona natural","Virtual - Correo electrónico","Solicitud de documentos o información","Administrativa",null,"Secretaría General","2025-03-28","Correo electrónico","2025-04-02",null,"",null,{"$f":"IFERROR(WORKDAY(N2194,Y2194,Hoja1!F2186:F2302),\"\")","v":""},{"$f":"+IF(N2194=\"\",\"\",IF(O2194=\"\",\"SIN RESPUESTA\",(IF(O2194<=P2194,\"A TIEMPO\",\"FUERA DE TIEMPO\"))))","v":""},null,"A TIEMPO",7,0,null,null,{"$f":"IFERROR(VLOOKUP(F2194,Hoja1!$A$50:$C$63,2),\"\")","v":5},{"$f":"IFERROR(VLOOKUP(F2194,Hoja1!$A$50:$C$63,3),\"\")","v":5}]
[2185,20259910043874,"2025-03-17","Persona natural","Virtual - Correo electrónico","Solicitud de documentos o información","Administrativa",null,"Secretaría General","2025-03-17","Correo electrónico","2025-04-02",null,"",null,{"$f":"IFERROR(WORKDAY(N2195,Y2195,Hoja1!F2187:F2303),\"\")","v":""},{"$f":"+IF(N2195=\"\",\"\",IF(O2195=\"\",\"SIN RESPUESTA\",(IF(O2195<=P2195,\"A TIEMPO\",\"FUERA DE TIEMPO\"))))","v":""},null,"A TIEMPO",0,0,null,null,{"$f":"IFERROR(VLOOKUP(F2195,Hoja1!$A$50:$C$63,2),\"\")","v":5},{"$f":"IFERROR(VLOOKUP(F2195,Hoja1!$A$50:$C$63,3),\"\")","v":5}]
[2186,20259910043904,"2025-03-17","Persona jurídica","Virtual - Correo electrónico","Solicitud de documentos o información","Registros ambientales",null,"Subdirección de Estudios Ambientales","2025-04-03","Correo electrónico","2025-04-02",null,"",null,{"$f":"IFERROR(WORKDAY(N2196,Y2196,Hoja1!F2188:F2304),\"\")","v":""},{"$f":"+IF(N2196=\"\",\"\",IF(O2196=\"\",\"SIN RESPUESTA\",(IF(O2196<=P2196,\"A TIEMPO\",\"FUERA DE TIEMPO\"))))","v":""},null,{"$f":"+IF(C2196=\"\",\"\",IF(J2196=\"\",\"SIN RESPUESTA\",(IF(J2196<=L2196,\"A TIEMPO\",\"FUERA DE TIEMPO\"))))","v":"FUERA DE TIEMPO"},11,1,null,null,{"$f":"IFERROR(VLOOKUP(F2196,Hoja1!$A$50:$C$63,2),\"\")","v":5},{"$f":"IFERROR(VLOOKUP(F2196,Hoja1!$A$50:$C$63,3),\"\")","v":5}]
[2187,20259910043924,"2025-03-17","Persona jurídica","Virtual - Correo electrónico","Certificación de contrato","Administrativa",null,"Oficina Asesora Jurídica","2025-04-01","Correo electrónico","2025-04-02",null,"",null,{"$f":"IFERROR(WORKDAY(N2197,Y2197,Hoja1!F2189:F2305),\"\")","v":""},{"$f":"+IF(N2197=\"\",\"\",IF(O2197=\"\",\"SIN RESPUESTA\",(IF(O2197<=P2197,\"A TIEMPO\",\"FUERA DE TIEMPO\"))))","v":""},null,"A TIEMPO",9,0,null,null,{"$f":"IFERROR(VLOOKUP(F2197,Hoja1!$A$50:$C$63,2),\"\")","v":15},{"$f":"IFERROR(VLOOKUP(F2197,Hoja1!$A$50:$C$63,3),\"\")","v":15}]
[2188,20259910043934,"2025-03-17","Persona jurídica","Virtual - Correo electrónico","Solicitud de documentos o información","Registros ambientales",null,"Subdirección de Estudios Ambientales","2025-04-01","Correo electrónico","2025-04-02",null,"",null,{"$f":"IFERROR(WORKDAY(N2198,Y2198,Hoja1!F2190:F2306),\"\")","v":""},{"$f":"+IF(N2198=\"\",\"\",IF(O2198=\"\",\"SIN RESPUESTA\",(IF(O2198<=P2198,\"A TIEMPO\",\"FUERA DE TIEMPO\"))))","v":""},null,"A TIEMPO",9,0,null,null,{"$f":"IFERROR(VLOOKUP(F2198,Hoja1!$A$50:$C$63,2),\"\")","v":5},{"$f":"IFERROR(VLOOKUP(F2198,Hoja1!$A$50:$C$63,3),\"\")","v":5}]
[2189,20259910044064,"2025-03-17","Persona jurídica","Virtual - Correo electrónico","Solicitud de documentos o información","Registros ambientales",null,"Subdirección de Estudios Ambientales","2025-04-02","Correo electrónico","2025-04-02",null,"",null,{"$f":"IFERROR(WORKDAY(N2199,Y2199,Hoja1!F2191:F2307),\"\")","v":""},{"$f":"+IF(N2199=\"\",\"\",IF(O2199=\"\",\"SIN RESPUESTA\",(IF(O2199<=P2199,\"A TIEMPO\",\"FUERA DE TIEMPO\"))))","v":""},null,"A TIEMPO",10,0,null,null,{"$f":"IFERROR(VLOOKUP(F2199,Hoja1!$A$50:$C$63,2),\"\")","v":5},{"$f":"IFERROR(VLOOKUP(F2199,Hoja1!$A$50:$C$63,3),\"\")","v":5}]
[2190,20259910044074,"2025-03-17","Persona natural","Virtual - Correo electrónico","Solicitud de documentos o información","Bosques",null,"Subdirección de Ecosistemas e Información Ambiental","2025-04-01","Correo electrónico","2025-04-02",null,"",null,{"$f":"IFERROR(WORKDAY(N2200,Y2200,Hoja1!F2192:F2308),\"\")","v":""},{"$f":"+IF(N2200=\"\",\"\",IF(O2200=\"\",\"SIN RESPUESTA\",(IF(O2200<=P2200,\"A TIEMPO\",\"FUERA DE TIEMPO\"))))","v":""},null,"A TIEMPO",9,0,null,null,{"$f":"IFERROR(VLOOKUP(F2200,Hoja1!$A$50:$C$63,2),\"\")","v":5},{"$f":"IFERROR(VLOOKUP(F2200,Hoja1!$A$50:$C$63,3),\"\")","v":5}]
[2191,20259910044084,"2025-03-17","Persona jurídica","Virtual - Correo electrónico","Solicitud de documentos o información","Registros ambientales",null,"Subdirección de Estudios Ambientales","2025-04-02","Correo electrónico","2025-04-02",null,"",null,{"$f":"IFERROR(WORKDAY(N2201,Y2201,Hoja1!F2193:F2309),\"\")","v":""},{"$f":"+IF(N2201=\"\",\"\",IF(O2201=\"\",\"SIN RESPUESTA\",(IF(O2201<=P2201,\"A TIEMPO\",\"FUERA DE TIEMPO\"))))","v":""},null,"A TIEMPO",10,0,null,null,{"$f":"IFERROR(VLOOKUP(F2201,Hoja1!$A$50:$C$63,2),\"\")","v":5},{"$f":"IFERROR(VLOOKUP(F2201,Hoja1!$A$50:$C$63,3),\"\")","v":5}]
[2192,20259910044094,"2025-03-17","Persona jurídica","Virtual - Correo electrónico","Solicitud de documentos o información","Registros ambientales",null,"Subdirección de Estudios Ambientales","2025-04-02","Correo electrónico","2025-04-02",null,"",null,{"$f":"IFERROR(WORKDAY(N2202,Y2202,Hoja1!F2194:F2310),\"\")","v":""},{"$f":"+IF(N2202=\"\",\"\",IF(O2202=\"\",\"SIN RESPUESTA\",(IF(O2202<=P2202,\"A TIEMPO\",\"FUERA DE TIEMPO\"))))","v":""},null,"A TIEMPO",10,0,null,null,{"$f":"IFERROR(VLOOKUP(F2202,Hoja1!$A$50:$C$63,2),\"\")","v":5},{"$f":"IFERROR(VLOOKUP(F2202,Hoja1!$A$50:$C$63,3),\"\")","v":5}]
[2193,20259910043954,"2025-03-17","Persona natural","Virtual - Correo electrónico","Solicitud de documentos o información","Administrativa",null,"Oficina Asesora Jurídica","2025-04-01","Correo electrónico","2025-04-02",null,"",null,{"$f":"IFERROR(WORKDAY(N2203,Y2203,Hoja1!F2195:F2311),\"\")","v":""},{"$f":"+IF(N2203=\"\",\"\",IF(O2203=\"\",\"SIN RESPUESTA\",(IF(O2203<=P2203,\"A TIEMPO\",\"FUERA DE TIEMPO\"))))","v":""},null,"A TIEMPO",9,0,null,null,{"$f":"IFERROR(VLOOKUP(F2203,Hoja1!$A$50:$C$63,2),\"\")","v":5},{"$f":"IFERROR(VLOOKUP(F2203,Hoja1!$A$50:$C$63,3),\"\")","v":5}]
[2194,20259910044104,"2025-03-17","Persona jurídica","Virtual - Correo electrónico","Certificación de tiempo, clima y eventos hidrológicos","Certificaciones del tiempo y clima",null,"Subdirección de Meteorología","2025-04-02","Correo electrónico","2025-05-05",null,"",null,{"$f":"IFERROR(WORKDAY(N2204,Y2204,Hoja1!F2196:F2312),\"\")","v":""},{"$f":"+IF(N2204=\"\",\"\",IF(O2204=\"\",\"SIN RESPUESTA\",(IF(O2204<=P2204,\"A TIEMPO\",\"FUERA DE TIEMPO\"))))","v":""},null,"A TIEMPO",10,0,null,null,{"$f":"IFERROR(VLOOKUP(F2204,Hoja1!$A$50:$C$63,2),\"\")","v":15},{"$f":"IFERROR(VLOOKUP(F2204,Hoja1!$A$50:$C$63,3),\"\")","v":15}]
[2195,20259910044114,"2025-03-17","Persona natural","Virtual - Correo electrónico","Solicitud de documentos o información","Registros ambientales",null,"Subdirección de Estudios Ambientales","2025-03-19","Correo electrónico","2025-04-02",null,"",null,{"$f":"IFERROR(WORKDAY(N2205,Y2205,Hoja1!F2197:F2313),\"\")","v":""},{"$f":"+IF(N2205=\"\",\"\",IF(O2205=\"\",\"SIN RESPUESTA\",(IF(O2205<=P2205,\"A TIEMPO\",\"FUERA DE TIEMPO\"))))","v":""},null,"A TIEMPO",1,0,null,null,{"$f":"IFERROR(VLOOKUP(F2205,Hoja1!$A$50:$C$63,2),\"\")","v":5},{"$f":"IFERROR(VLOOKUP(F2205,Hoja1!$A$50:$C$63,3),\"\")","v":5}]
[2196,20259910044124,"2025-03-17","Persona jurídica","Virtual - Correo electrónico","Solicitud de documentos o información","Registros ambientales",null,"Subdirección de Estudios Ambientales","2025-04-01","Correo electrónico","2025-04-02",null,"",null,{"$f":"IFERROR(WORKDAY(N2206,Y2206,Hoja1!F2198:F2314),\"\")","v":""},{"$f":"+IF(N2206=\"\",\"\",IF(O2206=\"\",\"SIN RESPUESTA\",(IF(O2206<=P2206,\"A TIEMPO\",\"FUERA DE TIEMPO\"))))","v":""},null,"A TIEMPO",9,0,null,null,{"$f":"IFERROR(VLOOKUP(F2206,Hoja1!$A$50:$C$63,2),\"\")","v":5},{"$f":"IFERROR(VLOOKUP(F2206,Hoja1!$A$50:$C$63,3),\"\")","v":5}]
[2197,20259910043514,"2025-03-17","Persona jurídica","Virtual - Correo electrónico","Solicitud de documentos o información","Registros ambientales",null,"Subdirección de Estudios Ambientales","2025-04-02","Correo electrónico","2025-04-02",null,"",null,{"$f":"IFERROR(WORKDAY(N2207,Y2207,Hoja1!F2199:F2315),\"\")","v":""},{"$f":"+IF(N2207=\"\",\"\",IF(O2207=\"\",\"SIN RESPUESTA\",(IF(O2207<=P2207,\"A TIEMPO\",\"FUERA DE TIEMPO\"))))","v":""},null,"A TIEMPO",10,0,null,null,{"$f":"IFERROR(VLOOKUP(F2207,Hoja1!$A$50:$C$63,2),\"\")","v":5},{"$f":"IFERROR(VLOOKUP(F2207,Hoja1!$A$50:$C$63,3),\"\")","v":5}]
[2198,20259050044134,"2025-03-17","Persona natural","Virtual - Formulario PQRSDF","Solicitud de documentos o información","Solicitud de información hidrometeorológica",null,"Grupo de Servicio al Ciudadano","2025-03-30","Correo electrónico","2025-04-02",null,"",null,{"$f":"IFERROR(WORKDAY(N2208,Y2208,Hoja1!F2200:F2316),\"\")","v":""},{"$f":"+IF(N2208=\"\",\"\",IF(O2208=\"\",\"SIN RESPUESTA\",(IF(O2208<=P2208,\"A TIEMPO\",\"FUERA DE TIEMPO\"))))","v":""},null,"A TIEMPO",7,0,null,null,{"$f":"IFERROR(VLOOKUP(F2208,Hoja1!$A$50:$C$63,2),\"\")","v":5},{"$f":"IFERROR(VLOOKUP(F2208,Hoja1!$A$50:$C$63,3),\"\")","v":5}]
[2199,20259910044144,"2025-03-17","Persona natural","Virtual - Correo electrónico","Solicitud de documentos o información","Visitas académicas",null,"Área Operativa No. 3 - Villavicencio","2025-03-27","Correo electrónico","2025-04-02",null,"",null,{"$f":"IFERROR(WORKDAY(N2209,Y2209,Hoja1!F2201:F2317),\"\")","v":""},{"$f":"+IF(N2209=\"\",\"\",IF(O2209=\"\",\"SIN RESPUESTA\",(IF(O2209<=P2209,\"A TIEMPO\",\"FUERA DE TIEMPO\"))))","v":""},null,"A TIEMPO",6,0,null,null,{"$f":"IFERROR(VLOOKUP(F2209,Hoja1!$A$50:$C$63,2),\"\")","v":5},{"$f":"IFERROR(VLOOKUP(F2209,Hoja1!$A$50:$C$63,3),\"\")","v":5}]
[2200,20259910044154,"2025-03-17","Persona jurídica","Virtual - Correo electrónico","Solicitud de documentos o información","Registros ambientales",null,"Subdirección de Estudios Ambientales","2025-04-01","Correo electrónico","2025-04-02",null,"",null,{"$f":"IFERROR(WORKDAY(N2210,Y2210,Hoja1!F2202:F2318),\"\")","v":""},{"$f":"+IF(N2210=\"\",\"\",IF(O2210=\"\",\"SIN RESPUESTA\",(IF(O2210<=P2210,\"A TIEMPO\",\"FUERA DE TIEMPO\"))))","v":""},null,"A TIEMPO",9,0,null,null,{"$f":"IFERROR(VLOOKUP(F2210,Hoja1!$A$50:$C$63,2),\"\")","v":5},{"$f":"IFERROR(VLOOKUP(F2210,Hoja1!$A$50:$C$63,3),\"\")","v":5}]
[2201,20259910044204,"2025-03-17","Persona jurídica","Virtual - Correo electrónico","Solicitud de documentos o información","Registros ambientales",null,"Subdirección de Estudios Ambientales","2025-04-02","Correo electrónico","2025-04-02",null,"",null,{"$f":"IFERROR(WORKDAY(N2211,Y2211,Hoja1!F2203:F2319),\"\")","v":""},{"$f":"+IF(N2211=\"\",\"\",IF(O2211=\"\",\"SIN RESPUESTA\",(IF(O2211<=P2211,\"A TIEMPO\",\"FUERA DE TIEMPO\"))))","v":""},null,"A TIEMPO",10,0,null,null,{"$f":"IFERROR(VLOOKUP(F2211,Hoja1!$A$50:$C$63,2),\"\")","v":5},{"$f":"IFERROR(VLOOKUP(F2211,Hoja1!$A$50:$C$63,3),\"\")","v":5}]
[2202,20259910044224,"2025-03-17","Persona jurídica","Virtual - Correo electrónico","Solicitud de documentos o información","Registros ambientales",null,"Subdirección de Estudios Ambientales","2025-03-31","Correo electrónico","2025-04-02",null,"",null,{"$f":"IFERROR(WORKDAY(N2212,Y2212,Hoja1!F2204:F2320),\"\")","v":""},{"$f":"+IF(N2212=\"\",\"\",IF(O2212=\"\",\"SIN RESPUESTA\",(IF(O2212<=P2212,\"A TIEMPO\",\"FUERA DE TIEMPO\"))))","v":""},null,"A TIEMPO",8,0,null,null,{"$f":"IFERROR(VLOOKUP(F2212,Hoja1!$A$50:$C$63,2),\"\")","v":5},{"$f":"IFERROR(VLOOKUP(F2212,Hoja1!$A$50:$C$63,3),\"\")","v":5}]
[2203,20259910044244,"2025-03-17","Persona jurídica","Virtual - Correo electrónico","Solicitud de documentos o información","Registros ambientales",null,"Subdirección de Estudios Ambientales","2025-03-31","Correo electrónico","2025-04-02",null,"",null,{"$f":"IFERROR(WORKDAY(N2213,Y2213,Hoja1!F2205:F2321),\"\")","v":""},{"$f":"+IF(N2213=\"\",\"\",IF(O2213=\"\",\"SIN RESPUESTA\",(IF(O2213<=P2213,\"A TIEMPO\",\"FUERA DE TIEMPO\"))))","v":""},null,"A TIEMPO",8,0,null,null,{"$f":"IFERROR(VLOOKUP(F2213,Hoja1!$A$50:$C$63,2),\"\")","v":5},{"$f":"IFERROR(VLOOKUP(F2213,Hoja1!$A$50:$C$63,3),\"\")","v":5}]
[2204,20259910044264,"2025-03-17","Persona jurídica","Virtual - Correo electrónico","Solicitud de bienes y/o servicios","Registros ambientales",null,"Subdirección de Estudios Ambientales","2025-04-03","Correo electrónico","2025-04-09",null,"",null,{"$f":"IFERROR(WORKDAY(N2214,Y2214,Hoja1!F2206:F2322),\"\")","v":""},{"$f":"+IF(N2214=\"\",\"\",IF(O2214=\"\",\"SIN RESPUESTA\",(IF(O2214<=P2214,\"A TIEMPO\",\"FUERA DE TIEMPO\"))))","v":""},null,"A TIEMPO",11,0,null,null,{"$f":"IFERROR(VLOOKUP(F2214,Hoja1!$A$50:$C$63,2),\"\")","v":5},{"$f":"IFERROR(VLOOKUP(F2214,Hoja1!$A$50:$C$63,3),\"\")","v":5}]
[2205,20259910044284,"2025-03-17","Persona jurídica","Virtual - Correo electrónico","Solicitud de documentos o información","Administrativa",null,"Oficina Asesora Jurídica","2025-03-18","No aplica","2025-04-02",null,"",null,{"$f":"IFERROR(WORKDAY(N2215,Y2215,Hoja1!F2207:F2323),\"\")","v":""},{"$f":"+IF(N2215=\"\",\"\",IF(O2215=\"\",\"SIN RESPUESTA\",(IF(O2215<=P2215,\"A TIEMPO\",\"FUERA DE TIEMPO\"))))","v":""},null,"A TIEMPO",0,0,null,null,{"$f":"IFERROR(VLOOKUP(F2215,Hoja1!$A$50:$C$63,2),\"\")","v":5},{"$f":"IFERROR(VLOOKUP(F2215,Hoja1!$A$50:$C$63,3),\"\")","v":5}]
[2206,20259050044304,"2025-03-17","Persona natural","Virtual - Formulario PQRSDF","Solicitud de documentos o información","Sistema de información del recurso hídrico",null,"Subdirección de Hidrología","2025-03-21","Correo electrónico","2025-04-02",null,"",null,{"$f":"IFERROR(WORKDAY(N2216,Y2216,Hoja1!F2208:F2324),\"\")","v":""},{"$f":"+IF(N2216=\"\",\"\",IF(O2216=\"\",\"SIN RESPUESTA\",(IF(O2216<=P2216,\"A TIEMPO\",\"FUERA DE TIEMPO\"))))","v":""},null,"A TIEMPO",3,0,null,null,{"$f":"IFERROR(VLOOKUP(F2216,Hoja1!$A$50:$C$63,2),\"\")","v":5},{"$f":"IFERROR(VLOOKUP(F2216,Hoja1!$A$50:$C$63,3),\"\")","v":5}]
[2207,20259910044324,"2025-03-17","Persona jurídica","Virtual - Correo electrónico","Solicitud de documentos o información","Registros ambientales",null,"Subdirección de Estudios Ambientales","2025-03-27","Correo electrónico","2025-04-02",null,"",null,{"$f":"IFERROR(WORKDAY(N2217,Y2217,Hoja1!F2209:F2325),\"\")","v":""},{"$f":"+IF(N2217=\"\",\"\",IF(O2217=\"\",\"SIN RESPUESTA\",(IF(O2217<=P2217,\"A TIEMPO\",\"FUERA DE TIEMPO\"))))","v":""},null,"A TIEMPO",6,0,null,null,{"$f":"IFERROR(VLOOKUP(F2217,Hoja1!$A$50:$C$63,2),\"\")","v":5},{"$f":"IFERROR(VLOOKUP(F2217,Hoja1!$A$50:$C$63,3),\"\")","v":5}]
[2208,20259910044364,"2025-03-17","Persona jurídica","Virtual - Correo electrónico","Solicitud de documentos o información","Registros ambientales",null,"Subdirección de Estudios Ambientales","2025-04-02","Correo electrónico","2025-04-02",null,"",null,{"$f":"IFERROR(WORKDAY(N2218,Y2218,Hoja1!F2210:F2326),\"\")","v":""},{"$f":"+IF(N2218=\"\",\"\",IF(O2218=\"\",\"SIN RESPUESTA\",(IF(O2218<=P2218,\"A TIEMPO\",\"FUERA DE TIEMPO\"))))","v":""},null,"A TIEMPO",10,0,null,null,{"$f":"IFERROR(VLOOKUP(F2218,Hoja1!$A$50:$C$63,2),\"\")","v":5},{"$f":"IFERROR(VLOOKUP(F2218,Hoja1!$A$50:$C$63,3),\"\")","v":5}]
[2209,20259910044344,"2025-03-17","Persona jurídica","Virtual - Correo electrónico","Certificación de tiempo, clima y eventos hidrológicos","Certificaciones del tiempo y clima",null,"Subdirección de Meteorología","2025-04-24","Correo electrónico","2025-05-05",null,"",null,{"$f":"IFERROR(WORKDAY(N2219,Y2219,Hoja1!F2211:F2327),\"\")","v":""},{"$f":"+IF(N2219=\"\",\"\",IF(O2219=\"\",\"SIN RESPUESTA\",(IF(O2219<=P2219,\"A TIEMPO\",\"FUERA DE TIEMPO\"))))","v":""},null,"A TIEMPO",24,0,null,null,{"$f":"IFERROR(VLOOKUP(F2219,Hoja1!$A$50:$C$63,2),\"\")","v":15},{"$f":"IFERROR(VLOOKUP(F2219,Hoja1!$A$50:$C$63,3),\"\")","v":15}]
[2210,20259910044374,"2025-03-17","Persona jurídica","Virtual - Correo electrónico","Solicitud de documentos o información","Registros ambientales",null,"Subdirección de Estudios Ambientales","2025-04-02","Correo electrónico","2025-04-02",null,"",null,{"$f":"IFERROR(WORKDAY(N2220,Y2220,Hoja1!F2212:F2328),\"\")","v":""},{"$f":"+IF(N2220=\"\",\"\",IF(O2220=\"\",\"SIN RESPUESTA\",(IF(O2220<=P2220,\"A TIEMPO\",\"FUERA DE TIEMPO\"))))","v":""},null,"A TIEMPO",10,0,null,null,{"$f":"IFERROR(VLOOKUP(F2220,Hoja1!$A$50:$C$63,2),\"\")","v":5},{"$f":"IFERROR(VLOOKUP(F2220,Hoja1!$A$50:$C$63,3),\"\")","v":5}]
[2211,20259910044384,"2025-03-17","Persona jurídica","Virtual - Correo electrónico","Solicitud de documentos o información","Registros ambientales",null,"Subdirección de Estudios Ambientales","2025-03-30","Correo electrónico","2025-04-02",null,"",null,{"$f":"IFERROR(WORKDAY(N2221,Y2221,Hoja1!F2213:F2329),\"\")","v":""},{"$f":"+IF(N2221=\"\",\"\",IF(O2221=\"\",\"SIN RESPUESTA\",(IF(O2221<=P2221,\"A TIEMPO\",\"FUERA DE TIEMPO\"))))","v":""},null,"A TIEMPO",7,0,null,null,{"$f":"IFERROR(VLOOKUP(F2221,Hoja1!$A$50:$C$63,2),\"\")","v":5},{"$f":"IFERROR(VLOOKUP(F2221,Hoja1!$A$50:$C$63,3),\"\")","v":5}]
[2212,20259910044394,"2025-03-17","Persona jurídica","Virtual - Correo electrónico","Certificación laboral o pasantía","Administrativa",null,"Grupo de Administración y Desarrollo del Talento Humano","2025-03-25","Correo electrónico","2025-04-02",null,"",null,{"$f":"IFERROR(WORKDAY(N2222,Y2222,Hoja1!F2214:F2330),\"\")","v":""},{"$f":"+IF(N2222=\"\",\"\",IF(O2222=\"\",\"SIN RESPUESTA\",(IF(O2222<=P2222,\"A TIEMPO\",\"FUERA DE TIEMPO\"))))","v":""},null,"A TIEMPO",4,0,null,null,{"$f":"IFERROR(VLOOKUP(F2222,Hoja1!$A$50:$C$63,2),\"\")","v":15},{"$f":"IFERROR(VLOOKUP(F2222,Hoja1!$A$50:$C$63,3),\"\")","v":15}]
[2213,20259910044314,"2025-03-17","Persona jurídica","Virtual - Correo electrónico","Solicitud de documentos o información","Administrativa",null,"Oficina Asesora Jurídica","2025-04-03","Correo electrónico","2025-04-02",null,"",null,{"$f":"IFERROR(WORKDAY(N2223,Y2223,Hoja1!F2215:F2331),\"\")","v":""},{"$f":"+IF(N2223=\"\",\"\",IF(O2223=\"\",\"SIN RESPUESTA\",(IF(O2223<=P2223,\"A TIEMPO\",\"FUERA DE TIEMPO\"))))","v":""},null,{"$f":"+IF(C2223=\"\",\"\",IF(J2223=\"\",\"SIN RESPUESTA\",(IF(J2223<=L2223,\"A TIEMPO\",\"FUERA DE TIEMPO\"))))","v":"FUERA DE TIEMPO"},11,1,null,null,{"$f":"IFERROR(VLOOKUP(F2223,Hoja1!$A$50:$C$63,2),\"\")","v":5},{"$f":"IFERROR(VLOOKUP(F2223,Hoja1!$A$50:$C$63,3),\"\")","v":5}]
[2214,20259910044334,"2025-03-17","Persona jurídica","Virtual - Correo electrónico","Solicitud de documentos o información","Administrativa",null,"Grupo de Manejo y Control de Almacén e Inventarios","2025-03-21","Correo electrónico","2025-04-02",null,"",null,{"$f":"IFERROR(WORKDAY(N2224,Y2224,Hoja1!F2216:F2332),\"\")","v":""},{"$f":"+IF(N2224=\"\",\"\",IF(O2224=\"\",\"SIN RESPUESTA\",(IF(O2224<=P2224,\"A TIEMPO\",\"FUERA DE TIEMPO\"))))","v":""},null,"A TIEMPO",3,0,null,null,{"$f":"IFERROR(VLOOKUP(F2224,Hoja1!$A$50:$C$63,2),\"\")","v":5},{"$f":"IFERROR(VLOOKUP(F2224,Hoja1!$A$50:$C$63,3),\"\")","v":5}]
[2215,20259910044354,"2025-03-17","Persona jurídica","Virtual - Correo electrónico","Solicitud de documentos o información","Administrativa",null,"Grupo de Manejo y Control de Almacén e Inventarios","2025-04-03","Correo electrónico","2025-04-02",null,"",null,{"$f":"IFERROR(WORKDAY(N2225,Y2225,Hoja1!F2217:F2333),\"\")","v":""},{"$f":"+IF(N2225=\"\",\"\",IF(O2225=\"\",\"SIN RESPUESTA\",(IF(O2225<=P2225,\"A TIEMPO\",\"FUERA DE TIEMPO\"))))","v":""},null,{"$f":"+IF(C2225=\"\",\"\",IF(J2225=\"\",\"SIN RESPUESTA\",(IF(J2225<=L2225,\"A TIEMPO\",\"FUERA DE TIEMPO\"))))","v":"FUERA DE TIEMPO"},11,1,null,null,{"$f":"IFERROR(VLOOKUP(F2225,Hoja1!$A$50:$C$63,2),\"\")","v":5},{"$f":"IFERROR(VLOOKUP(F2225,Hoja1!$A$50:$C$63,3),\"\")","v":5}]
[2216,20259910044444,"2025-03-17","Persona jurídica","Virtual - Correo electrónico","Solicitud de documentos o información","Solicitud de información hidrometeorológica",null,"Grupo de Servicio al Ciudadano","2025-04-01","Correo electrónico","2025-04-02",null,"",null,{"$f":"IFERROR(WORKDAY(N2226,Y2226,Hoja1!F2218:F2334),\"\")","v":""},{"$f":"+IF(N2226=\"\",\"\",IF(O2226=\"\",\"SIN RESPUESTA\",(IF(O2226<=P2226,\"A TIEMPO\",\"FUERA DE TIEMPO\"))))","v":""},null,"A TIEMPO",9,0,null,null,{"$f":"IFERROR(VLOOKUP(F2226,Hoja1!$A$50:$C$63,2),\"\")","v":5},{"$f":"IFERROR(VLOOKUP(F2226,Hoja1!$A$50:$C$63,3),\"\")","v":5}]
[2217,20259910044454,"2025-03-17","Persona jurídica","Virtual - Correo electrónico","Solicitud de documentos o información","Registros ambientales",null,"Subdirección de Estudios Ambientales","2025-03-31","Correo electrónico","2025-04-02",null,"",null,{"$f":"IFERROR(WORKDAY(N2227,Y2227,Hoja1!F2219:F2335),\"\")","v":""},{"$f":"+IF(N2227=\"\",\"\",IF(O2227=\"\",\"SIN RESPUESTA\",(IF(O2227<=P2227,\"A TIEMPO\",\"FUERA DE TIEMPO\"))))","v":""},null,"A TIEMPO",8,0,null,null,{"$f":"IFERROR(VLOOKUP(F2227,Hoja1!$A$50:$C$63,2),\"\")","v":5},{"$f":"IFERROR(VLOOKUP(F2227,Hoja1!$A$50:$C$63,3),\"\")","v":5}]
[2218,20259910044404,"2025-03-17","Persona jurídica","Virtual - Correo electrónico","Solicitud judicial","Solicitud de información hidrometeorológica",null,"Subdirección de Meteorología","2025-03-19","Correo electrónico","2025-03-26",null,"",null,{"$f":"IFERROR(WORKDAY(N2228,Y2228,Hoja1!F2220:F2336),\"\")","v":""},{"$f":"+IF(N2228=\"\",\"\",IF(O2228=\"\",\"SIN RESPUESTA\",(IF(O2228<=P2228,\"A TIEMPO\",\"FUERA DE TIEMPO\"))))","v":""},null,"A TIEMPO",1,0,null,null,{"$f":"IFERROR(VLOOKUP(F2228,Hoja1!$A$50:$C$63,2),\"\")","v":5},{"$f":"IFERROR(VLOOKUP(F2228,Hoja1!$A$50:$C$63,3),\"\")","v":5}]
[2219,20259050044584,"2025-03-18","Persona natural","Virtual - Formulario PQRSDF","Certificación de contrato","Administrativa",null,"Oficina Asesora Jurídica","2025-03-31","Correo certificado","2025-04-02",null,"",null,{"$f":"IFERROR(WORKDAY(N2229,Y2229,Hoja1!F2221:F2337),\"\")","v":""},{"$f":"+IF(N2229=\"\",\"\",IF(O2229=\"\",\"SIN RESPUESTA\",(IF(O2229<=P2229,\"A TIEMPO\",\"FUERA DE TIEMPO\"))))","v":""},null,"A TIEMPO",7,0,null,null,{"$f":"IFERROR(VLOOKUP(F2229,Hoja1!$A$50:$C$63,2),\"\")","v":15},{"$f":"IFERROR(VLOOKUP(F2229,Hoja1!$A$50:$C$63,3),\"\")","v":15}]
[2220,20259050044564,"2025-03-18","Persona jurídica","Virtual - Formulario PQRSDF","Solicitud de documentos o información","Registros ambientales",null,"Subdirección de Estudios Ambientales","2025-03-27","Correo electrónico","2025-04-02",null,"",null,{"$f":"IFERROR(WORKDAY(N2230,Y2230,Hoja1!F2222:F2338),\"\")","v":""},{"$f":"+IF(N2230=\"\",\"\",IF(O2230=\"\",\"SIN RESPUESTA\",(IF(O2230<=P2230,\"A TIEMPO\",\"FUERA DE TIEMPO\"))))","v":""},null,"A TIEMPO",5,0,null,null,{"$f":"IFERROR(VLOOKUP(F2230,Hoja1!$A$50:$C$63,2),\"\")","v":5},{"$f":"IFERROR(VLOOKUP(F2230,Hoja1!$A$50:$C$63,3),\"\")","v":5}]
[2221,20259050044484,"2025-03-17","Persona jurídica","Virtual - Formulario PQRSDF","Solicitud de documentos o información","Solicitud de información hidrometeorológica",null,"Grupo de Servicio al Ciudadano","2025-04-01","Correo electrónico","2025-04-02",null,"",null,{"$f":"IFERROR(WORKDAY(N2231,Y2231,Hoja1!F2223:F2339),\"\")","v":""},{"$f":"+IF(N2231=\"\",\"\",IF(O2231=\"\",\"SIN RESPUESTA\",(IF(O2231<=P2231,\"A TIEMPO\",\"FUERA DE TIEMPO\"))))","v":""},null,"A TIEMPO",9,0,null,null,{"$f":"IFERROR(VLOOKUP(F2231,Hoja1!$A$50:$C$63,2),\"\")","v":5},{"$f":"IFERROR(VLOOKUP(F2231,Hoja1!$A$50:$C$63,3),\"\")","v":5}]
[2222,20259910044494,"2025-03-17","Persona jurídica","Virtual - Correo electrónico","Solicitud de documentos o información","Registros ambientales",null,"Subdirección de Estudios Ambientales","2025-04-02","Correo electrónico","2025-04-02",null,"",null,{"$f":"IFERROR(WORKDAY(N2232,Y2232,Hoja1!F2224:F2340),\"\")","v":""},{"$f":"+IF(N2232=\"\",\"\",IF(O2232=\"\",\"SIN RESPUESTA\",(IF(O2232<=P2232,\"A TIEMPO\",\"FUERA DE TIEMPO\"))))","v":""},null,"A TIEMPO",10,0,null,null,{"$f":"IFERROR(VLOOKUP(F2232,Hoja1!$A$50:$C$63,2),\"\")","v":5},{"$f":"IFERROR(VLOOKUP(F2232,Hoja1!$A$50:$C$63,3),\"\")","v":5}]
[2223,20259050044524,"2025-03-17","Persona natural","Virtual - Formulario PQRSDF","Solicitud de documentos o información","Solicitud de información hidrometeorológica",null,"Grupo de Servicio al Ciudadano","2025-04-01","Correo electrónico","2025-04-02",null,"",null,{"$f":"IFERROR(WORKDAY(N2233,Y2233,Hoja1!F2225:F2341),\"\")","v":""},{"$f":"+IF(N2233=\"\",\"\",IF(O2233=\"\",\"SIN RESPUESTA\",(IF(O2233<=P2233,\"A TIEMPO\",\"FUERA DE TIEMPO\"))))","v":""},null,"A TIEMPO",9,0,null,null,{"$f":"IFERROR(VLOOKUP(F2233,Hoja1!$A$50:$C$63,2),\"\")","v":5},{"$f":"IFERROR(VLOOKUP(F2233,Hoja1!$A$50:$C$63,3),\"\")","v":5}]
[2224,20259050044534,"2025-03-17","Persona natural","Virtual - Formulario PQRSDF","Solicitud de documentos o información","Solicitud de información hidrometeorológica",null,"Subdirección de Meteorología","2025-03-27","Correo electrónico","2025-04-02",null,"",null,{"$f":"IFERROR(WORKDAY(N2234,Y2234,Hoja1!F2226:F2342),\"\")","v":""},{"$f":"+IF(N2234=\"\",\"\",IF(O2234=\"\",\"SIN RESPUESTA\",(IF(O2234<=P2234,\"A TIEMPO\",\"FUERA DE TIEMPO\"))))","v":""},null,"A TIEMPO",6,0,null,null,{"$f":"IFERROR(VLOOKUP(F2234,Hoja1!$A$50:$C$63,2),\"\")","v":5},{"$f":"IFERROR(VLOOKUP(F2234,Hoja1!$A$50:$C$63,3),\"\")","v":5}]
[2225,20259050044574,"2025-03-18","Persona natural","Virtual - Formulario PQRSDF","Solicitud de documentos o información","Sistema de información del recurso hídrico",null,"Grupo de Servicio al Ciudadano","2025-03-31","Correo electrónico","2025-04-02",null,"",null,{"$f":"IFERROR(WORKDAY(N2235,Y2235,Hoja1!F2227:F2343),\"\")","v":""},{"$f":"+IF(N2235=\"\",\"\",IF(O2235=\"\",\"SIN RESPUESTA\",(IF(O2235<=P2235,\"A TIEMPO\",\"FUERA DE TIEMPO\"))))","v":""},null,"A TIEMPO",7,0,null,null,{"$f":"IFERROR(VLOOKUP(F2235,Hoja1!$A$50:$C$63,2),\"\")","v":5},{"$f":"IFERROR(VLOOKUP(F2235,Hoja1!$A$50:$C$63,3),\"\")","v":5}]
[2226,20259050044594,"2025-03-18","Persona natural","Virtual - Formulario PQRSDF","Solicitud de documentos o información","Bosques",null,"Subdirección de Ecosistemas e Información Ambiental","2025-04-02","Correo electrónico","2025-04-02",null,"",null,{"$f":"IFERROR(WORKDAY(N2236,Y2236,Hoja1!F2228:F2344),\"\")","v":""},{"$f":"+IF(N2236=\"\",\"\",IF(O2236=\"\",\"SIN RESPUESTA\",(IF(O2236<=P2236,\"A TIEMPO\",\"FUERA DE TIEMPO\"))))","v":""},null,"A TIEMPO",9,0,null,null,{"$f":"IFERROR(VLOOKUP(F2236,Hoja1!$A$50:$C$63,2),\"\")","v":5},{"$f":"IFERROR(VLOOKUP(F2236,Hoja1!$A$50:$C$63,3),\"\")","v":5}]
[2227,20259050044604,"2025-03-18","Persona natural","Virtual - Formulario PQRSDF","Solicitud de documentos o información","Bosques",null,"Subdirección de Ecosistemas e Información Ambiental","2025-03-27","Correo electrónico","2025-04-02",null,"",null,{"$f":"IFERROR(WORKDAY(N2237,Y2237,Hoja1!F2229:F2345),\"\")","v":""},{"$f":"+IF(N2237=\"\",\"\",IF(O2237=\"\",\"SIN RESPUESTA\",(IF(O2237<=P2237,\"A TIEMPO\",\"FUERA DE TIEMPO\"))))","v":""},null,"A TIEMPO",5,0,null,null,{"$f":"IFERROR(VLOOKUP(F2237,Hoja1!$A$50:$C$63,2),\"\")","v":5},{"$f":"IFERROR(VLOOKUP(F2237,Hoja1!$A$50:$C$63,3),\"\")","v":5}]
[2228,20259050044624,"2025-03-19","Persona natural","Virtual - Formulario PQRSDF","Solicitud de documentos o información","Bosques",null,"Subdirección de Ecosistemas e Información Ambiental","2025-03-25","Correo electrónico","2025-04-03",null,"",null,{"$f":"IFERROR(WORKDAY(N2238,Y2238,Hoja1!F2230:F2346),\"\")","v":""},{"$f":"+IF(N2238=\"\",\"\",IF(O2238=\"\",\"SIN RESPUESTA\",(IF(O2238<=P2238,\"A TIEMPO\",\"FUERA DE TIEMPO\"))))","v":""},null,"A TIEMPO",3,0,null,null,{"$f":"IFERROR(VLOOKUP(F2238,Hoja1!$A$50:$C$63,2),\"\")","v":5},{"$f":"IFERROR(VLOOKUP(F2238,Hoja1!$A$50:$C$63,3),\"\")","v":5}]
[2229,20259050044634,"2025-03-19","Persona natural","Virtual - Formulario PQRSDF","Solicitud de documentos o información","Sistema de información del recurso hídrico",null,"Grupo de Servicio al Ciudadano","2025-04-01","Correo electrónico","2025-04-03",null,"",null,{"$f":"IFERROR(WORKDAY(N2239,Y2239,Hoja1!F2231:F2347),\"\")","v":""},{"$f":"+IF(N2239=\"\",\"\",IF(O2239=\"\",\"SIN RESPUESTA\",(IF(O2239<=P2239,\"A TIEMPO\",\"FUERA DE TIEMPO\"))))","v":""},null,"A TIEMPO",8,0,null,null,{"$f":"IFERROR(VLOOKUP(F2239,Hoja1!$A$50:$C$63,2),\"\")","v":5},{"$f":"IFERROR(VLOOKUP(F2239,Hoja1!$A$50:$C$63,3),\"\")","v":5}]
[2230,20259050044644,"2025-03-19","Persona natural","Virtual - Formulario PQRSDF","Solicitud de documentos o información","Solicitud de información hidrometeorológica",null,"Grupo de Servicio al Ciudadano","2025-04-01","Correo electrónico","2025-04-03",null,"",null,{"$f":"IFERROR(WORKDAY(N2240,Y2240,Hoja1!F2232:F2348),\"\")","v":""},{"$f":"+IF(N2240=\"\",\"\",IF(O2240=\"\",\"SIN RESPUESTA\",(IF(O2240<=P2240,\"A TIEMPO\",\"FUERA DE TIEMPO\"))))","v":""},null,"A TIEMPO",8,0,null,null,{"$f":"IFERROR(VLOOKUP(F2240,Hoja1!$A$50:$C$63,2),\"\")","v":5},{"$f":"IFERROR(VLOOKUP(F2240,Hoja1!$A$50:$C$63,3),\"\")","v":5}]
[2231,20259910044654,"2025-03-19","Persona jurídica","Virtual - Correo electrónico","Solicitud judicial","Sistema de información del recurso hídrico",null,"Subdirección de Hidrología","2025-04-25","Correo electrónico","2025-03-27",null,"",null,{"$f":"IFERROR(WORKDAY(N2241,Y2241,Hoja1!F2233:F2349),\"\")","v":""},{"$f":"+IF(N2241=\"\",\"\",IF(O2241=\"\",\"SIN RESPUESTA\",(IF(O2241<=P2241,\"A TIEMPO\",\"FUERA DE TIEMPO\"))))","v":""},null,{"$f":"+IF(C2241=\"\",\"\",IF(J2241=\"\",\"SIN RESPUESTA\",(IF(J2241<=L2241,\"A TIEMPO\",\"FUERA DE TIEMPO\"))))","v":"FUERA DE TIEMPO"},24,19,null,null,{"$f":"IFERROR(VLOOKUP(F2241,Hoja1!$A$50:$C$63,2),\"\")","v":5},{"$f":"IFERROR(VLOOKUP(F2241,Hoja1!$A$50:$C$63,3),\"\")","v":5}]
[2232,20259910044674,"2025-03-19","Persona jurídica","Virtual - Correo electrónico","Solicitud de documentos o información","Registros ambientales",null,"Subdirección de Estudios Ambientales","2025-04-02","Correo electrónico","2025-04-03",null,"",null,{"$f":"IFERROR(WORKDAY(N2242,Y2242,Hoja1!F2234:F2350),\"\")","v":""},{"$f":"+IF(N2242=\"\",\"\",IF(O2242=\"\",\"SIN RESPUESTA\",(IF(O2242<=P2242,\"A TIEMPO\",\"FUERA DE TIEMPO\"))))","v":""},null,"A TIEMPO",9,0,null,null,{"$f":"IFERROR(VLOOKUP(F2242,Hoja1!$A$50:$C$63,2),\"\")","v":5},{"$f":"IFERROR(VLOOKUP(F2242,Hoja1!$A$50:$C$63,3),\"\")","v":5}]
[2233,20259910044724,"2025-03-19","Persona jurídica","Virtual - Correo electrónico","Solicitud de documentos o información","Registros ambientales",null,"Subdirección de Estudios Ambientales","2025-03-27","Correo electrónico","2025-04-03",null,"",null,{"$f":"IFERROR(WORKDAY(N2243,Y2243,Hoja1!F2235:F2351),\"\")","v":""},{"$f":"+IF(N2243=\"\",\"\",IF(O2243=\"\",\"SIN RESPUESTA\",(IF(O2243<=P2243,\"A TIEMPO\",\"FUERA DE TIEMPO\"))))","v":""},null,"A TIEMPO",5,0,null,null,{"$f":"IFERROR(VLOOKUP(F2243,Hoja1!$A$50:$C$63,2),\"\")","v":5},{"$f":"IFERROR(VLOOKUP(F2243,Hoja1!$A$50:$C$63,3),\"\")","v":5}]
[2234,20259910044734,"2025-03-19","Persona jurídica","Virtual - Correo electrónico","Solicitud de documentos o información","Bosques",null,"Subdirección de Ecosistemas e Información Ambiental","2025-04-03","Correo electrónico","2025-04-03",null,"",null,{"$f":"IFERROR(WORKDAY(N2244,Y2244,Hoja1!F2236:F2352),\"\")","v":""},{"$f":"+IF(N2244=\"\",\"\",IF(O2244=\"\",\"SIN RESPUESTA\",(IF(O2244<=P2244,\"A TIEMPO\",\"FUERA DE TIEMPO\"))))","v":""},null,"A TIEMPO",10,0,null,null,{"$f":"IFERROR(VLOOKUP(F2244,Hoja1!$A$50:$C$63,2),\"\")","v":5},{"$f":"IFERROR(VLOOKUP(F2244,Hoja1!$A$50:$C$63,3),\"\")","v":5}]
[2235,20259910044794,"2025-03-19","Persona natural","Virtual - Correo electrónico","Solicitud de documentos o información","Solicitud de información hidrometeorológica",null,"Grupo de Servicio al Ciudadano","2025-04-01","Correo electrónico","2025-04-03",null,"",null,{"$f":"IFERROR(WORKDAY(N2245,Y2245,Hoja1!F2237:F2353),\"\")","v":""},{"$f":"+IF(N2245=\"\",\"\",IF(O2245=\"\",\"SIN RESPUESTA\",(IF(O2245<=P2245,\"A TIEMPO\",\"FUERA DE TIEMPO\"))))","v":""},null,"A TIEMPO",8,0,null,null,{"$f":"IFERROR(VLOOKUP(F2245,Hoja1!$A$50:$C$63,2),\"\")","v":5},{"$f":"IFERROR(VLOOKUP(F2245,Hoja1!$A$50:$C$63,3),\"\")","v":5}]
[2236,20259910044804,"2025-03-19","Persona jurídica","Virtual - Correo electrónico","Solicitud judicial","Solicitud de información hidrometeorológica",null,"Subdirección de Hidrología","2025-04-20","Correo electrónico","2025-03-27",null,"",null,{"$f":"IFERROR(WORKDAY(N2246,Y2246,Hoja1!F2238:F2354),\"\")","v":""},{"$f":"+IF(N2246=\"\",\"\",IF(O2246=\"\",\"SIN RESPUESTA\",(IF(O2246<=P2246,\"A TIEMPO\",\"FUERA DE TIEMPO\"))))","v":""},null,{"$f":"+IF(C2246=\"\",\"\",IF(J2246=\"\",\"SIN RESPUESTA\",(IF(J2246<=L2246,\"A TIEMPO\",\"FUERA DE TIEMPO\"))))","v":"FUERA DE TIEMPO"},19,14,null,null,{"$f":"IFERROR(VLOOKUP(F2246,Hoja1!$A$50:$C$63,2),\"\")","v":5},{"$f":"IFERROR(VLOOKUP(F2246,Hoja1!$A$50:$C$63,3),\"\")","v":5}]
[2237,20259910044874,"2025-03-19","Persona jurídica","Virtual - Correo electrónico","Solicitud de documentos o información","Registros ambientales",null,"Subdirección de Estudios Ambientales","2025-04-04","Correo electrónico","2025-04-03",null,"",null,{"$f":"IFERROR(WORKDAY(N2247,Y2247,Hoja1!F2239:F2355),\"\")","v":""},{"$f":"+IF(N2247=\"\",\"\",IF(O2247=\"\",\"SIN RESPUESTA\",(IF(O2247<=P2247,\"A TIEMPO\",\"FUERA DE TIEMPO\"))))","v":""},null,{"$f":"+IF(C2247=\"\",\"\",IF(J2247=\"\",\"SIN RESPUESTA\",(IF(J2247<=L2247,\"A TIEMPO\",\"FUERA DE TIEMPO\"))))","v":"FUERA DE TIEMPO"},11,1,null,null,{"$f":"IFERROR(VLOOKUP(F2247,Hoja1!$A$50:$C$63,2),\"\")","v":5},{"$f":"IFERROR(VLOOKUP(F2247,Hoja1!$A$50:$C$63,3),\"\")","v":5}]
[2238,20259910044764,"2025-03-19","Persona jurídica","Virtual - Correo electrónico","Solicitud de documentos o información","Registros ambientales",null,"Subdirección de Estudios Ambientales","2025-04-02","Correo electrónico","2025-04-03",null,"",null,{"$f":"IFERROR(WORKDAY(N2248,Y2248,Hoja1!F2240:F2356),\"\")","v":""},{"$f":"+IF(N2248=\"\",\"\",IF(O2248=\"\",\"SIN RESPUESTA\",(IF(O2248<=P2248,\"A TIEMPO\",\"FUERA DE TIEMPO\"))))","v":""},null,"A TIEMPO",9,0,null,null,{"$f":"IFERROR(VLOOKUP(F2248,Hoja1!$A$50:$C$63,2),\"\")","v":5},{"$f":"IFERROR(VLOOKUP(F2248,Hoja1!$A$50:$C$63,3),\"\")","v":5}]
[2239,20259910044774,"2025-03-19","Persona natural","Virtual - Correo electrónico","Certificación de contrato","Administrativa",null,"Oficina Asesora Jurídica","2025-04-03","Correo electrónico","2025-04-03",null,"",null,{"$f":"IFERROR(WORKDAY(N2249,Y2249,Hoja1!F2241:F2357),\"\")","v":""},{"$f":"+IF(N2249=\"\",\"\",IF(O2249=\"\",\"SIN RESPUESTA\",(IF(O2249<=P2249,\"A TIEMPO\",\"FUERA DE TIEMPO\"))))","v":""},null,"A TIEMPO",10,0,null,null,{"$f":"IFERROR(VLOOKUP(F2249,Hoja1!$A$50:$C$63,2),\"\")","v":15},{"$f":"IFERROR(VLOOKUP(F2249,Hoja1!$A$50:$C$63,3),\"\")","v":15}]
[2240,20259910044824,"2025-03-19","Persona natural","Virtual - Correo electrónico","Solicitud de documentos o información","Solicitud de información hidrometeorológica",null,"Grupo de Servicio al Ciudadano","2025-04-01","Correo electrónico","2025-04-03",null,"",null,{"$f":"IFERROR(WORKDAY(N2250,Y2250,Hoja1!F2242:F2358),\"\")","v":""},{"$f":"+IF(N2250=\"\",\"\",IF(O2250=\"\",\"SIN RESPUESTA\",(IF(O2250<=P2250,\"A TIEMPO\",\"FUERA DE TIEMPO\"))))","v":""},null,"A TIEMPO",8,0,null,null,{"$f":"IFERROR(VLOOKUP(F2250,Hoja1!$A$50:$C$63,2),\"\")","v":5},{"$f":"IFERROR(VLOOKUP(F2250,Hoja1!$A$50:$C$63,3),\"\")","v":5}]
[2241,20259910044834,"2025-03-19","Persona jurídica","Virtual - Correo electrónico","Solicitud de documentos o información","Registros ambientales",null,"Subdirección de Estudios Ambientales","2025-03-27","Correo electrónico","2025-04-03",null,"",null,{"$f":"IFERROR(WORKDAY(N2251,Y2251,Hoja1!F2243:F2359),\"\")","v":""},{"$f":"+IF(N2251=\"\",\"\",IF(O2251=\"\",\"SIN RESPUESTA\",(IF(O2251<=P2251,\"A TIEMPO\",\"FUERA DE TIEMPO\"))))","v":""},null,"A TIEMPO",5,0,null,null,{"$f":"IFERROR(VLOOKUP(F2251,Hoja1!$A$50:$C$63,2),\"\")","v":5},{"$f":"IFERROR(VLOOKUP(F2251,Hoja1!$A$50:$C$63,3),\"\")","v":5}]
[2242,20259910044844,"2025-03-19","Persona natural","Virtual - Correo electrónico","Solicitud de documentos o información","Solicitud de información hidrometeorológica",null,"Oficina del Servicio de Pronósticos y Alertas","2025-03-20","Correo electrónico","2025-04-03",null,"",null,{"$f":"IFERROR(WORKDAY(N2252,Y2252,Hoja1!F2244:F2360),\"\")","v":""},{"$f":"+IF(N2252=\"\",\"\",IF(O2252=\"\",\"SIN RESPUESTA\",(IF(O2252<=P2252,\"A TIEMPO\",\"FUERA DE TIEMPO\"))))","v":""},null,"A TIEMPO",1,0,null,null,{"$f":"IFERROR(VLOOKUP(F2252,Hoja1!$A$50:$C$63,2),\"\")","v":5},{"$f":"IFERROR(VLOOKUP(F2252,Hoja1!$A$50:$C$63,3),\"\")","v":5}]
[2243,20259910044864,"2025-03-19","Persona jurídica","Virtual - Correo electrónico","Solicitud de documentos o información","Registros ambientales",null,"Subdirección de Estudios Ambientales","2025-04-04","Correo electrónico","2025-04-03",null,"",null,{"$f":"IFERROR(WORKDAY(N2253,Y2253,Hoja1!F2245:F2361),\"\")","v":""},{"$f":"+IF(N2253=\"\",\"\",IF(O2253=\"\",\"SIN RESPUESTA\",(IF(O2253<=P2253,\"A TIEMPO\",\"FUERA DE TIEMPO\"))))","v":""},null,{"$f":"+IF(C2253=\"\",\"\",IF(J2253=\"\",\"SIN RESPUESTA\",(IF(J2253<=L2253,\"A TIEMPO\",\"FUERA DE TIEMPO\"))))","v":"FUERA DE TIEMPO"},11,1,null,null,{"$f":"IFERROR(VLOOKUP(F2253,Hoja1!$A$50:$C$63,2),\"\")","v":5},{"$f":"IFERROR(VLOOKUP(F2253,Hoja1!$A$50:$C$63,3),\"\")","v":5}]
[2244,20259050045064,"2025-03-19","Persona natural","Virtual - Formulario PQRSDF","Solicitud de documentos o información","Solicitud de información hidrometeorológica",null,"Grupo de Servicio al Ciudadano","2025-04-01","Correo electrónico","2025-04-03",null,"",null,{"$f":"IFERROR(WORKDAY(N2254,Y2254,Hoja1!F2246:F2362),\"\")","v":""},{"$f":"+IF(N2254=\"\",\"\",IF(O2254=\"\",\"SIN RESPUESTA\",(IF(O2254<=P2254,\"A TIEMPO\",\"FUERA DE TIEMPO\"))))","v":""},null,"A TIEMPO",8,0,null,null,{"$f":"IFERROR(VLOOKUP(F2254,Hoja1!$A$50:$C$63,2),\"\")","v":5},{"$f":"IFERROR(VLOOKUP(F2254,Hoja1!$A$50:$C$63,3),\"\")","v":5}]
[2245,20259910045014,"2025-03-19","Persona jurídica","Virtual - Correo electrónico","Certificación de ingresos y retenciones","Administrativa",null,"Grupo de Contabilidad","2025-04-09","Correo electrónico","2025-04-03",null,"",null,{"$f":"IFERROR(WORKDAY(N2255,Y2255,Hoja1!F2247:F2363),\"\")","v":""},{"$f":"+IF(N2255=\"\",\"\",IF(O2255=\"\",\"SIN RESPUESTA\",(IF(O2255<=P2255,\"A TIEMPO\",\"FUERA DE TIEMPO\"))))","v":""},null,{"$f":"+IF(C2255=\"\",\"\",IF(J2255=\"\",\"SIN RESPUESTA\",(IF(J2255<=L2255,\"A TIEMPO\",\"FUERA DE TIEMPO\"))))","v":"FUERA DE TIEMPO"},14,4,null,null,{"$f":"IFERROR(VLOOKUP(F2255,Hoja1!$A$50:$C$63,2),\"\")","v":15},{"$f":"IFERROR(VLOOKUP(F2255,Hoja1!$A$50:$C$63,3),\"\")","v":15}]
[2246,20259910044984,"2025-03-19","Persona jurídica","Virtual - Correo electrónico","Solicitud de documentos o información","Registros ambientales",null,"Subdirección de Estudios Ambientales","2025-04-02","Correo electrónico","2025-04-03",null,"",null,{"$f":"IFERROR(WORKDAY(N2256,Y2256,Hoja1!F2248:F2364),\"\")","v":""},{"$f":"+IF(N2256=\"\",\"\",IF(O2256=\"\",\"SIN RESPUESTA\",(IF(O2256<=P2256,\"A TIEMPO\",\"FUERA DE TIEMPO\"))))","v":""},null,"A TIEMPO",9,0,null,null,{"$f":"IFERROR(VLOOKUP(F2256,Hoja1!$A$50:$C$63,2),\"\")","v":5},{"$f":"IFERROR(VLOOKUP(F2256,Hoja1!$A$50:$C$63,3),\"\")","v":5}]
[{"$f":"IF(B2257<>\"\",A2256+1,\"\")","v":2247},20259910045154,"2025-03-19","Persona jurídica","Virtual - Correo electrónico","Solicitud de documentos o información","Registros ambientales",null,"Subdirección de Estudios Ambientales","2025-04-04","Correo electrónico","2025-04-03",null,"",null,{"$f":"IFERROR(WORKDAY(N2257,Y2257,Hoja1!F2249:F2365),\"\")","v":""},{"$f":"+IF(N2257=\"\",\"\",IF(O2257=\"\",\"SIN RESPUESTA\",(IF(O2257<=P2257,\"A TIEMPO\",\"FUERA DE TIEMPO\"))))","v":""},null,{"$f":"+IF(C2257=\"\",\"\",IF(J2257=\"\",\"SIN RESPUESTA\",(IF(J2257<=L2257,\"A TIEMPO\",\"FUERA DE TIEMPO\"))))","v":"FUERA DE TIEMPO"},11,1,null,null,{"$f":"IFERROR(VLOOKUP(F2257,Hoja1!$A$50:$C$63,2),\"\")","v":5},{"$f":"IFERROR(VLOOKUP(F2257,Hoja1!$A$50:$C$63,3),\"\")","v":5}]
[2248,20259910045144,"2025-03-19","Persona natural","Virtual - Correo electrónico","Denuncia","Administrativa",null,"Oficina Asesora Jurídica","2025-03-20","No aplica","2025-04-10",null,"",null,{"$f":"IFERROR(WORKDAY(N2258,Y2258,Hoja1!F2250:F2366),\"\")","v":""},{"$f":"+IF(N2258=\"\",\"\",IF(O2258=\"\",\"SIN RESPUESTA\",(IF(O2258<=P2258,\"A TIEMPO\",\"FUERA DE TIEMPO\"))))","v":""},null,"A TIEMPO",1,0,null,null,{"$f":"IFERROR(VLOOKUP(F2258,Hoja1!$A$50:$C$63,2),\"\")","v":15},{"$f":"IFERROR(VLOOKUP(F2258,Hoja1!$A$50:$C$63,3),\"\")","v":15}]
[2249,20259910045184,"2025-03-19","Persona jurídica","Virtual - Correo electrónico","Solicitud de documentos o información","Registros ambientales",null,"Subdirección de Estudios Ambientales","2025-04-02","Correo electrónico","2025-04-03",null,"",null,{"$f":"IFERROR(WORKDAY(N2259,Y2259,Hoja1!F2251:F2367),\"\")","v":""},{"$f":"+IF(N2259=\"\",\"\",IF(O2259=\"\",\"SIN RESPUESTA\",(IF(O2259<=P2259,\"A TIEMPO\",\"FUERA DE TIEMPO\"))))","v":""},null,"A TIEMPO",9,0,null,null,{"$f":"IFERROR(VLOOKUP(F2259,Hoja1!$A$50:$C$63,2),\"\")","v":5},{"$f":"IFERROR(VLOOKUP(F2259,Hoja1!$A$50:$C$63,3),\"\")","v":5}]
[2250,20259910044894,"2025-03-19","Persona jurídica","Virtual - Correo electrónico","Solicitud de documentos o información","Registros ambientales",null,"Subdirección de Estudios Ambientales","2025-03-27","Correo electrónico","2025-04-03",null,"",null,{"$f":"IFERROR(WORKDAY(N2260,Y2260,Hoja1!F2252:F2368),\"\")","v":""},{"$f":"+IF(N2260=\"\",\"\",IF(O2260=\"\",\"SIN RESPUESTA\",(IF(O2260<=P2260,\"A TIEMPO\",\"FUERA DE TIEMPO\"))))","v":""},null,"A TIEMPO",5,0,null,null,{"$f":"IFERROR(VLOOKUP(F2260,Hoja1!$A$50:$C$63,2),\"\")","v":5},{"$f":"IFERROR(VLOOKUP(F2260,Hoja1!$A$50:$C$63,3),\"\")","v":5}]
[2251,20259910044904,"2025-03-19","Persona jurídica","Virtual - Correo electrónico","Petición entre autoridades","Registros ambientales",null,"Subdirección de Estudios Ambientales","2025-04-04","Correo electrónico","2025-04-03",null,"",null,{"$f":"IFERROR(WORKDAY(N2261,Y2261,Hoja1!F2253:F2369),\"\")","v":""},{"$f":"+IF(N2261=\"\",\"\",IF(O2261=\"\",\"SIN RESPUESTA\",(IF(O2261<=P2261,\"A TIEMPO\",\"FUERA DE TIEMPO\"))))","v":""},null,{"$f":"+IF(C2261=\"\",\"\",IF(J2261=\"\",\"SIN RESPUESTA\",(IF(J2261<=L2261,\"A TIEMPO\",\"FUERA DE TIEMPO\"))))","v":"FUERA DE TIEMPO"},11,1,null,null,{"$f":"IFERROR(VLOOKUP(F2261,Hoja1!$A$50:$C$63,2),\"\")","v":10},{"$f":"IFERROR(VLOOKUP(F2261,Hoja1!$A$50:$C$63,3),\"\")","v":10}]
[2252,20259910044924,"2025-03-19","Persona jurídica","Virtual - Correo electrónico","Solicitud de documentos o información","Registros ambientales",null,"Subdirección de Estudios Ambientales","2025-04-02","Correo electrónico","2025-04-03",null,"",null,{"$f":"IFERROR(WORKDAY(N2262,Y2262,Hoja1!F2254:F2370),\"\")","v":""},{"$f":"+IF(N2262=\"\",\"\",IF(O2262=\"\",\"SIN RESPUESTA\",(IF(O2262<=P2262,\"A TIEMPO\",\"FUERA DE TIEMPO\"))))","v":""},null,"A TIEMPO",9,0,null,null,{"$f":"IFERROR(VLOOKUP(F2262,Hoja1!$A$50:$C$63,2),\"\")","v":5},{"$f":"IFERROR(VLOOKUP(F2262,Hoja1!$A$50:$C$63,3),\"\")","v":5}]
[2253,20259910044934,"2025-03-19","Persona jurídica","Virtual - Correo electrónico","Solicitud de documentos o información","Administrativa",null,"Oficina Asesora Jurídica","2025-04-03","Correo certificado","2025-04-03",null,"",null,{"$f":"IFERROR(WORKDAY(N2263,Y2263,Hoja1!F2255:F2371),\"\")","v":""},{"$f":"+IF(N2263=\"\",\"\",IF(O2263=\"\",\"SIN RESPUESTA\",(IF(O2263<=P2263,\"A TIEMPO\",\"FUERA DE TIEMPO\"))))","v":""},null,"A TIEMPO",10,0,null,null,{"$f":"IFERROR(VLOOKUP(F2263,Hoja1!$A$50:$C$63,2),\"\")","v":5},{"$f":"IFERROR(VLOOKUP(F2263,Hoja1!$A$50:$C$63,3),\"\")","v":5}]
[2254,20259910044964,"2025-03-19","Persona jurídica","Virtual - Correo electrónico","Solicitud de documentos o información","Registros ambientales",null,"Subdirección de Estudios Ambientales","2025-04-02","Correo electrónico","2025-04-03",null,"",null,{"$f":"IFERROR(WORKDAY(N2264,Y2264,Hoja1!F2256:F2372),\"\")","v":""},{"$f":"+IF(N2264=\"\",\"\",IF(O2264=\"\",\"SIN RESPUESTA\",(IF(O2264<=P2264,\"A TIEMPO\",\"FUERA DE TIEMPO\"))))","v":""},null,"A TIEMPO",9,0,null,null,{"$f":"IFERROR(VLOOKUP(F2264,Hoja1!$A$50:$C$63,2),\"\")","v":5},{"$f":"IFERROR(VLOOKUP(F2264,Hoja1!$A$50:$C$63,3),\"\")","v":5}]
[2255,20259910044954,"2025-03-19","Persona jurídica","Virtual - Correo electrónico","Solicitud de documentos o información","Registros ambientales",null,"Subdirección de Estudios Ambientales","2025-04-02","Correo electrónico","2025-04-03",null,"",null,{"$f":"IFERROR(WORKDAY(N2265,Y2265,Hoja1!F2257:F2373),\"\")","v":""},{"$f":"+IF(N2265=\"\",\"\",IF(O2265=\"\",\"SIN RESPUESTA\",(IF(O2265<=P2265,\"A TIEMPO\",\"FUERA DE TIEMPO\"))))","v":""},null,"A TIEMPO",9,0,null,null,{"$f":"IFERROR(VLOOKUP(F2265,Hoja1!$A$50:$C$63,2),\"\")","v":5},{"$f":"IFERROR(VLOOKUP(F2265,Hoja1!$A$50:$C$63,3),\"\")","v":5}]
[2256,20259910044974,"2025-03-19","Persona jurídica","Virtual - Correo electrónico","Solicitud de documentos o información","Registros ambientales",null,"Subdirección de Estudios Ambientales","2025-04-02","Correo electrónico","2025-04-03",null,"",null,{"$f":"IFERROR(WORKDAY(N2266,Y2266,Hoja1!F2258:F2374),\"\")","v":""},{"$f":"+IF(N2266=\"\",\"\",IF(O2266=\"\",\"SIN RESPUESTA\",(IF(O2266<=P2266,\"A TIEMPO\",\"FUERA DE TIEMPO\"))))","v":""},null,"A TIEMPO",9,0,null,null,{"$f":"IFERROR(VLOOKUP(F2266,Hoja1!$A$50:$C$63,2),\"\")","v":5},{"$f":"IFERROR(VLOOKUP(F2266,Hoja1!$A$50:$C$63,3),\"\")","v":5}]
[2257,20259910044994,"2025-03-19","Persona jurídica","Virtual - Correo electrónico","Solicitud de documentos o información","Registros ambientales",null,"Subdirección de Estudios Ambientales","2025-04-02","Correo electrónico","2025-04-03",null,"",null,{"$f":"IFERROR(WORKDAY(N2267,Y2267,Hoja1!F2259:F2375),\"\")","v":""},{"$f":"+IF(N2267=\"\",\"\",IF(O2267=\"\",\"SIN RESPUESTA\",(IF(O2267<=P2267,\"A TIEMPO\",\"FUERA DE TIEMPO\"))))","v":""},null,"A TIEMPO",9,0,null,null,{"$f":"IFERROR(VLOOKUP(F2267,Hoja1!$A$50:$C$63,2),\"\")","v":5},{"$f":"IFERROR(VLOOKUP(F2267,Hoja1!$A$50:$C$63,3),\"\")","v":5}]
[2258,20259910045024,"2025-03-19","Persona jurídica","Virtual - Correo electrónico","Solicitud de documentos o información","Registros ambientales",null,"Subdirección de Estudios Ambientales","2025-04-02","Correo electrónico","2025-04-03",null,"",null,{"$f":"IFERROR(WORKDAY(N2268,Y2268,Hoja1!F2260:F2376),\"\")","v":""},{"$f":"+IF(N2268=\"\",\"\",IF(O2268=\"\",\"SIN RESPUESTA\",(IF(O2268<=P2268,\"A TIEMPO\",\"FUERA DE TIEMPO\"))))","v":""},null,"A TIEMPO",9,0,null,null,{"$f":"IFERROR(VLOOKUP(F2268,Hoja1!$A$50:$C$63,2),\"\")","v":5},{"$f":"IFERROR(VLOOKUP(F2268,Hoja1!$A$50:$C$63,3),\"\")","v":5}]
[2259,20259910045194,"2025-03-19","Persona jurídica","Virtual - Correo electrónico","Solicitud de documentos o información","Registros ambientales",null,"Subdirección de Estudios Ambientales","2025-04-04","Correo electrónico","2025-04-03",null,"",null,{"$f":"IFERROR(WORKDAY(N2269,Y2269,Hoja1!F2261:F2377),\"\")","v":""},{"$f":"+IF(N2269=\"\",\"\",IF(O2269=\"\",\"SIN RESPUESTA\",(IF(O2269<=P2269,\"A TIEMPO\",\"FUERA DE TIEMPO\"))))","v":""},null,{"$f":"+IF(C2269=\"\",\"\",IF(J2269=\"\",\"SIN RESPUESTA\",(IF(J2269<=L2269,\"A TIEMPO\",\"FUERA DE TIEMPO\"))))","v":"FUERA DE TIEMPO"},11,1,null,null,{"$f":"IFERROR(VLOOKUP(F2269,Hoja1!$A$50:$C$63,2),\"\")","v":5},{"$f":"IFERROR(VLOOKUP(F2269,Hoja1!$A$50:$C$63,3),\"\")","v":5}]
[2260,20259910045094,"2025-03-19","Persona jurídica","Virtual - Correo electrónico","Solicitud de documentos o información","Registros ambientales",null,"Subdirección de Estudios Ambientales","2025-04-02","Correo electrónico","2025-04-03",null,"",null,{"$f":"IFERROR(WORKDAY(N2270,Y2270,Hoja1!F2262:F2378),\"\")","v":""},{"$f":"+IF(N2270=\"\",\"\",IF(O2270=\"\",\"SIN RESPUESTA\",(IF(O2270<=P2270,\"A TIEMPO\",\"FUERA DE TIEMPO\"))))","v":""},null,"A TIEMPO",9,0,null,null,{"$f":"IFERROR(VLOOKUP(F2270,Hoja1!$A$50:$C$63,2),\"\")","v":5},{"$f":"IFERROR(VLOOKUP(F2270,Hoja1!$A$50:$C$63,3),\"\")","v":5}]
[2261,20259910045174,"2025-03-19","Persona jurídica","Virtual - Correo electrónico","Solicitud de documentos o información","Registros ambientales",null,"Subdirección de Estudios Ambientales","2025-03-25","Correo electrónico","2025-04-03",null,"",null,{"$f":"IFERROR(WORKDAY(N2271,Y2271,Hoja1!F2263:F2379),\"\")","v":""},{"$f":"+IF(N2271=\"\",\"\",IF(O2271=\"\",\"SIN RESPUESTA\",(IF(O2271<=P2271,\"A TIEMPO\",\"FUERA DE TIEMPO\"))))","v":""},null,"A TIEMPO",3,0,null,null,{"$f":"IFERROR(VLOOKUP(F2271,Hoja1!$A$50:$C$63,2),\"\")","v":5},{"$f":"IFERROR(VLOOKUP(F2271,Hoja1!$A$50:$C$63,3),\"\")","v":5}]
[2262,20259910045134,"2025-03-19","Persona jurídica","Virtual - Correo electrónico","Solicitud de documentos o información","Registros ambientales",null,"Subdirección de Estudios Ambientales","2025-03-27","Correo electrónico","2025-04-03",null,"",null,{"$f":"IFERROR(WORKDAY(N2272,Y2272,Hoja1!F2264:F2380),\"\")","v":""},{"$f":"+IF(N2272=\"\",\"\",IF(O2272=\"\",\"SIN RESPUESTA\",(IF(O2272<=P2272,\"A TIEMPO\",\"FUERA DE TIEMPO\"))))","v":""},null,"A TIEMPO",5,0,null,null,{"$f":"IFERROR(VLOOKUP(F2272,Hoja1!$A$50:$C$63,2),\"\")","v":5},{"$f":"IFERROR(VLOOKUP(F2272,Hoja1!$A$50:$C$63,3),\"\")","v":5}]
[2263,20259910045054,"2025-03-19","Persona jurídica","Virtual - Correo electrónico","Solicitud de documentos o información","Registros ambientales",null,"Subdirección de Estudios Ambientales","2025-03-31","Correo electrónico","2025-04-03",null,"",null,{"$f":"IFERROR(WORKDAY(N2273,Y2273,Hoja1!F2265:F2381),\"\")","v":""},{"$f":"+IF(N2273=\"\",\"\",IF(O2273=\"\",\"SIN RESPUESTA\",(IF(O2273<=P2273,\"A TIEMPO\",\"FUERA DE TIEMPO\"))))","v":""},null,"A TIEMPO",7,0,null,null,{"$f":"IFERROR(VLOOKUP(F2273,Hoja1!$A$50:$C$63,2),\"\")","v":5},{"$f":"IFERROR(VLOOKUP(F2273,Hoja1!$A$50:$C$63,3),\"\")","v":5}]
[2264,20259910048984,"2025-03-25","Persona natural","Virtual - Correo electrónico","Solicitud de documentos o información","Web y correo",null,"Oficina de Informática","2025-03-26","Correo certificado","2025-04-08",null,"",null,{"$f":"IFERROR(WORKDAY(N2274,Y2274,Hoja1!F2266:F2382),\"\")","v":""},{"$f":"+IF(N2274=\"\",\"\",IF(O2274=\"\",\"SIN RESPUESTA\",(IF(O2274<=P2274,\"A TIEMPO\",\"FUERA DE TIEMPO\"))))","v":""},null,"A TIEMPO",-6,0,null,null,{"$f":"IFERROR(VLOOKUP(F2274,Hoja1!$A$50:$C$63,2),\"\")","v":5},{"$f":"IFERROR(VLOOKUP(F2274,Hoja1!$A$50:$C$63,3),\"\")","v":5}]
[2265,20259910045104,"2025-03-19","Persona jurídica","Virtual - Correo electrónico","Solicitud de documentos o información","Registros ambientales",null,"Subdirección de Estudios Ambientales","2025-04-07","Correo electrónico","2025-04-03",null,"",null,{"$f":"IFERROR(WORKDAY(N2275,Y2275,Hoja1!F2267:F2383),\"\")","v":""},{"$f":"+IF(N2275=\"\",\"\",IF(O2275=\"\",\"SIN RESPUESTA\",(IF(O2275<=P2275,\"A TIEMPO\",\"FUERA DE TIEMPO\"))))","v":""},null,{"$f":"+IF(C2275=\"\",\"\",IF(J2275=\"\",\"SIN RESPUESTA\",(IF(J2275<=L2275,\"A TIEMPO\",\"FUERA DE TIEMPO\"))))","v":"FUERA DE TIEMPO"},12,2,null,null,{"$f":"IFERROR(VLOOKUP(F2275,Hoja1!$A$50:$C$63,2),\"\")","v":5},{"$f":"IFERROR(VLOOKUP(F2275,Hoja1!$A$50:$C$63,3),\"\")","v":5}]
[2266,20259910045124,"2025-03-19","Persona jurídica","Virtual - Correo electrónico","Solicitud de documentos o información","Registros ambientales",null,"Subdirección de Estudios Ambientales","2025-04-04","Correo electrónico","2025-04-03",null,"",null,{"$f":"IFERROR(WORKDAY(N2276,Y2276,Hoja1!F2268:F2384),\"\")","v":""},{"$f":"+IF(N2276=\"\",\"\",IF(O2276=\"\",\"SIN RESPUESTA\",(IF(O2276<=P2276,\"A TIEMPO\",\"FUERA DE TIEMPO\"))))","v":""},null,{"$f":"+IF(C2276=\"\",\"\",IF(J2276=\"\",\"SIN RESPUESTA\",(IF(J2276<=L2276,\"A TIEMPO\",\"FUERA DE TIEMPO\"))))","v":"FUERA DE TIEMPO"},11,1,null,null,{"$f":"IFERROR(VLOOKUP(F2276,Hoja1!$A$50:$C$63,2),\"\")","v":5},{"$f":"IFERROR(VLOOKUP(F2276,Hoja1!$A$50:$C$63,3),\"\")","v":5}]
[2267,20259910045434,"2025-03-19","Persona natural","Virtual - Correo electrónico","Certificación electrónica de tiempos laborados - CETIL","Administrativa",null,"Grupo de Administración y Desarrollo del Talento Humano",null,null,"2025-04-10","Si","2025-05-06",null,{"$f":"IFERROR(WORKDAY(N2277,Y2277,Hoja1!F2269:F2385),\"\")","v":"2025-05-27"},{"$f":"+IF(N2277=\"\",\"\",IF(O2277=\"\",\"SIN RESPUESTA\",(IF(O2277<=P2277,\"A TIEMPO\",\"FUERA DE TIEMPO\"))))","v":"SIN RESPUESTA"},null,{"$f":"+IF(C2277=\"\",\"\",IF(J2277=\"\",\"SIN RESPUESTA\",(IF(J2277<=L2277,\"A TIEMPO\",\"FUERA DE TIEMPO\"))))","v":"SIN RESPUESTA"},0,0,null,null,{"$f":"IFERROR(VLOOKUP(F2277,Hoja1!$A$50:$C$63,2),\"\")","v":15},{"$f":"IFERROR(VLOOKUP(F2277,Hoja1!$A$50:$C$63,3),\"\")","v":15}]
[2268,20259050045644,"2025-03-19","Persona jurídica","Virtual - Formulario PQRSDF","Solicitud de documentos o información","Bosques",null,"Subdirección de Ecosistemas e Información Ambiental","2025-04-03","Correo electrónico","2025-04-03",null,"",null,{"$f":"IFERROR(WORKDAY(N2278,Y2278,Hoja1!F2270:F2386),\"\")","v":""},{"$f":"+IF(N2278=\"\",\"\",IF(O2278=\"\",\"SIN RESPUESTA\",(IF(O2278<=P2278,\"A TIEMPO\",\"FUERA DE TIEMPO\"))))","v":""},null,"A TIEMPO",10,0,null,null,{"$f":"IFERROR(VLOOKUP(F2278,Hoja1!$A$50:$C$63,2),\"\")","v":5},{"$f":"IFERROR(VLOOKUP(F2278,Hoja1!$A$50:$C$63,3),\"\")","v":5}]
[2269,20259050045334,"2025-03-19","Persona jurídica","Virtual - Formulario PQRSDF","Solicitud de documentos o información","Registros ambientales",null,"Subdirección de Estudios Ambientales","2025-04-02","Correo electrónico","2025-04-03",null,"",null,{"$f":"IFERROR(WORKDAY(N2279,Y2279,Hoja1!F2271:F2387),\"\")","v":""},{"$f":"+IF(N2279=\"\",\"\",IF(O2279=\"\",\"SIN RESPUESTA\",(IF(O2279<=P2279,\"A TIEMPO\",\"FUERA DE TIEMPO\"))))","v":""},null,"A TIEMPO",9,0,null,null,{"$f":"IFERROR(VLOOKUP(F2279,Hoja1!$A$50:$C$63,2),\"\")","v":5},{"$f":"IFERROR(VLOOKUP(F2279,Hoja1!$A$50:$C$63,3),\"\")","v":5}]
[2270,20259910045274,"2025-03-19","Persona natural","Virtual - Correo electrónico","Certificación electrónica de tiempos laborados - CETIL","Administrativa",null,"Grupo de Administración y Desarrollo del Talento Humano","2025-05-05","Correo electrónico","2025-04-10",null,"",null,{"$f":"IFERROR(WORKDAY(N2280,Y2280,Hoja1!F2272:F2388),\"\")","v":""},{"$f":"+IF(N2280=\"\",\"\",IF(O2280=\"\",\"SIN RESPUESTA\",(IF(O2280<=P2280,\"A TIEMPO\",\"FUERA DE TIEMPO\"))))","v":""},null,{"$f":"+IF(C2280=\"\",\"\",IF(J2280=\"\",\"SIN RESPUESTA\",(IF(J2280<=L2280,\"A TIEMPO\",\"FUERA DE TIEMPO\"))))","v":"FUERA DE TIEMPO"},29,14,null,null,{"$f":"IFERROR(VLOOKUP(F2280,Hoja1!$A$50:$C$63,2),\"\")","v":15},{"$f":"IFERROR(VLOOKUP(F2280,Hoja1!$A$50:$C$63,3),\"\")","v":15}]
[2271,20259050045584,"2025-03-19","Persona natural","Virtual - Formulario PQRSDF","Certificación laboral o pasantía","Administrativa",null,"Grupo de Administración y Desarrollo del Talento Humano","2025-03-25","Correo electrónico","2025-04-03",null,"",null,{"$f":"IFERROR(WORKDAY(N2281,Y2281,Hoja1!F2273:F2389),\"\")","v":""},{"$f":"+IF(N2281=\"\",\"\",IF(O2281=\"\",\"SIN RESPUESTA\",(IF(O2281<=P2281,\"A TIEMPO\",\"FUERA DE TIEMPO\"))))","v":""},null,"A TIEMPO",3,0,null,null,{"$f":"IFERROR(VLOOKUP(F2281,Hoja1!$A$50:$C$63,2),\"\")","v":15},{"$f":"IFERROR(VLOOKUP(F2281,Hoja1!$A$50:$C$63,3),\"\")","v":15}]
[2272,20259910045514,"2025-03-19","Persona natural","Virtual - Correo electrónico","Certificación laboral o pasantía","Administrativa",null,"Grupo de Administración y Desarrollo del Talento Humano","2025-03-25","Correo electrónico","2025-04-03",null,"",null,{"$f":"IFERROR(WORKDAY(N2282,Y2282,Hoja1!F2274:F2390),\"\")","v":""},{"$f":"+IF(N2282=\"\",\"\",IF(O2282=\"\",\"SIN RESPUESTA\",(IF(O2282<=P2282,\"A TIEMPO\",\"FUERA DE TIEMPO\"))))","v":""},null,"A TIEMPO",3,0,null,null,{"$f":"IFERROR(VLOOKUP(F2282,Hoja1!$A$50:$C$63,2),\"\")","v":15},{"$f":"IFERROR(VLOOKUP(F2282,Hoja1!$A$50:$C$63,3),\"\")","v":15}]
[2273,20259910045574,"2025-03-19","Persona jurídica","Virtual - Correo electrónico","Certificación de tiempo, clima y eventos hidrológicos","Certificaciones del tiempo y clima",null,"Subdirección de Meteorología","2025-04-02","Correo electrónico","2025-05-06",null,"",null,{"$f":"IFERROR(WORKDAY(N2283,Y2283,Hoja1!F2275:F2391),\"\")","v":""},{"$f":"+IF(N2283=\"\",\"\",IF(O2283=\"\",\"SIN RESPUESTA\",(IF(O2283<=P2283,\"A TIEMPO\",\"FUERA DE TIEMPO\"))))","v":""},null,"A TIEMPO",9,0,null,null,{"$f":"IFERROR(VLOOKUP(F2283,Hoja1!$A$50:$C$63,2),\"\")","v":15},{"$f":"IFERROR(VLOOKUP(F2283,Hoja1!$A$50:$C$63,3),\"\")","v":15}]
[2274,20259910045464,"2025-03-19","Persona jurídica","Virtual - Correo electrónico","Solicitud de documentos o información","Pronósticos y alertas",null,"Subdirección de Estudios Ambientales","2025-03-31","Correo electrónico","2025-04-03",null,"",null,{"$f":"IFERROR(WORKDAY(N2284,Y2284,Hoja1!F2276:F2392),\"\")","v":""},{"$f":"+IF(N2284=\"\",\"\",IF(O2284=\"\",\"SIN RESPUESTA\",(IF(O2284<=P2284,\"A TIEMPO\",\"FUERA DE TIEMPO\"))))","v":""},null,"A TIEMPO",7,0,null,null,{"$f":"IFERROR(VLOOKUP(F2284,Hoja1!$A$50:$C$63,2),\"\")","v":5},{"$f":"IFERROR(VLOOKUP(F2284,Hoja1!$A$50:$C$63,3),\"\")","v":5}]
[2275,20259910045564,"2025-03-19","Persona jurídica","Virtual - Correo electrónico","Certificación de tiempo, clima y eventos hidrológicos","Certificaciones del tiempo y clima",null,"Subdirección de Meteorología","2025-04-28","Correo electrónico","2025-05-06",null,"",null,{"$f":"IFERROR(WORKDAY(N2285,Y2285,Hoja1!F2277:F2393),\"\")","v":""},{"$f":"+IF(N2285=\"\",\"\",IF(O2285=\"\",\"SIN RESPUESTA\",(IF(O2285<=P2285,\"A TIEMPO\",\"FUERA DE TIEMPO\"))))","v":""},null,"A TIEMPO",25,0,null,null,{"$f":"IFERROR(VLOOKUP(F2285,Hoja1!$A$50:$C$63,2),\"\")","v":15},{"$f":"IFERROR(VLOOKUP(F2285,Hoja1!$A$50:$C$63,3),\"\")","v":15}]
[2276,20259910045504,"2025-03-19","Persona jurídica","Virtual - Correo electrónico","Solicitud de documentos o información","Registros ambientales",null,"Subdirección de Estudios Ambientales","2025-03-27","Correo electrónico","2025-04-03",null,"",null,{"$f":"IFERROR(WORKDAY(N2286,Y2286,Hoja1!F2278:F2394),\"\")","v":""},{"$f":"+IF(N2286=\"\",\"\",IF(O2286=\"\",\"SIN RESPUESTA\",(IF(O2286<=P2286,\"A TIEMPO\",\"FUERA DE TIEMPO\"))))","v":""},null,"A TIEMPO",5,0,null,null,{"$f":"IFERROR(VLOOKUP(F2286,Hoja1!$A$50:$C$63,2),\"\")","v":5},{"$f":"IFERROR(VLOOKUP(F2286,Hoja1!$A$50:$C$63,3),\"\")","v":5}]
[2277,20259910045524,"2025-03-19","Persona jurídica","Virtual - Correo electrónico","Solicitud de documentos o información","Registros ambientales",null,"Subdirección de Estudios Ambientales","2025-03-27","Correo electrónico","2025-04-03",null,"",null,{"$f":"IFERROR(WORKDAY(N2287,Y2287,Hoja1!F2279:F2395),\"\")","v":""},{"$f":"+IF(N2287=\"\",\"\",IF(O2287=\"\",\"SIN RESPUESTA\",(IF(O2287<=P2287,\"A TIEMPO\",\"FUERA DE TIEMPO\"))))","v":""},null,"A TIEMPO",5,0,null,null,{"$f":"IFERROR(VLOOKUP(F2287,Hoja1!$A$50:$C$63,2),\"\")","v":5},{"$f":"IFERROR(VLOOKUP(F2287,Hoja1!$A$50:$C$63,3),\"\")","v":5}]
[2278,20259910045554,"2025-03-19","Persona natural","Virtual - Correo electrónico","Certificación laboral o pasantía","Administrativa",null,"Grupo de Administración y Desarrollo del Talento Humano","2025-04-04","Correo electrónico","2025-04-03",null,"",null,{"$f":"IFERROR(WORKDAY(N2288,Y2288,Hoja1!F2280:F2396),\"\")","v":""},{"$f":"+IF(N2288=\"\",\"\",IF(O2288=\"\",\"SIN RESPUESTA\",(IF(O2288<=P2288,\"A TIEMPO\",\"FUERA DE TIEMPO\"))))","v":""},null,{"$f":"+IF(C2288=\"\",\"\",IF(J2288=\"\",\"SIN RESPUESTA\",(IF(J2288<=L2288,\"A TIEMPO\",\"FUERA DE TIEMPO\"))))","v":"FUERA DE TIEMPO"},11,1,null,null,{"$f":"IFERROR(VLOOKUP(F2288,Hoja1!$A$50:$C$63,2),\"\")","v":15},{"$f":"IFERROR(VLOOKUP(F2288,Hoja1!$A$50:$C$63,3),\"\")","v":15}]
[2279,20259910045204,"2025-03-19","Persona jurídica","Virtual - Correo electrónico","Solicitud de documentos o información","Registros ambientales",null,"Subdirección de Estudios Ambientales","2025-04-02","Correo electrónico","2025-04-03",null,"",null,{"$f":"IFERROR(WORKDAY(N2289,Y2289,Hoja1!F2281:F2397),\"\")","v":""},{"$f":"+IF(N2289=\"\",\"\",IF(O2289=\"\",\"SIN RESPUESTA\",(IF(O2289<=P2289,\"A TIEMPO\",\"FUERA DE TIEMPO\"))))","v":""},null,"A TIEMPO",9,0,null,null,{"$f":"IFERROR(VLOOKUP(F2289,Hoja1!$A$50:$C$63,2),\"\")","v":5},{"$f":"IFERROR(VLOOKUP(F2289,Hoja1!$A$50:$C$63,3),\"\")","v":5}]
[2280,20259910045224,"2025-03-19","Persona jurídica","Virtual - Correo electrónico","Petición entre autoridades","Administrativa",null,"Dirección General","2025-03-25","Correo electrónico","2025-04-03",null,"",null,{"$f":"IFERROR(WORKDAY(N2290,Y2290,Hoja1!F2282:F2398),\"\")","v":""},{"$f":"+IF(N2290=\"\",\"\",IF(O2290=\"\",\"SIN RESPUESTA\",(IF(O2290<=P2290,\"A TIEMPO\",\"FUERA DE TIEMPO\"))))","v":""},null,"A TIEMPO",3,0,null,null,{"$f":"IFERROR(VLOOKUP(F2290,Hoja1!$A$50:$C$63,2),\"\")","v":10},{"$f":"IFERROR(VLOOKUP(F2290,Hoja1!$A$50:$C$63,3),\"\")","v":10}]
[2281,20259910045244,"2025-03-19","Persona natural","Virtual - Correo electrónico","Solicitud de documentos o información","Administrativa",null,"Grupo de Administración y Desarrollo del Talento Humano","2025-04-03","Correo electrónico","2025-04-03",null,"",null,{"$f":"IFERROR(WORKDAY(N2291,Y2291,Hoja1!F2283:F2399),\"\")","v":""},{"$f":"+IF(N2291=\"\",\"\",IF(O2291=\"\",\"SIN RESPUESTA\",(IF(O2291<=P2291,\"A TIEMPO\",\"FUERA DE TIEMPO\"))))","v":""},null,"A TIEMPO",10,0,null,null,{"$f":"IFERROR(VLOOKUP(F2291,Hoja1!$A$50:$C$63,2),\"\")","v":5},{"$f":"IFERROR(VLOOKUP(F2291,Hoja1!$A$50:$C$63,3),\"\")","v":5}]
[2282,20259910045254,"2025-03-19","Persona jurídica","Virtual - Correo electrónico","Solicitud de documentos o información","Registros ambientales",null,"Subdirección de Estudios Ambientales","2025-04-02","Correo electrónico","2025-04-03",null,"",null,{"$f":"IFERROR(WORKDAY(N2292,Y2292,Hoja1!F2284:F2400),\"\")","v":""},{"$f":"+IF(N2292=\"\",\"\",IF(O2292=\"\",\"SIN RESPUESTA\",(IF(O2292<=P2292,\"A TIEMPO\",\"FUERA DE TIEMPO\"))))","v":""},null,"A TIEMPO",9,0,null,null,{"$f":"IFERROR(VLOOKUP(F2292,Hoja1!$A$50:$C$63,2),\"\")","v":5},{"$f":"IFERROR(VLOOKUP(F2292,Hoja1!$A$50:$C$63,3),\"\")","v":5}]
[2283,20259910045444,"2025-03-19","Persona natural","Virtual - Correo electrónico","Solicitud de documentos o información","Solicitud de información hidrometeorológica",null,"Subdirección de Meteorología","2025-03-28","Correo electrónico","2025-04-03",null,"",null,{"$f":"IFERROR(WORKDAY(N2293,Y2293,Hoja1!F2285:F2401),\"\")","v":""},{"$f":"+IF(N2293=\"\",\"\",IF(O2293=\"\",\"SIN RESPUESTA\",(IF(O2293<=P2293,\"A TIEMPO\",\"FUERA DE TIEMPO\"))))","v":""},null,"A TIEMPO",6,0,null,null,{"$f":"IFERROR(VLOOKUP(F2293,Hoja1!$A$50:$C$63,2),\"\")","v":5},{"$f":"IFERROR(VLOOKUP(F2293,Hoja1!$A$50:$C$63,3),\"\")","v":5}]
[2284,20259910045544,"2025-03-19","Persona jurídica","Virtual - Correo electrónico","Certificación de contrato","Administrativa",null,"Oficina Asesora Jurídica","2025-04-03","Correo certificado","2025-04-03",null,"",null,{"$f":"IFERROR(WORKDAY(N2294,Y2294,Hoja1!F2286:F2402),\"\")","v":""},{"$f":"+IF(N2294=\"\",\"\",IF(O2294=\"\",\"SIN RESPUESTA\",(IF(O2294<=P2294,\"A TIEMPO\",\"FUERA DE TIEMPO\"))))","v":""},null,"A TIEMPO",10,0,null,null,{"$f":"IFERROR(VLOOKUP(F2294,Hoja1!$A$50:$C$63,2),\"\")","v":15},{"$f":"IFERROR(VLOOKUP(F2294,Hoja1!$A$50:$C$63,3),\"\")","v":15}]
[2285,20259910045454,"2025-03-19","Persona jurídica","Virtual - Correo electrónico","Solicitud de documentos o información","Registros ambientales",null,"Subdirección de Estudios Ambientales","2025-04-04","Correo electrónico","2025-04-03",null,"",null,{"$f":"IFERROR(WORKDAY(N2295,Y2295,Hoja1!F2287:F2403),\"\")","v":""},{"$f":"+IF(N2295=\"\",\"\",IF(O2295=\"\",\"SIN RESPUESTA\",(IF(O2295<=P2295,\"A TIEMPO\",\"FUERA DE TIEMPO\"))))","v":""},null,{"$f":"+IF(C2295=\"\",\"\",IF(J2295=\"\",\"SIN RESPUESTA\",(IF(J2295<=L2295,\"A TIEMPO\",\"FUERA DE TIEMPO\"))))","v":"FUERA DE TIEMPO"},11,1,null,null,{"$f":"IFERROR(VLOOKUP(F2295,Hoja1!$A$50:$C$63,2),\"\")","v":5},{"$f":"IFERROR(VLOOKUP(F2295,Hoja1!$A$50:$C$63,3),\"\")","v":5}]
[2286,20259050001864,"2025-01-07","Persona natural","Virtual - Formulario PQRSDF","Solicitud de documentos o información","Solicitud de información hidrometeorológica",null,"Área Operativa No. 3 - Villavicencio","2025-01-14","Correo electrónico","2025-01-21",null,"",null,{"$f":"IFERROR(WORKDAY(N2296,Y2296,Hoja1!F2288:F2404),\"\")","v":""},{"$f":"+IF(N2296=\"\",\"\",IF(O2296=\"\",\"SIN RESPUESTA\",(IF(O2296<=P2296,\"A TIEMPO\",\"FUERA DE TIEMPO\"))))","v":""},null,"A TIEMPO",-240,0,null,null,{"$f":"IFERROR(VLOOKUP(F2296,Hoja1!$A$50:$C$63,2),\"\")","v":5},{"$f":"IFERROR(VLOOKUP(F2296,Hoja1!$A$50:$C$63,3),\"\")","v":5}]
[2287,20259910045494,"2025-03-19","Persona natural","Virtual - Correo electrónico","Solicitud de documentos o información","Solicitud de información hidrometeorológica",null,"Subdirección de Meteorología","2025-03-27","Correo electrónico","2025-04-03",null,"",null,{"$f":"IFERROR(WORKDAY(N2297,Y2297,Hoja1!F2289:F2405),\"\")","v":""},{"$f":"+IF(N2297=\"\",\"\",IF(O2297=\"\",\"SIN RESPUESTA\",(IF(O2297<=P2297,\"A TIEMPO\",\"FUERA DE TIEMPO\"))))","v":""},null,"A TIEMPO",5,0,null,null,{"$f":"IFERROR(VLOOKUP(F2297,Hoja1!$A$50:$C$63,2),\"\")","v":5},{"$f":"IFERROR(VLOOKUP(F2297,Hoja1!$A$50:$C$63,3),\"\")","v":5}]
[2288,20259910045704,"2025-03-19","Persona jurídica","Virtual - Correo electrónico","Petición entre autoridades","Administrativa",null,"Dirección General","2025-03-21","Correo electrónico","2025-04-03",null,"",null,{"$f":"IFERROR(WORKDAY(N2298,Y2298,Hoja1!F2290:F2406),\"\")","v":""},{"$f":"+IF(N2298=\"\",\"\",IF(O2298=\"\",\"SIN RESPUESTA\",(IF(O2298<=P2298,\"A TIEMPO\",\"FUERA DE TIEMPO\"))))","v":""},null,"A TIEMPO",2,0,null,null,{"$f":"IFERROR(VLOOKUP(F2298,Hoja1!$A$50:$C$63,2),\"\")","v":10},{"$f":"IFERROR(VLOOKUP(F2298,Hoja1!$A$50:$C$63,3),\"\")","v":10}]
[2289,20259910045744,"2025-03-19","Persona natural","Virtual - Correo electrónico","Solicitud de documentos o información","Informes ambientales",null,"Subdirección de Estudios Ambientales","2025-04-10","Correo electrónico","2025-04-03",null,"",null,{"$f":"IFERROR(WORKDAY(N2299,Y2299,Hoja1!F2291:F2407),\"\")","v":""},{"$f":"+IF(N2299=\"\",\"\",IF(O2299=\"\",\"SIN RESPUESTA\",(IF(O2299<=P2299,\"A TIEMPO\",\"FUERA DE TIEMPO\"))))","v":""},null,{"$f":"+IF(C2299=\"\",\"\",IF(J2299=\"\",\"SIN RESPUESTA\",(IF(J2299<=L2299,\"A TIEMPO\",\"FUERA DE TIEMPO\"))))","v":"FUERA DE TIEMPO"},15,5,null,null,{"$f":"IFERROR(VLOOKUP(F2299,Hoja1!$A$50:$C$63,2),\"\")","v":5},{"$f":"IFERROR(VLOOKUP(F2299,Hoja1!$A$50:$C$63,3),\"\")","v":5}]
[2290,20259910045754,"2025-03-19","Persona natural","Virtual - Correo electrónico","Certificación de contrato","Administrativa",null,"Oficina Asesora Jurídica","2025-04-30","Correo electrónico","2025-04-03",null,"",null,{"$f":"IFERROR(WORKDAY(N2300,Y2300,Hoja1!F2292:F2408),\"\")","v":""},{"$f":"+IF(N2300=\"\",\"\",IF(O2300=\"\",\"SIN RESPUESTA\",(IF(O2300<=P2300,\"A TIEMPO\",\"FUERA DE TIEMPO\"))))","v":""},null,{"$f":"+IF(C2300=\"\",\"\",IF(J2300=\"\",\"SIN RESPUESTA\",(IF(J2300<=L2300,\"A TIEMPO\",\"FUERA DE TIEMPO\"))))","v":"FUERA DE TIEMPO"},27,17,null,null,{"$f":"IFERROR(VLOOKUP(F2300,Hoja1!$A$50:$C$63,2),\"\")","v":15},{"$f":"IFERROR(VLOOKUP(F2300,Hoja1!$A$50:$C$63,3),\"\")","v":15}]
[2291,20259910045774,"2025-03-19","Persona jurídica","Virtual - Correo electrónico","Solicitud de documentos o información","Registros ambientales",null,"Subdirección de Estudios Ambientales","2025-03-27","Correo electrónico","2025-04-03",null,"",null,{"$f":"IFERROR(WORKDAY(N2301,Y2301,Hoja1!F2293:F2409),\"\")","v":""},{"$f":"+IF(N2301=\"\",\"\",IF(O2301=\"\",\"SIN RESPUESTA\",(IF(O2301<=P2301,\"A TIEMPO\",\"FUERA DE TIEMPO\"))))","v":""},null,"A TIEMPO",5,0,null,null,{"$f":"IFERROR(VLOOKUP(F2301,Hoja1!$A$50:$C$63,2),\"\")","v":5},{"$f":"IFERROR(VLOOKUP(F2301,Hoja1!$A$50:$C$63,3),\"\")","v":5}]
[2292,20259910045784,"2025-03-19","Persona jurídica","Virtual - Correo electrónico","Petición entre autoridades","Solicitud de información hidrometeorológica",null,"Subdirección de Meteorología","2025-03-28","Correo electrónico","2025-04-03",null,"",null,{"$f":"IFERROR(WORKDAY(N2302,Y2302,Hoja1!F2294:F2410),\"\")","v":""},{"$f":"+IF(N2302=\"\",\"\",IF(O2302=\"\",\"SIN RESPUESTA\",(IF(O2302<=P2302,\"A TIEMPO\",\"FUERA DE TIEMPO\"))))","v":""},null,"A TIEMPO",6,0,null,null,{"$f":"IFERROR(VLOOKUP(F2302,Hoja1!$A$50:$C$63,2),\"\")","v":10},{"$f":"IFERROR(VLOOKUP(F2302,Hoja1!$A$50:$C$63,3),\"\")","v":10}]
[2293,20259910045804,"2025-03-19","Persona jurídica","Virtual - Correo electrónico","Solicitud de documentos o información","Registros ambientales",null,"Subdirección de Estudios Ambientales","2025-04-02","Correo electrónico","2025-04-03",null,"",null,{"$f":"IFERROR(WORKDAY(N2303,Y2303,Hoja1!F2295:F2411),\"\")","v":""},{"$f":"+IF(N2303=\"\",\"\",IF(O2303=\"\",\"SIN RESPUESTA\",(IF(O2303<=P2303,\"A TIEMPO\",\"FUERA DE TIEMPO\"))))","v":""},null,"A TIEMPO",9,0,null,null,{"$f":"IFERROR(VLOOKUP(F2303,Hoja1!$A$50:$C$63,2),\"\")","v":5},{"$f":"IFERROR(VLOOKUP(F2303,Hoja1!$A$50:$C$63,3),\"\")","v":5}]
[2294,20259050045824,"2025-03-19","Persona jurídica","Virtual - Formulario PQRSDF","Solicitud de documentos o información","Registros ambientales",null,"Subdirección de Estudios Ambientales","2025-04-02","Correo electrónico","2025-04-03",null,"",null,{"$f":"IFERROR(WORKDAY(N2304,Y2304,Hoja1!F2296:F2412),\"\")","v":""},{"$f":"+IF(N2304=\"\",\"\",IF(O2304=\"\",\"SIN RESPUESTA\",(IF(O2304<=P2304,\"A TIEMPO\",\"FUERA DE TIEMPO\"))))","v":""},null,"A TIEMPO",9,0,null,null,{"$f":"IFERROR(VLOOKUP(F2304,Hoja1!$A$50:$C$63,2),\"\")","v":5},{"$f":"IFERROR(VLOOKUP(F2304,Hoja1!$A$50:$C$63,3),\"\")","v":5}]
[2295,20259910045844,"2025-03-19","Persona natural","Virtual - Correo electrónico","Solicitud de documentos o información","Solicitud de información hidrometeorológica",null,"Subdirección de Meteorología","2025-04-10","Correo electrónico","2025-04-03",null,"",null,{"$f":"IFERROR(WORKDAY(N2305,Y2305,Hoja1!F2297:F2413),\"\")","v":""},{"$f":"+IF(N2305=\"\",\"\",IF(O2305=\"\",\"SIN RESPUESTA\",(IF(O2305<=P2305,\"A TIEMPO\",\"FUERA DE TIEMPO\"))))","v":""},null,{"$f":"+IF(C2305=\"\",\"\",IF(J2305=\"\",\"SIN RESPUESTA\",(IF(J2305<=L2305,\"A TIEMPO\",\"FUERA DE TIEMPO\"))))","v":"FUERA DE TIEMPO"},15,5,null,null,{"$f":"IFERROR(VLOOKUP(F2305,Hoja1!$A$50:$C$63,2),\"\")","v":5},{"$f":"IFERROR(VLOOKUP(F2305,Hoja1!$A$50:$C$63,3),\"\")","v":5}]
[2296,20259910045854,"2025-03-19","Persona natural","Virtual - Correo electrónico","Certificación laboral o pasantía","Administrativa",null,"Grupo de Administración y Desarrollo del Talento Humano","2025-03-25","Correo electrónico","2025-04-03",null,"",null,{"$f":"IFERROR(WORKDAY(N2306,Y2306,Hoja1!F2298:F2414),\"\")","v":""},{"$f":"+IF(N2306=\"\",\"\",IF(O2306=\"\",\"SIN RESPUESTA\",(IF(O2306<=P2306,\"A TIEMPO\",\"FUERA DE TIEMPO\"))))","v":""},null,"A TIEMPO",3,0,null,null,{"$f":"IFERROR(VLOOKUP(F2306,Hoja1!$A$50:$C$63,2),\"\")","v":15},{"$f":"IFERROR(VLOOKUP(F2306,Hoja1!$A$50:$C$63,3),\"\")","v":15}]
[2297,20259910045864,"2025-03-19","Persona jurídica","Virtual - Correo electrónico","Solicitud de documentos o información","Registros ambientales",null,"Subdirección de Estudios Ambientales","2025-04-02","Correo electrónico","2025-04-03",null,"",null,{"$f":"IFERROR(WORKDAY(N2307,Y2307,Hoja1!F2299:F2415),\"\")","v":""},{"$f":"+IF(N2307=\"\",\"\",IF(O2307=\"\",\"SIN RESPUESTA\",(IF(O2307<=P2307,\"A TIEMPO\",\"FUERA DE TIEMPO\"))))","v":""},null,"A TIEMPO",9,0,null,null,{"$f":"IFERROR(VLOOKUP(F2307,Hoja1!$A$50:$C$63,2),\"\")","v":5},{"$f":"IFERROR(VLOOKUP(F2307,Hoja1!$A$50:$C$63,3),\"\")","v":5}]
[2298,20259910045874,"2025-03-19","Persona jurídica","Virtual - Correo electrónico","Petición entre autoridades","Sistema de información ambiental",null,"Subdirección de Estudios Ambientales","2025-04-25","Correo electrónico","2025-04-03",null,"",null,{"$f":"IFERROR(WORKDAY(N2308,Y2308,Hoja1!F2300:F2416),\"\")","v":""},{"$f":"+IF(N2308=\"\",\"\",IF(O2308=\"\",\"SIN RESPUESTA\",(IF(O2308<=P2308,\"A TIEMPO\",\"FUERA DE TIEMPO\"))))","v":""},null,{"$f":"+IF(C2308=\"\",\"\",IF(J2308=\"\",\"SIN RESPUESTA\",(IF(J2308<=L2308,\"A TIEMPO\",\"FUERA DE TIEMPO\"))))","v":"FUERA DE TIEMPO"},24,14,null,null,{"$f":"IFERROR(VLOOKUP(F2308,Hoja1!$A$50:$C$63,2),\"\")","v":10},{"$f":"IFERROR(VLOOKUP(F2308,Hoja1!$A$50:$C$63,3),\"\")","v":10}]
[2299,20259910045884,"2025-03-19","Persona natural","Virtual - Correo electrónico","Solicitud de documentos o información","Informes ambientales",null,"Subdirección de Estudios Ambientales","2025-03-31","Correo electrónico","2025-04-03",null,"",null,{"$f":"IFERROR(WORKDAY(N2309,Y2309,Hoja1!F2301:F2417),\"\")","v":""},{"$f":"+IF(N2309=\"\",\"\",IF(O2309=\"\",\"SIN RESPUESTA\",(IF(O2309<=P2309,\"A TIEMPO\",\"FUERA DE TIEMPO\"))))","v":""},null,"A TIEMPO",7,0,null,null,{"$f":"IFERROR(VLOOKUP(F2309,Hoja1!$A$50:$C$63,2),\"\")","v":5},{"$f":"IFERROR(VLOOKUP(F2309,Hoja1!$A$50:$C$63,3),\"\")","v":5}]
[2300,20259910045894,"2025-03-19","Persona natural","Virtual - Correo electrónico","Consulta (Información técnica)","Acreditación de laboratorios",null,"Subdirección de Estudios Ambientales","2025-04-07","Correo electrónico","2025-05-06",null,"",null,{"$f":"IFERROR(WORKDAY(N2310,Y2310,Hoja1!F2302:F2418),\"\")","v":""},{"$f":"+IF(N2310=\"\",\"\",IF(O2310=\"\",\"SIN RESPUESTA\",(IF(O2310<=P2310,\"A TIEMPO\",\"FUERA DE TIEMPO\"))))","v":""},null,"A TIEMPO",12,0,null,null,{"$f":"IFERROR(VLOOKUP(F2310,Hoja1!$A$50:$C$63,2),\"\")","v":30},{"$f":"IFERROR(VLOOKUP(F2310,Hoja1!$A$50:$C$63,3),\"\")","v":30}]
[2301,20259910045924,"2025-03-19","Persona jurídica","Virtual - Correo electrónico","Solicitud de documentos o información","Registros ambientales",null,"Subdirección de Estudios Ambientales","2025-04-04","Correo electrónico","2025-04-03",null,"",null,{"$f":"IFERROR(WORKDAY(N2311,Y2311,Hoja1!F2303:F2419),\"\")","v":""},{"$f":"+IF(N2311=\"\",\"\",IF(O2311=\"\",\"SIN RESPUESTA\",(IF(O2311<=P2311,\"A TIEMPO\",\"FUERA DE TIEMPO\"))))","v":""},null,{"$f":"+IF(C2311=\"\",\"\",IF(J2311=\"\",\"SIN RESPUESTA\",(IF(J2311<=L2311,\"A TIEMPO\",\"FUERA DE TIEMPO\"))))","v":"FUERA DE TIEMPO"},11,1,null,null,{"$f":"IFERROR(VLOOKUP(F2311,Hoja1!$A$50:$C$63,2),\"\")","v":5},{"$f":"IFERROR(VLOOKUP(F2311,Hoja1!$A$50:$C$63,3),\"\")","v":5}]
[2302,20259910045944,"2025-03-19","Persona jurídica","Virtual - Correo electrónico","Solicitud de documentos o información","Registros ambientales",null,"Subdirección de Estudios Ambientales","2025-04-04","Correo electrónico","2025-04-03",null,"",null,{"$f":"IFERROR(WORKDAY(N2312,Y2312,Hoja1!F2304:F2420),\"\")","v":""},{"$f":"+IF(N2312=\"\",\"\",IF(O2312=\"\",\"SIN RESPUESTA\",(IF(O2312<=P2312,\"A TIEMPO\",\"FUERA DE TIEMPO\"))))","v":""},null,{"$f":"+IF(C2312=\"\",\"\",IF(J2312=\"\",\"SIN RESPUESTA\",(IF(J2312<=L2312,\"A TIEMPO\",\"FUERA DE TIEMPO\"))))","v":"FUERA DE TIEMPO"},11,1,null,null,{"$f":"IFERROR(VLOOKUP(F2312,Hoja1!$A$50:$C$63,2),\"\")","v":5},{"$f":"IFERROR(VLOOKUP(F2312,Hoja1!$A$50:$C$63,3),\"\")","v":5}]
[2303,20259910045954,"2025-03-19","Persona jurídica","Virtual - Correo electrónico","Solicitud de documentos o información","Administrativa",null,"Subdirección de Hidrología","2025-03-20","Correo electrónico","2025-04-03",null,"",null,{"$f":"IFERROR(WORKDAY(N2313,Y2313,Hoja1!F2305:F2421),\"\")","v":""},{"$f":"+IF(N2313=\"\",\"\",IF(O2313=\"\",\"SIN RESPUESTA\",(IF(O2313<=P2313,\"A TIEMPO\",\"FUERA DE TIEMPO\"))))","v":""},null,"A TIEMPO",1,0,null,null,{"$f":"IFERROR(VLOOKUP(F2313,Hoja1!$A$50:$C$63,2),\"\")","v":5},{"$f":"IFERROR(VLOOKUP(F2313,Hoja1!$A$50:$C$63,3),\"\")","v":5}]
[2304,20259910045964,"2025-03-19","Persona jurídica","Virtual - Correo electrónico","Certificación de tiempo, clima y eventos hidrológicos","Certificaciones del tiempo y clima",null,"Subdirección de Meteorología","2025-05-05","Correo electrónico","2025-05-06",null,"",null,{"$f":"IFERROR(WORKDAY(N2314,Y2314,Hoja1!F2306:F2422),\"\")","v":""},{"$f":"+IF(N2314=\"\",\"\",IF(O2314=\"\",\"SIN RESPUESTA\",(IF(O2314<=P2314,\"A TIEMPO\",\"FUERA DE TIEMPO\"))))","v":""},null,"A TIEMPO",29,0,null,null,{"$f":"IFERROR(VLOOKUP(F2314,Hoja1!$A$50:$C$63,2),\"\")","v":15},{"$f":"IFERROR(VLOOKUP(F2314,Hoja1!$A$50:$C$63,3),\"\")","v":15}]
[2305,20259910045974,"2025-03-19","Persona jurídica","Virtual - Correo electrónico","Solicitud de documentos o información","Registros ambientales",null,"Subdirección de Estudios Ambientales","2025-04-04","Correo electrónico","2025-04-03",null,"",null,{"$f":"IFERROR(WORKDAY(N2315,Y2315,Hoja1!F2307:F2423),\"\")","v":""},{"$f":"+IF(N2315=\"\",\"\",IF(O2315=\"\",\"SIN RESPUESTA\",(IF(O2315<=P2315,\"A TIEMPO\",\"FUERA DE TIEMPO\"))))","v":""},null,{"$f":"+IF(C2315=\"\",\"\",IF(J2315=\"\",\"SIN RESPUESTA\",(IF(J2315<=L2315,\"A TIEMPO\",\"FUERA DE TIEMPO\"))))","v":"FUERA DE TIEMPO"},11,1,null,null,{"$f":"IFERROR(VLOOKUP(F2315,Hoja1!$A$50:$C$63,2),\"\")","v":5},{"$f":"IFERROR(VLOOKUP(F2315,Hoja1!$A$50:$C$63,3),\"\")","v":5}]
[2306,20259910045984,"2025-03-19","Persona jurídica","Virtual - Correo electrónico","Solicitud de documentos o información","Registros ambientales",null,"Subdirección de Estudios Ambientales","2025-03-21","Correo electrónico","2025-04-03",null,"",null,{"$f":"IFERROR(WORKDAY(N2316,Y2316,Hoja1!F2308:F2424),\"\")","v":""},{"$f":"+IF(N2316=\"\",\"\",IF(O2316=\"\",\"SIN RESPUESTA\",(IF(O2316<=P2316,\"A TIEMPO\",\"FUERA DE TIEMPO\"))))","v":""},null,"A TIEMPO",2,0,null,null,{"$f":"IFERROR(VLOOKUP(F2316,Hoja1!$A$50:$C$63,2),\"\")","v":5},{"$f":"IFERROR(VLOOKUP(F2316,Hoja1!$A$50:$C$63,3),\"\")","v":5}]
[2307,20259910046004,"2025-03-19","Persona jurídica","Virtual - Correo electrónico","Certificación de tiempo, clima y eventos hidrológicos","Certificaciones del tiempo y clima",null,"Subdirección de Meteorología","2025-04-28","Correo electrónico","2025-05-06",null,"",null,{"$f":"IFERROR(WORKDAY(N2317,Y2317,Hoja1!F2309:F2425),\"\")","v":""},{"$f":"+IF(N2317=\"\",\"\",IF(O2317=\"\",\"SIN RESPUESTA\",(IF(O2317<=P2317,\"A TIEMPO\",\"FUERA DE TIEMPO\"))))","v":""},null,"A TIEMPO",25,0,null,null,{"$f":"IFERROR(VLOOKUP(F2317,Hoja1!$A$50:$C$63,2),\"\")","v":15},{"$f":"IFERROR(VLOOKUP(F2317,Hoja1!$A$50:$C$63,3),\"\")","v":15}]
[2308,20259910045994,"2025-03-19","Persona natural","Virtual - Correo electrónico","Solicitud de documentos o información","Sistema de información ambiental",null,"Subdirección de Estudios Ambientales","2025-04-10","Correo electrónico","2025-04-03",null,"",null,{"$f":"IFERROR(WORKDAY(N2318,Y2318,Hoja1!F2310:F2426),\"\")","v":""},{"$f":"+IF(N2318=\"\",\"\",IF(O2318=\"\",\"SIN RESPUESTA\",(IF(O2318<=P2318,\"A TIEMPO\",\"FUERA DE TIEMPO\"))))","v":""},null,{"$f":"+IF(C2318=\"\",\"\",IF(J2318=\"\",\"SIN RESPUESTA\",(IF(J2318<=L2318,\"A TIEMPO\",\"FUERA DE TIEMPO\"))))","v":"FUERA DE TIEMPO"},15,5,null,null,{"$f":"IFERROR(VLOOKUP(F2318,Hoja1!$A$50:$C$63,2),\"\")","v":5},{"$f":"IFERROR(VLOOKUP(F2318,Hoja1!$A$50:$C$63,3),\"\")","v":5}]
[2309,20259910046054,"2025-03-19","Persona jurídica","Virtual - Correo electrónico","Solicitud de documentos o información","Registros ambientales",null,"Subdirección de Estudios Ambientales","2025-03-30","Correo electrónico","2025-04-03",null,"",null,{"$f":"IFERROR(WORKDAY(N2319,Y2319,Hoja1!F2311:F2427),\"\")","v":""},{"$f":"+IF(N2319=\"\",\"\",IF(O2319=\"\",\"SIN RESPUESTA\",(IF(O2319<=P2319,\"A TIEMPO\",\"FUERA DE TIEMPO\"))))","v":""},null,"A TIEMPO",6,0,null,null,{"$f":"IFERROR(VLOOKUP(F2319,Hoja1!$A$50:$C$63,2),\"\")","v":5},{"$f":"IFERROR(VLOOKUP(F2319,Hoja1!$A$50:$C$63,3),\"\")","v":5}]
[2310,20259910046064,"2025-03-19","Persona jurídica","Virtual - Correo electrónico","Solicitud de documentos o información","Registros ambientales",null,"Subdirección de Estudios Ambientales","2025-03-31","Correo electrónico","2025-04-03",null,"",null,{"$f":"IFERROR(WORKDAY(N2320,Y2320,Hoja1!F2312:F2428),\"\")","v":""},{"$f":"+IF(N2320=\"\",\"\",IF(O2320=\"\",\"SIN RESPUESTA\",(IF(O2320<=P2320,\"A TIEMPO\",\"FUERA DE TIEMPO\"))))","v":""},null,"A TIEMPO",7,0,null,null,{"$f":"IFERROR(VLOOKUP(F2320,Hoja1!$A$50:$C$63,2),\"\")","v":5},{"$f":"IFERROR(VLOOKUP(F2320,Hoja1!$A$50:$C$63,3),\"\")","v":5}]
[{"$f":"IF(B2321<>\"\",A2320+1,\"\")","v":2311},20259910046084,"2025-03-19","Persona jurídica","Virtual - Correo electrónico","Solicitud de documentos o información","Solicitud de información hidrometeorológica",null,"Subdirección de Meteorología","2025-04-04","Correo electrónico","2025-04-03",null,"",null,{"$f":"IFERROR(WORKDAY(N2321,Y2321,Hoja1!F2313:F2429),\"\")","v":""},{"$f":"+IF(N2321=\"\",\"\",IF(O2321=\"\",\"SIN RESPUESTA\",(IF(O2321<=P2321,\"A TIEMPO\",\"FUERA DE TIEMPO\"))))","v":""},null,{"$f":"+IF(C2321=\"\",\"\",IF(J2321=\"\",\"SIN RESPUESTA\",(IF(J2321<=L2321,\"A TIEMPO\",\"FUERA DE TIEMPO\"))))","v":"FUERA DE TIEMPO"},11,1,null,null,{"$f":"IFERROR(VLOOKUP(F2321,Hoja1!$A$50:$C$63,2),\"\")","v":5},{"$f":"IFERROR(VLOOKUP(F2321,Hoja1!$A$50:$C$63,3),\"\")","v":5}]
[2312,20259050046144,"2025-03-20","Persona jurídica","Virtual - Formulario PQRSDF","Solicitud de documentos o información","Registros ambientales",null,"Subdirección de Estudios Ambientales","2025-04-03","Correo electrónico","2025-04-04",null,"",null,{"$f":"IFERROR(WORKDAY(N2322,Y2322,Hoja1!F2314:F2430),\"\")","v":""},{"$f":"+IF(N2322=\"\",\"\",IF(O2322=\"\",\"SIN RESPUESTA\",(IF(O2322<=P2322,\"A TIEMPO\",\"FUERA DE TIEMPO\"))))","v":""},null,"A TIEMPO",9,0,null,null,{"$f":"IFERROR(VLOOKUP(F2322,Hoja1!$A$50:$C$63,2),\"\")","v":5},{"$f":"IFERROR(VLOOKUP(F2322,Hoja1!$A$50:$C$63,3),\"\")","v":5}]
[2313,20259910046154,"2025-03-19","Persona jurídica","Virtual - Correo electrónico","Solicitud de documentos o información","Sistema de información ambiental",null,"Subdirección de Estudios Ambientales","2025-03-19","Correo electrónico","2025-04-03",null,"",null,{"$f":"IFERROR(WORKDAY(N2323,Y2323,Hoja1!F2315:F2431),\"\")","v":""},{"$f":"+IF(N2323=\"\",\"\",IF(O2323=\"\",\"SIN RESPUESTA\",(IF(O2323<=P2323,\"A TIEMPO\",\"FUERA DE TIEMPO\"))))","v":""},null,"A TIEMPO",0,0,null,null,{"$f":"IFERROR(VLOOKUP(F2323,Hoja1!$A$50:$C$63,2),\"\")","v":5},{"$f":"IFERROR(VLOOKUP(F2323,Hoja1!$A$50:$C$63,3),\"\")","v":5}]
[2314,20259050046164,"2025-03-20","Persona jurídica","Virtual - Formulario PQRSDF","Petición de interés general o particular","Registros ambientales",null,"Subdirección de Estudios Ambientales","2025-04-03","Correo electrónico","2025-04-11",null,"",null,{"$f":"IFERROR(WORKDAY(N2324,Y2324,Hoja1!F2316:F2432),\"\")","v":""},{"$f":"+IF(N2324=\"\",\"\",IF(O2324=\"\",\"SIN RESPUESTA\",(IF(O2324<=P2324,\"A TIEMPO\",\"FUERA DE TIEMPO\"))))","v":""},null,"A TIEMPO",9,0,null,null,{"$f":"IFERROR(VLOOKUP(F2324,Hoja1!$A$50:$C$63,2),\"\")","v":15},{"$f":"IFERROR(VLOOKUP(F2324,Hoja1!$A$50:$C$63,3),\"\")","v":15}]
[2315,20259050046174,"2025-03-20","Persona jurídica","Virtual - Formulario PQRSDF","Petición de interés general o particular","Registros ambientales",null,"Subdirección de Estudios Ambientales","2025-04-03","Correo electrónico","2025-04-11",null,"",null,{"$f":"IFERROR(WORKDAY(N2325,Y2325,Hoja1!F2317:F2433),\"\")","v":""},{"$f":"+IF(N2325=\"\",\"\",IF(O2325=\"\",\"SIN RESPUESTA\",(IF(O2325<=P2325,\"A TIEMPO\",\"FUERA DE TIEMPO\"))))","v":""},null,"A TIEMPO",9,0,null,null,{"$f":"IFERROR(VLOOKUP(F2325,Hoja1!$A$50:$C$63,2),\"\")","v":15},{"$f":"IFERROR(VLOOKUP(F2325,Hoja1!$A$50:$C$63,3),\"\")","v":15}]
[2316,20259910046184,"2025-03-19","Persona jurídica","Virtual - Correo electrónico","Solicitud judicial","Certificaciones del tiempo y clima",null,"Subdirección de Meteorología","2025-03-26","Correo electrónico","2025-03-27",null,"",null,{"$f":"IFERROR(WORKDAY(N2326,Y2326,Hoja1!F2318:F2434),\"\")","v":""},{"$f":"+IF(N2326=\"\",\"\",IF(O2326=\"\",\"SIN RESPUESTA\",(IF(O2326<=P2326,\"A TIEMPO\",\"FUERA DE TIEMPO\"))))","v":""},null,"A TIEMPO",4,0,null,null,{"$f":"IFERROR(VLOOKUP(F2326,Hoja1!$A$50:$C$63,2),\"\")","v":5},{"$f":"IFERROR(VLOOKUP(F2326,Hoja1!$A$50:$C$63,3),\"\")","v":5}]
[2317,20259050046214,"2025-03-20","Persona natural","Virtual - Formulario PQRSDF","Solicitud de documentos o información","Solicitud de información hidrometeorológica",null,"Oficina del Servicio de Pronósticos y Alertas","2025-04-01","Correo electrónico","2025-04-04",null,"",null,{"$f":"IFERROR(WORKDAY(N2327,Y2327,Hoja1!F2319:F2435),\"\")","v":""},{"$f":"+IF(N2327=\"\",\"\",IF(O2327=\"\",\"SIN RESPUESTA\",(IF(O2327<=P2327,\"A TIEMPO\",\"FUERA DE TIEMPO\"))))","v":""},null,"A TIEMPO",7,0,null,null,{"$f":"IFERROR(VLOOKUP(F2327,Hoja1!$A$50:$C$63,2),\"\")","v":5},{"$f":"IFERROR(VLOOKUP(F2327,Hoja1!$A$50:$C$63,3),\"\")","v":5}]
[2318,20259910046244,"2025-03-20","Persona jurídica","Virtual - Correo electrónico","Solicitud de documentos o información","Registros ambientales",null,"Subdirección de Estudios Ambientales","2025-04-04","Correo electrónico","2025-04-04",null,"",null,{"$f":"IFERROR(WORKDAY(N2328,Y2328,Hoja1!F2320:F2436),\"\")","v":""},{"$f":"+IF(N2328=\"\",\"\",IF(O2328=\"\",\"SIN RESPUESTA\",(IF(O2328<=P2328,\"A TIEMPO\",\"FUERA DE TIEMPO\"))))","v":""},null,"A TIEMPO",10,0,null,null,{"$f":"IFERROR(VLOOKUP(F2328,Hoja1!$A$50:$C$63,2),\"\")","v":5},{"$f":"IFERROR(VLOOKUP(F2328,Hoja1!$A$50:$C$63,3),\"\")","v":5}]
[2319,20259910046264,"2025-03-20","Persona natural","Virtual - Correo electrónico","Solicitud de documentos o información","Solicitud de información hidrometeorológica",null,"Grupo de Servicio al Ciudadano","2025-04-01","Correo electrónico","2025-04-04",null,"",null,{"$f":"IFERROR(WORKDAY(N2329,Y2329,Hoja1!F2321:F2437),\"\")","v":""},{"$f":"+IF(N2329=\"\",\"\",IF(O2329=\"\",\"SIN RESPUESTA\",(IF(O2329<=P2329,\"A TIEMPO\",\"FUERA DE TIEMPO\"))))","v":""},null,"A TIEMPO",7,0,null,null,{"$f":"IFERROR(VLOOKUP(F2329,Hoja1!$A$50:$C$63,2),\"\")","v":5},{"$f":"IFERROR(VLOOKUP(F2329,Hoja1!$A$50:$C$63,3),\"\")","v":5}]
[2320,20259910046314,"2025-03-20","Persona jurídica","Virtual - Correo electrónico","Solicitud de documentos o información","Registros ambientales",null,"Subdirección de Estudios Ambientales","2025-04-03","Correo electrónico","2025-04-04",null,"",null,{"$f":"IFERROR(WORKDAY(N2330,Y2330,Hoja1!F2322:F2438),\"\")","v":""},{"$f":"+IF(N2330=\"\",\"\",IF(O2330=\"\",\"SIN RESPUESTA\",(IF(O2330<=P2330,\"A TIEMPO\",\"FUERA DE TIEMPO\"))))","v":""},null,"A TIEMPO",9,0,null,null,{"$f":"IFERROR(VLOOKUP(F2330,Hoja1!$A$50:$C$63,2),\"\")","v":5},{"$f":"IFERROR(VLOOKUP(F2330,Hoja1!$A$50:$C$63,3),\"\")","v":5}]
[2321,20259910046324,"2025-03-20","Persona jurídica","Virtual - Correo electrónico","Petición entre entidades","Registros ambientales",null,"Subdirección de Estudios Ambientales","2025-04-03","Correo electrónico","2025-04-04",null,"",null,{"$f":"IFERROR(WORKDAY(N2331,Y2331,Hoja1!F2323:F2439),\"\")","v":""},{"$f":"+IF(N2331=\"\",\"\",IF(O2331=\"\",\"SIN RESPUESTA\",(IF(O2331<=P2331,\"A TIEMPO\",\"FUERA DE TIEMPO\"))))","v":""},null,"A TIEMPO",9,0,null,null,{"$f":"IFERROR(VLOOKUP(F2331,Hoja1!$A$50:$C$63,2),\"\")","v":10},{"$f":"IFERROR(VLOOKUP(F2331,Hoja1!$A$50:$C$63,3),\"\")","v":10}]
[2322,20259910046344,"2025-03-20","Persona jurídica","Virtual - Correo electrónico","Solicitud de documentos o información","Registros ambientales",null,"Subdirección de Estudios Ambientales","2025-04-03","Correo electrónico","2025-04-04",null,"",null,{"$f":"IFERROR(WORKDAY(N2332,Y2332,Hoja1!F2324:F2440),\"\")","v":""},{"$f":"+IF(N2332=\"\",\"\",IF(O2332=\"\",\"SIN RESPUESTA\",(IF(O2332<=P2332,\"A TIEMPO\",\"FUERA DE TIEMPO\"))))","v":""},null,"A TIEMPO",9,0,null,null,{"$f":"IFERROR(VLOOKUP(F2332,Hoja1!$A$50:$C$63,2),\"\")","v":5},{"$f":"IFERROR(VLOOKUP(F2332,Hoja1!$A$50:$C$63,3),\"\")","v":5}]
[2323,20259910046354,"2025-03-20","Persona natural","Virtual - Correo electrónico","Solicitud de documentos o información","Informes ambientales",null,"Subdirección de Hidrología","2025-04-07","Correo electrónico","2025-04-04","Si","2025-04-22","2025-04-07",{"$f":"IFERROR(WORKDAY(N2333,Y2333,Hoja1!F2325:F2441),\"\")","v":"2025-04-29"},{"$f":"+IF(N2333=\"\",\"\",IF(O2333=\"\",\"SIN RESPUESTA\",(IF(O2333<=P2333,\"A TIEMPO\",\"FUERA DE TIEMPO\"))))","v":"A TIEMPO"},null,"A TIEMPO",11,0,null,null,{"$f":"IFERROR(VLOOKUP(F2333,Hoja1!$A$50:$C$63,2),\"\")","v":5},{"$f":"IFERROR(VLOOKUP(F2333,Hoja1!$A$50:$C$63,3),\"\")","v":5}]
[2324,20259910046394,"2025-03-20","Persona jurídica","Virtual - Correo electrónico","Petición de interés general o particular","Acreditación de laboratorios",null,"Subdirección de Estudios Ambientales","2025-03-31","Correo electrónico","2025-04-11",null,"",null,{"$f":"IFERROR(WORKDAY(N2334,Y2334,Hoja1!F2326:F2442),\"\")","v":""},{"$f":"+IF(N2334=\"\",\"\",IF(O2334=\"\",\"SIN RESPUESTA\",(IF(O2334<=P2334,\"A TIEMPO\",\"FUERA DE TIEMPO\"))))","v":""},null,"A TIEMPO",6,0,null,null,{"$f":"IFERROR(VLOOKUP(F2334,Hoja1!$A$50:$C$63,2),\"\")","v":15},{"$f":"IFERROR(VLOOKUP(F2334,Hoja1!$A$50:$C$63,3),\"\")","v":15}]
[2325,20259050046514,"2025-03-20","Persona natural","Virtual - Formulario PQRSDF","Solicitud de documentos o información","Bosques",null,"Subdirección de Ecosistemas e Información Ambiental","2025-03-27","Correo electrónico","2025-04-04",null,"",null,{"$f":"IFERROR(WORKDAY(N2335,Y2335,Hoja1!F2327:F2443),\"\")","v":""},"",null,"A TIEMPO",4,0,null,null,{"$f":"IFERROR(VLOOKUP(F2335,Hoja1!$A$50:$C$63,2),\"\")","v":5},{"$f":"IFERROR(VLOOKUP(F2335,Hoja1!$A$50:$C$63,3),\"\")","v":5}]
[2326,20259910046534,"2025-03-20","Persona jurídica","Virtual - Correo electrónico","Solicitud de documentos o información","Registros ambientales",null,"Subdirección de Estudios Ambientales","2025-03-31","Correo electrónico","2025-04-04",null,"",null,{"$f":"IFERROR(WORKDAY(N2336,Y2336,Hoja1!F2328:F2444),\"\")","v":""},"",null,"A TIEMPO",6,0,null,null,{"$f":"IFERROR(VLOOKUP(F2336,Hoja1!$A$50:$C$63,2),\"\")","v":5},{"$f":"IFERROR(VLOOKUP(F2336,Hoja1!$A$50:$C$63,3),\"\")","v":5}]
[2327,20259910046524,"2025-03-20","Persona jurídica","Virtual - Correo electrónico","Solicitud de documentos o información","Solicitud de información hidrometeorológica",null,"Subdirección de Meteorología","2025-03-25","Correo electrónico","2025-04-04",null,"",null,{"$f":"IFERROR(WORKDAY(N2337,Y2337,Hoja1!F2329:F2445),\"\")","v":""},"",null,"A TIEMPO",2,0,null,null,{"$f":"IFERROR(VLOOKUP(F2337,Hoja1!$A$50:$C$63,2),\"\")","v":5},{"$f":"IFERROR(VLOOKUP(F2337,Hoja1!$A$50:$C$63,3),\"\")","v":5}]
[2328,20259910046544,"2025-03-20","Persona natural","Virtual - Correo electrónico","Solicitud de documentos o información","Solicitud de información hidrometeorológica",null,"Grupo de Servicio al Ciudadano","2025-03-28","Correo electrónico","2025-04-04",null,"",null,{"$f":"IFERROR(WORKDAY(N2338,Y2338,Hoja1!F2330:F2446),\"\")","v":""},"",null,"A TIEMPO",5,0,null,null,{"$f":"IFERROR(VLOOKUP(F2338,Hoja1!$A$50:$C$63,2),\"\")","v":5},{"$f":"IFERROR(VLOOKUP(F2338,Hoja1!$A$50:$C$63,3),\"\")","v":5}]
[2329,20259910046554,"2025-03-20","Persona jurídica","Virtual - Correo electrónico","Solicitud de documentos o información","Administrativa",null,"Oficina Asesora Jurídica","2025-04-04","Correo certificado","2025-04-04",null,"",null,{"$f":"IFERROR(WORKDAY(N2339,Y2339,Hoja1!F2331:F2447),\"\")","v":""},"",null,"A TIEMPO",10,0,null,null,{"$f":"IFERROR(VLOOKUP(F2339,Hoja1!$A$50:$C$63,2),\"\")","v":5},{"$f":"IFERROR(VLOOKUP(F2339,Hoja1!$A$50:$C$63,3),\"\")","v":5}]
[2330,20259910046564,"2025-03-20","Persona natural","Virtual - Correo electrónico","Solicitud de documentos o información","Registros ambientales",null,"Subdirección de Estudios Ambientales","2025-03-31","Correo electrónico","2025-04-04",null,"",null,{"$f":"IFERROR(WORKDAY(N2340,Y2340,Hoja1!F2332:F2448),\"\")","v":""},"",null,"A TIEMPO",6,0,null,null,{"$f":"IFERROR(VLOOKUP(F2340,Hoja1!$A$50:$C$63,2),\"\")","v":5},{"$f":"IFERROR(VLOOKUP(F2340,Hoja1!$A$50:$C$63,3),\"\")","v":5}]
[2331,20259910046574,"2025-03-20","Persona natural","Virtual - Correo electrónico","Solicitud de documentos o información","Acreditación de laboratorios",null,"Subdirección de Estudios Ambientales","2025-04-01","Correo electrónico","2025-04-04",null,"",null,{"$f":"IFERROR(WORKDAY(N2341,Y2341,Hoja1!F2333:F2449),\"\")","v":""},"",null,"A TIEMPO",7,0,null,null,{"$f":"IFERROR(VLOOKUP(F2341,Hoja1!$A$50:$C$63,2),\"\")","v":5},{"$f":"IFERROR(VLOOKUP(F2341,Hoja1!$A$50:$C$63,3),\"\")","v":5}]
[2332,20259910046584,"2025-03-20","Persona natural","Virtual - Correo electrónico","Solicitud de documentos o información","Solicitud de información hidrometeorológica",null,"Subdirección de Meteorología","2025-04-02","Correo electrónico","2025-04-04",null,"",null,{"$f":"IFERROR(WORKDAY(N2342,Y2342,Hoja1!F2334:F2450),\"\")","v":""},"",null,"A TIEMPO",8,0,null,null,{"$f":"IFERROR(VLOOKUP(F2342,Hoja1!$A$50:$C$63,2),\"\")","v":5},{"$f":"IFERROR(VLOOKUP(F2342,Hoja1!$A$50:$C$63,3),\"\")","v":5}]
[2333,20259910046594,"2025-03-20","Persona jurídica","Virtual - Correo electrónico","Solicitud de documentos o información","Registros ambientales",null,"Subdirección de Estudios Ambientales","2025-03-27","Correo electrónico","2025-04-04",null,"",null,{"$f":"IFERROR(WORKDAY(N2343,Y2343,Hoja1!F2335:F2451),\"\")","v":""},"",null,"A TIEMPO",4,0,null,null,{"$f":"IFERROR(VLOOKUP(F2343,Hoja1!$A$50:$C$63,2),\"\")","v":5},{"$f":"IFERROR(VLOOKUP(F2343,Hoja1!$A$50:$C$63,3),\"\")","v":5}]
[2334,20259910046604,"2025-03-20","Persona jurídica","Virtual - Correo electrónico","Solicitud de documentos o información","Registros ambientales",null,"Subdirección de Estudios Ambientales","2025-04-04","Correo electrónico","2025-04-04",null,"",null,{"$f":"IFERROR(WORKDAY(N2344,Y2344,Hoja1!F2336:F2452),\"\")","v":""},"",null,"A TIEMPO",10,0,null,null,{"$f":"IFERROR(VLOOKUP(F2344,Hoja1!$A$50:$C$63,2),\"\")","v":5},{"$f":"IFERROR(VLOOKUP(F2344,Hoja1!$A$50:$C$63,3),\"\")","v":5}]
[2335,20259910046614,"2025-03-20","Persona jurídica","Virtual - Correo electrónico","Solicitud judicial","Administrativa",null,"Grupo de Administración y Desarrollo del Talento Humano","2025-03-28","Correo electrónico","2025-03-28",null,"",null,{"$f":"IFERROR(WORKDAY(N2345,Y2345,Hoja1!F2337:F2453),\"\")","v":""},"",null,"A TIEMPO",5,0,null,null,{"$f":"IFERROR(VLOOKUP(F2345,Hoja1!$A$50:$C$63,2),\"\")","v":5},{"$f":"IFERROR(VLOOKUP(F2345,Hoja1!$A$50:$C$63,3),\"\")","v":5}]
[2336,20259910046624,"2025-03-20","Persona natural","Virtual - Correo electrónico","Solicitud de documentos o información","Solicitud de información hidrometeorológica",null,"Grupo de Servicio al Ciudadano","2025-04-01","Correo electrónico","2025-04-04",null,"",null,{"$f":"IFERROR(WORKDAY(N2346,Y2346,Hoja1!F2338:F2454),\"\")","v":""},"",null,"A TIEMPO",7,0,null,null,{"$f":"IFERROR(VLOOKUP(F2346,Hoja1!$A$50:$C$63,2),\"\")","v":5},{"$f":"IFERROR(VLOOKUP(F2346,Hoja1!$A$50:$C$63,3),\"\")","v":5}]
[2337,20259910046634,"2025-03-20","Persona jurídica","Virtual - Correo electrónico","Solicitud de documentos o información","Modelación hidrológica",null,"Área Operativa No. 6 - Duitama","2025-04-06","Correo electrónico","2025-04-04",null,"",null,{"$f":"IFERROR(WORKDAY(N2347,Y2347,Hoja1!F2339:F2455),\"\")","v":""},"",null,{"$f":"+IF(C2347=\"\",\"\",IF(J2347=\"\",\"SIN RESPUESTA\",(IF(J2347<=L2347,\"A TIEMPO\",\"FUERA DE TIEMPO\"))))","v":"FUERA DE TIEMPO"},10,0,null,null,{"$f":"IFERROR(VLOOKUP(F2347,Hoja1!$A$50:$C$63,2),\"\")","v":5},{"$f":"IFERROR(VLOOKUP(F2347,Hoja1!$A$50:$C$63,3),\"\")","v":5}]
[2338,20259910046654,"2025-03-20","Persona jurídica","Virtual - Correo electrónico","Solicitud de documentos o información","Informes ambientales",null,"Subdirección de Estudios Ambientales","2025-04-02","Correo electrónico","2025-04-04",null,"",null,{"$f":"IFERROR(WORKDAY(N2348,Y2348,Hoja1!F2340:F2456),\"\")","v":""},"",null,"A TIEMPO",8,0,null,null,{"$f":"IFERROR(VLOOKUP(F2348,Hoja1!$A$50:$C$63,2),\"\")","v":5},{"$f":"IFERROR(VLOOKUP(F2348,Hoja1!$A$50:$C$63,3),\"\")","v":5}]
[2339,20259910046664,"2025-03-20","Persona jurídica","Virtual - Correo electrónico","Solicitud judicial","Bosques",null,"Subdirección de Ecosistemas e Información Ambiental","2025-03-28","Correo electrónico","2025-03-28",null,"",null,{"$f":"IFERROR(WORKDAY(N2349,Y2349,Hoja1!F2341:F2457),\"\")","v":""},"",null,"A TIEMPO",5,0,null,null,{"$f":"IFERROR(VLOOKUP(F2349,Hoja1!$A$50:$C$63,2),\"\")","v":5},{"$f":"IFERROR(VLOOKUP(F2349,Hoja1!$A$50:$C$63,3),\"\")","v":5}]
[2340,20259910046674,"2025-03-20","Persona jurídica","Virtual - Correo electrónico","Solicitud de documentos o información","Bosques",null,"Subdirección de Ecosistemas e Información Ambiental","2025-04-01","Correo electrónico","2025-04-04",null,"",null,{"$f":"IFERROR(WORKDAY(N2350,Y2350,Hoja1!F2342:F2458),\"\")","v":""},"",null,"A TIEMPO",7,0,null,null,{"$f":"IFERROR(VLOOKUP(F2350,Hoja1!$A$50:$C$63,2),\"\")","v":5},{"$f":"IFERROR(VLOOKUP(F2350,Hoja1!$A$50:$C$63,3),\"\")","v":5}]
[2341,20259910046694,"2025-03-20","Persona jurídica","Virtual - Correo electrónico","Solicitud de documentos o información","Registros ambientales",null,"Subdirección de Estudios Ambientales","2025-04-03","Correo electrónico","2025-04-04",null,"",null,{"$f":"IFERROR(WORKDAY(N2351,Y2351,Hoja1!F2343:F2459),\"\")","v":""},"",null,"A TIEMPO",9,0,null,null,{"$f":"IFERROR(VLOOKUP(F2351,Hoja1!$A$50:$C$63,2),\"\")","v":5},{"$f":"IFERROR(VLOOKUP(F2351,Hoja1!$A$50:$C$63,3),\"\")","v":5}]
[2342,20259910046714,"2025-03-20","Persona jurídica","Virtual - Correo electrónico","Solicitud de documentos o información","Registros ambientales",null,"Subdirección de Estudios Ambientales","2025-04-03","Correo electrónico","2025-04-04",null,"",null,{"$f":"IFERROR(WORKDAY(N2352,Y2352,Hoja1!F2344:F2460),\"\")","v":""},"",null,"A TIEMPO",9,0,null,null,{"$f":"IFERROR(VLOOKUP(F2352,Hoja1!$A$50:$C$63,2),\"\")","v":5},{"$f":"IFERROR(VLOOKUP(F2352,Hoja1!$A$50:$C$63,3),\"\")","v":5}]
[2343,20259910003154,"2025-01-10","Persona jurídica","Correo certificado","Solicitud de documentos o información","Acreditación de laboratorios",null,"Subdirección de Estudios Ambientales","2025-01-13","Correo electrónico","2025-01-24",null,"",null,{"$f":"IFERROR(WORKDAY(N2353,Y2353,Hoja1!F2345:F2461),\"\")","v":""},"",null,"A TIEMPO",-243,0,null,null,{"$f":"IFERROR(VLOOKUP(F2353,Hoja1!$A$50:$C$63,2),\"\")","v":5},{"$f":"IFERROR(VLOOKUP(F2353,Hoja1!$A$50:$C$63,3),\"\")","v":5}]
[2344,20259910046744,"2025-03-20","Persona jurídica","Virtual - Correo electrónico","Consulta (Información técnica)","Cambio climático",null,"Subdirección de Estudios Ambientales","2025-05-02","Correo electrónico","2025-05-07",null,"",null,{"$f":"IFERROR(WORKDAY(N2354,Y2354,Hoja1!F2346:F2462),\"\")","v":""},"",null,"A TIEMPO",27,0,null,null,{"$f":"IFERROR(VLOOKUP(F2354,Hoja1!$A$50:$C$63,2),\"\")","v":30},{"$f":"IFERROR(VLOOKUP(F2354,Hoja1!$A$50:$C$63,3),\"\")","v":30}]
[2345,20259050046754,"2025-03-20","Persona natural","Virtual - Formulario PQRSDF","Solicitud de documentos o información","Modelación hidrológica",null,"Subdirección de Hidrología","2025-03-31","Correo electrónico","2025-04-04",null,"",null,{"$f":"IFERROR(WORKDAY(N2355,Y2355,Hoja1!F2347:F2463),\"\")","v":""},"",null,"A TIEMPO",6,0,null,null,{"$f":"IFERROR(VLOOKUP(F2355,Hoja1!$A$50:$C$63,2),\"\")","v":5},{"$f":"IFERROR(VLOOKUP(F2355,Hoja1!$A$50:$C$63,3),\"\")","v":5}]
[2346,20259910046784,"2025-03-20","Persona jurídica","Virtual - Correo electrónico","Petición entre entidades","Informes ambientales",null,"Subdirección de Estudios Ambientales","2025-03-30","Correo electrónico","2025-04-04",null,"",null,{"$f":"IFERROR(WORKDAY(N2356,Y2356,Hoja1!F2348:F2464),\"\")","v":""},"",null,"A TIEMPO",5,0,null,null,{"$f":"IFERROR(VLOOKUP(F2356,Hoja1!$A$50:$C$63,2),\"\")","v":10},{"$f":"IFERROR(VLOOKUP(F2356,Hoja1!$A$50:$C$63,3),\"\")","v":10}]
[2347,20259910046804,"2025-03-20","Persona jurídica","Virtual - Correo electrónico","Petición entre autoridades","Informes ambientales",null,"Subdirección de Estudios Ambientales","2025-03-25","Correo electrónico","2025-04-04",null,"",null,{"$f":"IFERROR(WORKDAY(N2357,Y2357,Hoja1!F2349:F2465),\"\")","v":""},"",null,"A TIEMPO",2,0,null,null,{"$f":"IFERROR(VLOOKUP(F2357,Hoja1!$A$50:$C$63,2),\"\")","v":10},{"$f":"IFERROR(VLOOKUP(F2357,Hoja1!$A$50:$C$63,3),\"\")","v":10}]
[2348,20259910046824,"2025-03-20","Persona natural","Virtual - Correo electrónico","Solicitud de documentos o información","Sistema de información ambiental",null,"Subdirección de Estudios Ambientales","2025-04-11","Correo electrónico","2025-04-04",null,"",null,{"$f":"IFERROR(WORKDAY(N2358,Y2358,Hoja1!F2350:F2466),\"\")","v":""},"",null,{"$f":"+IF(C2358=\"\",\"\",IF(J2358=\"\",\"SIN RESPUESTA\",(IF(J2358<=L2358,\"A TIEMPO\",\"FUERA DE TIEMPO\"))))","v":"FUERA DE TIEMPO"},15,5,null,null,{"$f":"IFERROR(VLOOKUP(F2358,Hoja1!$A$50:$C$63,2),\"\")","v":5},{"$f":"IFERROR(VLOOKUP(F2358,Hoja1!$A$50:$C$63,3),\"\")","v":5}]
[2349,20259050046834,"2025-03-20","Persona natural","Virtual - Formulario PQRSDF","Petición de interés general o particular","Administrativa",null,"Dirección General","2025-04-09","Correo electrónico","2025-04-11",null,"",null,{"$f":"IFERROR(WORKDAY(N2359,Y2359,Hoja1!F2351:F2467),\"\")","v":""},"",null,"A TIEMPO",13,0,null,null,{"$f":"IFERROR(VLOOKUP(F2359,Hoja1!$A$50:$C$63,2),\"\")","v":15},{"$f":"IFERROR(VLOOKUP(F2359,Hoja1!$A$50:$C$63,3),\"\")","v":15}]
[2350,20259050046844,"2025-03-20","Persona jurídica","Virtual - Formulario PQRSDF","Solicitud de documentos o información","Registros ambientales",null,"Subdirección de Estudios Ambientales","2025-04-04","Correo electrónico","2025-04-04",null,"",null,{"$f":"IFERROR(WORKDAY(N2360,Y2360,Hoja1!F2352:F2468),\"\")","v":""},"",null,"A TIEMPO",10,0,null,null,{"$f":"IFERROR(VLOOKUP(F2360,Hoja1!$A$50:$C$63,2),\"\")","v":5},{"$f":"IFERROR(VLOOKUP(F2360,Hoja1!$A$50:$C$63,3),\"\")","v":5}]
[2351,20259050046854,"2025-03-21","Persona natural","Virtual - Formulario PQRSDF","Solicitud de documentos o información","Solicitud de información hidrometeorológica",null,"Subdirección de Meteorología","2025-03-31","Correo electrónico","2025-04-07",null,"",null,{"$f":"IFERROR(WORKDAY(N2361,Y2361,Hoja1!F2353:F2469),\"\")","v":""},"",null,"A TIEMPO",5,0,null,null,{"$f":"IFERROR(VLOOKUP(F2361,Hoja1!$A$50:$C$63,2),\"\")","v":5},{"$f":"IFERROR(VLOOKUP(F2361,Hoja1!$A$50:$C$63,3),\"\")","v":5}]
[2352,20259910046874,"2025-03-21","Persona jurídica","Virtual - Correo electrónico","Solicitud de documentos o información","Registros ambientales",null,"Subdirección de Estudios Ambientales","2025-03-30","Correo electrónico","2025-04-07",null,"",null,{"$f":"IFERROR(WORKDAY(N2362,Y2362,Hoja1!F2354:F2470),\"\")","v":""},"",null,"A TIEMPO",4,0,null,null,{"$f":"IFERROR(VLOOKUP(F2362,Hoja1!$A$50:$C$63,2),\"\")","v":5},{"$f":"IFERROR(VLOOKUP(F2362,Hoja1!$A$50:$C$63,3),\"\")","v":5}]
[2353,20259910046904,"2025-03-21","Persona natural","Virtual - Correo electrónico","Certificación laboral o pasantía","Administrativa",null,"Grupo de Administración y Desarrollo del Talento Humano","2025-04-04","Correo electrónico","2025-04-07",null,"",null,{"$f":"IFERROR(WORKDAY(N2363,Y2363,Hoja1!F2355:F2471),\"\")","v":""},"",null,"A TIEMPO",9,0,null,null,{"$f":"IFERROR(VLOOKUP(F2363,Hoja1!$A$50:$C$63,2),\"\")","v":15},{"$f":"IFERROR(VLOOKUP(F2363,Hoja1!$A$50:$C$63,3),\"\")","v":15}]
[2354,20259050046894,"2025-03-21","Persona jurídica","Virtual - Formulario PQRSDF","Solicitud de documentos o información","Registros ambientales",null,"Subdirección de Estudios Ambientales","2025-04-01","Página web","2025-04-07",null,"",null,{"$f":"IFERROR(WORKDAY(N2364,Y2364,Hoja1!F2356:F2472),\"\")","v":""},"",null,"A TIEMPO",6,0,null,null,{"$f":"IFERROR(VLOOKUP(F2364,Hoja1!$A$50:$C$63,2),\"\")","v":5},{"$f":"IFERROR(VLOOKUP(F2364,Hoja1!$A$50:$C$63,3),\"\")","v":5}]
[2355,20259050046924,"2025-03-21","Persona natural","Virtual - Formulario PQRSDF","Solicitud de documentos o información","Sistema de información del recurso hídrico",null,"Subdirección de Meteorología","2025-04-02","Correo electrónico","2025-04-07",null,"",null,{"$f":"IFERROR(WORKDAY(N2365,Y2365,Hoja1!F2357:F2473),\"\")","v":""},"",null,"A TIEMPO",7,0,null,null,{"$f":"IFERROR(VLOOKUP(F2365,Hoja1!$A$50:$C$63,2),\"\")","v":5},{"$f":"IFERROR(VLOOKUP(F2365,Hoja1!$A$50:$C$63,3),\"\")","v":5}]
[2356,20259050046914,"2025-03-21","Persona jurídica","Virtual - Formulario PQRSDF","Solicitud de documentos o información","Solicitud de información hidrometeorológica",null,"Subdirección de Meteorología","2025-03-25","Correo electrónico","2025-04-07",null,"",null,{"$f":"IFERROR(WORKDAY(N2366,Y2366,Hoja1!F2358:F2474),\"\")","v":""},"",null,"A TIEMPO",1,0,null,null,{"$f":"IFERROR(VLOOKUP(F2366,Hoja1!$A$50:$C$63,2),\"\")","v":5},{"$f":"IFERROR(VLOOKUP(F2366,Hoja1!$A$50:$C$63,3),\"\")","v":5}]
[2357,20259910046934,"2025-03-21","Persona jurídica","Virtual - Correo electrónico","Solicitud de documentos o información","Registros ambientales",null,"Subdirección de Estudios Ambientales","2025-03-30","Correo electrónico","2025-04-07",null,"",null,{"$f":"IFERROR(WORKDAY(N2367,Y2367,Hoja1!F2359:F2475),\"\")","v":""},"",null,"A TIEMPO",4,0,null,null,{"$f":"IFERROR(VLOOKUP(F2367,Hoja1!$A$50:$C$63,2),\"\")","v":5},{"$f":"IFERROR(VLOOKUP(F2367,Hoja1!$A$50:$C$63,3),\"\")","v":5}]
[2358,20259050046974,"2025-03-21","Persona natural","Virtual - Formulario PQRSDF","Certificación laboral o pasantía","Administrativa",null,"Grupo de Administración y Desarrollo del Talento Humano","2025-03-26","Correo electrónico","2025-04-07",null,"",null,{"$f":"IFERROR(WORKDAY(N2368,Y2368,Hoja1!F2360:F2476),\"\")","v":""},"",null,"A TIEMPO",2,0,null,null,{"$f":"IFERROR(VLOOKUP(F2368,Hoja1!$A$50:$C$63,2),\"\")","v":15},{"$f":"IFERROR(VLOOKUP(F2368,Hoja1!$A$50:$C$63,3),\"\")","v":15}]
[2359,20259910047094,"2025-03-21","Persona jurídica","Virtual - Correo electrónico","Solicitud de documentos o información","Registros ambientales",null,"Subdirección de Estudios Ambientales","2025-03-30","Correo electrónico","2025-04-07",null,"",null,{"$f":"IFERROR(WORKDAY(N2369,Y2369,Hoja1!F2361:F2477),\"\")","v":""},"",null,"A TIEMPO",4,0,null,null,{"$f":"IFERROR(VLOOKUP(F2369,Hoja1!$A$50:$C$63,2),\"\")","v":5},{"$f":"IFERROR(VLOOKUP(F2369,Hoja1!$A$50:$C$63,3),\"\")","v":5}]
[2360,20259910047114,"2025-03-21","Persona jurídica","Virtual - Correo electrónico","Solicitud de documentos o información","Registros ambientales",null,"Subdirección de Estudios Ambientales","2025-03-26","Correo electrónico","2025-04-07",null,"",null,{"$f":"IFERROR(WORKDAY(N2370,Y2370,Hoja1!F2362:F2478),\"\")","v":""},"",null,"A TIEMPO",2,0,null,null,{"$f":"IFERROR(VLOOKUP(F2370,Hoja1!$A$50:$C$63,2),\"\")","v":5},{"$f":"IFERROR(VLOOKUP(F2370,Hoja1!$A$50:$C$63,3),\"\")","v":5}]
[2361,20259910047134,"2025-03-21","Persona jurídica","Virtual - Correo electrónico","Solicitud de documentos o información","Registros ambientales",null,"Subdirección de Estudios Ambientales","2025-04-04","Correo electrónico","2025-04-07",null,"",null,{"$f":"IFERROR(WORKDAY(N2371,Y2371,Hoja1!F2363:F2479),\"\")","v":""},"",null,"A TIEMPO",9,0,null,null,{"$f":"IFERROR(VLOOKUP(F2371,Hoja1!$A$50:$C$63,2),\"\")","v":5},{"$f":"IFERROR(VLOOKUP(F2371,Hoja1!$A$50:$C$63,3),\"\")","v":5}]
[2362,20259910047144,"2025-03-21","Persona jurídica","Virtual - Correo electrónico","Solicitud de documentos o información","Registros ambientales",null,"Subdirección de Estudios Ambientales","2025-04-04","Correo electrónico","2025-04-07",null,"",null,{"$f":"IFERROR(WORKDAY(N2372,Y2372,Hoja1!F2364:F2480),\"\")","v":""},"",null,"A TIEMPO",9,0,null,null,{"$f":"IFERROR(VLOOKUP(F2372,Hoja1!$A$50:$C$63,2),\"\")","v":5},{"$f":"IFERROR(VLOOKUP(F2372,Hoja1!$A$50:$C$63,3),\"\")","v":5}]
[2363,20259910046984,"2025-03-21","Persona jurídica","Virtual - Correo electrónico","Petición entre autoridades","Solicitud de información hidrometeorológica",null,"Grupo de Servicio al Ciudadano","2025-04-01","Correo electrónico","2025-04-07",null,"",null,{"$f":"IFERROR(WORKDAY(N2373,Y2373,Hoja1!F2365:F2481),\"\")","v":""},"",null,"A TIEMPO",6,0,null,null,{"$f":"IFERROR(VLOOKUP(F2373,Hoja1!$A$50:$C$63,2),\"\")","v":10},{"$f":"IFERROR(VLOOKUP(F2373,Hoja1!$A$50:$C$63,3),\"\")","v":10}]
[2364,20259050047004,"2025-03-21","Persona natural","Virtual - Formulario PQRSDF","Solicitud de documentos o información","Solicitud de información hidrometeorológica",null,"Grupo de Servicio al Ciudadano","2025-04-02","Correo electrónico","2025-04-07",null,"",null,{"$f":"IFERROR(WORKDAY(N2374,Y2374,Hoja1!F2366:F2482),\"\")","v":""},"",null,"A TIEMPO",7,0,null,null,{"$f":"IFERROR(VLOOKUP(F2374,Hoja1!$A$50:$C$63,2),\"\")","v":5},{"$f":"IFERROR(VLOOKUP(F2374,Hoja1!$A$50:$C$63,3),\"\")","v":5}]
[2365,20259910047064,"2025-03-21","Persona jurídica","Virtual - Correo electrónico","Consulta (Información técnica)","Registros ambientales",null,"Subdirección de Estudios Ambientales","2025-05-06","Correo electrónico","2025-05-08",null,"",null,{"$f":"IFERROR(WORKDAY(N2375,Y2375,Hoja1!F2367:F2483),\"\")","v":""},"",null,"A TIEMPO",28,0,null,null,{"$f":"IFERROR(VLOOKUP(F2375,Hoja1!$A$50:$C$63,2),\"\")","v":30},{"$f":"IFERROR(VLOOKUP(F2375,Hoja1!$A$50:$C$63,3),\"\")","v":30}]
[2366,20259910047084,"2025-03-21","Persona jurídica","Virtual - Correo electrónico","Solicitud de documentos o información","Registros ambientales",null,"Subdirección de Estudios Ambientales","2025-03-31","Correo electrónico","2025-04-07",null,"",null,{"$f":"IFERROR(WORKDAY(N2376,Y2376,Hoja1!F2368:F2484),\"\")","v":""},"",null,"A TIEMPO",5,0,null,null,{"$f":"IFERROR(VLOOKUP(F2376,Hoja1!$A$50:$C$63,2),\"\")","v":5},{"$f":"IFERROR(VLOOKUP(F2376,Hoja1!$A$50:$C$63,3),\"\")","v":5}]
[2367,20259050047074,"2025-03-21","Persona natural","Virtual - Formulario PQRSDF","Solicitud de documentos o información","Operación de redes",null,"Oficina de Informática","2025-03-31","Correo electrónico","2025-04-07",null,"",null,{"$f":"IFERROR(WORKDAY(N2377,Y2377,Hoja1!F2369:F2485),\"\")","v":""},"",null,"A TIEMPO",5,0,null,null,{"$f":"IFERROR(VLOOKUP(F2377,Hoja1!$A$50:$C$63,2),\"\")","v":5},{"$f":"IFERROR(VLOOKUP(F2377,Hoja1!$A$50:$C$63,3),\"\")","v":5}]
[2368,20259910047104,"2025-03-21","Persona natural","Virtual - Correo electrónico","Solicitud de documentos o información","Administrativa",null,"Grupo de Administración y Desarrollo del Talento Humano","2025-04-04","Correo electrónico","2025-04-07",null,"",null,{"$f":"IFERROR(WORKDAY(N2378,Y2378,Hoja1!F2370:F2486),\"\")","v":""},{"$f":"+IF(N2378=\"\",\"\",IF(O2378=\"\",\"SIN RESPUESTA\",(IF(O2378<=P2378,\"A TIEMPO\",\"FUERA DE TIEMPO\"))))","v":""},null,"A TIEMPO",9,0,null,null,{"$f":"IFERROR(VLOOKUP(F2378,Hoja1!$A$50:$C$63,2),\"\")","v":5},{"$f":"IFERROR(VLOOKUP(F2378,Hoja1!$A$50:$C$63,3),\"\")","v":5}]
[2369,20259910047124,"2025-03-21","Persona jurídica","Virtual - Correo electrónico","Solicitud de documentos o información","Solicitud de información hidrometeorológica",null,"Subdirección de Meteorología","2025-04-02","Correo electrónico","2025-04-07",null,"",null,{"$f":"IFERROR(WORKDAY(N2379,Y2379,Hoja1!F2371:F2487),\"\")","v":""},"",null,"A TIEMPO",7,0,null,null,{"$f":"IFERROR(VLOOKUP(F2379,Hoja1!$A$50:$C$63,2),\"\")","v":5},{"$f":"IFERROR(VLOOKUP(F2379,Hoja1!$A$50:$C$63,3),\"\")","v":5}]
[2370,20259910047174,"2025-03-21","Persona jurídica","Virtual - Correo electrónico","Solicitud de documentos o información","Registros ambientales",null,"Subdirección de Estudios Ambientales","2025-03-31","Correo electrónico","2025-04-07",null,"",null,{"$f":"IFERROR(WORKDAY(N2380,Y2380,Hoja1!F2372:F2488),\"\")","v":""},"",null,"A TIEMPO",5,0,null,null,{"$f":"IFERROR(VLOOKUP(F2380,Hoja1!$A$50:$C$63,2),\"\")","v":5},{"$f":"IFERROR(VLOOKUP(F2380,Hoja1!$A$50:$C$63,3),\"\")","v":5}]
[2371,20259910047184,"2025-03-21","Persona jurídica","Virtual - Correo electrónico","Petición entre entidades","Bosques",null,"Subdirección de Ecosistemas e Información Ambiental","2025-04-07","Correo electrónico","2025-04-07",null,"",null,{"$f":"IFERROR(WORKDAY(N2381,Y2381,Hoja1!F2373:F2489),\"\")","v":""},"",null,"A TIEMPO",10,0,null,null,{"$f":"IFERROR(VLOOKUP(F2381,Hoja1!$A$50:$C$63,2),\"\")","v":10},{"$f":"IFERROR(VLOOKUP(F2381,Hoja1!$A$50:$C$63,3),\"\")","v":10}]
[2372,20259910047214,"2025-03-21","Persona jurídica","Virtual - Correo electrónico","Petición de interés general o particular","Registros ambientales",null,"Subdirección de Estudios Ambientales","2025-04-11","Correo electrónico","2025-04-14",null,"",null,{"$f":"IFERROR(WORKDAY(N2382,Y2382,Hoja1!F2374:F2490),\"\")","v":""},"",null,"A TIEMPO",14,0,null,null,{"$f":"IFERROR(VLOOKUP(F2382,Hoja1!$A$50:$C$63,2),\"\")","v":15},{"$f":"IFERROR(VLOOKUP(F2382,Hoja1!$A$50:$C$63,3),\"\")","v":15}]
[2373,20259910047224,"2025-03-21","Persona jurídica","Virtual - Correo electrónico","Solicitud de documentos o información","Registros ambientales",null,"Subdirección de Estudios Ambientales","2025-03-26","Correo electrónico","2025-04-07",null,"",null,{"$f":"IFERROR(WORKDAY(N2383,Y2383,Hoja1!F2375:F2491),\"\")","v":""},"",null,"A TIEMPO",2,0,null,null,{"$f":"IFERROR(VLOOKUP(F2383,Hoja1!$A$50:$C$63,2),\"\")","v":5},{"$f":"IFERROR(VLOOKUP(F2383,Hoja1!$A$50:$C$63,3),\"\")","v":5}]
[2374,20259910047244,"2025-03-21","Persona jurídica","Virtual - Correo electrónico","Solicitud de documentos o información","Registros ambientales",null,"Subdirección de Estudios Ambientales","2025-04-02","Correo electrónico","2025-04-07",null,"",null,{"$f":"IFERROR(WORKDAY(N2384,Y2384,Hoja1!F2376:F2492),\"\")","v":""},"",null,"A TIEMPO",7,0,null,null,{"$f":"IFERROR(VLOOKUP(F2384,Hoja1!$A$50:$C$63,2),\"\")","v":5},{"$f":"IFERROR(VLOOKUP(F2384,Hoja1!$A$50:$C$63,3),\"\")","v":5}]
[{"$f":"IF(B2385<>\"\",A2384+1,\"\")","v":2375},20259910047264,"2025-03-21","Persona jurídica","Virtual - Correo electrónico","Solicitud de documentos o información","Registros ambientales",null,"Subdirección de Estudios Ambientales","2025-03-27","Correo electrónico","2025-04-07",null,"",null,{"$f":"IFERROR(WORKDAY(N2385,Y2385,Hoja1!F2377:F2493),\"\")","v":""},"",null,"A TIEMPO",3,0,null,null,{"$f":"IFERROR(VLOOKUP(F2385,Hoja1!$A$50:$C$63,2),\"\")","v":5},{"$f":"IFERROR(VLOOKUP(F2385,Hoja1!$A$50:$C$63,3),\"\")","v":5}]
[2376,20259910047274,"2025-03-21","Persona jurídica","Virtual - Correo electrónico","Solicitud de documentos o información","Registros ambientales",null,"Subdirección de Estudios Ambientales","2025-03-31","Correo electrónico","2025-04-07",null,"",null,{"$f":"IFERROR(WORKDAY(N2386,Y2386,Hoja1!F2378:F2494),\"\")","v":""},"",null,"A TIEMPO",5,0,null,null,{"$f":"IFERROR(VLOOKUP(F2386,Hoja1!$A$50:$C$63,2),\"\")","v":5},{"$f":"IFERROR(VLOOKUP(F2386,Hoja1!$A$50:$C$63,3),\"\")","v":5}]
[2377,20259910047284,"2025-03-21","Persona jurídica","Virtual - Correo electrónico","Solicitud de documentos o información","Registros ambientales",null,"Subdirección de Estudios Ambientales","2025-04-04","Correo electrónico","2025-04-07",null,"",null,{"$f":"IFERROR(WORKDAY(N2387,Y2387,Hoja1!F2379:F2495),\"\")","v":""},"",null,"A TIEMPO",9,0,null,null,{"$f":"IFERROR(VLOOKUP(F2387,Hoja1!$A$50:$C$63,2),\"\")","v":5},{"$f":"IFERROR(VLOOKUP(F2387,Hoja1!$A$50:$C$63,3),\"\")","v":5}]
[2378,20259910047154,"2025-03-21","Persona jurídica","Virtual - Correo electrónico","Petición entre entidades","Suelos y tierras",null,"Subdirección de Ecosistemas e Información Ambiental","2025-04-10","Correo electrónico","2025-04-09",null,"",null,{"$f":"IFERROR(WORKDAY(N2388,Y2388,Hoja1!F2380:F2496),\"\")","v":""},"",null,{"$f":"+IF(C2388=\"\",\"\",IF(J2388=\"\",\"SIN RESPUESTA\",(IF(J2388<=L2388,\"A TIEMPO\",\"FUERA DE TIEMPO\"))))","v":"FUERA DE TIEMPO"},11,1,null,null,{"$f":"IFERROR(VLOOKUP(F2388,Hoja1!$A$50:$C$63,2),\"\")","v":10},{"$f":"IFERROR(VLOOKUP(F2388,Hoja1!$A$50:$C$63,3),\"\")","v":10}]
[2379,20259910047334,"2025-03-21","Persona jurídica","Virtual - Correo electrónico","Solicitud de documentos o información","Registros ambientales",null,"Subdirección de Estudios Ambientales","2025-03-31","Correo electrónico","2025-04-07",null,"",null,{"$f":"IFERROR(WORKDAY(N2389,Y2389,Hoja1!F2381:F2497),\"\")","v":""},"",null,"A TIEMPO",5,0,null,null,{"$f":"IFERROR(VLOOKUP(F2389,Hoja1!$A$50:$C$63,2),\"\")","v":5},{"$f":"IFERROR(VLOOKUP(F2389,Hoja1!$A$50:$C$63,3),\"\")","v":5}]
[2380,20259910046954,"2025-03-21","Persona natural","Virtual - Correo electrónico","Solicitud de documentos o información","Sistema de información del recurso hídrico",null,"Subdirección de Meteorología","2025-04-03","Correo electrónico","2025-04-07",null,"",null,{"$f":"IFERROR(WORKDAY(N2390,Y2390,Hoja1!F2382:F2498),\"\")","v":""},"",null,"A TIEMPO",8,0,null,null,{"$f":"IFERROR(VLOOKUP(F2390,Hoja1!$A$50:$C$63,2),\"\")","v":5},{"$f":"IFERROR(VLOOKUP(F2390,Hoja1!$A$50:$C$63,3),\"\")","v":5}]
[2381,20259910047414,"2025-03-21","Persona jurídica","Virtual - Correo electrónico","Petición entre autoridades","Registros ambientales",null,"Subdirección de Estudios Ambientales","2025-04-04","Correo electrónico","2025-04-07",null,"",null,{"$f":"IFERROR(WORKDAY(N2391,Y2391,Hoja1!F2383:F2499),\"\")","v":""},"",null,"A TIEMPO",9,0,null,null,{"$f":"IFERROR(VLOOKUP(F2391,Hoja1!$A$50:$C$63,2),\"\")","v":10},{"$f":"IFERROR(VLOOKUP(F2391,Hoja1!$A$50:$C$63,3),\"\")","v":10}]
[2382,20259910047404,"2025-03-21","Persona jurídica","Virtual - Correo electrónico","Petición de interés general o particular","Registros ambientales",null,"Subdirección de Estudios Ambientales","2025-04-02","Correo electrónico","2025-04-14",null,"",null,{"$f":"IFERROR(WORKDAY(N2392,Y2392,Hoja1!F2384:F2500),\"\")","v":""},"",null,"A TIEMPO",7,0,null,null,{"$f":"IFERROR(VLOOKUP(F2392,Hoja1!$A$50:$C$63,2),\"\")","v":15},{"$f":"IFERROR(VLOOKUP(F2392,Hoja1!$A$50:$C$63,3),\"\")","v":15}]
[2383,20259910047424,"2025-03-21","Persona jurídica","Virtual - Correo electrónico","Petición entre autoridades","Registros ambientales",null,"Subdirección de Estudios Ambientales","2025-03-31","Correo electrónico","2025-04-07",null,"",null,{"$f":"IFERROR(WORKDAY(N2393,Y2393,Hoja1!F2385:F2501),\"\")","v":""},"",null,"A TIEMPO",5,0,null,null,{"$f":"IFERROR(VLOOKUP(F2393,Hoja1!$A$50:$C$63,2),\"\")","v":10},{"$f":"IFERROR(VLOOKUP(F2393,Hoja1!$A$50:$C$63,3),\"\")","v":10}]
[2384,20259910047444,"2025-03-21","Persona jurídica","Virtual - Correo electrónico","Solicitud de documentos o información","Registros ambientales",null,"Subdirección de Estudios Ambientales","2025-04-04","Correo electrónico","2025-04-07",null,"",null,{"$f":"IFERROR(WORKDAY(N2394,Y2394,Hoja1!F2386:F2502),\"\")","v":""},"",null,"A TIEMPO",9,0,null,null,{"$f":"IFERROR(VLOOKUP(F2394,Hoja1!$A$50:$C$63,2),\"\")","v":5},{"$f":"IFERROR(VLOOKUP(F2394,Hoja1!$A$50:$C$63,3),\"\")","v":5}]
[2385,20259910047474,"2025-03-21","Persona jurídica","Virtual - Correo electrónico","Solicitud de documentos o información","Registros ambientales",null,"Subdirección de Estudios Ambientales","2025-04-04","Correo electrónico","2025-04-07",null,"",null,{"$f":"IFERROR(WORKDAY(N2395,Y2395,Hoja1!F2387:F2503),\"\")","v":""},"",null,"A TIEMPO",9,0,null,null,{"$f":"IFERROR(VLOOKUP(F2395,Hoja1!$A$50:$C$63,2),\"\")","v":5},{"$f":"IFERROR(VLOOKUP(F2395,Hoja1!$A$50:$C$63,3),\"\")","v":5}]
[2386,20259910047464,"2025-03-21","Persona jurídica","Virtual - Correo electrónico","Petición entre autoridades","Bosques",null,"Subdirección de Ecosistemas e Información Ambiental","2025-03-27","Correo electrónico","2025-04-07",null,"",null,{"$f":"IFERROR(WORKDAY(N2396,Y2396,Hoja1!F2388:F2504),\"\")","v":""},"",null,"A TIEMPO",3,0,null,null,{"$f":"IFERROR(VLOOKUP(F2396,Hoja1!$A$50:$C$63,2),\"\")","v":10},{"$f":"IFERROR(VLOOKUP(F2396,Hoja1!$A$50:$C$63,3),\"\")","v":10}]
[2387,20259910047494,"2025-03-21","Persona natural","Virtual - Correo electrónico","Solicitud de documentos o información","Sistema de información del recurso hídrico",null,"Subdirección de Meteorología","2025-03-28","Correo electrónico","2025-04-07",null,"",null,{"$f":"IFERROR(WORKDAY(N2397,Y2397,Hoja1!F2389:F2505),\"\")","v":""},"",null,"A TIEMPO",4,0,null,null,{"$f":"IFERROR(VLOOKUP(F2397,Hoja1!$A$50:$C$63,2),\"\")","v":5},{"$f":"IFERROR(VLOOKUP(F2397,Hoja1!$A$50:$C$63,3),\"\")","v":5}]
[2388,20259910047514,"2025-03-21","Persona jurídica","Virtual - Correo electrónico","Solicitud de documentos o información","Registros ambientales",null,"Subdirección de Estudios Ambientales","2025-04-04","Correo electrónico","2025-04-07",null,"",null,{"$f":"IFERROR(WORKDAY(N2398,Y2398,Hoja1!F2390:F2506),\"\")","v":""},"",null,"A TIEMPO",9,0,null,null,{"$f":"IFERROR(VLOOKUP(F2398,Hoja1!$A$50:$C$63,2),\"\")","v":5},{"$f":"IFERROR(VLOOKUP(F2398,Hoja1!$A$50:$C$63,3),\"\")","v":5}]
[2389,20259910047574,"2025-03-21","Persona jurídica","Virtual - Correo electrónico","Solicitud de documentos o información","Solicitud de información hidrometeorológica",null,"Subdirección de Meteorología","2025-04-03","Correo electrónico","2025-04-07",null,"",null,{"$f":"IFERROR(WORKDAY(N2399,Y2399,Hoja1!F2391:F2507),\"\")","v":""},"",null,"A TIEMPO",8,0,null,null,{"$f":"IFERROR(VLOOKUP(F2399,Hoja1!$A$50:$C$63,2),\"\")","v":5},{"$f":"IFERROR(VLOOKUP(F2399,Hoja1!$A$50:$C$63,3),\"\")","v":5}]
[2390,20259910047604,"2025-03-21","Persona jurídica","Virtual - Correo electrónico","Solicitud de documentos o información","Registros ambientales",null,"Subdirección de Estudios Ambientales","2025-04-04","Correo electrónico","2025-04-07",null,"",null,{"$f":"IFERROR(WORKDAY(N2400,Y2400,Hoja1!F2392:F2508),\"\")","v":""},"",null,"A TIEMPO",9,0,null,null,{"$f":"IFERROR(VLOOKUP(F2400,Hoja1!$A$50:$C$63,2),\"\")","v":5},{"$f":"IFERROR(VLOOKUP(F2400,Hoja1!$A$50:$C$63,3),\"\")","v":5}]
[2391,20259910047594,"2025-03-21","Persona jurídica","Virtual - Correo electrónico","Solicitud de documentos o información","Registros ambientales",null,"Subdirección de Estudios Ambientales","2025-03-30","Correo electrónico","2025-04-07",null,"",null,{"$f":"IFERROR(WORKDAY(N2401,Y2401,Hoja1!F2393:F2509),\"\")","v":""},"",null,"A TIEMPO",4,0,null,null,{"$f":"IFERROR(VLOOKUP(F2401,Hoja1!$A$50:$C$63,2),\"\")","v":5},{"$f":"IFERROR(VLOOKUP(F2401,Hoja1!$A$50:$C$63,3),\"\")","v":5}]
[2392,20259910047644,"2025-03-21","Persona jurídica","Virtual - Correo electrónico","Solicitud de documentos o información","Registros ambientales",null,"Subdirección de Estudios Ambientales","2025-04-04","Correo electrónico","2025-04-07",null,"",null,{"$f":"IFERROR(WORKDAY(N2402,Y2402,Hoja1!F2394:F2510),\"\")","v":""},"",null,"A TIEMPO",9,0,null,null,{"$f":"IFERROR(VLOOKUP(F2402,Hoja1!$A$50:$C$63,2),\"\")","v":5},{"$f":"IFERROR(VLOOKUP(F2402,Hoja1!$A$50:$C$63,3),\"\")","v":5}]
[2393,20259910047654,"2025-03-21","Persona jurídica","Virtual - Correo electrónico","Solicitud de documentos o información","Registros ambientales",null,"Subdirección de Estudios Ambientales","2025-04-11","Correo electrónico","2025-04-07",null,"",null,{"$f":"IFERROR(WORKDAY(N2403,Y2403,Hoja1!F2395:F2511),\"\")","v":""},"",null,{"$f":"+IF(C2403=\"\",\"\",IF(J2403=\"\",\"SIN RESPUESTA\",(IF(J2403<=L2403,\"A TIEMPO\",\"FUERA DE TIEMPO\"))))","v":"FUERA DE TIEMPO"},14,4,null,null,{"$f":"IFERROR(VLOOKUP(F2403,Hoja1!$A$50:$C$63,2),\"\")","v":5},{"$f":"IFERROR(VLOOKUP(F2403,Hoja1!$A$50:$C$63,3),\"\")","v":5}]
[2394,20259910047634,"2025-03-21","Persona jurídica","Virtual - Correo electrónico","Petición entre autoridades","Bosques",null,"Subdirección de Ecosistemas e Información Ambiental","2025-04-07","Correo electrónico","2025-04-07",null,"",null,{"$f":"IFERROR(WORKDAY(N2404,Y2404,Hoja1!F2396:F2512),\"\")","v":""},"",null,"A TIEMPO",10,0,null,null,{"$f":"IFERROR(VLOOKUP(F2404,Hoja1!$A$50:$C$63,2),\"\")","v":10},{"$f":"IFERROR(VLOOKUP(F2404,Hoja1!$A$50:$C$63,3),\"\")","v":10}]
[2395,20259910047774,"2025-03-21","Persona natural","Virtual - Correo electrónico","Solicitud de documentos o información","Solicitud de información hidrometeorológica",null,"Grupo de Servicio al Ciudadano","2025-04-03","Correo electrónico","2025-04-07",null,"",null,{"$f":"IFERROR(WORKDAY(N2405,Y2405,Hoja1!F2397:F2513),\"\")","v":""},"",null,"A TIEMPO",8,0,null,null,{"$f":"IFERROR(VLOOKUP(F2405,Hoja1!$A$50:$C$63,2),\"\")","v":5},{"$f":"IFERROR(VLOOKUP(F2405,Hoja1!$A$50:$C$63,3),\"\")","v":5}]
[2396,20259910047764,"2025-03-21","Persona natural","Virtual - Correo electrónico","Solicitud de documentos o información","Solicitud de información hidrometeorológica",null,"Grupo de Servicio al Ciudadano","2025-04-02","Correo electrónico","2025-04-07",null,"",null,{"$f":"IFERROR(WORKDAY(N2406,Y2406,Hoja1!F2398:F2514),\"\")","v":""},"",null,"A TIEMPO",7,0,null,null,{"$f":"IFERROR(VLOOKUP(F2406,Hoja1!$A$50:$C$63,2),\"\")","v":5},{"$f":"IFERROR(VLOOKUP(F2406,Hoja1!$A$50:$C$63,3),\"\")","v":5}]
[2397,20259910047754,"2025-03-21","Persona jurídica","Virtual - Correo electrónico","Solicitud de documentos o información","Informes ambientales",null,"Subdirección de Hidrología","2025-04-04","Correo electrónico","2025-04-07",null,"",null,{"$f":"IFERROR(WORKDAY(N2407,Y2407,Hoja1!F2399:F2515),\"\")","v":""},"",null,"A TIEMPO",9,0,null,null,{"$f":"IFERROR(VLOOKUP(F2407,Hoja1!$A$50:$C$63,2),\"\")","v":5},{"$f":"IFERROR(VLOOKUP(F2407,Hoja1!$A$50:$C$63,3),\"\")","v":5}]
[2398,20259910047784,"2025-03-21","Persona jurídica","Virtual - Correo electrónico","Solicitud de documentos o información","Registros ambientales",null,"Subdirección de Estudios Ambientales","2025-04-02","Correo electrónico","2025-04-07",null,"",null,{"$f":"IFERROR(WORKDAY(N2408,Y2408,Hoja1!F2400:F2516),\"\")","v":""},"",null,"A TIEMPO",7,0,null,null,{"$f":"IFERROR(VLOOKUP(F2408,Hoja1!$A$50:$C$63,2),\"\")","v":5},{"$f":"IFERROR(VLOOKUP(F2408,Hoja1!$A$50:$C$63,3),\"\")","v":5}]
[2399,20259910047794,"2025-03-21","Persona jurídica","Virtual - Correo electrónico","Consulta (Información técnica)","Sistema de información ambiental",null,"Subdirección de Estudios Ambientales","2025-05-06","Correo electrónico","2025-05-08",null,"",null,{"$f":"IFERROR(WORKDAY(N2409,Y2409,Hoja1!F2401:F2517),\"\")","v":""},"",null,"A TIEMPO",28,0,null,null,{"$f":"IFERROR(VLOOKUP(F2409,Hoja1!$A$50:$C$63,2),\"\")","v":30},{"$f":"IFERROR(VLOOKUP(F2409,Hoja1!$A$50:$C$63,3),\"\")","v":30}]
[2400,20259910047834,"2025-03-21","Persona jurídica","Virtual - Correo electrónico","Solicitud de documentos o información","Registros ambientales",null,"Subdirección de Estudios Ambientales","2025-03-28","Correo electrónico","2025-04-07",null,"",null,{"$f":"IFERROR(WORKDAY(N2410,Y2410,Hoja1!F2402:F2518),\"\")","v":""},"",null,"A TIEMPO",4,0,null,null,{"$f":"IFERROR(VLOOKUP(F2410,Hoja1!$A$50:$C$63,2),\"\")","v":5},{"$f":"IFERROR(VLOOKUP(F2410,Hoja1!$A$50:$C$63,3),\"\")","v":5}]
[2401,20259910047684,"2025-03-21","Persona natural","Virtual - Correo electrónico","Certificación laboral o pasantía","Administrativa",null,"Grupo de Administración y Desarrollo del Talento Humano","2025-04-04","Correo electrónico","2025-04-07",null,"",null,{"$f":"IFERROR(WORKDAY(N2411,Y2411,Hoja1!F2403:F2519),\"\")","v":""},"",null,"A TIEMPO",9,0,null,null,{"$f":"IFERROR(VLOOKUP(F2411,Hoja1!$A$50:$C$63,2),\"\")","v":15},{"$f":"IFERROR(VLOOKUP(F2411,Hoja1!$A$50:$C$63,3),\"\")","v":15}]
[2402,20259910047804,"2025-03-21","Persona jurídica","Virtual - Correo electrónico","Solicitud de documentos o información","Registros ambientales",null,"Subdirección de Estudios Ambientales","2025-03-28","Correo electrónico","2025-04-07",null,"",null,{"$f":"IFERROR(WORKDAY(N2412,Y2412,Hoja1!F2404:F2520),\"\")","v":""},"",null,"A TIEMPO",4,0,null,null,{"$f":"IFERROR(VLOOKUP(F2412,Hoja1!$A$50:$C$63,2),\"\")","v":5},{"$f":"IFERROR(VLOOKUP(F2412,Hoja1!$A$50:$C$63,3),\"\")","v":5}]
[2403,20259050047864,"2025-03-21","Persona jurídica","Virtual - Formulario PQRSDF","Solicitud de documentos o información","Registros ambientales",null,"Subdirección de Estudios Ambientales","2025-03-30","Correo electrónico","2025-04-07",null,"",null,{"$f":"IFERROR(WORKDAY(N2413,Y2413,Hoja1!F2405:F2521),\"\")","v":""},"",null,"A TIEMPO",4,0,null,null,{"$f":"IFERROR(VLOOKUP(F2413,Hoja1!$A$50:$C$63,2),\"\")","v":5},{"$f":"IFERROR(VLOOKUP(F2413,Hoja1!$A$50:$C$63,3),\"\")","v":5}]
[2404,20259910047814,"2025-03-21","Persona jurídica","Virtual - Correo electrónico","Solicitud de documentos o información","Registros ambientales",null,"Subdirección de Estudios Ambientales","2025-04-04","Correo electrónico","2025-04-07",null,"",null,{"$f":"IFERROR(WORKDAY(N2414,Y2414,Hoja1!F2406:F2522),\"\")","v":""},"",null,"A TIEMPO",9,0,null,null,{"$f":"IFERROR(VLOOKUP(F2414,Hoja1!$A$50:$C$63,2),\"\")","v":5},{"$f":"IFERROR(VLOOKUP(F2414,Hoja1!$A$50:$C$63,3),\"\")","v":5}]
[2405,20259050047874,"2025-03-21","Persona jurídica","Virtual - Formulario PQRSDF","Solicitud de documentos o información","Registros ambientales",null,"Subdirección de Estudios Ambientales","2025-03-30","Correo electrónico","2025-04-07",null,"",null,{"$f":"IFERROR(WORKDAY(N2415,Y2415,Hoja1!F2407:F2523),\"\")","v":""},"",null,"A TIEMPO",4,0,null,null,{"$f":"IFERROR(VLOOKUP(F2415,Hoja1!$A$50:$C$63,2),\"\")","v":5},{"$f":"IFERROR(VLOOKUP(F2415,Hoja1!$A$50:$C$63,3),\"\")","v":5}]
[2406,20259050047884,"2025-03-21","Persona jurídica","Virtual - Formulario PQRSDF","Solicitud de documentos o información","Registros ambientales",null,"Subdirección de Estudios Ambientales","2025-03-30","Correo electrónico","2025-04-07",null,"",null,{"$f":"IFERROR(WORKDAY(N2416,Y2416,Hoja1!F2408:F2524),\"\")","v":""},"",null,"A TIEMPO",4,0,null,null,{"$f":"IFERROR(VLOOKUP(F2416,Hoja1!$A$50:$C$63,2),\"\")","v":5},{"$f":"IFERROR(VLOOKUP(F2416,Hoja1!$A$50:$C$63,3),\"\")","v":5}]
[2407,20259910047694,"2025-03-21","Persona jurídica","Virtual - Correo electrónico","Petición entre autoridades","Bosques",null,"Subdirección de Ecosistemas e Información Ambiental","2025-04-07","Correo electrónico","2025-04-07",null,"",null,{"$f":"IFERROR(WORKDAY(N2417,Y2417,Hoja1!F2409:F2525),\"\")","v":""},"",null,"A TIEMPO",10,0,null,null,{"$f":"IFERROR(VLOOKUP(F2417,Hoja1!$A$50:$C$63,2),\"\")","v":10},{"$f":"IFERROR(VLOOKUP(F2417,Hoja1!$A$50:$C$63,3),\"\")","v":10}]
[2408,20259910047704,"2025-03-21","Persona jurídica","Virtual - Correo electrónico","Petición entre autoridades","Bosques",null,"Subdirección de Ecosistemas e Información Ambiental","2025-04-07","Correo electrónico","2025-04-07",null,"",null,{"$f":"IFERROR(WORKDAY(N2418,Y2418,Hoja1!F2410:F2526),\"\")","v":""},"",null,"A TIEMPO",10,0,null,null,{"$f":"IFERROR(VLOOKUP(F2418,Hoja1!$A$50:$C$63,2),\"\")","v":10},{"$f":"IFERROR(VLOOKUP(F2418,Hoja1!$A$50:$C$63,3),\"\")","v":10}]
[2409,20259050047894,"2025-03-22","Persona natural","Virtual - Formulario PQRSDF","Solicitud de documentos o información","Sistema de información del recurso hídrico",null,"Grupo de Servicio al Ciudadano","2025-04-03","Correo electrónico","2025-04-07",null,"",null,{"$f":"IFERROR(WORKDAY(N2419,Y2419,Hoja1!F2411:F2527),\"\")","v":""},"",null,"A TIEMPO",7,0,null,null,{"$f":"IFERROR(VLOOKUP(F2419,Hoja1!$A$50:$C$63,2),\"\")","v":5},{"$f":"IFERROR(VLOOKUP(F2419,Hoja1!$A$50:$C$63,3),\"\")","v":5}]
[2410,20259050047904,"2025-03-24","Persona jurídica","Virtual - Formulario PQRSDF","Solicitud de documentos o información","Registros ambientales",null,"Subdirección de Estudios Ambientales","2025-04-02","Correo electrónico","2025-04-07",null,"",null,{"$f":"IFERROR(WORKDAY(N2420,Y2420,Hoja1!F2412:F2528),\"\")","v":""},"",null,"A TIEMPO",6,0,null,null,{"$f":"IFERROR(VLOOKUP(F2420,Hoja1!$A$50:$C$63,2),\"\")","v":5},{"$f":"IFERROR(VLOOKUP(F2420,Hoja1!$A$50:$C$63,3),\"\")","v":5}]
[2411,20259050047914,"2025-03-24","Persona jurídica","Virtual - Formulario PQRSDF","Solicitud de documentos o información","Solicitud de información hidrometeorológica",null,"Grupo de Servicio al Ciudadano","2025-04-02","Correo electrónico","2025-04-07",null,"",null,{"$f":"IFERROR(WORKDAY(N2421,Y2421,Hoja1!F2413:F2529),\"\")","v":""},"",null,"A TIEMPO",6,0,null,null,{"$f":"IFERROR(VLOOKUP(F2421,Hoja1!$A$50:$C$63,2),\"\")","v":5},{"$f":"IFERROR(VLOOKUP(F2421,Hoja1!$A$50:$C$63,3),\"\")","v":5}]
[2412,20259050047924,"2025-03-24","Persona natural","Virtual - Formulario PQRSDF","Solicitud de documentos o información","Visitas académicas",null,"Grupo de Servicio al Ciudadano","2025-04-04","Correo electrónico","2025-04-07",null,"",null,{"$f":"IFERROR(WORKDAY(N2422,Y2422,Hoja1!F2414:F2530),\"\")","v":""},"",null,"A TIEMPO",8,0,null,null,{"$f":"IFERROR(VLOOKUP(F2422,Hoja1!$A$50:$C$63,2),\"\")","v":5},{"$f":"IFERROR(VLOOKUP(F2422,Hoja1!$A$50:$C$63,3),\"\")","v":5}]
[2413,20259050047934,"2025-03-24","Persona natural","Virtual - Formulario PQRSDF","Solicitud de documentos o información","Solicitud de información hidrometeorológica",null,"Grupo de Servicio al Ciudadano","2025-04-03","Correo electrónico","2025-04-07",null,"",null,{"$f":"IFERROR(WORKDAY(N2423,Y2423,Hoja1!F2415:F2531),\"\")","v":""},"",null,"A TIEMPO",7,0,null,null,{"$f":"IFERROR(VLOOKUP(F2423,Hoja1!$A$50:$C$63,2),\"\")","v":5},{"$f":"IFERROR(VLOOKUP(F2423,Hoja1!$A$50:$C$63,3),\"\")","v":5}]
[2414,20259050047944,"2025-03-24","Persona natural","Virtual - Formulario PQRSDF","Solicitud de documentos o información","Sistema de información ambiental",null,"Subdirección de Estudios Ambientales","2025-04-25","Correo electrónico","2025-04-07",null,"",null,{"$f":"IFERROR(WORKDAY(N2424,Y2424,Hoja1!F2416:F2532),\"\")","v":""},"",null,{"$f":"+IF(C2424=\"\",\"\",IF(J2424=\"\",\"SIN RESPUESTA\",(IF(J2424<=L2424,\"A TIEMPO\",\"FUERA DE TIEMPO\"))))","v":"FUERA DE TIEMPO"},21,12,null,null,{"$f":"IFERROR(VLOOKUP(F2424,Hoja1!$A$50:$C$63,2),\"\")","v":5},{"$f":"IFERROR(VLOOKUP(F2424,Hoja1!$A$50:$C$63,3),\"\")","v":5}]
[2415,20259910047824,"2025-03-21","Persona jurídica","Virtual - Correo electrónico","Solicitud de documentos o información","Registros ambientales",null,"Subdirección de Estudios Ambientales","2025-04-04","Correo electrónico","2025-04-07",null,"",null,{"$f":"IFERROR(WORKDAY(N2425,Y2425,Hoja1!F2417:F2533),\"\")","v":""},"",null,"A TIEMPO",9,0,null,null,{"$f":"IFERROR(VLOOKUP(F2425,Hoja1!$A$50:$C$63,2),\"\")","v":5},{"$f":"IFERROR(VLOOKUP(F2425,Hoja1!$A$50:$C$63,3),\"\")","v":5}]
[2416,20259050047954,"2025-03-25","Persona jurídica","Virtual - Formulario PQRSDF","Certificación de contrato","Administrativa",null,"Oficina Asesora Jurídica","2025-04-07","Correo electrónico","2025-04-08",null,"",null,{"$f":"IFERROR(WORKDAY(N2426,Y2426,Hoja1!F2418:F2534),\"\")","v":""},"",null,"A TIEMPO",9,0,null,null,{"$f":"IFERROR(VLOOKUP(F2426,Hoja1!$A$50:$C$63,2),\"\")","v":15},{"$f":"IFERROR(VLOOKUP(F2426,Hoja1!$A$50:$C$63,3),\"\")","v":15}]
[2417,20259050047964,"2025-03-25","Persona jurídica","Virtual - Formulario PQRSDF","Solicitud de documentos o información","Registros ambientales",null,"Subdirección de Estudios Ambientales","2025-04-04","Correo electrónico","2025-04-08",null,"",null,{"$f":"IFERROR(WORKDAY(N2427,Y2427,Hoja1!F2419:F2535),\"\")","v":""},"",null,"A TIEMPO",8,0,null,null,{"$f":"IFERROR(VLOOKUP(F2427,Hoja1!$A$50:$C$63,2),\"\")","v":5},{"$f":"IFERROR(VLOOKUP(F2427,Hoja1!$A$50:$C$63,3),\"\")","v":5}]
[2418,20259050047974,"2025-03-25","Persona jurídica","Virtual - Formulario PQRSDF","Solicitud de documentos o información","Registros ambientales",null,"Subdirección de Estudios Ambientales","2025-04-04","Correo electrónico","2025-04-08",null,"",null,{"$f":"IFERROR(WORKDAY(N2428,Y2428,Hoja1!F2420:F2536),\"\")","v":""},"",null,"A TIEMPO",8,0,null,null,{"$f":"IFERROR(VLOOKUP(F2428,Hoja1!$A$50:$C$63,2),\"\")","v":5},{"$f":"IFERROR(VLOOKUP(F2428,Hoja1!$A$50:$C$63,3),\"\")","v":5}]
[2419,20259910047984,"2025-03-25","Persona jurídica","Virtual - Correo electrónico","Certificación de tiempo, clima y eventos hidrológicos","Certificaciones del tiempo y clima",null,"Subdirección de Meteorología","2025-04-08","Correo electrónico","2025-05-09",null,"",null,{"$f":"IFERROR(WORKDAY(N2429,Y2429,Hoja1!F2421:F2537),\"\")","v":""},"",null,"A TIEMPO",10,0,null,null,{"$f":"IFERROR(VLOOKUP(F2429,Hoja1!$A$50:$C$63,2),\"\")","v":15},{"$f":"IFERROR(VLOOKUP(F2429,Hoja1!$A$50:$C$63,3),\"\")","v":15}]
[2420,20259910047994,"2025-03-25","Persona jurídica","Virtual - Correo electrónico","Solicitud de documentos o información","Registros ambientales",null,"Subdirección de Estudios Ambientales","2025-04-02","Correo electrónico","2025-04-08",null,"",null,{"$f":"IFERROR(WORKDAY(N2430,Y2430,Hoja1!F2422:F2538),\"\")","v":""},"",null,"A TIEMPO",6,0,null,null,{"$f":"IFERROR(VLOOKUP(F2430,Hoja1!$A$50:$C$63,2),\"\")","v":5},{"$f":"IFERROR(VLOOKUP(F2430,Hoja1!$A$50:$C$63,3),\"\")","v":5}]
[2421,20259910048004,"2025-03-25","Persona jurídica","Virtual - Correo electrónico","Solicitud de documentos o información","Registros ambientales",null,"Subdirección de Estudios Ambientales","2025-04-01","Correo electrónico","2025-04-08",null,"",null,{"$f":"IFERROR(WORKDAY(N2431,Y2431,Hoja1!F2423:F2539),\"\")","v":""},"",null,"A TIEMPO",5,0,null,null,{"$f":"IFERROR(VLOOKUP(F2431,Hoja1!$A$50:$C$63,2),\"\")","v":5},{"$f":"IFERROR(VLOOKUP(F2431,Hoja1!$A$50:$C$63,3),\"\")","v":5}]
[2422,20259910048014,"2025-03-25","Persona natural","Virtual - Correo electrónico","Solicitud de documentos o información","Visitas académicas",null,"Grupo de Servicio al Ciudadano","2025-03-27","Correo electrónico","2025-04-08",null,"",null,{"$f":"IFERROR(WORKDAY(N2432,Y2432,Hoja1!F2424:F2540),\"\")","v":""},"",null,"A TIEMPO",2,0,null,null,{"$f":"IFERROR(VLOOKUP(F2432,Hoja1!$A$50:$C$63,2),\"\")","v":5},{"$f":"IFERROR(VLOOKUP(F2432,Hoja1!$A$50:$C$63,3),\"\")","v":5}]
[2423,20259910048024,"2025-03-25","Persona jurídica","Virtual - Correo electrónico","Solicitud de documentos o información","Registros ambientales",null,"Subdirección de Estudios Ambientales","2025-04-04","Correo electrónico","2025-04-08",null,"",null,{"$f":"IFERROR(WORKDAY(N2433,Y2433,Hoja1!F2425:F2541),\"\")","v":""},"",null,"A TIEMPO",8,0,null,null,{"$f":"IFERROR(VLOOKUP(F2433,Hoja1!$A$50:$C$63,2),\"\")","v":5},{"$f":"IFERROR(VLOOKUP(F2433,Hoja1!$A$50:$C$63,3),\"\")","v":5}]
[2424,20259910048034,"2025-03-25","Persona jurídica","Virtual - Correo electrónico","Solicitud de documentos o información","Sistema de información del recurso hídrico",null,"Subdirección de Hidrología","2025-04-09","Correo electrónico","2025-04-08",null,"",null,{"$f":"IFERROR(WORKDAY(N2434,Y2434,Hoja1!F2426:F2542),\"\")","v":""},"",null,{"$f":"+IF(C2434=\"\",\"\",IF(J2434=\"\",\"SIN RESPUESTA\",(IF(J2434<=L2434,\"A TIEMPO\",\"FUERA DE TIEMPO\"))))","v":"FUERA DE TIEMPO"},11,1,null,null,{"$f":"IFERROR(VLOOKUP(F2434,Hoja1!$A$50:$C$63,2),\"\")","v":5},{"$f":"IFERROR(VLOOKUP(F2434,Hoja1!$A$50:$C$63,3),\"\")","v":5}]
[2425,20259050048064,"2025-03-25","Persona natural","Virtual - Formulario PQRSDF","Solicitud de documentos o información","Solicitud de información hidrometeorológica",null,"Grupo de Servicio al Ciudadano","2025-04-07","Correo electrónico","2025-04-08",null,"",null,{"$f":"IFERROR(WORKDAY(N2435,Y2435,Hoja1!F2427:F2543),\"\")","v":""},"",null,"A TIEMPO",9,0,null,null,{"$f":"IFERROR(VLOOKUP(F2435,Hoja1!$A$50:$C$63,2),\"\")","v":5},{"$f":"IFERROR(VLOOKUP(F2435,Hoja1!$A$50:$C$63,3),\"\")","v":5}]
[2426,20259910048074,"2025-03-25","Persona jurídica","Virtual - Correo electrónico","Solicitud de documentos o información","Registros ambientales",null,"Subdirección de Estudios Ambientales","2025-04-04","Correo electrónico","2025-04-08",null,"",null,{"$f":"IFERROR(WORKDAY(N2436,Y2436,Hoja1!F2428:F2544),\"\")","v":""},"",null,"A TIEMPO",8,0,null,null,{"$f":"IFERROR(VLOOKUP(F2436,Hoja1!$A$50:$C$63,2),\"\")","v":5},{"$f":"IFERROR(VLOOKUP(F2436,Hoja1!$A$50:$C$63,3),\"\")","v":5}]
[2427,20259910048084,"2025-03-25","Persona jurídica","Virtual - Correo electrónico","Solicitud de documentos o información","Registros ambientales",null,"Subdirección de Estudios Ambientales","2025-04-04","Correo electrónico","2025-04-08",null,"",null,{"$f":"IFERROR(WORKDAY(N2437,Y2437,Hoja1!F2429:F2545),\"\")","v":""},"",null,"A TIEMPO",8,0,null,null,{"$f":"IFERROR(VLOOKUP(F2437,Hoja1!$A$50:$C$63,2),\"\")","v":5},{"$f":"IFERROR(VLOOKUP(F2437,Hoja1!$A$50:$C$63,3),\"\")","v":5}]
[2428,20259910048094,"2025-03-25","Persona jurídica","Virtual - Correo electrónico","Solicitud de documentos o información","Registros ambientales",null,"Subdirección de Estudios Ambientales","2025-04-07","Correo electrónico","2025-04-08",null,"",null,{"$f":"IFERROR(WORKDAY(N2438,Y2438,Hoja1!F2430:F2546),\"\")","v":""},"",null,"A TIEMPO",9,0,null,null,{"$f":"IFERROR(VLOOKUP(F2438,Hoja1!$A$50:$C$63,2),\"\")","v":5},{"$f":"IFERROR(VLOOKUP(F2438,Hoja1!$A$50:$C$63,3),\"\")","v":5}]
[2429,20259910048114,"2025-03-25","Persona jurídica","Virtual - Correo electrónico","Petición entre autoridades","Registros ambientales",null,"Subdirección de Estudios Ambientales","2025-04-01","Correo electrónico","2025-04-08",null,"",null,{"$f":"IFERROR(WORKDAY(N2439,Y2439,Hoja1!F2431:F2547),\"\")","v":""},"",null,"A TIEMPO",5,0,null,null,{"$f":"IFERROR(VLOOKUP(F2439,Hoja1!$A$50:$C$63,2),\"\")","v":10},{"$f":"IFERROR(VLOOKUP(F2439,Hoja1!$A$50:$C$63,3),\"\")","v":10}]
[2430,20259910048154,"2025-03-25","Persona jurídica","Virtual - Correo electrónico","Solicitud de documentos o información","Registros ambientales",null,"Subdirección de Estudios Ambientales","2025-04-07","Correo electrónico","2025-04-08",null,"",null,{"$f":"IFERROR(WORKDAY(N2440,Y2440,Hoja1!F2432:F2548),\"\")","v":""},"",null,"A TIEMPO",9,0,null,null,{"$f":"IFERROR(VLOOKUP(F2440,Hoja1!$A$50:$C$63,2),\"\")","v":5},{"$f":"IFERROR(VLOOKUP(F2440,Hoja1!$A$50:$C$63,3),\"\")","v":5}]
[2431,20259910048144,"2025-03-25","Persona jurídica","Virtual - Correo electrónico","Solicitud de documentos o información","Registros ambientales",null,"Subdirección de Estudios Ambientales","2025-04-02","Correo electrónico","2025-04-08",null,"",null,{"$f":"IFERROR(WORKDAY(N2441,Y2441,Hoja1!F2433:F2549),\"\")","v":""},"",null,"A TIEMPO",6,0,null,null,{"$f":"IFERROR(VLOOKUP(F2441,Hoja1!$A$50:$C$63,2),\"\")","v":5},{"$f":"IFERROR(VLOOKUP(F2441,Hoja1!$A$50:$C$63,3),\"\")","v":5}]
[2432,20259910048134,"2025-03-25","Persona jurídica","Virtual - Correo electrónico","Petición entre autoridades","Registros ambientales",null,"Subdirección de Estudios Ambientales","2025-04-04","Correo electrónico","2025-04-08",null,"",null,{"$f":"IFERROR(WORKDAY(N2442,Y2442,Hoja1!F2434:F2550),\"\")","v":""},{"$f":"+IF(N2442=\"\",\"\",IF(O2442=\"\",\"SIN RESPUESTA\",(IF(O2442<=P2442,\"A TIEMPO\",\"FUERA DE TIEMPO\"))))","v":""},null,"A TIEMPO",8,0,null,null,{"$f":"IFERROR(VLOOKUP(F2442,Hoja1!$A$50:$C$63,2),\"\")","v":10},{"$f":"IFERROR(VLOOKUP(F2442,Hoja1!$A$50:$C$63,3),\"\")","v":10}]
[2433,20259910048124,"2025-03-25","Persona jurídica","Virtual - Correo electrónico","Solicitud de documentos o información","Registros ambientales",null,"Subdirección de Estudios Ambientales","2025-04-07","Correo electrónico","2025-04-08",null,"",null,{"$f":"IFERROR(WORKDAY(N2443,Y2443,Hoja1!F2435:F2551),\"\")","v":""},"",null,"A TIEMPO",9,0,null,null,{"$f":"IFERROR(VLOOKUP(F2443,Hoja1!$A$50:$C$63,2),\"\")","v":5},{"$f":"IFERROR(VLOOKUP(F2443,Hoja1!$A$50:$C$63,3),\"\")","v":5}]
[2434,20259910048164,"2025-03-25","Persona jurídica","Virtual - Correo electrónico","Solicitud de documentos o información","Registros ambientales",null,"Subdirección de Estudios Ambientales","2025-04-04","Correo electrónico","2025-04-08",null,"",null,{"$f":"IFERROR(WORKDAY(N2444,Y2444,Hoja1!F2436:F2552),\"\")","v":""},"",null,"A TIEMPO",8,0,null,null,{"$f":"IFERROR(VLOOKUP(F2444,Hoja1!$A$50:$C$63,2),\"\")","v":5},{"$f":"IFERROR(VLOOKUP(F2444,Hoja1!$A$50:$C$63,3),\"\")","v":5}]
[2435,20259910048184,"2025-03-25","Persona natural","Virtual - Correo electrónico","Solicitud de documentos o información","Sistema de información ambiental",null,"Subdirección de Estudios Ambientales","2025-05-02","Correo electrónico","2025-04-08",null,"",null,{"$f":"IFERROR(WORKDAY(N2445,Y2445,Hoja1!F2437:F2553),\"\")","v":""},"",null,{"$f":"+IF(C2445=\"\",\"\",IF(J2445=\"\",\"SIN RESPUESTA\",(IF(J2445<=L2445,\"A TIEMPO\",\"FUERA DE TIEMPO\"))))","v":"FUERA DE TIEMPO"},25,15,null,null,{"$f":"IFERROR(VLOOKUP(F2445,Hoja1!$A$50:$C$63,2),\"\")","v":5},{"$f":"IFERROR(VLOOKUP(F2445,Hoja1!$A$50:$C$63,3),\"\")","v":5}]
[2436,20259910048194,"2025-03-25","Persona jurídica","Virtual - Correo electrónico","Certificación de ingresos y retenciones","Administrativa",null,"Grupo de Contabilidad","2025-04-07","Correo electrónico","2025-04-08",null,"",null,{"$f":"IFERROR(WORKDAY(N2446,Y2446,Hoja1!F2438:F2554),\"\")","v":""},"",null,"A TIEMPO",9,0,null,null,{"$f":"IFERROR(VLOOKUP(F2446,Hoja1!$A$50:$C$63,2),\"\")","v":15},{"$f":"IFERROR(VLOOKUP(F2446,Hoja1!$A$50:$C$63,3),\"\")","v":15}]
[2437,20259910048204,"2025-03-25","Persona jurídica","Virtual - Correo electrónico","Solicitud de documentos o información","Registros ambientales",null,"Subdirección de Estudios Ambientales","2025-04-08","Correo electrónico","2025-04-08",null,"",null,{"$f":"IFERROR(WORKDAY(N2447,Y2447,Hoja1!F2439:F2555),\"\")","v":""},"",null,"A TIEMPO",10,0,null,null,{"$f":"IFERROR(VLOOKUP(F2447,Hoja1!$A$50:$C$63,2),\"\")","v":5},{"$f":"IFERROR(VLOOKUP(F2447,Hoja1!$A$50:$C$63,3),\"\")","v":5}]
[2438,20259910048294,"2025-03-25","Persona natural","Virtual - Correo electrónico","Certificación laboral o pasantía","Administrativa",null,"Grupo de Administración y Desarrollo del Talento Humano","2025-04-04","Correo electrónico","2025-04-08",null,"",null,{"$f":"IFERROR(WORKDAY(N2448,Y2448,Hoja1!F2440:F2556),\"\")","v":""},"",null,"A TIEMPO",8,0,null,null,{"$f":"IFERROR(VLOOKUP(F2448,Hoja1!$A$50:$C$63,2),\"\")","v":15},{"$f":"IFERROR(VLOOKUP(F2448,Hoja1!$A$50:$C$63,3),\"\")","v":15}]
[{"$f":"IF(B2449<>\"\",A2448+1,\"\")","v":2439},20259910048284,"2025-03-25","Persona natural","Virtual - Correo electrónico","Certificación laboral o pasantía","Administrativa",null,"Grupo de Administración y Desarrollo del Talento Humano","2025-03-26","Correo electrónico","2025-04-08",null,"",null,{"$f":"IFERROR(WORKDAY(N2449,Y2449,Hoja1!F2441:F2557),\"\")","v":""},"",null,"A TIEMPO",1,0,null,null,{"$f":"IFERROR(VLOOKUP(F2449,Hoja1!$A$50:$C$63,2),\"\")","v":15},{"$f":"IFERROR(VLOOKUP(F2449,Hoja1!$A$50:$C$63,3),\"\")","v":15}]
[2440,20259910048264,"2025-03-25","Persona jurídica","Virtual - Correo electrónico","Solicitud de documentos o información","Informes ambientales",null,"Subdirección de Estudios Ambientales","2025-04-29","Correo electrónico","2025-04-08",null,"",null,{"$f":"IFERROR(WORKDAY(N2450,Y2450,Hoja1!F2442:F2558),\"\")","v":""},"",null,{"$f":"+IF(C2450=\"\",\"\",IF(J2450=\"\",\"SIN RESPUESTA\",(IF(J2450<=L2450,\"A TIEMPO\",\"FUERA DE TIEMPO\"))))","v":"FUERA DE TIEMPO"},23,13,null,null,{"$f":"IFERROR(VLOOKUP(F2450,Hoja1!$A$50:$C$63,2),\"\")","v":5},{"$f":"IFERROR(VLOOKUP(F2450,Hoja1!$A$50:$C$63,3),\"\")","v":5}]
[2441,20259910048214,"2025-03-25","Persona natural","Virtual - Correo electrónico","Solicitud de documentos o información","Solicitud de información hidrometeorológica",null,"Grupo de Servicio al Ciudadano","2025-04-03","Correo electrónico","2025-04-08",null,"",null,{"$f":"IFERROR(WORKDAY(N2451,Y2451,Hoja1!F2443:F2559),\"\")","v":""},"",null,"A TIEMPO",7,0,null,null,{"$f":"IFERROR(VLOOKUP(F2451,Hoja1!$A$50:$C$63,2),\"\")","v":5},{"$f":"IFERROR(VLOOKUP(F2451,Hoja1!$A$50:$C$63,3),\"\")","v":5}]
[2442,20259910048274,"2025-03-25","Persona jurídica","Virtual - Correo electrónico","Certificación de contrato","Administrativa",null,"Oficina Asesora Jurídica","2025-04-07","Correo electrónico","2025-04-08",null,"",null,{"$f":"IFERROR(WORKDAY(N2452,Y2452,Hoja1!F2444:F2560),\"\")","v":""},"",null,"A TIEMPO",9,0,null,null,{"$f":"IFERROR(VLOOKUP(F2452,Hoja1!$A$50:$C$63,2),\"\")","v":15},{"$f":"IFERROR(VLOOKUP(F2452,Hoja1!$A$50:$C$63,3),\"\")","v":15}]
[2443,20259910048254,"2025-03-25","Persona natural","Virtual - Correo electrónico","Solicitud de documentos o información","Administrativa",null,"Dirección General","2025-04-11","Correo electrónico","2025-04-08",null,"",null,{"$f":"IFERROR(WORKDAY(N2453,Y2453,Hoja1!F2445:F2561),\"\")","v":""},"",null,{"$f":"+IF(C2453=\"\",\"\",IF(J2453=\"\",\"SIN RESPUESTA\",(IF(J2453<=L2453,\"A TIEMPO\",\"FUERA DE TIEMPO\"))))","v":"FUERA DE TIEMPO"},13,3,null,null,{"$f":"IFERROR(VLOOKUP(F2453,Hoja1!$A$50:$C$63,2),\"\")","v":5},{"$f":"IFERROR(VLOOKUP(F2453,Hoja1!$A$50:$C$63,3),\"\")","v":5}]
[2444,20259910048244,"2025-03-25","Persona natural","Virtual - Correo electrónico","Solicitud de documentos o información","Modelamiento meteorológico",null,"Subdirección de Hidrología","2025-04-23","Correo electrónico","2025-04-08",null,"",null,{"$f":"IFERROR(WORKDAY(N2454,Y2454,Hoja1!F2446:F2562),\"\")","v":""},"",null,{"$f":"+IF(C2454=\"\",\"\",IF(J2454=\"\",\"SIN RESPUESTA\",(IF(J2454<=L2454,\"A TIEMPO\",\"FUERA DE TIEMPO\"))))","v":"FUERA DE TIEMPO"},19,9,null,null,{"$f":"IFERROR(VLOOKUP(F2454,Hoja1!$A$50:$C$63,2),\"\")","v":5},{"$f":"IFERROR(VLOOKUP(F2454,Hoja1!$A$50:$C$63,3),\"\")","v":5}]
[2445,20259910048234,"2025-03-25","Persona natural","Virtual - Correo electrónico","Solicitud de documentos o información","Solicitud de información hidrometeorológica",null,"Grupo de Servicio al Ciudadano","2025-04-07","Correo electrónico","2025-04-08",null,"",null,{"$f":"IFERROR(WORKDAY(N2455,Y2455,Hoja1!F2447:F2563),\"\")","v":""},"",null,"A TIEMPO",9,0,null,null,{"$f":"IFERROR(VLOOKUP(F2455,Hoja1!$A$50:$C$63,2),\"\")","v":5},{"$f":"IFERROR(VLOOKUP(F2455,Hoja1!$A$50:$C$63,3),\"\")","v":5}]
[2446,20259910048224,"2025-03-25","Persona jurídica","Virtual - Correo electrónico","Solicitud de documentos o información","Registros ambientales",null,"Subdirección de Estudios Ambientales","2025-04-08","Correo electrónico","2025-04-08",null,"",null,{"$f":"IFERROR(WORKDAY(N2456,Y2456,Hoja1!F2448:F2564),\"\")","v":""},"",null,"A TIEMPO",10,0,null,null,{"$f":"IFERROR(VLOOKUP(F2456,Hoja1!$A$50:$C$63,2),\"\")","v":5},{"$f":"IFERROR(VLOOKUP(F2456,Hoja1!$A$50:$C$63,3),\"\")","v":5}]
[2447,20259910048464,"2025-03-25","Persona natural","Virtual - Correo electrónico","Certificación laboral o pasantía","Administrativa",null,"Grupo de Administración y Desarrollo del Talento Humano","2025-03-26","Correo electrónico","2025-04-08",null,"",null,{"$f":"IFERROR(WORKDAY(N2457,Y2457,Hoja1!F2449:F2565),\"\")","v":""},"",null,"A TIEMPO",1,0,null,null,{"$f":"IFERROR(VLOOKUP(F2457,Hoja1!$A$50:$C$63,2),\"\")","v":15},{"$f":"IFERROR(VLOOKUP(F2457,Hoja1!$A$50:$C$63,3),\"\")","v":15}]
[2448,20259910048474,"2025-03-25","Persona natural","Virtual - Correo electrónico","Certificación de ingresos y retenciones","Administrativa",null,"Grupo de Administración y Desarrollo del Talento Humano","2025-04-02","Correo electrónico","2025-04-08",null,"",null,{"$f":"IFERROR(WORKDAY(N2458,Y2458,Hoja1!F2450:F2566),\"\")","v":""},"",null,"A TIEMPO",6,0,null,null,{"$f":"IFERROR(VLOOKUP(F2458,Hoja1!$A$50:$C$63,2),\"\")","v":15},{"$f":"IFERROR(VLOOKUP(F2458,Hoja1!$A$50:$C$63,3),\"\")","v":15}]
[2449,20259050048454,"2025-03-25","Persona jurídica","Virtual - Formulario PQRSDF","Solicitud de documentos o información","Registros ambientales",null,"Subdirección de Estudios Ambientales","2025-03-31","Correo electrónico","2025-04-08",null,"",null,{"$f":"IFERROR(WORKDAY(N2459,Y2459,Hoja1!F2451:F2567),\"\")","v":""},"",null,"A TIEMPO",4,0,null,null,{"$f":"IFERROR(VLOOKUP(F2459,Hoja1!$A$50:$C$63,2),\"\")","v":5},{"$f":"IFERROR(VLOOKUP(F2459,Hoja1!$A$50:$C$63,3),\"\")","v":5}]
[2450,20259910048654,"2025-03-25","Persona natural","Virtual - Correo electrónico","Certificación de contrato","Administrativa",null,"Oficina Asesora Jurídica","2025-04-07","Correo electrónico","2025-04-08",null,"",null,{"$f":"IFERROR(WORKDAY(N2460,Y2460,Hoja1!F2452:F2568),\"\")","v":""},"",null,"A TIEMPO",9,0,null,null,{"$f":"IFERROR(VLOOKUP(F2460,Hoja1!$A$50:$C$63,2),\"\")","v":15},{"$f":"IFERROR(VLOOKUP(F2460,Hoja1!$A$50:$C$63,3),\"\")","v":15}]
[2451,20259910048664,"2025-03-25","Persona jurídica","Virtual - Correo electrónico","Solicitud de documentos o información","Sistema de información del recurso hídrico",null,"Subdirección de Meteorología","2025-04-02","Correo electrónico","2025-04-08",null,"",null,{"$f":"IFERROR(WORKDAY(N2461,Y2461,Hoja1!F2453:F2569),\"\")","v":""},"",null,"A TIEMPO",6,0,null,null,{"$f":"IFERROR(VLOOKUP(F2461,Hoja1!$A$50:$C$63,2),\"\")","v":5},{"$f":"IFERROR(VLOOKUP(F2461,Hoja1!$A$50:$C$63,3),\"\")","v":5}]
[2452,20259910048684,"2025-03-25","Persona jurídica","Virtual - Correo electrónico","Solicitud de documentos o información","Registros ambientales",null,"Subdirección de Estudios Ambientales","2025-04-07","Correo electrónico","2025-04-08",null,"",null,{"$f":"IFERROR(WORKDAY(N2462,Y2462,Hoja1!F2454:F2570),\"\")","v":""},"",null,"A TIEMPO",9,0,null,null,{"$f":"IFERROR(VLOOKUP(F2462,Hoja1!$A$50:$C$63,2),\"\")","v":5},{"$f":"IFERROR(VLOOKUP(F2462,Hoja1!$A$50:$C$63,3),\"\")","v":5}]
[2453,20259910048694,"2025-03-25","Persona natural","Virtual - Correo electrónico","Solicitud de documentos o información","Sistema de información ambiental",null,"Subdirección de Estudios Ambientales","2025-04-14","Correo electrónico","2025-04-08",null,"",null,{"$f":"IFERROR(WORKDAY(N2463,Y2463,Hoja1!F2455:F2571),\"\")","v":""},"",null,{"$f":"+IF(C2463=\"\",\"\",IF(J2463=\"\",\"SIN RESPUESTA\",(IF(J2463<=L2463,\"A TIEMPO\",\"FUERA DE TIEMPO\"))))","v":"FUERA DE TIEMPO"},14,4,null,null,{"$f":"IFERROR(VLOOKUP(F2463,Hoja1!$A$50:$C$63,2),\"\")","v":5},{"$f":"IFERROR(VLOOKUP(F2463,Hoja1!$A$50:$C$63,3),\"\")","v":5}]
[2454,20259910048704,"2025-03-25","Persona natural","Virtual - Correo electrónico","Solicitud de documentos o información","Solicitud de información hidrometeorológica",null,"Subdirección de Meteorología","2025-03-31","Correo electrónico","2025-04-08",null,"",null,{"$f":"IFERROR(WORKDAY(N2464,Y2464,Hoja1!F2456:F2572),\"\")","v":""},"",null,"A TIEMPO",4,0,null,null,{"$f":"IFERROR(VLOOKUP(F2464,Hoja1!$A$50:$C$63,2),\"\")","v":5},{"$f":"IFERROR(VLOOKUP(F2464,Hoja1!$A$50:$C$63,3),\"\")","v":5}]
[2455,20259910048724,"2025-03-25","Persona jurídica","Virtual - Correo electrónico","Solicitud de documentos o información","Registros ambientales",null,"Subdirección de Estudios Ambientales","2025-04-08","Correo electrónico","2025-04-08",null,"",null,{"$f":"IFERROR(WORKDAY(N2465,Y2465,Hoja1!F2457:F2573),\"\")","v":""},"",null,"A TIEMPO",10,0,null,null,{"$f":"IFERROR(VLOOKUP(F2465,Hoja1!$A$50:$C$63,2),\"\")","v":5},{"$f":"IFERROR(VLOOKUP(F2465,Hoja1!$A$50:$C$63,3),\"\")","v":5}]
[2456,20259910004934,"2025-01-15","Persona jurídica","Virtual - Correo electrónico","Petición entre autoridades","Acreditación de laboratorios",null,"Subdirección de Estudios Ambientales","2025-01-15","Correo electrónico","2025-01-29",null,"",null,{"$f":"IFERROR(WORKDAY(N2466,Y2466,Hoja1!F2458:F2574),\"\")","v":""},"",null,"A TIEMPO",-246,0,null,null,{"$f":"IFERROR(VLOOKUP(F2466,Hoja1!$A$50:$C$63,2),\"\")","v":10},{"$f":"IFERROR(VLOOKUP(F2466,Hoja1!$A$50:$C$63,3),\"\")","v":10}]
[2457,20259910048774,"2025-03-25","Persona jurídica","Virtual - Correo electrónico","Petición entre autoridades","Visitas académicas",null,"Área Operativa No. 6 - Duitama","2025-04-29","Correo electrónico","2025-04-08",null,"",null,{"$f":"IFERROR(WORKDAY(N2467,Y2467,Hoja1!F2459:F2575),\"\")","v":""},"",null,{"$f":"+IF(C2467=\"\",\"\",IF(J2467=\"\",\"SIN RESPUESTA\",(IF(J2467<=L2467,\"A TIEMPO\",\"FUERA DE TIEMPO\"))))","v":"FUERA DE TIEMPO"},23,13,null,null,{"$f":"IFERROR(VLOOKUP(F2467,Hoja1!$A$50:$C$63,2),\"\")","v":10},{"$f":"IFERROR(VLOOKUP(F2467,Hoja1!$A$50:$C$63,3),\"\")","v":10}]
[2458,20259910048804,"2025-03-25","Persona jurídica","Virtual - Correo electrónico","Solicitud de documentos o información","Registros ambientales",null,"Subdirección de Estudios Ambientales","2025-04-08","Correo electrónico","2025-04-08",null,"",null,{"$f":"IFERROR(WORKDAY(N2468,Y2468,Hoja1!F2460:F2576),\"\")","v":""},"",null,"A TIEMPO",10,0,null,null,{"$f":"IFERROR(VLOOKUP(F2468,Hoja1!$A$50:$C$63,2),\"\")","v":5},{"$f":"IFERROR(VLOOKUP(F2468,Hoja1!$A$50:$C$63,3),\"\")","v":5}]
[2459,20259910048844,"2025-03-25","Persona jurídica","Virtual - Correo electrónico","Solicitud de documentos o información","Registros ambientales",null,"Subdirección de Estudios Ambientales","2025-04-04","Correo electrónico","2025-04-08",null,"",null,{"$f":"IFERROR(WORKDAY(N2469,Y2469,Hoja1!F2461:F2577),\"\")","v":""},"",null,"A TIEMPO",8,0,null,null,{"$f":"IFERROR(VLOOKUP(F2469,Hoja1!$A$50:$C$63,2),\"\")","v":5},{"$f":"IFERROR(VLOOKUP(F2469,Hoja1!$A$50:$C$63,3),\"\")","v":5}]
[2460,20259910048874,"2025-03-25","Persona jurídica","Virtual - Correo electrónico","Solicitud de documentos o información","Registros ambientales",null,"Subdirección de Estudios Ambientales","2025-04-04","Correo electrónico","2025-04-08",null,"",null,{"$f":"IFERROR(WORKDAY(N2470,Y2470,Hoja1!F2462:F2578),\"\")","v":""},"",null,"A TIEMPO",8,0,null,null,{"$f":"IFERROR(VLOOKUP(F2470,Hoja1!$A$50:$C$63,2),\"\")","v":5},{"$f":"IFERROR(VLOOKUP(F2470,Hoja1!$A$50:$C$63,3),\"\")","v":5}]
[2461,20259910048914,"2025-03-25","Persona jurídica","Virtual - Correo electrónico","Petición de interés general o particular","Registros ambientales",null,"Subdirección de Estudios Ambientales","2025-04-23","Correo electrónico","2025-04-15",null,"",null,{"$f":"IFERROR(WORKDAY(N2471,Y2471,Hoja1!F2463:F2579),\"\")","v":""},"",null,{"$f":"+IF(C2471=\"\",\"\",IF(J2471=\"\",\"SIN RESPUESTA\",(IF(J2471<=L2471,\"A TIEMPO\",\"FUERA DE TIEMPO\"))))","v":"FUERA DE TIEMPO"},19,4,null,null,{"$f":"IFERROR(VLOOKUP(F2471,Hoja1!$A$50:$C$63,2),\"\")","v":15},{"$f":"IFERROR(VLOOKUP(F2471,Hoja1!$A$50:$C$63,3),\"\")","v":15}]
[2462,20259910048934,"2025-03-25","Persona jurídica","Virtual - Correo electrónico","Petición de interés general o particular","Informes ambientales",null,"Subdirección de Estudios Ambientales","2025-04-11","Correo electrónico","2025-04-15",null,"",null,{"$f":"IFERROR(WORKDAY(N2472,Y2472,Hoja1!F2464:F2580),\"\")","v":""},"",null,"A TIEMPO",13,0,null,null,{"$f":"IFERROR(VLOOKUP(F2472,Hoja1!$A$50:$C$63,2),\"\")","v":15},{"$f":"IFERROR(VLOOKUP(F2472,Hoja1!$A$50:$C$63,3),\"\")","v":15}]
[2463,20259910048944,"2025-03-25","Persona jurídica","Virtual - Correo electrónico","Solicitud de documentos o información","Registros ambientales",null,"Subdirección de Estudios Ambientales",null,null,"2025-04-08",null,"",null,{"$f":"IFERROR(WORKDAY(N2473,Y2473,Hoja1!F2465:F2581),\"\")","v":""},"",null,{"$f":"+IF(C2473=\"\",\"\",IF(J2473=\"\",\"SIN RESPUESTA\",(IF(J2473<=L2473,\"A TIEMPO\",\"FUERA DE TIEMPO\"))))","v":"SIN RESPUESTA"},0,0,null,null,{"$f":"IFERROR(VLOOKUP(F2473,Hoja1!$A$50:$C$63,2),\"\")","v":5},{"$f":"IFERROR(VLOOKUP(F2473,Hoja1!$A$50:$C$63,3),\"\")","v":5}]
[2464,20259910048954,"2025-03-25","Persona natural","Virtual - Correo electrónico","Solicitud de documentos o información","Solicitud de información hidrometeorológica",null,"Grupo de Servicio al Ciudadano","2025-04-04","Correo electrónico","2025-04-08",null,"",null,{"$f":"IFERROR(WORKDAY(N2474,Y2474,Hoja1!F2466:F2582),\"\")","v":""},"",null,"A TIEMPO",8,0,null,null,{"$f":"IFERROR(VLOOKUP(F2474,Hoja1!$A$50:$C$63,2),\"\")","v":5},{"$f":"IFERROR(VLOOKUP(F2474,Hoja1!$A$50:$C$63,3),\"\")","v":5}]
[2465,20259270048894,"2025-03-25","Persona jurídica","Presencial","Petición de interés general o particular","Registros ambientales",null,"Subdirección de Estudios Ambientales","2025-04-11","Correo electrónico","2025-04-15",null,"",null,{"$f":"IFERROR(WORKDAY(N2475,Y2475,Hoja1!F2467:F2583),\"\")","v":""},"",null,"A TIEMPO",13,0,null,null,{"$f":"IFERROR(VLOOKUP(F2475,Hoja1!$A$50:$C$63,2),\"\")","v":15},{"$f":"IFERROR(VLOOKUP(F2475,Hoja1!$A$50:$C$63,3),\"\")","v":15}]
[2466,20259910049064,"2025-03-25","Persona jurídica","Virtual - Correo electrónico","Solicitud de documentos o información","Informes ambientales",null,"Subdirección de Estudios Ambientales","2025-04-07","Correo electrónico","2025-04-08",null,"",null,{"$f":"IFERROR(WORKDAY(N2476,Y2476,Hoja1!F2468:F2584),\"\")","v":""},"",null,"A TIEMPO",9,0,null,null,{"$f":"IFERROR(VLOOKUP(F2476,Hoja1!$A$50:$C$63,2),\"\")","v":5},{"$f":"IFERROR(VLOOKUP(F2476,Hoja1!$A$50:$C$63,3),\"\")","v":5}]
[2467,20259910049054,"2025-03-25","Persona jurídica","Virtual - Correo electrónico","Solicitud de documentos o información","Registros ambientales",null,"Subdirección de Estudios Ambientales","2025-04-01","Correo electrónico","2025-04-08",null,"",null,{"$f":"IFERROR(WORKDAY(N2477,Y2477,Hoja1!F2469:F2585),\"\")","v":""},"",null,"A TIEMPO",5,0,null,null,{"$f":"IFERROR(VLOOKUP(F2477,Hoja1!$A$50:$C$63,2),\"\")","v":5},{"$f":"IFERROR(VLOOKUP(F2477,Hoja1!$A$50:$C$63,3),\"\")","v":5}]
[2468,20259910049004,"2025-03-25","Persona natural","Virtual - Correo electrónico","Certificación de tiempo, clima y eventos hidrológicos","Certificaciones del tiempo y clima",null,"Subdirección de Meteorología","2025-04-15","Correo electrónico","2025-05-09",null,"",null,{"$f":"IFERROR(WORKDAY(N2478,Y2478,Hoja1!F2470:F2586),\"\")","v":""},"",null,"A TIEMPO",15,0,null,null,{"$f":"IFERROR(VLOOKUP(F2478,Hoja1!$A$50:$C$63,2),\"\")","v":15},{"$f":"IFERROR(VLOOKUP(F2478,Hoja1!$A$50:$C$63,3),\"\")","v":15}]
[2469,20259910049044,"2025-03-25","Persona jurídica","Virtual - Correo electrónico","Solicitud de documentos o información","Registros ambientales",null,"Subdirección de Estudios Ambientales","2025-04-04","Correo electrónico","2025-04-08",null,"",null,{"$f":"IFERROR(WORKDAY(N2479,Y2479,Hoja1!F2471:F2587),\"\")","v":""},"",null,"A TIEMPO",8,0,null,null,{"$f":"IFERROR(VLOOKUP(F2479,Hoja1!$A$50:$C$63,2),\"\")","v":5},{"$f":"IFERROR(VLOOKUP(F2479,Hoja1!$A$50:$C$63,3),\"\")","v":5}]
[2470,20259910049034,"2025-03-25","Persona natural","Virtual - Correo electrónico","Certificación electrónica de tiempos laborados - CETIL","Administrativa",null,"Grupo de Administración y Desarrollo del Talento Humano","2025-03-28","Correo electrónico","2025-04-15",null,"",null,{"$f":"IFERROR(WORKDAY(N2480,Y2480,Hoja1!F2472:F2588),\"\")","v":""},"",null,"A TIEMPO",3,0,null,null,{"$f":"IFERROR(VLOOKUP(F2480,Hoja1!$A$50:$C$63,2),\"\")","v":15},{"$f":"IFERROR(VLOOKUP(F2480,Hoja1!$A$50:$C$63,3),\"\")","v":15}]
[2471,20259910048964,"2025-03-25","Persona jurídica","Virtual - Correo electrónico","Solicitud de documentos o información","Bosques",null,"Subdirección de Meteorología","2025-04-01","Correo electrónico","2025-04-08",null,"",null,{"$f":"IFERROR(WORKDAY(N2481,Y2481,Hoja1!F2473:F2589),\"\")","v":""},"",null,"A TIEMPO",5,0,null,null,{"$f":"IFERROR(VLOOKUP(F2481,Hoja1!$A$50:$C$63,2),\"\")","v":5},{"$f":"IFERROR(VLOOKUP(F2481,Hoja1!$A$50:$C$63,3),\"\")","v":5}]
[2472,20259910049024,"2025-03-25","Persona jurídica","Virtual - Correo electrónico","Solicitud de documentos o información","Climatología",null,"Subdirección de Meteorología","2025-03-28","Correo electrónico","2025-04-08",null,"",null,{"$f":"IFERROR(WORKDAY(N2482,Y2482,Hoja1!F2474:F2590),\"\")","v":""},"",null,"A TIEMPO",3,0,null,null,{"$f":"IFERROR(VLOOKUP(F2482,Hoja1!$A$50:$C$63,2),\"\")","v":5},{"$f":"IFERROR(VLOOKUP(F2482,Hoja1!$A$50:$C$63,3),\"\")","v":5}]
[2473,20259910049094,"2025-03-25","Persona jurídica","Virtual - Correo electrónico","Solicitud de documentos o información","Registros ambientales",null,"Subdirección de Estudios Ambientales","2025-04-04","Correo electrónico","2025-04-08",null,"",null,{"$f":"IFERROR(WORKDAY(N2483,Y2483,Hoja1!F2475:F2591),\"\")","v":""},"",null,"A TIEMPO",8,0,null,null,{"$f":"IFERROR(VLOOKUP(F2483,Hoja1!$A$50:$C$63,2),\"\")","v":5},{"$f":"IFERROR(VLOOKUP(F2483,Hoja1!$A$50:$C$63,3),\"\")","v":5}]
[2474,20259050049254,"2025-03-25","Persona natural","Virtual - Formulario PQRSDF","Solicitud de documentos o información","Solicitud de información hidrometeorológica",null,"Grupo de Servicio al Ciudadano","2025-04-07","Correo electrónico","2025-04-08",null,"",null,{"$f":"IFERROR(WORKDAY(N2484,Y2484,Hoja1!F2476:F2592),\"\")","v":""},"",null,"A TIEMPO",9,0,null,null,{"$f":"IFERROR(VLOOKUP(F2484,Hoja1!$A$50:$C$63,2),\"\")","v":5},{"$f":"IFERROR(VLOOKUP(F2484,Hoja1!$A$50:$C$63,3),\"\")","v":5}]
[2475,20259050049264,"2025-03-26","Persona natural","Virtual - Formulario PQRSDF","Solicitud de documentos o información","Solicitud de información hidrometeorológica",null,"Subdirección de Hidrología","2025-04-04","Correo electrónico","2025-04-09",null,"",null,{"$f":"IFERROR(WORKDAY(N2485,Y2485,Hoja1!F2477:F2593),\"\")","v":""},"",null,"A TIEMPO",7,0,null,null,{"$f":"IFERROR(VLOOKUP(F2485,Hoja1!$A$50:$C$63,2),\"\")","v":5},{"$f":"IFERROR(VLOOKUP(F2485,Hoja1!$A$50:$C$63,3),\"\")","v":5}]
[2476,20259910049174,"2025-03-25","Persona jurídica","Virtual - Correo electrónico","Certificación de ingresos y retenciones","Administrativa",null,"Grupo de Contabilidad","2025-04-07","Correo electrónico","2025-04-08",null,"",null,{"$f":"IFERROR(WORKDAY(N2486,Y2486,Hoja1!F2478:F2594),\"\")","v":""},"",null,"A TIEMPO",9,0,null,null,{"$f":"IFERROR(VLOOKUP(F2486,Hoja1!$A$50:$C$63,2),\"\")","v":15},{"$f":"IFERROR(VLOOKUP(F2486,Hoja1!$A$50:$C$63,3),\"\")","v":15}]
[2477,20259050049214,"2025-03-25","Persona natural","Virtual - Formulario PQRSDF","Certificación laboral o pasantía","Administrativa",null,"Grupo de Administración y Desarrollo del Talento Humano","2025-04-04","Correo electrónico","2025-04-08",null,"",null,{"$f":"IFERROR(WORKDAY(N2487,Y2487,Hoja1!F2479:F2595),\"\")","v":""},"",null,"A TIEMPO",8,0,null,null,{"$f":"IFERROR(VLOOKUP(F2487,Hoja1!$A$50:$C$63,2),\"\")","v":15},{"$f":"IFERROR(VLOOKUP(F2487,Hoja1!$A$50:$C$63,3),\"\")","v":15}]
[2478,20259910045534,"2025-03-19","Persona jurídica","Virtual - Correo electrónico","Certificación de tiempo, clima y eventos hidrológicos","Certificaciones del tiempo y clima",null,"Subdirección de Meteorología","2025-05-06","Correo electrónico","2025-05-06",null,"",null,{"$f":"IFERROR(WORKDAY(N2488,Y2488,Hoja1!F2480:F2596),\"\")","v":""},"",null,"A TIEMPO",-215,0,null,null,{"$f":"IFERROR(VLOOKUP(F2488,Hoja1!$A$50:$C$63,2),\"\")","v":15},{"$f":"IFERROR(VLOOKUP(F2488,Hoja1!$A$50:$C$63,3),\"\")","v":15}]
[2479,20259910049084,"2025-03-25","Persona jurídica","Virtual - Correo electrónico","Solicitud de documentos o información","Acreditación de laboratorios",null,"Subdirección de Estudios Ambientales","2025-03-31","Correo electrónico","2025-04-08",null,"",null,{"$f":"IFERROR(WORKDAY(N2489,Y2489,Hoja1!F2481:F2597),\"\")","v":""},"",null,"A TIEMPO",4,0,null,null,{"$f":"IFERROR(VLOOKUP(F2489,Hoja1!$A$50:$C$63,2),\"\")","v":5},{"$f":"IFERROR(VLOOKUP(F2489,Hoja1!$A$50:$C$63,3),\"\")","v":5}]
[2480,20259270049104,"2025-03-25","Persona jurídica","Presencial","Solicitud de documentos o información","Registros ambientales",null,"Subdirección de Estudios Ambientales","2025-04-04","Correo electrónico","2025-04-08",null,"",null,{"$f":"IFERROR(WORKDAY(N2490,Y2490,Hoja1!F2482:F2598),\"\")","v":""},"",null,"A TIEMPO",8,0,null,null,{"$f":"IFERROR(VLOOKUP(F2490,Hoja1!$A$50:$C$63,2),\"\")","v":5},{"$f":"IFERROR(VLOOKUP(F2490,Hoja1!$A$50:$C$63,3),\"\")","v":5}]
[2481,20259910049114,"2025-03-25","Persona jurídica","Virtual - Correo electrónico","Solicitud de documentos o información","Registros ambientales",null,"Subdirección de Estudios Ambientales","2025-04-08","Correo electrónico","2025-04-08",null,"",null,{"$f":"IFERROR(WORKDAY(N2491,Y2491,Hoja1!F2483:F2599),\"\")","v":""},"",null,"A TIEMPO",10,0,null,null,{"$f":"IFERROR(VLOOKUP(F2491,Hoja1!$A$50:$C$63,2),\"\")","v":5},{"$f":"IFERROR(VLOOKUP(F2491,Hoja1!$A$50:$C$63,3),\"\")","v":5}]
[2482,20259910049124,"2025-03-25","Persona jurídica","Virtual - Correo electrónico","Solicitud de documentos o información","Registros ambientales",null,"Subdirección de Estudios Ambientales","2025-04-08","Correo electrónico","2025-04-08",null,"",null,{"$f":"IFERROR(WORKDAY(N2492,Y2492,Hoja1!F2484:F2600),\"\")","v":""},"",null,"A TIEMPO",10,0,null,null,{"$f":"IFERROR(VLOOKUP(F2492,Hoja1!$A$50:$C$63,2),\"\")","v":5},{"$f":"IFERROR(VLOOKUP(F2492,Hoja1!$A$50:$C$63,3),\"\")","v":5}]
[2483,20259910049154,"2025-03-25","Persona jurídica","Virtual - Correo electrónico","Solicitud de documentos o información","Registros ambientales",null,"Subdirección de Estudios Ambientales","2025-04-04","Correo electrónico","2025-04-08",null,"",null,{"$f":"IFERROR(WORKDAY(N2493,Y2493,Hoja1!F2485:F2601),\"\")","v":""},"",null,"A TIEMPO",8,0,null,null,{"$f":"IFERROR(VLOOKUP(F2493,Hoja1!$A$50:$C$63,2),\"\")","v":5},{"$f":"IFERROR(VLOOKUP(F2493,Hoja1!$A$50:$C$63,3),\"\")","v":5}]
[2484,20259910049134,"2025-03-25","Persona jurídica","Correo certificado","Petición entre autoridades","Sistema de información del recurso hídrico",null,"Subdirección de Hidrología","2025-03-31","Correo electrónico","2025-04-08",null,"",null,{"$f":"IFERROR(WORKDAY(N2494,Y2494,Hoja1!F2486:F2602),\"\")","v":""},"",null,"A TIEMPO",4,0,null,null,{"$f":"IFERROR(VLOOKUP(F2494,Hoja1!$A$50:$C$63,2),\"\")","v":10},{"$f":"IFERROR(VLOOKUP(F2494,Hoja1!$A$50:$C$63,3),\"\")","v":10}]
[2485,20259910049184,"2025-03-25","Persona jurídica","Virtual - Correo electrónico","Solicitud de documentos o información","Registros ambientales",null,"Subdirección de Estudios Ambientales","2025-04-08","Correo electrónico","2025-04-08",null,"",null,{"$f":"IFERROR(WORKDAY(N2495,Y2495,Hoja1!F2487:F2603),\"\")","v":""},"",null,"A TIEMPO",10,0,null,null,{"$f":"IFERROR(VLOOKUP(F2495,Hoja1!$A$50:$C$63,2),\"\")","v":5},{"$f":"IFERROR(VLOOKUP(F2495,Hoja1!$A$50:$C$63,3),\"\")","v":5}]
[2486,20259910049204,"2025-03-25","Persona jurídica","Virtual - Correo electrónico","Petición entre entidades","Registros ambientales",null,"Subdirección de Estudios Ambientales","2025-04-04","Correo electrónico","2025-04-08",null,"",null,{"$f":"IFERROR(WORKDAY(N2496,Y2496,Hoja1!F2488:F2604),\"\")","v":""},"",null,"A TIEMPO",8,0,null,null,{"$f":"IFERROR(VLOOKUP(F2496,Hoja1!$A$50:$C$63,2),\"\")","v":10},{"$f":"IFERROR(VLOOKUP(F2496,Hoja1!$A$50:$C$63,3),\"\")","v":10}]
[2487,20259910049194,"2025-03-25","Persona jurídica","Virtual - Correo electrónico","Solicitud de documentos o información","Registros ambientales",null,"Subdirección de Estudios Ambientales","2025-04-09","Correo electrónico","2025-04-08",null,"",null,{"$f":"IFERROR(WORKDAY(N2497,Y2497,Hoja1!F2489:F2605),\"\")","v":""},"",null,{"$f":"+IF(C2497=\"\",\"\",IF(J2497=\"\",\"SIN RESPUESTA\",(IF(J2497<=L2497,\"A TIEMPO\",\"FUERA DE TIEMPO\"))))","v":"FUERA DE TIEMPO"},11,1,null,null,{"$f":"IFERROR(VLOOKUP(F2497,Hoja1!$A$50:$C$63,2),\"\")","v":5},{"$f":"IFERROR(VLOOKUP(F2497,Hoja1!$A$50:$C$63,3),\"\")","v":5}]
[2488,20259050049234,"2025-03-25","Persona natural","Virtual - Formulario PQRSDF","Solicitud de documentos o información","Solicitud de información hidrometeorológica",null,"Grupo de Servicio al Ciudadano","2025-04-07","Correo electrónico","2025-04-08",null,"",null,{"$f":"IFERROR(WORKDAY(N2498,Y2498,Hoja1!F2490:F2606),\"\")","v":""},"",null,"A TIEMPO",9,0,null,null,{"$f":"IFERROR(VLOOKUP(F2498,Hoja1!$A$50:$C$63,2),\"\")","v":5},{"$f":"IFERROR(VLOOKUP(F2498,Hoja1!$A$50:$C$63,3),\"\")","v":5}]
[2489,20259050049244,"2025-03-25","Persona natural","Virtual - Formulario PQRSDF","Solicitud de documentos o información","Solicitud de información hidrometeorológica",null,"Subdirección de Meteorología","2025-04-04","Correo electrónico","2025-04-08",null,"",null,{"$f":"IFERROR(WORKDAY(N2499,Y2499,Hoja1!F2491:F2607),\"\")","v":""},"",null,"A TIEMPO",8,0,null,null,{"$f":"IFERROR(VLOOKUP(F2499,Hoja1!$A$50:$C$63,2),\"\")","v":5},{"$f":"IFERROR(VLOOKUP(F2499,Hoja1!$A$50:$C$63,3),\"\")","v":5}]
[2490,20259050049274,"2025-03-26","Persona natural","Virtual - Formulario PQRSDF","Certificación laboral o pasantía","Administrativa",null,"Grupo de Administración y Desarrollo del Talento Humano","2025-03-28","Correo electrónico","2025-04-09",null,"",null,{"$f":"IFERROR(WORKDAY(N2500,Y2500,Hoja1!F2492:F2608),\"\")","v":""},"",null,"A TIEMPO",2,0,null,null,{"$f":"IFERROR(VLOOKUP(F2500,Hoja1!$A$50:$C$63,2),\"\")","v":15},{"$f":"IFERROR(VLOOKUP(F2500,Hoja1!$A$50:$C$63,3),\"\")","v":15}]
[2491,20259050049284,"2025-03-26","Persona jurídica","Virtual - Formulario PQRSDF","Solicitud de documentos o información","Administrativa",null,"Grupo de Administración y Desarrollo del Talento Humano","2025-04-09","Correo electrónico","2025-04-09",null,"",null,{"$f":"IFERROR(WORKDAY(N2501,Y2501,Hoja1!F2493:F2609),\"\")","v":""},"",null,"A TIEMPO",10,0,null,null,{"$f":"IFERROR(VLOOKUP(F2501,Hoja1!$A$50:$C$63,2),\"\")","v":5},{"$f":"IFERROR(VLOOKUP(F2501,Hoja1!$A$50:$C$63,3),\"\")","v":5}]
[2492,20259050049294,"2025-03-26","Persona natural","Virtual - Formulario PQRSDF","Solicitud de documentos o información","Solicitud de información hidrometeorológica",null,"Grupo de Servicio al Ciudadano","2025-04-07","Correo electrónico","2025-04-09",null,"",null,{"$f":"IFERROR(WORKDAY(N2502,Y2502,Hoja1!F2494:F2610),\"\")","v":""},"",null,"A TIEMPO",8,0,null,null,{"$f":"IFERROR(VLOOKUP(F2502,Hoja1!$A$50:$C$63,2),\"\")","v":5},{"$f":"IFERROR(VLOOKUP(F2502,Hoja1!$A$50:$C$63,3),\"\")","v":5}]
[2493,20259050049314,"2025-03-26","Persona jurídica","Virtual - Formulario PQRSDF","Certificación de tiempo, clima y eventos hidrológicos","Certificaciones del tiempo y clima",null,"Subdirección de Meteorología","2025-04-15","Correo electrónico","2025-05-12",null,"",null,{"$f":"IFERROR(WORKDAY(N2503,Y2503,Hoja1!F2495:F2611),\"\")","v":""},"",null,"A TIEMPO",14,0,null,null,{"$f":"IFERROR(VLOOKUP(F2503,Hoja1!$A$50:$C$63,2),\"\")","v":15},{"$f":"IFERROR(VLOOKUP(F2503,Hoja1!$A$50:$C$63,3),\"\")","v":15}]
[2494,20259910049324,"2025-03-26","Persona natural","Virtual - Correo electrónico","Solicitud de documentos o información","Registros ambientales",null,"Subdirección de Estudios Ambientales","2025-04-09","Correo electrónico","2025-04-09",null,"",null,{"$f":"IFERROR(WORKDAY(N2504,Y2504,Hoja1!F2496:F2612),\"\")","v":""},"",null,"A TIEMPO",10,0,null,null,{"$f":"IFERROR(VLOOKUP(F2504,Hoja1!$A$50:$C$63,2),\"\")","v":5},{"$f":"IFERROR(VLOOKUP(F2504,Hoja1!$A$50:$C$63,3),\"\")","v":5}]
[2495,20259910049334,"2025-03-26","Persona jurídica","Virtual - Correo electrónico","Solicitud de documentos o información","Sistema de información del recurso hídrico",null,"Subdirección de Hidrología","2025-03-27","Correo electrónico","2025-04-09",null,"",null,{"$f":"IFERROR(WORKDAY(N2505,Y2505,Hoja1!F2497:F2613),\"\")","v":""},"",null,"A TIEMPO",1,0,null,null,{"$f":"IFERROR(VLOOKUP(F2505,Hoja1!$A$50:$C$63,2),\"\")","v":5},{"$f":"IFERROR(VLOOKUP(F2505,Hoja1!$A$50:$C$63,3),\"\")","v":5}]
[2496,20259910049364,"2025-03-26","Persona jurídica","Virtual - Correo electrónico","Solicitud de documentos o información","Sistema de información ambiental",null,"Subdirección de Hidrología","2025-04-08","Correo electrónico","2025-04-09",null,"",null,{"$f":"IFERROR(WORKDAY(N2506,Y2506,Hoja1!F2498:F2614),\"\")","v":""},{"$f":"+IF(N2506=\"\",\"\",IF(O2506=\"\",\"SIN RESPUESTA\",(IF(O2506<=P2506,\"A TIEMPO\",\"FUERA DE TIEMPO\"))))","v":""},null,"A TIEMPO",9,0,null,null,{"$f":"IFERROR(VLOOKUP(F2506,Hoja1!$A$50:$C$63,2),\"\")","v":5},{"$f":"IFERROR(VLOOKUP(F2506,Hoja1!$A$50:$C$63,3),\"\")","v":5}]
[2497,20259910049374,"2025-03-26","Persona jurídica","Virtual - Correo electrónico","Solicitud de documentos o información","Registros ambientales",null,"Subdirección de Estudios Ambientales","2025-04-07","Correo electrónico","2025-04-09",null,"",null,{"$f":"IFERROR(WORKDAY(N2507,Y2507,Hoja1!F2499:F2615),\"\")","v":""},"",null,"A TIEMPO",8,0,null,null,{"$f":"IFERROR(VLOOKUP(F2507,Hoja1!$A$50:$C$63,2),\"\")","v":5},{"$f":"IFERROR(VLOOKUP(F2507,Hoja1!$A$50:$C$63,3),\"\")","v":5}]
[2498,20259910049404,"2025-03-26","Persona jurídica","Virtual - Correo electrónico","Petición de interés general o particular","Solicitud de información hidrometeorológica",null,"Subdirección de Meteorología","2025-04-10","Correo electrónico","2025-04-16",null,"",null,{"$f":"IFERROR(WORKDAY(N2508,Y2508,Hoja1!F2500:F2616),\"\")","v":""},"",null,"A TIEMPO",11,0,null,null,{"$f":"IFERROR(VLOOKUP(F2508,Hoja1!$A$50:$C$63,2),\"\")","v":15},{"$f":"IFERROR(VLOOKUP(F2508,Hoja1!$A$50:$C$63,3),\"\")","v":15}]
[2499,20259910049414,"2025-03-26","Persona jurídica","Virtual - Correo electrónico","Solicitud de documentos o información","Registros ambientales",null,"Subdirección de Estudios Ambientales","2025-04-09","Correo electrónico","2025-04-09",null,"",null,{"$f":"IFERROR(WORKDAY(N2509,Y2509,Hoja1!F2501:F2617),\"\")","v":""},"",null,"A TIEMPO",10,0,null,null,{"$f":"IFERROR(VLOOKUP(F2509,Hoja1!$A$50:$C$63,2),\"\")","v":5},{"$f":"IFERROR(VLOOKUP(F2509,Hoja1!$A$50:$C$63,3),\"\")","v":5}]
[2500,20259050049464,"2025-03-26","Persona jurídica","Virtual - Formulario PQRSDF","Solicitud de documentos o información","Solicitud de información hidrometeorológica",null,"Grupo de Servicio al Ciudadano","2025-04-07","Correo electrónico","2025-04-09",null,"",null,{"$f":"IFERROR(WORKDAY(N2510,Y2510,Hoja1!F2502:F2618),\"\")","v":""},"",null,"A TIEMPO",8,0,null,null,{"$f":"IFERROR(VLOOKUP(F2510,Hoja1!$A$50:$C$63,2),\"\")","v":5},{"$f":"IFERROR(VLOOKUP(F2510,Hoja1!$A$50:$C$63,3),\"\")","v":5}]
[2501,20259910049454,"2025-03-26","Persona natural","Virtual - Correo electrónico","Solicitud de documentos o información","Sistema de información del recurso hídrico",null,"Subdirección de Hidrología","2025-04-02","Correo electrónico","2025-04-09",null,"",null,{"$f":"IFERROR(WORKDAY(N2511,Y2511,Hoja1!F2503:F2619),\"\")","v":""},"",null,"A TIEMPO",5,0,null,null,{"$f":"IFERROR(VLOOKUP(F2511,Hoja1!$A$50:$C$63,2),\"\")","v":5},{"$f":"IFERROR(VLOOKUP(F2511,Hoja1!$A$50:$C$63,3),\"\")","v":5}]
[2502,20259910049434,"2025-03-26","Persona jurídica","Virtual - Correo electrónico","Petición entre autoridades","Bosques",null,"Subdirección de Ecosistemas e Información Ambiental","2025-04-07","Correo electrónico","2025-04-09",null,"",null,{"$f":"IFERROR(WORKDAY(N2512,Y2512,Hoja1!F2504:F2620),\"\")","v":""},"",null,"A TIEMPO",8,0,null,null,{"$f":"IFERROR(VLOOKUP(F2512,Hoja1!$A$50:$C$63,2),\"\")","v":10},{"$f":"IFERROR(VLOOKUP(F2512,Hoja1!$A$50:$C$63,3),\"\")","v":10}]
[{"$f":"IF(B2513<>\"\",A2512+1,\"\")","v":2503},20259910049474,"2025-03-26","Persona natural","Virtual - Correo electrónico","Solicitud de documentos o información","Solicitud de información hidrometeorológica",null,"Subdirección de Meteorología","2025-04-04","Correo electrónico","2025-04-09",null,"",null,{"$f":"IFERROR(WORKDAY(N2513,Y2513,Hoja1!F2505:F2621),\"\")","v":""},"",null,"A TIEMPO",7,0,null,null,{"$f":"IFERROR(VLOOKUP(F2513,Hoja1!$A$50:$C$63,2),\"\")","v":5},{"$f":"IFERROR(VLOOKUP(F2513,Hoja1!$A$50:$C$63,3),\"\")","v":5}]
[2504,20259910049484,"2025-03-26","Persona natural","Virtual - Correo electrónico","Solicitud de documentos o información","Sistema de información del recurso hídrico",null,"Subdirección de Meteorología","2025-04-04","Correo electrónico","2025-04-09",null,"",null,{"$f":"IFERROR(WORKDAY(N2514,Y2514,Hoja1!F2506:F2622),\"\")","v":""},"",null,"A TIEMPO",7,0,null,null,{"$f":"IFERROR(VLOOKUP(F2514,Hoja1!$A$50:$C$63,2),\"\")","v":5},{"$f":"IFERROR(VLOOKUP(F2514,Hoja1!$A$50:$C$63,3),\"\")","v":5}]
[2505,20259050049524,"2025-03-26","Persona natural","Virtual - Formulario PQRSDF","Solicitud de documentos o información","Registros ambientales",null,"Subdirección de Estudios Ambientales","2025-04-09","Correo electrónico","2025-04-09",null,"",null,{"$f":"IFERROR(WORKDAY(N2515,Y2515,Hoja1!F2507:F2623),\"\")","v":""},"",null,"A TIEMPO",10,0,null,null,{"$f":"IFERROR(VLOOKUP(F2515,Hoja1!$A$50:$C$63,2),\"\")","v":5},{"$f":"IFERROR(VLOOKUP(F2515,Hoja1!$A$50:$C$63,3),\"\")","v":5}]
[2506,20259910049534,"2025-03-26","Persona jurídica","Virtual - Correo electrónico","Solicitud de documentos o información","Registros ambientales",null,"Subdirección de Estudios Ambientales","2025-04-07","Correo electrónico","2025-04-09",null,"",null,{"$f":"IFERROR(WORKDAY(N2516,Y2516,Hoja1!F2508:F2624),\"\")","v":""},"",null,"A TIEMPO",8,0,null,null,{"$f":"IFERROR(VLOOKUP(F2516,Hoja1!$A$50:$C$63,2),\"\")","v":5},{"$f":"IFERROR(VLOOKUP(F2516,Hoja1!$A$50:$C$63,3),\"\")","v":5}]
[2507,20259910049494,"2025-03-26","Persona jurídica","Virtual - Correo electrónico","Solicitud de documentos o información","Solicitud de información hidrometeorológica",null,"Subdirección de Estudios Ambientales","2025-04-23","Correo electrónico","2025-04-09",null,"",null,{"$f":"IFERROR(WORKDAY(N2517,Y2517,Hoja1!F2509:F2625),\"\")","v":""},"",null,{"$f":"+IF(C2517=\"\",\"\",IF(J2517=\"\",\"SIN RESPUESTA\",(IF(J2517<=L2517,\"A TIEMPO\",\"FUERA DE TIEMPO\"))))","v":"FUERA DE TIEMPO"},18,8,null,null,{"$f":"IFERROR(VLOOKUP(F2517,Hoja1!$A$50:$C$63,2),\"\")","v":5},{"$f":"IFERROR(VLOOKUP(F2517,Hoja1!$A$50:$C$63,3),\"\")","v":5}]
[2508,20259910049574,"2025-03-26","Persona jurídica","Virtual - Correo electrónico","Solicitud de documentos o información","Acreditación de laboratorios",null,"Subdirección de Estudios Ambientales","2025-04-08","Correo electrónico","2025-04-09",null,"",null,{"$f":"IFERROR(WORKDAY(N2518,Y2518,Hoja1!F2510:F2626),\"\")","v":""},"",null,"A TIEMPO",9,0,null,null,{"$f":"IFERROR(VLOOKUP(F2518,Hoja1!$A$50:$C$63,2),\"\")","v":5},{"$f":"IFERROR(VLOOKUP(F2518,Hoja1!$A$50:$C$63,3),\"\")","v":5}]
[2509,20259910049584,"2025-03-26","Persona jurídica","Virtual - Correo electrónico","Solicitud de documentos o información","Registros ambientales",null,"Subdirección de Estudios Ambientales","2025-04-07","Correo electrónico","2025-04-09",null,"",null,{"$f":"IFERROR(WORKDAY(N2519,Y2519,Hoja1!F2511:F2627),\"\")","v":""},"",null,"A TIEMPO",8,0,null,null,{"$f":"IFERROR(VLOOKUP(F2519,Hoja1!$A$50:$C$63,2),\"\")","v":5},{"$f":"IFERROR(VLOOKUP(F2519,Hoja1!$A$50:$C$63,3),\"\")","v":5}]
[2510,20259910049604,"2025-03-26","Persona jurídica","Virtual - Correo electrónico","Petición entre autoridades","Registros ambientales",null,"Subdirección de Estudios Ambientales","2025-04-09","Correo electrónico","2025-04-09",null,"",null,{"$f":"IFERROR(WORKDAY(N2520,Y2520,Hoja1!F2512:F2628),\"\")","v":""},"",null,"A TIEMPO",10,0,null,null,{"$f":"IFERROR(VLOOKUP(F2520,Hoja1!$A$50:$C$63,2),\"\")","v":10},{"$f":"IFERROR(VLOOKUP(F2520,Hoja1!$A$50:$C$63,3),\"\")","v":10}]
[2511,20259050049624,"2025-03-26","Persona natural","Virtual - Formulario PQRSDF","Solicitud de documentos o información","Solicitud de información hidrometeorológica",null,"Grupo de Servicio al Ciudadano","2025-04-07","Correo electrónico","2025-04-09",null,"",null,{"$f":"IFERROR(WORKDAY(N2521,Y2521,Hoja1!F2513:F2629),\"\")","v":""},"",null,"A TIEMPO",8,0,null,null,{"$f":"IFERROR(VLOOKUP(F2521,Hoja1!$A$50:$C$63,2),\"\")","v":5},{"$f":"IFERROR(VLOOKUP(F2521,Hoja1!$A$50:$C$63,3),\"\")","v":5}]
[2512,20259050049644,"2025-03-26","Persona natural","Virtual - Formulario PQRSDF","Solicitud de documentos o información","Solicitud de información hidrometeorológica",null,"Grupo de Servicio al Ciudadano","2025-04-07","Correo electrónico","2025-04-09",null,"",null,{"$f":"IFERROR(WORKDAY(N2522,Y2522,Hoja1!F2514:F2630),\"\")","v":""},"",null,"A TIEMPO",8,0,null,null,{"$f":"IFERROR(VLOOKUP(F2522,Hoja1!$A$50:$C$63,2),\"\")","v":5},{"$f":"IFERROR(VLOOKUP(F2522,Hoja1!$A$50:$C$63,3),\"\")","v":5}]
[2513,20259050049724,"2025-03-26","Persona jurídica","Virtual - Formulario PQRSDF","Solicitud de documentos o información","Bosques",null,"Subdirección de Ecosistemas e Información Ambiental","2025-04-07","Correo electrónico","2025-04-09",null,"",null,{"$f":"IFERROR(WORKDAY(N2523,Y2523,Hoja1!F2515:F2631),\"\")","v":""},"",null,"A TIEMPO",8,0,null,null,{"$f":"IFERROR(VLOOKUP(F2523,Hoja1!$A$50:$C$63,2),\"\")","v":5},{"$f":"IFERROR(VLOOKUP(F2523,Hoja1!$A$50:$C$63,3),\"\")","v":5}]
[2514,20259910049734,"2025-03-26","Persona natural","Virtual - Correo electrónico","Solicitud de documentos o información","Registros ambientales",null,"Subdirección de Estudios Ambientales","2025-04-09","Correo electrónico","2025-04-09",null,"",null,{"$f":"IFERROR(WORKDAY(N2524,Y2524,Hoja1!F2516:F2632),\"\")","v":""},"",null,"A TIEMPO",10,0,null,null,{"$f":"IFERROR(VLOOKUP(F2524,Hoja1!$A$50:$C$63,2),\"\")","v":5},{"$f":"IFERROR(VLOOKUP(F2524,Hoja1!$A$50:$C$63,3),\"\")","v":5}]
[2515,20259910048974,"2025-03-26","Persona natural","Virtual - Correo electrónico","Queja","Administrativa",null,"Grupo de Administración y Desarrollo del Talento Humano","2025-04-09","Correo electrónico","2025-04-16",null,"",null,{"$f":"IFERROR(WORKDAY(N2525,Y2525,Hoja1!F2517:F2633),\"\")","v":""},"",null,"A TIEMPO",10,0,null,null,{"$f":"IFERROR(VLOOKUP(F2525,Hoja1!$A$50:$C$63,2),\"\")","v":15},{"$f":"IFERROR(VLOOKUP(F2525,Hoja1!$A$50:$C$63,3),\"\")","v":15}]
[2516,20259910049634,"2025-03-26","Persona jurídica","Virtual - Correo electrónico","Solicitud de documentos o información","Administrativa",null,"Grupo de Contabilidad","2025-04-08","Correo electrónico","2025-04-09",null,"",null,{"$f":"IFERROR(WORKDAY(N2526,Y2526,Hoja1!F2518:F2634),\"\")","v":""},"",null,"A TIEMPO",9,0,null,null,{"$f":"IFERROR(VLOOKUP(F2526,Hoja1!$A$50:$C$63,2),\"\")","v":5},{"$f":"IFERROR(VLOOKUP(F2526,Hoja1!$A$50:$C$63,3),\"\")","v":5}]
[2517,20259910049784,"2025-03-26","Persona jurídica","Virtual - Correo electrónico","Solicitud de documentos o información","Registros ambientales",null,"Subdirección de Estudios Ambientales","2025-04-10","Correo electrónico","2025-04-09",null,"",null,{"$f":"IFERROR(WORKDAY(N2527,Y2527,Hoja1!F2519:F2635),\"\")","v":""},"",null,{"$f":"+IF(C2527=\"\",\"\",IF(J2527=\"\",\"SIN RESPUESTA\",(IF(J2527<=L2527,\"A TIEMPO\",\"FUERA DE TIEMPO\"))))","v":"FUERA DE TIEMPO"},11,1,null,null,{"$f":"IFERROR(VLOOKUP(F2527,Hoja1!$A$50:$C$63,2),\"\")","v":5},{"$f":"IFERROR(VLOOKUP(F2527,Hoja1!$A$50:$C$63,3),\"\")","v":5}]
[2518,20259910049804,"2025-03-26","Persona jurídica","Virtual - Correo electrónico","Solicitud de documentos o información","Registros ambientales",null,"Subdirección de Estudios Ambientales","2025-04-10","Correo electrónico","2025-04-09",null,"",null,{"$f":"IFERROR(WORKDAY(N2528,Y2528,Hoja1!F2520:F2636),\"\")","v":""},"",null,{"$f":"+IF(C2528=\"\",\"\",IF(J2528=\"\",\"SIN RESPUESTA\",(IF(J2528<=L2528,\"A TIEMPO\",\"FUERA DE TIEMPO\"))))","v":"FUERA DE TIEMPO"},11,1,null,null,{"$f":"IFERROR(VLOOKUP(F2528,Hoja1!$A$50:$C$63,2),\"\")","v":5},{"$f":"IFERROR(VLOOKUP(F2528,Hoja1!$A$50:$C$63,3),\"\")","v":5}]
[2519,20259910049814,"2025-03-26","Persona jurídica","Virtual - Correo electrónico","Solicitud de documentos o información","Registros ambientales",null,"Subdirección de Estudios Ambientales","2025-04-09","Correo electrónico","2025-04-09",null,"",null,{"$f":"IFERROR(WORKDAY(N2529,Y2529,Hoja1!F2521:F2637),\"\")","v":""},"",null,"A TIEMPO",10,0,null,null,{"$f":"IFERROR(VLOOKUP(F2529,Hoja1!$A$50:$C$63,2),\"\")","v":5},{"$f":"IFERROR(VLOOKUP(F2529,Hoja1!$A$50:$C$63,3),\"\")","v":5}]
[2520,20259910049654,"2025-03-26","Persona jurídica","Virtual - Correo electrónico","Solicitud judicial","Administrativa",null,"Grupo de Administración y Desarrollo del Talento Humano","2025-04-02","Correo electrónico","2025-04-02",null,"",null,{"$f":"IFERROR(WORKDAY(N2530,Y2530,Hoja1!F2522:F2638),\"\")","v":""},"",null,"A TIEMPO",5,0,null,null,{"$f":"IFERROR(VLOOKUP(F2530,Hoja1!$A$50:$C$63,2),\"\")","v":5},{"$f":"IFERROR(VLOOKUP(F2530,Hoja1!$A$50:$C$63,3),\"\")","v":5}]
[2521,20259910049824,"2025-03-26","Persona natural","Virtual - Correo electrónico","Solicitud de documentos o información","Solicitud de información hidrometeorológica",null,"Grupo de Servicio al Ciudadano","2025-04-01","Correo electrónico","2025-04-09",null,"",null,{"$f":"IFERROR(WORKDAY(N2531,Y2531,Hoja1!F2523:F2639),\"\")","v":""},"",null,"A TIEMPO",4,0,null,null,{"$f":"IFERROR(VLOOKUP(F2531,Hoja1!$A$50:$C$63,2),\"\")","v":5},{"$f":"IFERROR(VLOOKUP(F2531,Hoja1!$A$50:$C$63,3),\"\")","v":5}]
[2522,20259910049834,"2025-03-26","Persona jurídica","Virtual - Correo electrónico","Solicitud de documentos o información","Registros ambientales",null,"Subdirección de Estudios Ambientales","2025-04-09","Correo electrónico","2025-04-09",null,"",null,{"$f":"IFERROR(WORKDAY(N2532,Y2532,Hoja1!F2524:F2640),\"\")","v":""},"",null,"A TIEMPO",10,0,null,null,{"$f":"IFERROR(VLOOKUP(F2532,Hoja1!$A$50:$C$63,2),\"\")","v":5},{"$f":"IFERROR(VLOOKUP(F2532,Hoja1!$A$50:$C$63,3),\"\")","v":5}]
[2523,20259910050014,"2025-03-26","Persona natural","Virtual - Correo electrónico","Reclamo","Administrativa",null,"Grupo de Tesorería","2025-04-09","Correo electrónico","2025-04-16",null,"",null,{"$f":"IFERROR(WORKDAY(N2533,Y2533,Hoja1!F2525:F2641),\"\")","v":""},"",null,"A TIEMPO",10,0,null,null,{"$f":"IFERROR(VLOOKUP(F2533,Hoja1!$A$50:$C$63,2),\"\")","v":15},{"$f":"IFERROR(VLOOKUP(F2533,Hoja1!$A$50:$C$63,3),\"\")","v":15}]
[2524,20259910050034,"2025-03-26","Persona jurídica","Virtual - Correo electrónico","Solicitud de documentos o información","Registros ambientales",null,"Subdirección de Estudios Ambientales","2025-04-10","Correo electrónico","2025-04-09",null,"",null,{"$f":"IFERROR(WORKDAY(N2534,Y2534,Hoja1!F2526:F2642),\"\")","v":""},"",null,{"$f":"+IF(C2534=\"\",\"\",IF(J2534=\"\",\"SIN RESPUESTA\",(IF(J2534<=L2534,\"A TIEMPO\",\"FUERA DE TIEMPO\"))))","v":"FUERA DE TIEMPO"},11,1,null,null,{"$f":"IFERROR(VLOOKUP(F2534,Hoja1!$A$50:$C$63,2),\"\")","v":5},{"$f":"IFERROR(VLOOKUP(F2534,Hoja1!$A$50:$C$63,3),\"\")","v":5}]
[2525,20259910050084,"2025-03-26","Persona jurídica","Virtual - Correo electrónico","Petición entre entidades","Registros ambientales",null,"Subdirección de Estudios Ambientales","2025-04-01","Correo electrónico","2025-04-09",null,"",null,{"$f":"IFERROR(WORKDAY(N2535,Y2535,Hoja1!F2527:F2643),\"\")","v":""},"",null,"A TIEMPO",4,0,null,null,{"$f":"IFERROR(VLOOKUP(F2535,Hoja1!$A$50:$C$63,2),\"\")","v":10},{"$f":"IFERROR(VLOOKUP(F2535,Hoja1!$A$50:$C$63,3),\"\")","v":10}]
[2526,20259050050064,"2025-03-26","Persona natural","Virtual - Formulario PQRSDF","Certificación laboral o pasantía","Administrativa",null,"Grupo de Administración y Desarrollo del Talento Humano","2025-03-30","Correo electrónico","2025-04-09",null,"",null,{"$f":"IFERROR(WORKDAY(N2536,Y2536,Hoja1!F2528:F2644),\"\")","v":""},"",null,"A TIEMPO",2,0,null,null,{"$f":"IFERROR(VLOOKUP(F2536,Hoja1!$A$50:$C$63,2),\"\")","v":15},{"$f":"IFERROR(VLOOKUP(F2536,Hoja1!$A$50:$C$63,3),\"\")","v":15}]
[2527,20259910050054,"2025-03-26","Persona jurídica","Virtual - Correo electrónico","Solicitud de documentos o información","Bosques",null,"Subdirección de Ecosistemas e Información Ambiental","2025-04-07","Correo electrónico","2025-04-09",null,"",null,{"$f":"IFERROR(WORKDAY(N2537,Y2537,Hoja1!F2529:F2645),\"\")","v":""},"",null,"A TIEMPO",8,0,null,null,{"$f":"IFERROR(VLOOKUP(F2537,Hoja1!$A$50:$C$63,2),\"\")","v":5},{"$f":"IFERROR(VLOOKUP(F2537,Hoja1!$A$50:$C$63,3),\"\")","v":5}]
[2528,20259910050044,"2025-03-26","Persona jurídica","Virtual - Correo electrónico","Petición de interés general o particular","Registros ambientales",null,"Subdirección de Estudios Ambientales","2025-04-14","Correo electrónico","2025-04-16",null,"",null,{"$f":"IFERROR(WORKDAY(N2538,Y2538,Hoja1!F2530:F2646),\"\")","v":""},"",null,"A TIEMPO",13,0,null,null,{"$f":"IFERROR(VLOOKUP(F2538,Hoja1!$A$50:$C$63,2),\"\")","v":15},{"$f":"IFERROR(VLOOKUP(F2538,Hoja1!$A$50:$C$63,3),\"\")","v":15}]
[2529,20259910050024,"2025-03-26","Persona jurídica","Virtual - Correo electrónico","Petición de interés general o particular","Registros ambientales",null,"Subdirección de Estudios Ambientales","2025-04-04","Correo electrónico","2025-04-09",null,"",null,{"$f":"IFERROR(WORKDAY(N2539,Y2539,Hoja1!F2531:F2647),\"\")","v":""},"",null,"A TIEMPO",7,0,null,null,{"$f":"IFERROR(VLOOKUP(F2539,Hoja1!$A$50:$C$63,2),\"\")","v":15},{"$f":"IFERROR(VLOOKUP(F2539,Hoja1!$A$50:$C$63,3),\"\")","v":15}]
[2530,20259910050074,"2025-03-26","Persona jurídica","Virtual - Correo electrónico","Consulta (Información técnica)","Bosques",null,"Subdirección de Ecosistemas e Información Ambiental",null,null,"2025-05-12",null,"",null,{"$f":"IFERROR(WORKDAY(N2540,Y2540,Hoja1!F2532:F2648),\"\")","v":""},"",null,{"$f":"+IF(C2540=\"\",\"\",IF(J2540=\"\",\"SIN RESPUESTA\",(IF(J2540<=L2540,\"A TIEMPO\",\"FUERA DE TIEMPO\"))))","v":"SIN RESPUESTA"},0,0,null,null,{"$f":"IFERROR(VLOOKUP(F2540,Hoja1!$A$50:$C$63,2),\"\")","v":30},{"$f":"IFERROR(VLOOKUP(F2540,Hoja1!$A$50:$C$63,3),\"\")","v":30}]
[2531,20259050050234,"2025-03-26","Persona natural","Virtual - Formulario PQRSDF","Solicitud de documentos o información","Solicitud de información hidrometeorológica",null,"Grupo de Servicio al Ciudadano","2025-04-07","Correo electrónico","2025-04-09",null,"",null,{"$f":"IFERROR(WORKDAY(N2541,Y2541,Hoja1!F2533:F2649),\"\")","v":""},"",null,"A TIEMPO",8,0,null,null,{"$f":"IFERROR(VLOOKUP(F2541,Hoja1!$A$50:$C$63,2),\"\")","v":5},{"$f":"IFERROR(VLOOKUP(F2541,Hoja1!$A$50:$C$63,3),\"\")","v":5}]
[2532,20259910050104,"2025-03-26","Persona natural","Virtual - Correo electrónico","Solicitud de documentos o información","Solicitud de información hidrometeorológica",null,"Grupo de Servicio al Ciudadano","2025-04-07","Correo electrónico","2025-04-09",null,"",null,{"$f":"IFERROR(WORKDAY(N2542,Y2542,Hoja1!F2534:F2650),\"\")","v":""},"",null,"A TIEMPO",8,0,null,null,{"$f":"IFERROR(VLOOKUP(F2542,Hoja1!$A$50:$C$63,2),\"\")","v":5},{"$f":"IFERROR(VLOOKUP(F2542,Hoja1!$A$50:$C$63,3),\"\")","v":5}]
[2533,20259910050114,"2025-03-26","Persona jurídica","Virtual - Correo electrónico","Certificación de contrato","Administrativa",null,"Oficina Asesora Jurídica","2025-04-09","Correo electrónico","2025-04-09",null,"",null,{"$f":"IFERROR(WORKDAY(N2543,Y2543,Hoja1!F2535:F2651),\"\")","v":""},"",null,"A TIEMPO",10,0,null,null,{"$f":"IFERROR(VLOOKUP(F2543,Hoja1!$A$50:$C$63,2),\"\")","v":15},{"$f":"IFERROR(VLOOKUP(F2543,Hoja1!$A$50:$C$63,3),\"\")","v":15}]
[2534,20259910050124,"2025-03-26","Persona jurídica","Virtual - Correo electrónico","Solicitud de documentos o información","Registros ambientales",null,"Subdirección de Estudios Ambientales","2025-04-09","Correo electrónico","2025-04-09",null,"",null,{"$f":"IFERROR(WORKDAY(N2544,Y2544,Hoja1!F2536:F2652),\"\")","v":""},"",null,"A TIEMPO",10,0,null,null,{"$f":"IFERROR(VLOOKUP(F2544,Hoja1!$A$50:$C$63,2),\"\")","v":5},{"$f":"IFERROR(VLOOKUP(F2544,Hoja1!$A$50:$C$63,3),\"\")","v":5}]
[2535,20259910050144,"2025-03-26","Persona jurídica","Virtual - Correo electrónico","Solicitud de documentos o información","Registros ambientales",null,"Subdirección de Estudios Ambientales","2025-04-04","Correo electrónico","2025-04-09",null,"",null,{"$f":"IFERROR(WORKDAY(N2545,Y2545,Hoja1!F2537:F2653),\"\")","v":""},"",null,"A TIEMPO",7,0,null,null,{"$f":"IFERROR(VLOOKUP(F2545,Hoja1!$A$50:$C$63,2),\"\")","v":5},{"$f":"IFERROR(VLOOKUP(F2545,Hoja1!$A$50:$C$63,3),\"\")","v":5}]
[2536,20259910050154,"2025-03-26","Persona jurídica","Virtual - Correo electrónico","Solicitud de documentos o información","Registros ambientales",null,"Subdirección de Estudios Ambientales","2025-04-09","Correo electrónico","2025-04-09",null,"",null,{"$f":"IFERROR(WORKDAY(N2546,Y2546,Hoja1!F2538:F2654),\"\")","v":""},"",null,"A TIEMPO",10,0,null,null,{"$f":"IFERROR(VLOOKUP(F2546,Hoja1!$A$50:$C$63,2),\"\")","v":5},{"$f":"IFERROR(VLOOKUP(F2546,Hoja1!$A$50:$C$63,3),\"\")","v":5}]
[2537,20259910050174,"2025-03-26","Persona jurídica","Virtual - Correo electrónico","Solicitud de documentos o información","Registros ambientales",null,"Subdirección de Estudios Ambientales","2025-04-07","Correo electrónico","2025-04-09",null,"",null,{"$f":"IFERROR(WORKDAY(N2547,Y2547,Hoja1!F2539:F2655),\"\")","v":""},"",null,"A TIEMPO",8,0,null,null,{"$f":"IFERROR(VLOOKUP(F2547,Hoja1!$A$50:$C$63,2),\"\")","v":5},{"$f":"IFERROR(VLOOKUP(F2547,Hoja1!$A$50:$C$63,3),\"\")","v":5}]
[2538,20259910050184,"2025-03-26","Persona jurídica","Virtual - Correo electrónico","Solicitud de documentos o información","Registros ambientales",null,"Subdirección de Estudios Ambientales","2025-04-09","Correo electrónico","2025-04-09",null,"",null,{"$f":"IFERROR(WORKDAY(N2548,Y2548,Hoja1!F2540:F2656),\"\")","v":""},"",null,"A TIEMPO",10,0,null,null,{"$f":"IFERROR(VLOOKUP(F2548,Hoja1!$A$50:$C$63,2),\"\")","v":5},{"$f":"IFERROR(VLOOKUP(F2548,Hoja1!$A$50:$C$63,3),\"\")","v":5}]
[2539,20259910050194,"2025-03-26","Persona jurídica","Virtual - Correo electrónico","Solicitud de documentos o información","Registros ambientales",null,"Subdirección de Estudios Ambientales","2025-04-10","Correo electrónico","2025-04-09",null,"",null,{"$f":"IFERROR(WORKDAY(N2549,Y2549,Hoja1!F2541:F2657),\"\")","v":""},"",null,{"$f":"+IF(C2549=\"\",\"\",IF(J2549=\"\",\"SIN RESPUESTA\",(IF(J2549<=L2549,\"A TIEMPO\",\"FUERA DE TIEMPO\"))))","v":"FUERA DE TIEMPO"},11,1,null,null,{"$f":"IFERROR(VLOOKUP(F2549,Hoja1!$A$50:$C$63,2),\"\")","v":5},{"$f":"IFERROR(VLOOKUP(F2549,Hoja1!$A$50:$C$63,3),\"\")","v":5}]
[2540,20259050050254,"2025-03-27","Persona jurídica","Virtual - Formulario PQRSDF","Solicitud de documentos o información","Registros ambientales",null,"Subdirección de Estudios Ambientales","2025-04-09","Correo electrónico","2025-04-10",null,"",null,{"$f":"IFERROR(WORKDAY(N2550,Y2550,Hoja1!F2542:F2658),\"\")","v":""},"",null,"A TIEMPO",9,0,null,null,{"$f":"IFERROR(VLOOKUP(F2550,Hoja1!$A$50:$C$63,2),\"\")","v":5},{"$f":"IFERROR(VLOOKUP(F2550,Hoja1!$A$50:$C$63,3),\"\")","v":5}]
[2541,20259050050324,"2025-03-27","Persona jurídica","Virtual - Formulario PQRSDF","Solicitud de documentos o información","Solicitud de información hidrometeorológica",null,"Grupo de Servicio al Ciudadano","2025-04-07","Correo electrónico","2025-04-10",null,"",null,{"$f":"IFERROR(WORKDAY(N2551,Y2551,Hoja1!F2543:F2659),\"\")","v":""},"",null,"A TIEMPO",7,0,null,null,{"$f":"IFERROR(VLOOKUP(F2551,Hoja1!$A$50:$C$63,2),\"\")","v":5},{"$f":"IFERROR(VLOOKUP(F2551,Hoja1!$A$50:$C$63,3),\"\")","v":5}]
[2542,20259910050264,"2025-03-27","Persona jurídica","Virtual - Correo electrónico","Solicitud de documentos o información","Registros ambientales",null,"Subdirección de Estudios Ambientales","2025-04-04","Correo electrónico","2025-04-10",null,"",null,{"$f":"IFERROR(WORKDAY(N2552,Y2552,Hoja1!F2544:F2660),\"\")","v":""},"",null,"A TIEMPO",6,0,null,null,{"$f":"IFERROR(VLOOKUP(F2552,Hoja1!$A$50:$C$63,2),\"\")","v":5},{"$f":"IFERROR(VLOOKUP(F2552,Hoja1!$A$50:$C$63,3),\"\")","v":5}]
[2543,20259910050274,"2025-03-27","Persona jurídica","Virtual - Correo electrónico","Petición entre autoridades","Registros ambientales",null,"Subdirección de Estudios Ambientales","2025-04-09","Correo electrónico","2025-04-10",null,"",null,{"$f":"IFERROR(WORKDAY(N2553,Y2553,Hoja1!F2545:F2661),\"\")","v":""},"",null,"A TIEMPO",9,0,null,null,{"$f":"IFERROR(VLOOKUP(F2553,Hoja1!$A$50:$C$63,2),\"\")","v":10},{"$f":"IFERROR(VLOOKUP(F2553,Hoja1!$A$50:$C$63,3),\"\")","v":10}]
[2544,20259910050284,"2025-03-27","Persona natural","Virtual - Correo electrónico","Solicitud de documentos o información","Visitas académicas",null,"Grupo de Servicio al Ciudadano","2025-04-07","Correo electrónico","2025-04-10",null,"",null,{"$f":"IFERROR(WORKDAY(N2554,Y2554,Hoja1!F2546:F2662),\"\")","v":""},"",null,"A TIEMPO",7,0,null,null,{"$f":"IFERROR(VLOOKUP(F2554,Hoja1!$A$50:$C$63,2),\"\")","v":5},{"$f":"IFERROR(VLOOKUP(F2554,Hoja1!$A$50:$C$63,3),\"\")","v":5}]
[2545,20259910050304,"2025-03-27","Persona jurídica","Virtual - Correo electrónico","Solicitud de documentos o información","Registros ambientales",null,"Subdirección de Estudios Ambientales","2025-04-10","Correo electrónico","2025-04-10",null,"",null,{"$f":"IFERROR(WORKDAY(N2555,Y2555,Hoja1!F2547:F2663),\"\")","v":""},"",null,"A TIEMPO",10,0,null,null,{"$f":"IFERROR(VLOOKUP(F2555,Hoja1!$A$50:$C$63,2),\"\")","v":5},{"$f":"IFERROR(VLOOKUP(F2555,Hoja1!$A$50:$C$63,3),\"\")","v":5}]
[2546,20259910050334,"2025-03-27","Persona jurídica","Virtual - Correo electrónico","Solicitud de documentos o información","Solicitud de información hidrometeorológica",null,"Subdirección de Meteorología","2025-04-07","Correo electrónico","2025-04-10",null,"",null,{"$f":"IFERROR(WORKDAY(N2556,Y2556,Hoja1!F2548:F2664),\"\")","v":""},"",null,"A TIEMPO",7,0,null,null,{"$f":"IFERROR(VLOOKUP(F2556,Hoja1!$A$50:$C$63,2),\"\")","v":5},{"$f":"IFERROR(VLOOKUP(F2556,Hoja1!$A$50:$C$63,3),\"\")","v":5}]
[2547,20259910050364,"2025-03-27","Persona natural","Virtual - Correo electrónico","Solicitud de documentos o información","Administrativa",null,"Grupo de Administración y Desarrollo del Talento Humano","2025-04-09","Correo electrónico","2025-04-10",null,"",null,{"$f":"IFERROR(WORKDAY(N2557,Y2557,Hoja1!F2549:F2665),\"\")","v":""},"",null,"A TIEMPO",9,0,null,null,{"$f":"IFERROR(VLOOKUP(F2557,Hoja1!$A$50:$C$63,2),\"\")","v":5},{"$f":"IFERROR(VLOOKUP(F2557,Hoja1!$A$50:$C$63,3),\"\")","v":5}]
[2548,20259910050444,"2025-03-27","Persona jurídica","Virtual - Correo electrónico","Solicitud de documentos o información","Registros ambientales",null,"Subdirección de Estudios Ambientales","2025-04-09","Correo electrónico","2025-04-10",null,"",null,{"$f":"IFERROR(WORKDAY(N2558,Y2558,Hoja1!F2550:F2666),\"\")","v":""},"",null,"A TIEMPO",9,0,null,null,{"$f":"IFERROR(VLOOKUP(F2558,Hoja1!$A$50:$C$63,2),\"\")","v":5},{"$f":"IFERROR(VLOOKUP(F2558,Hoja1!$A$50:$C$63,3),\"\")","v":5}]
[2549,20259910050464,"2025-03-27","Persona jurídica","Virtual - Correo electrónico","Solicitud de documentos o información","Sistema de información del recurso hídrico",null,"Subdirección de Hidrología","2025-04-04","Correo electrónico","2025-04-10",null,"",null,{"$f":"IFERROR(WORKDAY(N2559,Y2559,Hoja1!F2551:F2667),\"\")","v":""},"",null,"A TIEMPO",6,0,null,null,{"$f":"IFERROR(VLOOKUP(F2559,Hoja1!$A$50:$C$63,2),\"\")","v":5},{"$f":"IFERROR(VLOOKUP(F2559,Hoja1!$A$50:$C$63,3),\"\")","v":5}]
[2550,20259910050564,"2025-03-27","Persona jurídica","Virtual - Correo electrónico","Petición entre autoridades","Bosques",null,"Subdirección de Ecosistemas e Información Ambiental","2025-04-27","Correo electrónico","2025-04-10",null,"",null,{"$f":"IFERROR(WORKDAY(N2560,Y2560,Hoja1!F2552:F2668),\"\")","v":""},"",null,{"$f":"+IF(C2560=\"\",\"\",IF(J2560=\"\",\"SIN RESPUESTA\",(IF(J2560<=L2560,\"A TIEMPO\",\"FUERA DE TIEMPO\"))))","v":"FUERA DE TIEMPO"},19,9,null,null,{"$f":"IFERROR(VLOOKUP(F2560,Hoja1!$A$50:$C$63,2),\"\")","v":10},{"$f":"IFERROR(VLOOKUP(F2560,Hoja1!$A$50:$C$63,3),\"\")","v":10}]
[2551,20259910050574,"2025-03-27","Persona jurídica","Virtual - Correo electrónico","Solicitud de documentos o información","Administrativa",null,"Oficina Asesora Jurídica","2025-04-04","Correo electrónico","2025-04-10",null,"",null,{"$f":"IFERROR(WORKDAY(N2561,Y2561,Hoja1!F2553:F2669),\"\")","v":""},"",null,"A TIEMPO",6,0,null,null,{"$f":"IFERROR(VLOOKUP(F2561,Hoja1!$A$50:$C$63,2),\"\")","v":5},{"$f":"IFERROR(VLOOKUP(F2561,Hoja1!$A$50:$C$63,3),\"\")","v":5}]
[2552,20259910050604,"2025-03-27","Persona jurídica","Virtual - Correo electrónico","Solicitud de documentos o información","Registros ambientales",null,"Subdirección de Estudios Ambientales","2025-04-04","Correo electrónico","2025-04-10",null,"",null,{"$f":"IFERROR(WORKDAY(N2562,Y2562,Hoja1!F2554:F2670),\"\")","v":""},"",null,"A TIEMPO",6,0,null,null,{"$f":"IFERROR(VLOOKUP(F2562,Hoja1!$A$50:$C$63,2),\"\")","v":5},{"$f":"IFERROR(VLOOKUP(F2562,Hoja1!$A$50:$C$63,3),\"\")","v":5}]
[2553,20259910050614,"2025-03-27","Persona jurídica","Virtual - Correo electrónico","Solicitud de documentos o información","Registros ambientales",null,"Subdirección de Estudios Ambientales","2025-04-07","Correo electrónico","2025-04-10",null,"",null,{"$f":"IFERROR(WORKDAY(N2563,Y2563,Hoja1!F2555:F2671),\"\")","v":""},"",null,"A TIEMPO",7,0,null,null,{"$f":"IFERROR(VLOOKUP(F2563,Hoja1!$A$50:$C$63,2),\"\")","v":5},{"$f":"IFERROR(VLOOKUP(F2563,Hoja1!$A$50:$C$63,3),\"\")","v":5}]
[2554,20259910050624,"2025-03-27","Persona natural","Virtual - Correo electrónico","Solicitud de documentos o información","Solicitud de información hidrometeorológica",null,"Subdirección de Meteorología","2025-04-04","Correo electrónico","2025-04-10",null,"",null,{"$f":"IFERROR(WORKDAY(N2564,Y2564,Hoja1!F2556:F2672),\"\")","v":""},"",null,"A TIEMPO",6,0,null,null,{"$f":"IFERROR(VLOOKUP(F2564,Hoja1!$A$50:$C$63,2),\"\")","v":5},{"$f":"IFERROR(VLOOKUP(F2564,Hoja1!$A$50:$C$63,3),\"\")","v":5}]
[2555,20259910050634,"2025-03-27","Persona jurídica","Virtual - Correo electrónico","Certificación de ingresos y retenciones","Administrativa",null,"Grupo de Contabilidad","2025-04-09","Correo electrónico","2025-04-10",null,"",null,{"$f":"IFERROR(WORKDAY(N2565,Y2565,Hoja1!F2557:F2673),\"\")","v":""},"",null,"A TIEMPO",9,0,null,null,{"$f":"IFERROR(VLOOKUP(F2565,Hoja1!$A$50:$C$63,2),\"\")","v":15},{"$f":"IFERROR(VLOOKUP(F2565,Hoja1!$A$50:$C$63,3),\"\")","v":15}]
[2556,20259910050644,"2025-03-27","Persona jurídica","Virtual - Correo electrónico","Reclamo","Informes ambientales",null,"Subdirección de Estudios Ambientales","2025-04-09","Correo electrónico","2025-04-21",null,"",null,{"$f":"IFERROR(WORKDAY(N2566,Y2566,Hoja1!F2558:F2674),\"\")","v":""},"",null,"A TIEMPO",9,0,null,null,{"$f":"IFERROR(VLOOKUP(F2566,Hoja1!$A$50:$C$63,2),\"\")","v":15},{"$f":"IFERROR(VLOOKUP(F2566,Hoja1!$A$50:$C$63,3),\"\")","v":15}]
[2557,20259910050654,"2025-03-27","Persona natural","Virtual - Correo electrónico","Solicitud de documentos o información","Modelamiento meteorológico",null,"Subdirección de Meteorología","2025-04-04","Correo electrónico","2025-04-10",null,"",null,{"$f":"IFERROR(WORKDAY(N2567,Y2567,Hoja1!F2559:F2675),\"\")","v":""},"",null,"A TIEMPO",6,0,null,null,{"$f":"IFERROR(VLOOKUP(F2567,Hoja1!$A$50:$C$63,2),\"\")","v":5},{"$f":"IFERROR(VLOOKUP(F2567,Hoja1!$A$50:$C$63,3),\"\")","v":5}]
[2558,20259910050664,"2025-03-27","Persona natural","Virtual - Correo electrónico","Certificación laboral o pasantía","Administrativa",null,"Grupo de Administración y Desarrollo del Talento Humano","2025-04-04","Correo electrónico","2025-04-10",null,"",null,{"$f":"IFERROR(WORKDAY(N2568,Y2568,Hoja1!F2560:F2676),\"\")","v":""},"",null,"A TIEMPO",6,0,null,null,{"$f":"IFERROR(VLOOKUP(F2568,Hoja1!$A$50:$C$63,2),\"\")","v":15},{"$f":"IFERROR(VLOOKUP(F2568,Hoja1!$A$50:$C$63,3),\"\")","v":15}]
[2559,20259050050724,"2025-03-27","Persona jurídica","Virtual - Formulario PQRSDF","Solicitud de documentos o información","Informes ambientales",null,"Subdirección de Estudios Ambientales","2025-04-04","Correo electrónico","2025-04-10",null,"",null,{"$f":"IFERROR(WORKDAY(N2569,Y2569,Hoja1!F2561:F2677),\"\")","v":""},"",null,"A TIEMPO",6,0,null,null,{"$f":"IFERROR(VLOOKUP(F2569,Hoja1!$A$50:$C$63,2),\"\")","v":5},{"$f":"IFERROR(VLOOKUP(F2569,Hoja1!$A$50:$C$63,3),\"\")","v":5}]
[2560,20259910050734,"2025-03-27","Persona jurídica","Virtual - Correo electrónico","Consulta (Información técnica)","Acreditación de laboratorios",null,"Subdirección de Estudios Ambientales","2025-04-16","Correo electrónico","2025-05-13",null,"",null,{"$f":"IFERROR(WORKDAY(N2570,Y2570,Hoja1!F2562:F2678),\"\")","v":""},{"$f":"+IF(N2570=\"\",\"\",IF(O2570=\"\",\"SIN RESPUESTA\",(IF(O2570<=P2570,\"A TIEMPO\",\"FUERA DE TIEMPO\"))))","v":""},null,"A TIEMPO",14,0,null,null,{"$f":"IFERROR(VLOOKUP(F2570,Hoja1!$A$50:$C$63,2),\"\")","v":30},{"$f":"IFERROR(VLOOKUP(F2570,Hoja1!$A$50:$C$63,3),\"\")","v":30}]
[2561,20259910050744,"2025-03-27","Persona natural","Virtual - Correo electrónico","Petición de interés general o particular","Registros ambientales",null,"Subdirección de Estudios Ambientales","2025-04-15","Correo electrónico","2025-04-21",null,"",null,{"$f":"IFERROR(WORKDAY(N2571,Y2571,Hoja1!F2563:F2679),\"\")","v":""},"",null,"A TIEMPO",13,0,null,null,{"$f":"IFERROR(VLOOKUP(F2571,Hoja1!$A$50:$C$63,2),\"\")","v":15},{"$f":"IFERROR(VLOOKUP(F2571,Hoja1!$A$50:$C$63,3),\"\")","v":15}]
[2562,20259910050754,"2025-03-27","Persona jurídica","Virtual - Correo electrónico","Petición entre entidades","Informes ambientales",null,"Subdirección de Estudios Ambientales","2025-04-03","No aplica","2025-04-10",null,"",null,{"$f":"IFERROR(WORKDAY(N2572,Y2572,Hoja1!F2564:F2680),\"\")","v":""},"",null,"A TIEMPO",5,0,null,null,{"$f":"IFERROR(VLOOKUP(F2572,Hoja1!$A$50:$C$63,2),\"\")","v":10},{"$f":"IFERROR(VLOOKUP(F2572,Hoja1!$A$50:$C$63,3),\"\")","v":10}]
[2563,20259050050764,"2025-03-27","Persona jurídica","Virtual - Formulario PQRSDF","Solicitud de documentos o información","Registros ambientales",null,"Subdirección de Estudios Ambientales","2025-04-10","Correo electrónico","2025-04-10",null,"",null,{"$f":"IFERROR(WORKDAY(N2573,Y2573,Hoja1!F2565:F2681),\"\")","v":""},"",null,"A TIEMPO",10,0,null,null,{"$f":"IFERROR(VLOOKUP(F2573,Hoja1!$A$50:$C$63,2),\"\")","v":5},{"$f":"IFERROR(VLOOKUP(F2573,Hoja1!$A$50:$C$63,3),\"\")","v":5}]
[2564,20259050050774,"2025-03-27","Persona natural","Virtual - Formulario PQRSDF","Certificación de tiempo, clima y eventos hidrológicos","Certificaciones del tiempo y clima",null,"Subdirección de Meteorología",null,null,"2025-05-13",null,"",null,{"$f":"IFERROR(WORKDAY(N2574,Y2574,Hoja1!F2566:F2682),\"\")","v":""},"",null,{"$f":"+IF(C2574=\"\",\"\",IF(J2574=\"\",\"SIN RESPUESTA\",(IF(J2574<=L2574,\"A TIEMPO\",\"FUERA DE TIEMPO\"))))","v":"SIN RESPUESTA"},0,0,null,null,{"$f":"IFERROR(VLOOKUP(F2574,Hoja1!$A$50:$C$63,2),\"\")","v":15},{"$f":"IFERROR(VLOOKUP(F2574,Hoja1!$A$50:$C$63,3),\"\")","v":15}]
[2565,20259260050844,"2025-03-27","Persona natural","Virtual - Correo electrónico","Solicitud de documentos o información","Visitas académicas",null,"Área Operativa No. 6 - Duitama","2025-03-31","Correo electrónico","2025-04-10",null,"",null,{"$f":"IFERROR(WORKDAY(N2575,Y2575,Hoja1!F2567:F2683),\"\")","v":""},"",null,"A TIEMPO",2,0,null,null,{"$f":"IFERROR(VLOOKUP(F2575,Hoja1!$A$50:$C$63,2),\"\")","v":5},{"$f":"IFERROR(VLOOKUP(F2575,Hoja1!$A$50:$C$63,3),\"\")","v":5}]
[2566,20259910050854,"2025-03-27","Persona jurídica","Virtual - Correo electrónico","Solicitud de documentos o información","Registros ambientales",null,"Subdirección de Estudios Ambientales","2025-04-10","Correo electrónico","2025-04-10",null,"",null,{"$f":"IFERROR(WORKDAY(N2576,Y2576,Hoja1!F2568:F2684),\"\")","v":""},"",null,"A TIEMPO",10,0,null,null,{"$f":"IFERROR(VLOOKUP(F2576,Hoja1!$A$50:$C$63,2),\"\")","v":5},{"$f":"IFERROR(VLOOKUP(F2576,Hoja1!$A$50:$C$63,3),\"\")","v":5}]
[{"$f":"IF(B2577<>\"\",A2576+1,\"\")","v":2567},20259050050864,"2025-03-27","Persona natural","Virtual - Formulario PQRSDF","Solicitud de documentos o información","Solicitud de información hidrometeorológica",null,"Grupo de Servicio al Ciudadano","2025-04-07","Correo electrónico","2025-04-10",null,"",null,{"$f":"IFERROR(WORKDAY(N2577,Y2577,Hoja1!F2569:F2685),\"\")","v":""},"",null,"A TIEMPO",7,0,null,null,{"$f":"IFERROR(VLOOKUP(F2577,Hoja1!$A$50:$C$63,2),\"\")","v":5},{"$f":"IFERROR(VLOOKUP(F2577,Hoja1!$A$50:$C$63,3),\"\")","v":5}]
[2568,20259050050904,"2025-03-27","Persona natural","Virtual - Formulario PQRSDF","Solicitud de documentos o información","Solicitud de información hidrometeorológica",null,"Subdirección de Meteorología","2025-04-08","Correo electrónico","2025-04-10",null,"",null,{"$f":"IFERROR(WORKDAY(N2578,Y2578,Hoja1!F2570:F2686),\"\")","v":""},"",null,"A TIEMPO",8,0,null,null,{"$f":"IFERROR(VLOOKUP(F2578,Hoja1!$A$50:$C$63,2),\"\")","v":5},{"$f":"IFERROR(VLOOKUP(F2578,Hoja1!$A$50:$C$63,3),\"\")","v":5}]
[2569,20259910050914,"2025-03-27","Persona jurídica","Virtual - Correo electrónico","Solicitud de documentos o información","Solicitud de información hidrometeorológica",null,"Subdirección de Hidrología","2025-04-04","Correo electrónico","2025-04-10",null,"",null,{"$f":"IFERROR(WORKDAY(N2579,Y2579,Hoja1!F2571:F2687),\"\")","v":""},"",null,"A TIEMPO",6,0,null,null,{"$f":"IFERROR(VLOOKUP(F2579,Hoja1!$A$50:$C$63,2),\"\")","v":5},{"$f":"IFERROR(VLOOKUP(F2579,Hoja1!$A$50:$C$63,3),\"\")","v":5}]
[2570,20259910050924,"2025-03-27","Persona jurídica","Virtual - Correo electrónico","Solicitud de documentos o información","Solicitud de información hidrometeorológica",null,"Grupo de Servicio al Ciudadano","2025-04-07","Correo electrónico","2025-04-10",null,"",null,{"$f":"IFERROR(WORKDAY(N2580,Y2580,Hoja1!F2572:F2688),\"\")","v":""},"",null,"A TIEMPO",7,0,null,null,{"$f":"IFERROR(VLOOKUP(F2580,Hoja1!$A$50:$C$63,2),\"\")","v":5},{"$f":"IFERROR(VLOOKUP(F2580,Hoja1!$A$50:$C$63,3),\"\")","v":5}]
[2571,20259910050944,"2025-03-27","Persona jurídica","Virtual - Correo electrónico","Solicitud de documentos o información","Registros ambientales",null,"Subdirección de Estudios Ambientales","2025-04-10","Correo electrónico","2025-04-10",null,"",null,{"$f":"IFERROR(WORKDAY(N2581,Y2581,Hoja1!F2573:F2689),\"\")","v":""},"",null,"A TIEMPO",10,0,null,null,{"$f":"IFERROR(VLOOKUP(F2581,Hoja1!$A$50:$C$63,2),\"\")","v":5},{"$f":"IFERROR(VLOOKUP(F2581,Hoja1!$A$50:$C$63,3),\"\")","v":5}]
[2572,20259910050934,"2025-03-27","Persona jurídica","Virtual - Correo electrónico","Solicitud de documentos o información","Registros ambientales",null,"Subdirección de Estudios Ambientales","2025-04-10","Correo electrónico","2025-04-10",null,"",null,{"$f":"IFERROR(WORKDAY(N2582,Y2582,Hoja1!F2574:F2690),\"\")","v":""},"",null,"A TIEMPO",10,0,null,null,{"$f":"IFERROR(VLOOKUP(F2582,Hoja1!$A$50:$C$63,2),\"\")","v":5},{"$f":"IFERROR(VLOOKUP(F2582,Hoja1!$A$50:$C$63,3),\"\")","v":5}]
[2573,20259910050964,"2025-03-27","Persona jurídica","Virtual - Correo electrónico","Solicitud de documentos o información","Registros ambientales",null,"Subdirección de Estudios Ambientales","2025-04-10","Correo electrónico","2025-04-10",null,"",null,{"$f":"IFERROR(WORKDAY(N2583,Y2583,Hoja1!F2575:F2691),\"\")","v":""},"",null,"A TIEMPO",10,0,null,null,{"$f":"IFERROR(VLOOKUP(F2583,Hoja1!$A$50:$C$63,2),\"\")","v":5},{"$f":"IFERROR(VLOOKUP(F2583,Hoja1!$A$50:$C$63,3),\"\")","v":5}]
[2574,20259050050974,"2025-03-27","Persona natural","Virtual - Formulario PQRSDF","Solicitud de documentos o información","Solicitud de información hidrometeorológica",null,"Grupo de Servicio al Ciudadano","2025-04-07","Correo electrónico","2025-04-10",null,"",null,{"$f":"IFERROR(WORKDAY(N2584,Y2584,Hoja1!F2576:F2692),\"\")","v":""},"",null,"A TIEMPO",7,0,null,null,{"$f":"IFERROR(VLOOKUP(F2584,Hoja1!$A$50:$C$63,2),\"\")","v":5},{"$f":"IFERROR(VLOOKUP(F2584,Hoja1!$A$50:$C$63,3),\"\")","v":5}]
[2575,20259910051014,"2025-03-27","Persona jurídica","Virtual - Correo electrónico","Solicitud de documentos o información","Registros ambientales",null,"Subdirección de Estudios Ambientales","2025-04-04","Correo electrónico","2025-04-10",null,"",null,{"$f":"IFERROR(WORKDAY(N2585,Y2585,Hoja1!F2577:F2693),\"\")","v":""},"",null,"A TIEMPO",6,0,null,null,{"$f":"IFERROR(VLOOKUP(F2585,Hoja1!$A$50:$C$63,2),\"\")","v":5},{"$f":"IFERROR(VLOOKUP(F2585,Hoja1!$A$50:$C$63,3),\"\")","v":5}]
[2576,20259910051024,"2025-03-27","Persona jurídica","Virtual - Correo electrónico","Solicitud de documentos o información","Acreditación de laboratorios",null,"Subdirección de Estudios Ambientales","2025-04-10","Correo electrónico","2025-04-10",null,"",null,{"$f":"IFERROR(WORKDAY(N2586,Y2586,Hoja1!F2578:F2694),\"\")","v":""},"",null,"A TIEMPO",10,0,null,null,{"$f":"IFERROR(VLOOKUP(F2586,Hoja1!$A$50:$C$63,2),\"\")","v":5},{"$f":"IFERROR(VLOOKUP(F2586,Hoja1!$A$50:$C$63,3),\"\")","v":5}]
[2577,20259910051054,"2025-03-27","Persona natural","Virtual - Correo electrónico","Solicitud de documentos o información","Solicitud de información hidrometeorológica",null,"Grupo de Servicio al Ciudadano","2025-04-07","Correo electrónico","2025-04-10",null,"",null,{"$f":"IFERROR(WORKDAY(N2587,Y2587,Hoja1!F2579:F2695),\"\")","v":""},"",null,"A TIEMPO",7,0,null,null,{"$f":"IFERROR(VLOOKUP(F2587,Hoja1!$A$50:$C$63,2),\"\")","v":5},{"$f":"IFERROR(VLOOKUP(F2587,Hoja1!$A$50:$C$63,3),\"\")","v":5}]
[2578,20259910051064,"2025-03-27","Persona jurídica","Virtual - Correo electrónico","Solicitud de documentos o información","Registros ambientales",null,"Subdirección de Estudios Ambientales","2025-04-10","Correo electrónico","2025-04-10",null,"",null,{"$f":"IFERROR(WORKDAY(N2588,Y2588,Hoja1!F2580:F2696),\"\")","v":""},"",null,"A TIEMPO",10,0,null,null,{"$f":"IFERROR(VLOOKUP(F2588,Hoja1!$A$50:$C$63,2),\"\")","v":5},{"$f":"IFERROR(VLOOKUP(F2588,Hoja1!$A$50:$C$63,3),\"\")","v":5}]
[2579,20259050051074,"2025-03-27","Persona jurídica","Virtual - Formulario PQRSDF","Petición de interés general o particular","Registros ambientales",null,"Subdirección de Estudios Ambientales","2025-04-09","Correo electrónico","2025-04-21",null,"",null,{"$f":"IFERROR(WORKDAY(N2589,Y2589,Hoja1!F2581:F2697),\"\")","v":""},"",null,"A TIEMPO",9,0,null,null,{"$f":"IFERROR(VLOOKUP(F2589,Hoja1!$A$50:$C$63,2),\"\")","v":15},{"$f":"IFERROR(VLOOKUP(F2589,Hoja1!$A$50:$C$63,3),\"\")","v":15}]
[2580,20259910051044,"2025-03-27","Persona jurídica","Virtual - Correo electrónico","Solicitud de documentos o información","Modelación hidrológica",null,"Subdirección de Hidrología","2025-04-02","Correo electrónico","2025-04-10",null,"",null,{"$f":"IFERROR(WORKDAY(N2590,Y2590,Hoja1!F2582:F2698),\"\")","v":""},"",null,"A TIEMPO",4,0,null,null,{"$f":"IFERROR(VLOOKUP(F2590,Hoja1!$A$50:$C$63,2),\"\")","v":5},{"$f":"IFERROR(VLOOKUP(F2590,Hoja1!$A$50:$C$63,3),\"\")","v":5}]
[2581,20259910051084,"2025-03-27","Persona natural","Virtual - Correo electrónico","Solicitud de documentos o información","Informes ambientales",null,"Grupo de Servicio al Ciudadano","2025-04-03","Correo electrónico","2025-04-10",null,"",null,{"$f":"IFERROR(WORKDAY(N2591,Y2591,Hoja1!F2583:F2699),\"\")","v":""},"",null,"A TIEMPO",5,0,null,null,{"$f":"IFERROR(VLOOKUP(F2591,Hoja1!$A$50:$C$63,2),\"\")","v":5},{"$f":"IFERROR(VLOOKUP(F2591,Hoja1!$A$50:$C$63,3),\"\")","v":5}]
[2582,20259910051094,"2025-03-27","Persona jurídica","Virtual - Correo electrónico","Solicitud de documentos o información","Registros ambientales",null,"Subdirección de Estudios Ambientales","2025-04-10","Correo electrónico","2025-04-10",null,"",null,{"$f":"IFERROR(WORKDAY(N2592,Y2592,Hoja1!F2584:F2700),\"\")","v":""},"",null,"A TIEMPO",10,0,null,null,{"$f":"IFERROR(VLOOKUP(F2592,Hoja1!$A$50:$C$63,2),\"\")","v":5},{"$f":"IFERROR(VLOOKUP(F2592,Hoja1!$A$50:$C$63,3),\"\")","v":5}]
[2583,20259050051114,"2025-03-27","Persona jurídica","Virtual - Formulario PQRSDF","Solicitud de documentos o información","Solicitud de información hidrometeorológica",null,"Subdirección de Hidrología","2025-04-03","Correo electrónico","2025-04-10",null,"",null,{"$f":"IFERROR(WORKDAY(N2593,Y2593,Hoja1!F2585:F2701),\"\")","v":""},"",null,"A TIEMPO",5,0,null,null,{"$f":"IFERROR(VLOOKUP(F2593,Hoja1!$A$50:$C$63,2),\"\")","v":5},{"$f":"IFERROR(VLOOKUP(F2593,Hoja1!$A$50:$C$63,3),\"\")","v":5}]
[2584,20259050051124,"2025-03-27","Persona natural","Virtual - Formulario PQRSDF","Solicitud de documentos o información","Sistema de información del recurso hídrico",null,"Subdirección de Hidrología","2025-04-02","Correo electrónico","2025-04-10",null,"",null,{"$f":"IFERROR(WORKDAY(N2594,Y2594,Hoja1!F2586:F2702),\"\")","v":""},"",null,"A TIEMPO",4,0,null,null,{"$f":"IFERROR(VLOOKUP(F2594,Hoja1!$A$50:$C$63,2),\"\")","v":5},{"$f":"IFERROR(VLOOKUP(F2594,Hoja1!$A$50:$C$63,3),\"\")","v":5}]
[2585,20259910051104,"2025-03-27","Persona jurídica","Virtual - Correo electrónico","Solicitud judicial","Bosques",null,"Subdirección de Ecosistemas e Información Ambiental","2025-04-03","Correo electrónico","2025-04-03",null,"",null,{"$f":"IFERROR(WORKDAY(N2595,Y2595,Hoja1!F2587:F2703),\"\")","v":""},"",null,"A TIEMPO",5,0,null,null,{"$f":"IFERROR(VLOOKUP(F2595,Hoja1!$A$50:$C$63,2),\"\")","v":5},{"$f":"IFERROR(VLOOKUP(F2595,Hoja1!$A$50:$C$63,3),\"\")","v":5}]
[2586,20259050051134,"2025-03-27","Persona jurídica","Virtual - Formulario PQRSDF","Solicitud de documentos o información","Registros ambientales",null,"Subdirección de Estudios Ambientales","2025-04-11","Correo electrónico","2025-04-10",null,"",null,{"$f":"IFERROR(WORKDAY(N2596,Y2596,Hoja1!F2588:F2704),\"\")","v":""},"",null,{"$f":"+IF(C2596=\"\",\"\",IF(J2596=\"\",\"SIN RESPUESTA\",(IF(J2596<=L2596,\"A TIEMPO\",\"FUERA DE TIEMPO\"))))","v":"FUERA DE TIEMPO"},11,1,null,null,{"$f":"IFERROR(VLOOKUP(F2596,Hoja1!$A$50:$C$63,2),\"\")","v":5},{"$f":"IFERROR(VLOOKUP(F2596,Hoja1!$A$50:$C$63,3),\"\")","v":5}]
[2587,20259050051144,"2025-03-28","Persona natural","Virtual - Formulario PQRSDF","Certificación laboral o pasantía","Administrativa",null,"Grupo de Administración y Desarrollo del Talento Humano","2025-04-04","Correo electrónico","2025-04-11",null,"",null,{"$f":"IFERROR(WORKDAY(N2597,Y2597,Hoja1!F2589:F2705),\"\")","v":""},"",null,"A TIEMPO",5,0,null,null,{"$f":"IFERROR(VLOOKUP(F2597,Hoja1!$A$50:$C$63,2),\"\")","v":15},{"$f":"IFERROR(VLOOKUP(F2597,Hoja1!$A$50:$C$63,3),\"\")","v":15}]
[2588,20259050051154,"2025-03-28","Persona natural","Virtual - Formulario PQRSDF","Solicitud de documentos o información","Solicitud de información hidrometeorológica",null,"Grupo de Servicio al Ciudadano","2025-04-07","Correo electrónico","2025-04-11",null,"",null,{"$f":"IFERROR(WORKDAY(N2598,Y2598,Hoja1!F2590:F2706),\"\")","v":""},"",null,"A TIEMPO",6,0,null,null,{"$f":"IFERROR(VLOOKUP(F2598,Hoja1!$A$50:$C$63,2),\"\")","v":5},{"$f":"IFERROR(VLOOKUP(F2598,Hoja1!$A$50:$C$63,3),\"\")","v":5}]
[2589,20259910051164,"2025-03-28","Persona jurídica","Virtual - Correo electrónico","Solicitud de documentos o información","Registros ambientales",null,"Subdirección de Estudios Ambientales","2025-04-04","Correo electrónico","2025-04-11",null,"",null,{"$f":"IFERROR(WORKDAY(N2599,Y2599,Hoja1!F2591:F2707),\"\")","v":""},"",null,"A TIEMPO",5,0,null,null,{"$f":"IFERROR(VLOOKUP(F2599,Hoja1!$A$50:$C$63,2),\"\")","v":5},{"$f":"IFERROR(VLOOKUP(F2599,Hoja1!$A$50:$C$63,3),\"\")","v":5}]
[2590,20259910051194,"2025-03-28","Persona jurídica","Virtual - Correo electrónico","Petición entre autoridades","Solicitud de información hidrometeorológica",null,"Subdirección de Hidrología","2025-04-04","Correo electrónico","2025-04-11",null,"",null,{"$f":"IFERROR(WORKDAY(N2600,Y2600,Hoja1!F2592:F2708),\"\")","v":""},"",null,"A TIEMPO",5,0,null,null,{"$f":"IFERROR(VLOOKUP(F2600,Hoja1!$A$50:$C$63,2),\"\")","v":10},{"$f":"IFERROR(VLOOKUP(F2600,Hoja1!$A$50:$C$63,3),\"\")","v":10}]
[2591,20259910051314,"2025-03-28","Persona natural","Virtual - Correo electrónico","Solicitud de documentos o información","Sistema de información del recurso hídrico",null,"Grupo de Servicio al Ciudadano","2025-04-03","Correo electrónico","2025-04-11",null,"",null,{"$f":"IFERROR(WORKDAY(N2601,Y2601,Hoja1!F2593:F2709),\"\")","v":""},"",null,"A TIEMPO",4,0,null,null,{"$f":"IFERROR(VLOOKUP(F2601,Hoja1!$A$50:$C$63,2),\"\")","v":5},{"$f":"IFERROR(VLOOKUP(F2601,Hoja1!$A$50:$C$63,3),\"\")","v":5}]
[2592,20259910051264,"2025-03-28","Persona natural","Virtual - Correo electrónico","Solicitud de documentos o información","Solicitud de información hidrometeorológica",null,"Grupo de Servicio al Ciudadano","2025-04-07","Correo electrónico","2025-04-11",null,"",null,{"$f":"IFERROR(WORKDAY(N2602,Y2602,Hoja1!F2594:F2710),\"\")","v":""},"",null,"A TIEMPO",6,0,null,null,{"$f":"IFERROR(VLOOKUP(F2602,Hoja1!$A$50:$C$63,2),\"\")","v":5},{"$f":"IFERROR(VLOOKUP(F2602,Hoja1!$A$50:$C$63,3),\"\")","v":5}]
[2593,20259910051234,"2025-03-28","Persona jurídica","Virtual - Correo electrónico","Solicitud de documentos o información","Solicitud de información hidrometeorológica",null,"Subdirección de Meteorología","2025-03-30","Correo electrónico","2025-04-11",null,"",null,{"$f":"IFERROR(WORKDAY(N2603,Y2603,Hoja1!F2595:F2711),\"\")","v":""},"",null,"A TIEMPO",0,0,null,null,{"$f":"IFERROR(VLOOKUP(F2603,Hoja1!$A$50:$C$63,2),\"\")","v":5},{"$f":"IFERROR(VLOOKUP(F2603,Hoja1!$A$50:$C$63,3),\"\")","v":5}]
[2594,20259910051274,"2025-03-28","Persona jurídica","Virtual - Correo electrónico","Solicitud de documentos o información","Sistema de información ambiental",null,"Subdirección de Estudios Ambientales","2025-05-02","Correo electrónico","2025-04-11",null,"",null,{"$f":"IFERROR(WORKDAY(N2604,Y2604,Hoja1!F2596:F2712),\"\")","v":""},"",null,{"$f":"+IF(C2604=\"\",\"\",IF(J2604=\"\",\"SIN RESPUESTA\",(IF(J2604<=L2604,\"A TIEMPO\",\"FUERA DE TIEMPO\"))))","v":"FUERA DE TIEMPO"},22,12,null,null,{"$f":"IFERROR(VLOOKUP(F2604,Hoja1!$A$50:$C$63,2),\"\")","v":5},{"$f":"IFERROR(VLOOKUP(F2604,Hoja1!$A$50:$C$63,3),\"\")","v":5}]
[2595,20259910051304,"2025-03-28","Persona jurídica","Virtual - Correo electrónico","Certificación de ingresos y retenciones","Administrativa",null,"Grupo de Contabilidad","2025-04-10","Correo electrónico","2025-04-11",null,"",null,{"$f":"IFERROR(WORKDAY(N2605,Y2605,Hoja1!F2597:F2713),\"\")","v":""},"",null,"A TIEMPO",9,0,null,null,{"$f":"IFERROR(VLOOKUP(F2605,Hoja1!$A$50:$C$63,2),\"\")","v":15},{"$f":"IFERROR(VLOOKUP(F2605,Hoja1!$A$50:$C$63,3),\"\")","v":15}]
[2596,20259910051354,"2025-03-28","Persona natural","Virtual - Correo electrónico","Certificación de tiempo, clima y eventos hidrológicos","Certificaciones del tiempo y clima",null,"Subdirección de Meteorología",null,null,"2025-05-14",null,"",null,{"$f":"IFERROR(WORKDAY(N2606,Y2606,Hoja1!F2598:F2714),\"\")","v":""},"",null,{"$f":"+IF(C2606=\"\",\"\",IF(J2606=\"\",\"SIN RESPUESTA\",(IF(J2606<=L2606,\"A TIEMPO\",\"FUERA DE TIEMPO\"))))","v":"SIN RESPUESTA"},0,0,null,null,{"$f":"IFERROR(VLOOKUP(F2606,Hoja1!$A$50:$C$63,2),\"\")","v":15},{"$f":"IFERROR(VLOOKUP(F2606,Hoja1!$A$50:$C$63,3),\"\")","v":15}]
[2597,20259910051364,"2025-03-28","Persona jurídica","Virtual - Correo electrónico","Petición entre autoridades","Registros ambientales",null,"Subdirección de Estudios Ambientales","2025-04-10","Correo electrónico","2025-04-11",null,"",null,{"$f":"IFERROR(WORKDAY(N2607,Y2607,Hoja1!F2599:F2715),\"\")","v":""},"",null,"A TIEMPO",9,0,null,null,{"$f":"IFERROR(VLOOKUP(F2607,Hoja1!$A$50:$C$63,2),\"\")","v":10},{"$f":"IFERROR(VLOOKUP(F2607,Hoja1!$A$50:$C$63,3),\"\")","v":10}]
[2598,20259910051384,"2025-03-28","Persona jurídica","Virtual - Correo electrónico","Solicitud de documentos o información","Registros ambientales",null,"Subdirección de Estudios Ambientales","2025-04-10","Correo electrónico","2025-04-11",null,"",null,{"$f":"IFERROR(WORKDAY(N2608,Y2608,Hoja1!F2600:F2716),\"\")","v":""},"",null,"A TIEMPO",9,0,null,null,{"$f":"IFERROR(VLOOKUP(F2608,Hoja1!$A$50:$C$63,2),\"\")","v":5},{"$f":"IFERROR(VLOOKUP(F2608,Hoja1!$A$50:$C$63,3),\"\")","v":5}]
[2599,20259910051394,"2025-03-28","Persona natural","Virtual - Correo electrónico","Solicitud de documentos o información","Cambio climático",null,"Subdirección de Estudios Ambientales","2025-04-16","Correo electrónico","2025-04-11",null,"",null,{"$f":"IFERROR(WORKDAY(N2609,Y2609,Hoja1!F2601:F2717),\"\")","v":""},"",null,{"$f":"+IF(C2609=\"\",\"\",IF(J2609=\"\",\"SIN RESPUESTA\",(IF(J2609<=L2609,\"A TIEMPO\",\"FUERA DE TIEMPO\"))))","v":"FUERA DE TIEMPO"},13,3,null,null,{"$f":"IFERROR(VLOOKUP(F2609,Hoja1!$A$50:$C$63,2),\"\")","v":5},{"$f":"IFERROR(VLOOKUP(F2609,Hoja1!$A$50:$C$63,3),\"\")","v":5}]
[2600,20259910050824,"2025-03-28","Persona jurídica","Virtual - Correo electrónico","Solicitud de documentos o información","Registros ambientales",null,"Subdirección de Estudios Ambientales","2025-04-04","Correo electrónico","2025-04-11",null,"",null,{"$f":"IFERROR(WORKDAY(N2610,Y2610,Hoja1!F2602:F2718),\"\")","v":""},"",null,"A TIEMPO",5,0,null,null,{"$f":"IFERROR(VLOOKUP(F2610,Hoja1!$A$50:$C$63,2),\"\")","v":5},{"$f":"IFERROR(VLOOKUP(F2610,Hoja1!$A$50:$C$63,3),\"\")","v":5}]
[2601,20259050051494,"2025-03-28","Persona jurídica","Virtual - Formulario PQRSDF","Solicitud de documentos o información","Registros ambientales",null,"Subdirección de Estudios Ambientales","2025-04-10","Correo electrónico","2025-04-11",null,"",null,{"$f":"IFERROR(WORKDAY(N2611,Y2611,Hoja1!F2603:F2719),\"\")","v":""},"",null,"A TIEMPO",9,0,null,null,{"$f":"IFERROR(VLOOKUP(F2611,Hoja1!$A$50:$C$63,2),\"\")","v":5},{"$f":"IFERROR(VLOOKUP(F2611,Hoja1!$A$50:$C$63,3),\"\")","v":5}]
[2602,20259910051504,"2025-03-28","Persona jurídica","Virtual - Correo electrónico","Solicitud de documentos o información","Registros ambientales",null,"Subdirección de Estudios Ambientales","2025-04-10","Correo electrónico","2025-04-11",null,"",null,{"$f":"IFERROR(WORKDAY(N2612,Y2612,Hoja1!F2604:F2720),\"\")","v":""},"",null,"A TIEMPO",9,0,null,null,{"$f":"IFERROR(VLOOKUP(F2612,Hoja1!$A$50:$C$63,2),\"\")","v":5},{"$f":"IFERROR(VLOOKUP(F2612,Hoja1!$A$50:$C$63,3),\"\")","v":5}]
[2603,20259910051554,"2025-03-28","Persona natural","Virtual - Correo electrónico","Certificación laboral o pasantía","Administrativa",null,"Grupo de Administración y Desarrollo del Talento Humano","2025-04-04","Correo electrónico","2025-04-11",null,"",null,{"$f":"IFERROR(WORKDAY(N2613,Y2613,Hoja1!F2605:F2721),\"\")","v":""},"",null,"A TIEMPO",5,0,null,null,{"$f":"IFERROR(VLOOKUP(F2613,Hoja1!$A$50:$C$63,2),\"\")","v":15},{"$f":"IFERROR(VLOOKUP(F2613,Hoja1!$A$50:$C$63,3),\"\")","v":15}]
[2604,20259910051574,"2025-03-28","Persona jurídica","Virtual - Correo electrónico","Petición entre autoridades","Registros ambientales",null,"Subdirección de Estudios Ambientales","2025-04-10","Correo electrónico","2025-04-11",null,"",null,{"$f":"IFERROR(WORKDAY(N2614,Y2614,Hoja1!F2606:F2722),\"\")","v":""},"",null,"A TIEMPO",9,0,null,null,{"$f":"IFERROR(VLOOKUP(F2614,Hoja1!$A$50:$C$63,2),\"\")","v":10},{"$f":"IFERROR(VLOOKUP(F2614,Hoja1!$A$50:$C$63,3),\"\")","v":10}]
[2605,20259910051584,"2025-03-28","Persona jurídica","Virtual - Correo electrónico","Solicitud de documentos o información","Registros ambientales",null,"Subdirección de Estudios Ambientales","2025-04-10","Correo electrónico","2025-04-11",null,"",null,{"$f":"IFERROR(WORKDAY(N2615,Y2615,Hoja1!F2607:F2723),\"\")","v":""},"",null,"A TIEMPO",9,0,null,null,{"$f":"IFERROR(VLOOKUP(F2615,Hoja1!$A$50:$C$63,2),\"\")","v":5},{"$f":"IFERROR(VLOOKUP(F2615,Hoja1!$A$50:$C$63,3),\"\")","v":5}]
[2606,20259910051604,"2025-03-28","Persona jurídica","Virtual - Correo electrónico","Solicitud de documentos o información","Registros ambientales",null,"Subdirección de Estudios Ambientales","2025-04-10","Correo electrónico","2025-04-11",null,"",null,{"$f":"IFERROR(WORKDAY(N2616,Y2616,Hoja1!F2608:F2724),\"\")","v":""},"",null,"A TIEMPO",9,0,null,null,{"$f":"IFERROR(VLOOKUP(F2616,Hoja1!$A$50:$C$63,2),\"\")","v":5},{"$f":"IFERROR(VLOOKUP(F2616,Hoja1!$A$50:$C$63,3),\"\")","v":5}]
[2607,20259910051624,"2025-03-28","Persona jurídica","Virtual - Correo electrónico","Petición entre autoridades","Certificaciones del tiempo y clima",null,"Subdirección de Meteorología","2025-04-08","Correo electrónico","2025-04-11",null,"",null,{"$f":"IFERROR(WORKDAY(N2617,Y2617,Hoja1!F2609:F2725),\"\")","v":""},"",null,"A TIEMPO",7,0,null,null,{"$f":"IFERROR(VLOOKUP(F2617,Hoja1!$A$50:$C$63,2),\"\")","v":10},{"$f":"IFERROR(VLOOKUP(F2617,Hoja1!$A$50:$C$63,3),\"\")","v":10}]
[2608,20259910051644,"2025-03-28","Persona jurídica","Virtual - Correo electrónico","Solicitud de documentos o información","Registros ambientales",null,"Subdirección de Estudios Ambientales","2025-04-07","Correo electrónico","2025-04-11",null,"",null,{"$f":"IFERROR(WORKDAY(N2618,Y2618,Hoja1!F2610:F2726),\"\")","v":""},"",null,"A TIEMPO",6,0,null,null,{"$f":"IFERROR(VLOOKUP(F2618,Hoja1!$A$50:$C$63,2),\"\")","v":5},{"$f":"IFERROR(VLOOKUP(F2618,Hoja1!$A$50:$C$63,3),\"\")","v":5}]
[2609,20259910051654,"2025-03-28","Persona natural","Virtual - Correo electrónico","Solicitud de documentos o información","Sistema de información del recurso hídrico",null,"Subdirección de Hidrología","2025-04-08","Correo electrónico","2025-04-11",null,"",null,{"$f":"IFERROR(WORKDAY(N2619,Y2619,Hoja1!F2611:F2727),\"\")","v":""},"",null,"A TIEMPO",7,0,null,null,{"$f":"IFERROR(VLOOKUP(F2619,Hoja1!$A$50:$C$63,2),\"\")","v":5},{"$f":"IFERROR(VLOOKUP(F2619,Hoja1!$A$50:$C$63,3),\"\")","v":5}]
[2610,20259910051714,"2025-03-28","Persona natural","Virtual - Correo electrónico","Certificación de contrato","Administrativa",null,"Oficina Asesora Jurídica","2025-04-08","Correo electrónico","2025-04-11",null,"",null,{"$f":"IFERROR(WORKDAY(N2620,Y2620,Hoja1!F2612:F2728),\"\")","v":""},"",null,"A TIEMPO",7,0,null,null,{"$f":"IFERROR(VLOOKUP(F2620,Hoja1!$A$50:$C$63,2),\"\")","v":15},{"$f":"IFERROR(VLOOKUP(F2620,Hoja1!$A$50:$C$63,3),\"\")","v":15}]
[2611,20259910051724,"2025-03-28","Persona jurídica","Virtual - Correo electrónico","Petición entre autoridades","Registros ambientales",null,"Subdirección de Estudios Ambientales","2025-04-01","Correo electrónico","2025-04-11",null,"",null,{"$f":"IFERROR(WORKDAY(N2621,Y2621,Hoja1!F2613:F2729),\"\")","v":""},"",null,"A TIEMPO",2,0,null,null,{"$f":"IFERROR(VLOOKUP(F2621,Hoja1!$A$50:$C$63,2),\"\")","v":10},{"$f":"IFERROR(VLOOKUP(F2621,Hoja1!$A$50:$C$63,3),\"\")","v":10}]
[2612,20259050051744,"2025-03-28","Persona natural","Virtual - Formulario PQRSDF","Solicitud de documentos o información","Bosques",null,"Subdirección de Ecosistemas e Información Ambiental","2025-04-08","Correo electrónico","2025-04-11",null,"",null,{"$f":"IFERROR(WORKDAY(N2622,Y2622,Hoja1!F2614:F2730),\"\")","v":""},"",null,"A TIEMPO",7,0,null,null,{"$f":"IFERROR(VLOOKUP(F2622,Hoja1!$A$50:$C$63,2),\"\")","v":5},{"$f":"IFERROR(VLOOKUP(F2622,Hoja1!$A$50:$C$63,3),\"\")","v":5}]
[2613,20259050051794,"2025-03-28","Persona natural","Virtual - Formulario PQRSDF","Certificación laboral o pasantía","Administrativa",null,"Grupo de Administración y Desarrollo del Talento Humano","2025-04-04","Correo electrónico","2025-04-11",null,"",null,{"$f":"IFERROR(WORKDAY(N2623,Y2623,Hoja1!F2615:F2731),\"\")","v":""},"",null,"A TIEMPO",5,0,null,null,{"$f":"IFERROR(VLOOKUP(F2623,Hoja1!$A$50:$C$63,2),\"\")","v":15},{"$f":"IFERROR(VLOOKUP(F2623,Hoja1!$A$50:$C$63,3),\"\")","v":15}]
[2614,20259910051804,"2025-03-28","Persona jurídica","Virtual - Correo electrónico","Solicitud de documentos o información","Sistema de información del recurso hídrico",null,"Grupo de Servicio al Ciudadano","2025-04-07","Correo electrónico","2025-04-11",null,"",null,{"$f":"IFERROR(WORKDAY(N2624,Y2624,Hoja1!F2616:F2732),\"\")","v":""},"",null,"A TIEMPO",6,0,null,null,{"$f":"IFERROR(VLOOKUP(F2624,Hoja1!$A$50:$C$63,2),\"\")","v":5},{"$f":"IFERROR(VLOOKUP(F2624,Hoja1!$A$50:$C$63,3),\"\")","v":5}]
[2615,20259910051854,"2025-03-28","Persona jurídica","Virtual - Correo electrónico","Solicitud de documentos o información","Informes ambientales",null,"Subdirección de Estudios Ambientales","2025-04-07","Correo electrónico","2025-04-11",null,"",null,{"$f":"IFERROR(WORKDAY(N2625,Y2625,Hoja1!F2617:F2733),\"\")","v":""},"",null,"A TIEMPO",6,0,null,null,{"$f":"IFERROR(VLOOKUP(F2625,Hoja1!$A$50:$C$63,2),\"\")","v":5},{"$f":"IFERROR(VLOOKUP(F2625,Hoja1!$A$50:$C$63,3),\"\")","v":5}]
[2616,20259910051864,"2025-03-28","Persona jurídica","Virtual - Correo electrónico","Petición entre autoridades","Bosques",null,"Subdirección de Ecosistemas e Información Ambiental","2025-04-11","Correo electrónico","2025-04-11",null,"",null,{"$f":"IFERROR(WORKDAY(N2626,Y2626,Hoja1!F2618:F2734),\"\")","v":""},"",null,"A TIEMPO",10,0,null,null,{"$f":"IFERROR(VLOOKUP(F2626,Hoja1!$A$50:$C$63,2),\"\")","v":10},{"$f":"IFERROR(VLOOKUP(F2626,Hoja1!$A$50:$C$63,3),\"\")","v":10}]
[2617,20259910051874,"2025-03-28","Persona natural","Virtual - Correo electrónico","Certificación de tiempo, clima y eventos hidrológicos","Certificaciones del tiempo y clima",null,"Subdirección de Meteorología","2025-04-08","Correo electrónico","2025-05-14",null,"",null,{"$f":"IFERROR(WORKDAY(N2627,Y2627,Hoja1!F2619:F2735),\"\")","v":""},"",null,"A TIEMPO",7,0,null,null,{"$f":"IFERROR(VLOOKUP(F2627,Hoja1!$A$50:$C$63,2),\"\")","v":15},{"$f":"IFERROR(VLOOKUP(F2627,Hoja1!$A$50:$C$63,3),\"\")","v":15}]
[2618,20259910051884,"2025-03-28","Persona jurídica","Virtual - Correo electrónico","Solicitud de documentos o información","Registros ambientales",null,"Subdirección de Estudios Ambientales","2025-04-07","Correo electrónico","2025-04-11",null,"",null,{"$f":"IFERROR(WORKDAY(N2628,Y2628,Hoja1!F2620:F2736),\"\")","v":""},"",null,"A TIEMPO",6,0,null,null,{"$f":"IFERROR(VLOOKUP(F2628,Hoja1!$A$50:$C$63,2),\"\")","v":5},{"$f":"IFERROR(VLOOKUP(F2628,Hoja1!$A$50:$C$63,3),\"\")","v":5}]
[2619,20259050051944,"2025-03-30","Persona natural","Virtual - Formulario PQRSDF","Solicitud de documentos o información","Solicitud de información hidrometeorológica",null,"Grupo de Servicio al Ciudadano","2025-04-08","Correo electrónico","2025-04-11",null,"",null,{"$f":"IFERROR(WORKDAY(N2629,Y2629,Hoja1!F2621:F2737),\"\")","v":""},"",null,"A TIEMPO",6,0,null,null,{"$f":"IFERROR(VLOOKUP(F2629,Hoja1!$A$50:$C$63,2),\"\")","v":5},{"$f":"IFERROR(VLOOKUP(F2629,Hoja1!$A$50:$C$63,3),\"\")","v":5}]
[2620,20259050051894,"2025-03-28","Persona natural","Virtual - Formulario PQRSDF","Solicitud de documentos o información","Solicitud de información hidrometeorológica",null,"Subdirección de Meteorología","2025-04-04","Correo electrónico","2025-04-11",null,"",null,{"$f":"IFERROR(WORKDAY(N2630,Y2630,Hoja1!F2622:F2738),\"\")","v":""},"",null,"A TIEMPO",5,0,null,null,{"$f":"IFERROR(VLOOKUP(F2630,Hoja1!$A$50:$C$63,2),\"\")","v":5},{"$f":"IFERROR(VLOOKUP(F2630,Hoja1!$A$50:$C$63,3),\"\")","v":5}]
[2621,20259050051904,"2025-03-28","Persona jurídica","Virtual - Formulario PQRSDF","Solicitud de documentos o información","Registros ambientales",null,"Subdirección de Estudios Ambientales","2025-04-11","Correo electrónico","2025-04-11",null,"",null,{"$f":"IFERROR(WORKDAY(N2631,Y2631,Hoja1!F2623:F2739),\"\")","v":""},"",null,"A TIEMPO",10,0,null,null,{"$f":"IFERROR(VLOOKUP(F2631,Hoja1!$A$50:$C$63,2),\"\")","v":5},{"$f":"IFERROR(VLOOKUP(F2631,Hoja1!$A$50:$C$63,3),\"\")","v":5}]
[2622,20259050051914,"2025-03-29","Persona jurídica","Virtual - Formulario PQRSDF","Solicitud de documentos o información","Registros ambientales",null,"Subdirección de Estudios Ambientales","2025-04-11","Correo electrónico","2025-04-11",null,"",null,{"$f":"IFERROR(WORKDAY(N2632,Y2632,Hoja1!F2624:F2740),\"\")","v":""},"",null,"A TIEMPO",9,0,null,null,{"$f":"IFERROR(VLOOKUP(F2632,Hoja1!$A$50:$C$63,2),\"\")","v":5},{"$f":"IFERROR(VLOOKUP(F2632,Hoja1!$A$50:$C$63,3),\"\")","v":5}]
[2623,20259050051924,"2025-03-29","Persona natural","Virtual - Formulario PQRSDF","Solicitud de documentos o información","Sistema de información del recurso hídrico",null,"Subdirección de Meteorología","2025-04-08","Correo electrónico","2025-04-11",null,"",null,{"$f":"IFERROR(WORKDAY(N2633,Y2633,Hoja1!F2625:F2741),\"\")","v":""},"",null,"A TIEMPO",6,0,null,null,{"$f":"IFERROR(VLOOKUP(F2633,Hoja1!$A$50:$C$63,2),\"\")","v":5},{"$f":"IFERROR(VLOOKUP(F2633,Hoja1!$A$50:$C$63,3),\"\")","v":5}]
[2624,20259050051954,"2025-03-30","Persona natural","Virtual - Formulario PQRSDF","Solicitud de documentos o información","Administrativa",null,"Grupo de Administración y Desarrollo del Talento Humano","2025-04-09","Correo electrónico","2025-04-11",null,"",null,{"$f":"IFERROR(WORKDAY(N2634,Y2634,Hoja1!F2626:F2742),\"\")","v":""},{"$f":"+IF(N2634=\"\",\"\",IF(O2634=\"\",\"SIN RESPUESTA\",(IF(O2634<=P2634,\"A TIEMPO\",\"FUERA DE TIEMPO\"))))","v":""},null,"A TIEMPO",7,0,null,null,{"$f":"IFERROR(VLOOKUP(F2634,Hoja1!$A$50:$C$63,2),\"\")","v":5},{"$f":"IFERROR(VLOOKUP(F2634,Hoja1!$A$50:$C$63,3),\"\")","v":5}]
[2625,20259050051994,"2025-03-30","Anónimo","Virtual - Formulario PQRSDF","Solicitud de documentos o información","Solicitud de información hidrometeorológica",null,"Subdirección de Meteorología","2025-04-10","Página web","2025-04-11",null,"",null,{"$f":"IFERROR(WORKDAY(N2635,Y2635,Hoja1!F2627:F2743),\"\")","v":""},"",null,"A TIEMPO",8,0,null,null,{"$f":"IFERROR(VLOOKUP(F2635,Hoja1!$A$50:$C$63,2),\"\")","v":5},{"$f":"IFERROR(VLOOKUP(F2635,Hoja1!$A$50:$C$63,3),\"\")","v":5}]
[2626,20259050052004,"2025-03-30","Persona jurídica","Virtual - Formulario PQRSDF","Solicitud de documentos o información","Registros ambientales",null,"Subdirección de Estudios Ambientales","2025-04-11","Correo electrónico","2025-04-11",null,"",null,{"$f":"IFERROR(WORKDAY(N2636,Y2636,Hoja1!F2628:F2744),\"\")","v":""},"",null,"A TIEMPO",9,0,null,null,{"$f":"IFERROR(VLOOKUP(F2636,Hoja1!$A$50:$C$63,2),\"\")","v":5},{"$f":"IFERROR(VLOOKUP(F2636,Hoja1!$A$50:$C$63,3),\"\")","v":5}]
[2627,20259050052104,"2025-03-31","Persona natural","Virtual - Formulario PQRSDF","Solicitud de documentos o información","Solicitud de información hidrometeorológica",null,"Grupo de Servicio al Ciudadano","2025-04-08","Correo electrónico","2025-04-14",null,"",null,{"$f":"IFERROR(WORKDAY(N2637,Y2637,Hoja1!F2629:F2745),\"\")","v":""},"",null,"A TIEMPO",6,0,null,null,{"$f":"IFERROR(VLOOKUP(F2637,Hoja1!$A$50:$C$63,2),\"\")","v":5},{"$f":"IFERROR(VLOOKUP(F2637,Hoja1!$A$50:$C$63,3),\"\")","v":5}]
[2628,20259050052094,"2025-03-31","Persona natural","Virtual - Formulario PQRSDF","Solicitud de documentos o información","Solicitud de información hidrometeorológica",null,"Subdirección de Meteorología","2025-04-02","Correo electrónico","2025-04-14",null,"",null,{"$f":"IFERROR(WORKDAY(N2638,Y2638,Hoja1!F2630:F2746),\"\")","v":""},"",null,"A TIEMPO",2,0,null,null,{"$f":"IFERROR(VLOOKUP(F2638,Hoja1!$A$50:$C$63,2),\"\")","v":5},{"$f":"IFERROR(VLOOKUP(F2638,Hoja1!$A$50:$C$63,3),\"\")","v":5}]
[2629,20259050052324,"2025-03-31","Persona jurídica","Virtual - Formulario PQRSDF","Solicitud de documentos o información","Registros ambientales",null,"Subdirección de Estudios Ambientales","2025-04-14","Correo electrónico","2025-04-14",null,"",null,{"$f":"IFERROR(WORKDAY(N2639,Y2639,Hoja1!F2631:F2747),\"\")","v":""},"",null,"A TIEMPO",10,0,null,null,{"$f":"IFERROR(VLOOKUP(F2639,Hoja1!$A$50:$C$63,2),\"\")","v":5},{"$f":"IFERROR(VLOOKUP(F2639,Hoja1!$A$50:$C$63,3),\"\")","v":5}]
[2630,20259910052344,"2025-03-31","Persona jurídica","Virtual - Correo electrónico","Solicitud de documentos o información","Registros ambientales",null,"Subdirección de Estudios Ambientales","2025-04-08","Correo electrónico","2025-04-14",null,"",null,{"$f":"IFERROR(WORKDAY(N2640,Y2640,Hoja1!F2632:F2748),\"\")","v":""},"",null,"A TIEMPO",6,0,null,null,{"$f":"IFERROR(VLOOKUP(F2640,Hoja1!$A$50:$C$63,2),\"\")","v":5},{"$f":"IFERROR(VLOOKUP(F2640,Hoja1!$A$50:$C$63,3),\"\")","v":5}]
[{"$f":"IF(B2641<>\"\",A2640+1,\"\")","v":2631},20259910052354,"2025-03-31","Persona natural","Virtual - Correo electrónico","Certificación laboral o pasantía","Administrativa",null,"Grupo de Administración y Desarrollo del Talento Humano","2025-04-04","Correo electrónico","2025-04-14",null,"",null,{"$f":"IFERROR(WORKDAY(N2641,Y2641,Hoja1!F2633:F2749),\"\")","v":""},"",null,"A TIEMPO",4,0,null,null,{"$f":"IFERROR(VLOOKUP(F2641,Hoja1!$A$50:$C$63,2),\"\")","v":15},{"$f":"IFERROR(VLOOKUP(F2641,Hoja1!$A$50:$C$63,3),\"\")","v":15}]
[2632,20259910052364,"2025-03-31","Persona jurídica","Virtual - Correo electrónico","Solicitud de documentos o información","Registros ambientales",null,"Subdirección de Estudios Ambientales","2025-04-04","Correo electrónico","2025-04-14",null,"",null,{"$f":"IFERROR(WORKDAY(N2642,Y2642,Hoja1!F2634:F2750),\"\")","v":""},"",null,"A TIEMPO",4,0,null,null,{"$f":"IFERROR(VLOOKUP(F2642,Hoja1!$A$50:$C$63,2),\"\")","v":5},{"$f":"IFERROR(VLOOKUP(F2642,Hoja1!$A$50:$C$63,3),\"\")","v":5}]
[2633,20259910052384,"2025-03-31","Persona natural","Virtual - Correo electrónico","Solicitud de documentos o información","Registros ambientales",null,"Subdirección de Estudios Ambientales","2025-04-11","Correo electrónico","2025-04-14",null,"",null,{"$f":"IFERROR(WORKDAY(N2643,Y2643,Hoja1!F2635:F2751),\"\")","v":""},"",null,"A TIEMPO",9,0,null,null,{"$f":"IFERROR(VLOOKUP(F2643,Hoja1!$A$50:$C$63,2),\"\")","v":5},{"$f":"IFERROR(VLOOKUP(F2643,Hoja1!$A$50:$C$63,3),\"\")","v":5}]
[2634,20259910052394,"2025-03-31","Persona jurídica","Virtual - Correo electrónico","Solicitud de documentos o información","Registros ambientales",null,"Subdirección de Estudios Ambientales","2025-04-11","Correo electrónico","2025-04-14",null,"",null,{"$f":"IFERROR(WORKDAY(N2644,Y2644,Hoja1!F2636:F2752),\"\")","v":""},"",null,"A TIEMPO",9,0,null,null,{"$f":"IFERROR(VLOOKUP(F2644,Hoja1!$A$50:$C$63,2),\"\")","v":5},{"$f":"IFERROR(VLOOKUP(F2644,Hoja1!$A$50:$C$63,3),\"\")","v":5}]
[2635,20259910052414,"2025-03-31","Persona jurídica","Virtual - Correo electrónico","Solicitud de documentos o información","Registros ambientales",null,"Subdirección de Estudios Ambientales","2025-04-11","Correo electrónico","2025-04-14",null,"",null,{"$f":"IFERROR(WORKDAY(N2645,Y2645,Hoja1!F2637:F2753),\"\")","v":""},"",null,"A TIEMPO",9,0,null,null,{"$f":"IFERROR(VLOOKUP(F2645,Hoja1!$A$50:$C$63,2),\"\")","v":5},{"$f":"IFERROR(VLOOKUP(F2645,Hoja1!$A$50:$C$63,3),\"\")","v":5}]
[2636,20259910052444,"2025-03-31","Persona natural","Virtual - Correo electrónico","Certificación laboral o pasantía","Administrativa",null,"Grupo de Administración y Desarrollo del Talento Humano","2025-04-04","Correo electrónico","2025-04-14",null,"",null,{"$f":"IFERROR(WORKDAY(N2646,Y2646,Hoja1!F2638:F2754),\"\")","v":""},"",null,"A TIEMPO",4,0,null,null,{"$f":"IFERROR(VLOOKUP(F2646,Hoja1!$A$50:$C$63,2),\"\")","v":15},{"$f":"IFERROR(VLOOKUP(F2646,Hoja1!$A$50:$C$63,3),\"\")","v":15}]
[2637,20259910052464,"2025-03-31","Persona natural","Virtual - Correo electrónico","Solicitud de documentos o información","Registros ambientales",null,"Subdirección de Estudios Ambientales","2025-04-11","Correo electrónico","2025-04-14",null,"",null,{"$f":"IFERROR(WORKDAY(N2647,Y2647,Hoja1!F2639:F2755),\"\")","v":""},"",null,"A TIEMPO",9,0,null,null,{"$f":"IFERROR(VLOOKUP(F2647,Hoja1!$A$50:$C$63,2),\"\")","v":5},{"$f":"IFERROR(VLOOKUP(F2647,Hoja1!$A$50:$C$63,3),\"\")","v":5}]
[2638,20259910052474,"2025-03-31","Persona natural","Virtual - Correo electrónico","Solicitud de documentos o información","Solicitud de información hidrometeorológica",null,"Grupo de Servicio al Ciudadano","2025-04-08","Correo electrónico","2025-04-14",null,"",null,{"$f":"IFERROR(WORKDAY(N2648,Y2648,Hoja1!F2640:F2756),\"\")","v":""},"",null,"A TIEMPO",6,0,null,null,{"$f":"IFERROR(VLOOKUP(F2648,Hoja1!$A$50:$C$63,2),\"\")","v":5},{"$f":"IFERROR(VLOOKUP(F2648,Hoja1!$A$50:$C$63,3),\"\")","v":5}]
[2639,20259910052494,"2025-03-31","Persona natural","Virtual - Correo electrónico","Certificación laboral o pasantía","Administrativa",null,"Grupo de Administración y Desarrollo del Talento Humano","2025-04-04","Correo electrónico","2025-04-14",null,"",null,{"$f":"IFERROR(WORKDAY(N2649,Y2649,Hoja1!F2641:F2757),\"\")","v":""},"",null,"A TIEMPO",4,0,null,null,{"$f":"IFERROR(VLOOKUP(F2649,Hoja1!$A$50:$C$63,2),\"\")","v":15},{"$f":"IFERROR(VLOOKUP(F2649,Hoja1!$A$50:$C$63,3),\"\")","v":15}]
[2640,20259910052504,"2025-03-31","Persona jurídica","Virtual - Correo electrónico","Solicitud de documentos o información","Registros ambientales",null,"Subdirección de Estudios Ambientales","2025-04-14","Correo electrónico","2025-04-14",null,"",null,{"$f":"IFERROR(WORKDAY(N2650,Y2650,Hoja1!F2642:F2758),\"\")","v":""},"",null,"A TIEMPO",10,0,null,null,{"$f":"IFERROR(VLOOKUP(F2650,Hoja1!$A$50:$C$63,2),\"\")","v":5},{"$f":"IFERROR(VLOOKUP(F2650,Hoja1!$A$50:$C$63,3),\"\")","v":5}]
[2641,20259910052514,"2025-03-31","Persona jurídica","Virtual - Correo electrónico","Solicitud de documentos o información","Registros ambientales",null,"Subdirección de Estudios Ambientales","2025-04-14","Correo electrónico","2025-04-14",null,"",null,{"$f":"IFERROR(WORKDAY(N2651,Y2651,Hoja1!F2643:F2759),\"\")","v":""},"",null,"A TIEMPO",10,0,null,null,{"$f":"IFERROR(VLOOKUP(F2651,Hoja1!$A$50:$C$63,2),\"\")","v":5},{"$f":"IFERROR(VLOOKUP(F2651,Hoja1!$A$50:$C$63,3),\"\")","v":5}]
[2642,20259910052524,"2025-03-31","Persona jurídica","Virtual - Correo electrónico","Petición entre entidades","Registros ambientales",null,"Subdirección de Estudios Ambientales","2025-04-14","Correo electrónico","2025-04-14",null,"",null,{"$f":"IFERROR(WORKDAY(N2652,Y2652,Hoja1!F2644:F2760),\"\")","v":""},"",null,"A TIEMPO",10,0,null,null,{"$f":"IFERROR(VLOOKUP(F2652,Hoja1!$A$50:$C$63,2),\"\")","v":10},{"$f":"IFERROR(VLOOKUP(F2652,Hoja1!$A$50:$C$63,3),\"\")","v":10}]
[2643,20259050052554,"2025-03-31","Persona jurídica","Virtual - Formulario PQRSDF","Solicitud de documentos o información","Registros ambientales",null,"Subdirección de Estudios Ambientales","2025-04-07","Correo electrónico","2025-04-14",null,"",null,{"$f":"IFERROR(WORKDAY(N2653,Y2653,Hoja1!F2645:F2761),\"\")","v":""},"",null,"A TIEMPO",5,0,null,null,{"$f":"IFERROR(VLOOKUP(F2653,Hoja1!$A$50:$C$63,2),\"\")","v":5},{"$f":"IFERROR(VLOOKUP(F2653,Hoja1!$A$50:$C$63,3),\"\")","v":5}]
[2644,20259910052484,"2025-03-31","Persona natural","Virtual - Correo electrónico","Solicitud de documentos o información","Administrativa",null,"Grupo de Administración y Desarrollo del Talento Humano","2025-04-15","Correo electrónico","2025-04-14",null,"",null,{"$f":"IFERROR(WORKDAY(N2654,Y2654,Hoja1!F2646:F2762),\"\")","v":""},"",null,{"$f":"+IF(C2654=\"\",\"\",IF(J2654=\"\",\"SIN RESPUESTA\",(IF(J2654<=L2654,\"A TIEMPO\",\"FUERA DE TIEMPO\"))))","v":"FUERA DE TIEMPO"},11,1,null,null,{"$f":"IFERROR(VLOOKUP(F2654,Hoja1!$A$50:$C$63,2),\"\")","v":5},{"$f":"IFERROR(VLOOKUP(F2654,Hoja1!$A$50:$C$63,3),\"\")","v":5}]
[2645,20259910052584,"2025-03-31","Persona jurídica","Virtual - Correo electrónico","Solicitud de documentos o información","Administrativa",null,"Oficina Asesora de Planeación","2025-04-03","Correo certificado","2025-04-14",null,"",null,{"$f":"IFERROR(WORKDAY(N2655,Y2655,Hoja1!F2647:F2763),\"\")","v":""},"",null,"A TIEMPO",3,0,null,null,{"$f":"IFERROR(VLOOKUP(F2655,Hoja1!$A$50:$C$63,2),\"\")","v":5},{"$f":"IFERROR(VLOOKUP(F2655,Hoja1!$A$50:$C$63,3),\"\")","v":5}]
[2646,20259910052594,"2025-03-31","Persona jurídica","Virtual - Correo electrónico","Solicitud de documentos o información","Registros ambientales",null,"Subdirección de Estudios Ambientales","2025-04-11","Correo electrónico","2025-04-14",null,"",null,{"$f":"IFERROR(WORKDAY(N2656,Y2656,Hoja1!F2648:F2764),\"\")","v":""},"",null,"A TIEMPO",9,0,null,null,{"$f":"IFERROR(VLOOKUP(F2656,Hoja1!$A$50:$C$63,2),\"\")","v":5},{"$f":"IFERROR(VLOOKUP(F2656,Hoja1!$A$50:$C$63,3),\"\")","v":5}]
[2647,20259910052614,"2025-03-31","Persona natural","Virtual - Correo electrónico","Solicitud de documentos o información","Registros ambientales",null,"Subdirección de Estudios Ambientales","2025-04-07","Correo electrónico","2025-04-14",null,"",null,{"$f":"IFERROR(WORKDAY(N2657,Y2657,Hoja1!F2649:F2765),\"\")","v":""},"",null,"A TIEMPO",5,0,null,null,{"$f":"IFERROR(VLOOKUP(F2657,Hoja1!$A$50:$C$63,2),\"\")","v":5},{"$f":"IFERROR(VLOOKUP(F2657,Hoja1!$A$50:$C$63,3),\"\")","v":5}]
[2648,20259910052624,"2025-03-31","Persona jurídica","Virtual - Correo electrónico","Petición de interés general o particular","Bosques",null,"Subdirección de Ecosistemas e Información Ambiental","2025-04-01","No aplica","2025-04-23",null,"",null,{"$f":"IFERROR(WORKDAY(N2658,Y2658,Hoja1!F2650:F2766),\"\")","v":""},"",null,"A TIEMPO",1,0,null,null,{"$f":"IFERROR(VLOOKUP(F2658,Hoja1!$A$50:$C$63,2),\"\")","v":15},{"$f":"IFERROR(VLOOKUP(F2658,Hoja1!$A$50:$C$63,3),\"\")","v":15}]
[2649,20259910052644,"2025-03-31","Persona natural","Virtual - Correo electrónico","Solicitud de documentos o información","Sistema de información del recurso hídrico",null,"Grupo de Servicio al Ciudadano","2025-04-03","Correo electrónico","2025-04-14",null,"",null,{"$f":"IFERROR(WORKDAY(N2659,Y2659,Hoja1!F2651:F2767),\"\")","v":""},"",null,"A TIEMPO",3,0,null,null,{"$f":"IFERROR(VLOOKUP(F2659,Hoja1!$A$50:$C$63,2),\"\")","v":5},{"$f":"IFERROR(VLOOKUP(F2659,Hoja1!$A$50:$C$63,3),\"\")","v":5}]
[2650,20259910052664,"2025-03-31","Persona jurídica","Virtual - Correo electrónico","Solicitud de documentos o información","Registros ambientales",null,"Subdirección de Estudios Ambientales","2025-04-11","Correo electrónico","2025-04-14",null,"",null,{"$f":"IFERROR(WORKDAY(N2660,Y2660,Hoja1!F2652:F2768),\"\")","v":""},"",null,"A TIEMPO",9,0,null,null,{"$f":"IFERROR(VLOOKUP(F2660,Hoja1!$A$50:$C$63,2),\"\")","v":5},{"$f":"IFERROR(VLOOKUP(F2660,Hoja1!$A$50:$C$63,3),\"\")","v":5}]
[2651,20259910052674,"2025-03-31","Persona jurídica","Virtual - Correo electrónico","Solicitud de documentos o información","Sistema de información ambiental",null,"Subdirección de Hidrología","2025-04-08","Correo electrónico","2025-04-14",null,"",null,{"$f":"IFERROR(WORKDAY(N2661,Y2661,Hoja1!F2653:F2769),\"\")","v":""},"",null,"A TIEMPO",6,0,null,null,{"$f":"IFERROR(VLOOKUP(F2661,Hoja1!$A$50:$C$63,2),\"\")","v":5},{"$f":"IFERROR(VLOOKUP(F2661,Hoja1!$A$50:$C$63,3),\"\")","v":5}]
[2652,20259910052694,"2025-03-31","Persona jurídica","Virtual - Correo electrónico","Solicitud de documentos o información","Registros ambientales",null,"Subdirección de Estudios Ambientales","2025-04-14","Correo electrónico","2025-04-14",null,"",null,{"$f":"IFERROR(WORKDAY(N2662,Y2662,Hoja1!F2654:F2770),\"\")","v":""},"",null,"A TIEMPO",10,0,null,null,{"$f":"IFERROR(VLOOKUP(F2662,Hoja1!$A$50:$C$63,2),\"\")","v":5},{"$f":"IFERROR(VLOOKUP(F2662,Hoja1!$A$50:$C$63,3),\"\")","v":5}]
[2653,20259910052714,"2025-03-31","Persona natural","Virtual - Correo electrónico","Certificación laboral o pasantía","Administrativa",null,"Grupo de Administración y Desarrollo del Talento Humano","2025-04-04","Correo electrónico","2025-04-14",null,"",null,{"$f":"IFERROR(WORKDAY(N2663,Y2663,Hoja1!F2655:F2771),\"\")","v":""},"",null,"A TIEMPO",4,0,null,null,{"$f":"IFERROR(VLOOKUP(F2663,Hoja1!$A$50:$C$63,2),\"\")","v":15},{"$f":"IFERROR(VLOOKUP(F2663,Hoja1!$A$50:$C$63,3),\"\")","v":15}]
[2654,20259910052724,"2025-03-31","Persona jurídica","Virtual - Correo electrónico","Solicitud judicial","Certificaciones del tiempo y clima",null,"Subdirección de Meteorología","2025-04-02","Correo electrónico","2025-04-07",null,"",null,{"$f":"IFERROR(WORKDAY(N2664,Y2664,Hoja1!F2656:F2772),\"\")","v":""},"",null,"A TIEMPO",2,0,null,null,{"$f":"IFERROR(VLOOKUP(F2664,Hoja1!$A$50:$C$63,2),\"\")","v":5},{"$f":"IFERROR(VLOOKUP(F2664,Hoja1!$A$50:$C$63,3),\"\")","v":5}]
[2655,20259910052754,"2025-03-31","Persona natural","Virtual - Correo electrónico","Certificación laboral o pasantía","Administrativa",null,"Grupo de Administración y Desarrollo del Talento Humano","2025-04-04","Correo electrónico","2025-04-14",null,"",null,{"$f":"IFERROR(WORKDAY(N2665,Y2665,Hoja1!F2657:F2773),\"\")","v":""},"",null,"A TIEMPO",4,0,null,null,{"$f":"IFERROR(VLOOKUP(F2665,Hoja1!$A$50:$C$63,2),\"\")","v":15},{"$f":"IFERROR(VLOOKUP(F2665,Hoja1!$A$50:$C$63,3),\"\")","v":15}]
[2656,20259910052764,"2025-03-31","Persona natural","Virtual - Correo electrónico","Solicitud de documentos o información","Registros ambientales",null,"Subdirección de Estudios Ambientales","2025-04-11","Correo electrónico","2025-04-14",null,"",null,{"$f":"IFERROR(WORKDAY(N2666,Y2666,Hoja1!F2658:F2774),\"\")","v":""},"",null,"A TIEMPO",9,0,null,null,{"$f":"IFERROR(VLOOKUP(F2666,Hoja1!$A$50:$C$63,2),\"\")","v":5},{"$f":"IFERROR(VLOOKUP(F2666,Hoja1!$A$50:$C$63,3),\"\")","v":5}]
[2657,20259910052794,"2025-03-31","Persona jurídica","Virtual - Correo electrónico","Solicitud de documentos o información","Registros ambientales",null,"Subdirección de Estudios Ambientales","2025-04-11","Correo electrónico","2025-04-14",null,"",null,{"$f":"IFERROR(WORKDAY(N2667,Y2667,Hoja1!F2659:F2775),\"\")","v":""},"",null,"A TIEMPO",9,0,null,null,{"$f":"IFERROR(VLOOKUP(F2667,Hoja1!$A$50:$C$63,2),\"\")","v":5},{"$f":"IFERROR(VLOOKUP(F2667,Hoja1!$A$50:$C$63,3),\"\")","v":5}]
[2658,20259050052804,"2025-03-31","Persona jurídica","Virtual - Formulario PQRSDF","Solicitud de documentos o información","Solicitud de información hidrometeorológica",null,"Subdirección de Meteorología","2025-04-08","Correo electrónico","2025-04-14",null,"",null,{"$f":"IFERROR(WORKDAY(N2668,Y2668,Hoja1!F2660:F2776),\"\")","v":""},"",null,"A TIEMPO",6,0,null,null,{"$f":"IFERROR(VLOOKUP(F2668,Hoja1!$A$50:$C$63,2),\"\")","v":5},{"$f":"IFERROR(VLOOKUP(F2668,Hoja1!$A$50:$C$63,3),\"\")","v":5}]
[2659,20259910052814,"2025-03-31","Persona natural","Virtual - Correo electrónico","Solicitud de documentos o información","Solicitud de información hidrometeorológica",null,"Grupo de Servicio al Ciudadano","2025-04-08","Correo electrónico","2025-04-14",null,"",null,{"$f":"IFERROR(WORKDAY(N2669,Y2669,Hoja1!F2661:F2777),\"\")","v":""},"",null,"A TIEMPO",6,0,null,null,{"$f":"IFERROR(VLOOKUP(F2669,Hoja1!$A$50:$C$63,2),\"\")","v":5},{"$f":"IFERROR(VLOOKUP(F2669,Hoja1!$A$50:$C$63,3),\"\")","v":5}]
[2660,20259910052834,"2025-03-31","Persona jurídica","Virtual - Correo electrónico","Petición entre entidades","Registros ambientales",null,"Subdirección de Estudios Ambientales","2025-04-11","Correo electrónico","2025-04-14",null,"",null,{"$f":"IFERROR(WORKDAY(N2670,Y2670,Hoja1!F2662:F2778),\"\")","v":""},"",null,"A TIEMPO",9,0,null,null,{"$f":"IFERROR(VLOOKUP(F2670,Hoja1!$A$50:$C$63,2),\"\")","v":10},{"$f":"IFERROR(VLOOKUP(F2670,Hoja1!$A$50:$C$63,3),\"\")","v":10}]
[2661,20259910052844,"2025-03-31","Persona jurídica","Virtual - Correo electrónico","Solicitud de documentos o información","Registros ambientales",null,"Subdirección de Estudios Ambientales","2025-04-08","Correo electrónico","2025-04-14",null,"",null,{"$f":"IFERROR(WORKDAY(N2671,Y2671,Hoja1!F2663:F2779),\"\")","v":""},"",null,"A TIEMPO",6,0,null,null,{"$f":"IFERROR(VLOOKUP(F2671,Hoja1!$A$50:$C$63,2),\"\")","v":5},{"$f":"IFERROR(VLOOKUP(F2671,Hoja1!$A$50:$C$63,3),\"\")","v":5}]
[2662,20259910052874,"2025-03-31","Persona jurídica","Virtual - Correo electrónico","Solicitud de documentos o información","Informes ambientales",null,"Subdirección de Estudios Ambientales","2025-04-11","Correo electrónico","2025-04-14",null,"",null,{"$f":"IFERROR(WORKDAY(N2672,Y2672,Hoja1!F2664:F2780),\"\")","v":""},"",null,"A TIEMPO",9,0,null,null,{"$f":"IFERROR(VLOOKUP(F2672,Hoja1!$A$50:$C$63,2),\"\")","v":5},{"$f":"IFERROR(VLOOKUP(F2672,Hoja1!$A$50:$C$63,3),\"\")","v":5}]
[2663,20259910052924,"2025-03-31","Persona jurídica","Virtual - Correo electrónico","Petición de interés general o particular","Registros ambientales",null,"Subdirección de Estudios Ambientales","2025-04-11","Correo electrónico","2025-04-23",null,"",null,{"$f":"IFERROR(WORKDAY(N2673,Y2673,Hoja1!F2665:F2781),\"\")","v":""},"",null,"A TIEMPO",9,0,null,null,{"$f":"IFERROR(VLOOKUP(F2673,Hoja1!$A$50:$C$63,2),\"\")","v":15},{"$f":"IFERROR(VLOOKUP(F2673,Hoja1!$A$50:$C$63,3),\"\")","v":15}]
[2664,20259910052944,"2025-03-31","Persona natural","Virtual - Correo electrónico","Solicitud de documentos o información","Administrativa",null,"Dirección General","2025-04-15","Correo electrónico","2025-04-14",null,"",null,{"$f":"IFERROR(WORKDAY(N2674,Y2674,Hoja1!F2666:F2782),\"\")","v":""},"",null,{"$f":"+IF(C2674=\"\",\"\",IF(J2674=\"\",\"SIN RESPUESTA\",(IF(J2674<=L2674,\"A TIEMPO\",\"FUERA DE TIEMPO\"))))","v":"FUERA DE TIEMPO"},11,1,null,null,{"$f":"IFERROR(VLOOKUP(F2674,Hoja1!$A$50:$C$63,2),\"\")","v":5},{"$f":"IFERROR(VLOOKUP(F2674,Hoja1!$A$50:$C$63,3),\"\")","v":5}]
[2665,20259910052884,"2025-03-31","Persona natural","Virtual - Correo electrónico","Denuncia","Modelación hidrológica",null,"Subdirección de Hidrología","2025-04-30","Correo electrónico","2025-04-23",null,"",null,{"$f":"IFERROR(WORKDAY(N2675,Y2675,Hoja1!F2667:F2783),\"\")","v":""},"",null,{"$f":"+IF(C2675=\"\",\"\",IF(J2675=\"\",\"SIN RESPUESTA\",(IF(J2675<=L2675,\"A TIEMPO\",\"FUERA DE TIEMPO\"))))","v":"FUERA DE TIEMPO"},20,5,null,null,{"$f":"IFERROR(VLOOKUP(F2675,Hoja1!$A$50:$C$63,2),\"\")","v":15},{"$f":"IFERROR(VLOOKUP(F2675,Hoja1!$A$50:$C$63,3),\"\")","v":15}]
[2666,20259910052954,"2025-03-31","Persona jurídica","Virtual - Correo electrónico","Solicitud de documentos o información","Registros ambientales",null,"Subdirección de Estudios Ambientales","2025-04-08","Correo electrónico","2025-04-14",null,"",null,{"$f":"IFERROR(WORKDAY(N2676,Y2676,Hoja1!F2668:F2784),\"\")","v":""},"",null,"A TIEMPO",6,0,null,null,{"$f":"IFERROR(VLOOKUP(F2676,Hoja1!$A$50:$C$63,2),\"\")","v":5},{"$f":"IFERROR(VLOOKUP(F2676,Hoja1!$A$50:$C$63,3),\"\")","v":5}]
[2667,20259910052964,"2025-03-31","Persona jurídica","Virtual - Correo electrónico","Solicitud de documentos o información","Registros ambientales",null,"Subdirección de Estudios Ambientales","2025-04-08","Correo electrónico","2025-04-14",null,"",null,{"$f":"IFERROR(WORKDAY(N2677,Y2677,Hoja1!F2669:F2785),\"\")","v":""},"",null,"A TIEMPO",6,0,null,null,{"$f":"IFERROR(VLOOKUP(F2677,Hoja1!$A$50:$C$63,2),\"\")","v":5},{"$f":"IFERROR(VLOOKUP(F2677,Hoja1!$A$50:$C$63,3),\"\")","v":5}]
[2668,20259910052974,"2025-03-31","Persona jurídica","Virtual - Correo electrónico","Solicitud de documentos o información","Registros ambientales",null,"Subdirección de Estudios Ambientales","2025-04-22","Correo electrónico","2025-04-14",null,"",null,{"$f":"IFERROR(WORKDAY(N2678,Y2678,Hoja1!F2670:F2786),\"\")","v":""},"",null,{"$f":"+IF(C2678=\"\",\"\",IF(J2678=\"\",\"SIN RESPUESTA\",(IF(J2678<=L2678,\"A TIEMPO\",\"FUERA DE TIEMPO\"))))","v":"FUERA DE TIEMPO"},14,4,null,null,{"$f":"IFERROR(VLOOKUP(F2678,Hoja1!$A$50:$C$63,2),\"\")","v":5},{"$f":"IFERROR(VLOOKUP(F2678,Hoja1!$A$50:$C$63,3),\"\")","v":5}]
[2669,20259910052984,"2025-03-31","Persona natural","Virtual - Correo electrónico","Certificación de ingresos y retenciones","Administrativa",null,"Grupo de Tesorería","2025-04-01","Correo electrónico","2025-04-14",null,"",null,{"$f":"IFERROR(WORKDAY(N2679,Y2679,Hoja1!F2671:F2787),\"\")","v":""},"",null,"A TIEMPO",1,0,null,null,{"$f":"IFERROR(VLOOKUP(F2679,Hoja1!$A$50:$C$63,2),\"\")","v":15},{"$f":"IFERROR(VLOOKUP(F2679,Hoja1!$A$50:$C$63,3),\"\")","v":15}]
[2670,20259910052994,"2025-03-31","Persona jurídica","Virtual - Correo electrónico","Petición entre entidades","Registros ambientales",null,"Subdirección de Estudios Ambientales","2025-04-11","Correo electrónico","2025-04-14",null,"",null,{"$f":"IFERROR(WORKDAY(N2680,Y2680,Hoja1!F2672:F2788),\"\")","v":""},"",null,"A TIEMPO",9,0,null,null,{"$f":"IFERROR(VLOOKUP(F2680,Hoja1!$A$50:$C$63,2),\"\")","v":10},{"$f":"IFERROR(VLOOKUP(F2680,Hoja1!$A$50:$C$63,3),\"\")","v":10}]
[2671,20259910053004,"2025-03-31","Persona jurídica","Virtual - Correo electrónico","Petición entre autoridades","Modelación hidrológica",null,"Subdirección de Meteorología","2025-04-07","Correo electrónico","2025-04-14",null,"",null,{"$f":"IFERROR(WORKDAY(N2681,Y2681,Hoja1!F2673:F2789),\"\")","v":""},"",null,"A TIEMPO",5,0,null,null,{"$f":"IFERROR(VLOOKUP(F2681,Hoja1!$A$50:$C$63,2),\"\")","v":10},{"$f":"IFERROR(VLOOKUP(F2681,Hoja1!$A$50:$C$63,3),\"\")","v":10}]
[2672,20259910053044,"2025-03-31","Persona jurídica","Virtual - Correo electrónico","Solicitud de documentos o información","Registros ambientales",null,"Subdirección de Estudios Ambientales","2025-04-09","Correo electrónico","2025-04-14",null,"",null,{"$f":"IFERROR(WORKDAY(N2682,Y2682,Hoja1!F2674:F2790),\"\")","v":""},"",null,"A TIEMPO",7,0,null,null,{"$f":"IFERROR(VLOOKUP(F2682,Hoja1!$A$50:$C$63,2),\"\")","v":5},{"$f":"IFERROR(VLOOKUP(F2682,Hoja1!$A$50:$C$63,3),\"\")","v":5}]
[2673,20259910053144,"2025-03-31","Persona natural","Virtual - Correo electrónico","Solicitud de documentos o información","Solicitud de información hidrometeorológica",null,"Grupo de Servicio al Ciudadano","2025-04-08","Correo electrónico","2025-04-14",null,"",null,{"$f":"IFERROR(WORKDAY(N2683,Y2683,Hoja1!F2675:F2791),\"\")","v":""},"",null,"A TIEMPO",6,0,null,null,{"$f":"IFERROR(VLOOKUP(F2683,Hoja1!$A$50:$C$63,2),\"\")","v":5},{"$f":"IFERROR(VLOOKUP(F2683,Hoja1!$A$50:$C$63,3),\"\")","v":5}]
[2674,20259910053154,"2025-03-31","Persona natural","Virtual - Correo electrónico","Certificación laboral o pasantía","Administrativa",null,"Grupo de Administración y Desarrollo del Talento Humano","2025-04-04","Correo electrónico","2025-04-14",null,"",null,{"$f":"IFERROR(WORKDAY(N2684,Y2684,Hoja1!F2676:F2792),\"\")","v":""},"",null,"A TIEMPO",4,0,null,null,{"$f":"IFERROR(VLOOKUP(F2684,Hoja1!$A$50:$C$63,2),\"\")","v":15},{"$f":"IFERROR(VLOOKUP(F2684,Hoja1!$A$50:$C$63,3),\"\")","v":15}]
[2675,20259910053064,"2025-03-31","Persona jurídica","Virtual - Correo electrónico","Certificación de tiempo, clima y eventos hidrológicos","Certificaciones del tiempo y clima",null,"Subdirección de Meteorología",null,null,"2025-05-15",null,"",null,{"$f":"IFERROR(WORKDAY(N2685,Y2685,Hoja1!F2677:F2793),\"\")","v":""},"",null,{"$f":"+IF(C2685=\"\",\"\",IF(J2685=\"\",\"SIN RESPUESTA\",(IF(J2685<=L2685,\"A TIEMPO\",\"FUERA DE TIEMPO\"))))","v":"SIN RESPUESTA"},0,0,null,null,{"$f":"IFERROR(VLOOKUP(F2685,Hoja1!$A$50:$C$63,2),\"\")","v":15},{"$f":"IFERROR(VLOOKUP(F2685,Hoja1!$A$50:$C$63,3),\"\")","v":15}]
[2676,20259910053134,"2025-03-31","Persona natural","Virtual - Correo electrónico","Certificación electrónica de tiempos laborados - CETIL","Administrativa",null,"Grupo de Administración y Desarrollo del Talento Humano","2025-04-30","Correo electrónico","2025-04-23",null,"",null,{"$f":"IFERROR(WORKDAY(N2686,Y2686,Hoja1!F2678:F2794),\"\")","v":""},"",null,{"$f":"+IF(C2686=\"\",\"\",IF(J2686=\"\",\"SIN RESPUESTA\",(IF(J2686<=L2686,\"A TIEMPO\",\"FUERA DE TIEMPO\"))))","v":"FUERA DE TIEMPO"},20,5,null,null,{"$f":"IFERROR(VLOOKUP(F2686,Hoja1!$A$50:$C$63,2),\"\")","v":15},{"$f":"IFERROR(VLOOKUP(F2686,Hoja1!$A$50:$C$63,3),\"\")","v":15}]
[2677,20259910053074,"2025-03-31","Persona jurídica","Virtual - Correo electrónico","Petición entre entidades","Registros ambientales",null,"Subdirección de Estudios Ambientales","2025-04-07","Correo electrónico","2025-04-14",null,"",null,{"$f":"IFERROR(WORKDAY(N2687,Y2687,Hoja1!F2679:F2795),\"\")","v":""},"",null,"A TIEMPO",5,0,null,null,{"$f":"IFERROR(VLOOKUP(F2687,Hoja1!$A$50:$C$63,2),\"\")","v":10},{"$f":"IFERROR(VLOOKUP(F2687,Hoja1!$A$50:$C$63,3),\"\")","v":10}]
[2678,20259910053094,"2025-03-31","Persona jurídica","Virtual - Correo electrónico","Petición entre entidades","Registros ambientales",null,"Subdirección de Estudios Ambientales","2025-04-08","Correo electrónico","2025-04-14",null,"",null,{"$f":"IFERROR(WORKDAY(N2688,Y2688,Hoja1!F2680:F2796),\"\")","v":""},"",null,"A TIEMPO",6,0,null,null,{"$f":"IFERROR(VLOOKUP(F2688,Hoja1!$A$50:$C$63,2),\"\")","v":10},{"$f":"IFERROR(VLOOKUP(F2688,Hoja1!$A$50:$C$63,3),\"\")","v":10}]
[2679,20259910053104,"2025-03-31","Persona jurídica","Virtual - Correo electrónico","Solicitud de documentos o información","Registros ambientales",null,"Subdirección de Estudios Ambientales","2025-04-11","Correo electrónico","2025-04-14",null,"",null,{"$f":"IFERROR(WORKDAY(N2689,Y2689,Hoja1!F2681:F2797),\"\")","v":""},"",null,"A TIEMPO",9,0,null,null,{"$f":"IFERROR(VLOOKUP(F2689,Hoja1!$A$50:$C$63,2),\"\")","v":5},{"$f":"IFERROR(VLOOKUP(F2689,Hoja1!$A$50:$C$63,3),\"\")","v":5}]
[2680,20259910053114,"2025-03-31","Persona jurídica","Virtual - Correo electrónico","Solicitud de documentos o información","Registros ambientales",null,"Subdirección de Estudios Ambientales","2025-04-11","Correo electrónico","2025-04-14",null,"",null,{"$f":"IFERROR(WORKDAY(N2690,Y2690,Hoja1!F2682:F2798),\"\")","v":""},"",null,"A TIEMPO",9,0,null,null,{"$f":"IFERROR(VLOOKUP(F2690,Hoja1!$A$50:$C$63,2),\"\")","v":5},{"$f":"IFERROR(VLOOKUP(F2690,Hoja1!$A$50:$C$63,3),\"\")","v":5}]
[2681,20259910053174,"2025-03-31","Persona jurídica","Virtual - Correo electrónico","Solicitud de documentos o información","Registros ambientales",null,"Subdirección de Estudios Ambientales","2025-04-11","Correo electrónico","2025-04-14",null,"",null,{"$f":"IFERROR(WORKDAY(N2691,Y2691,Hoja1!F2683:F2799),\"\")","v":""},"",null,"A TIEMPO",9,0,null,null,{"$f":"IFERROR(VLOOKUP(F2691,Hoja1!$A$50:$C$63,2),\"\")","v":5},{"$f":"IFERROR(VLOOKUP(F2691,Hoja1!$A$50:$C$63,3),\"\")","v":5}]
[2682,20259910053124,"2025-03-31","Persona jurídica","Virtual - Correo electrónico","Solicitud de documentos o información","Registros ambientales",null,"Subdirección de Estudios Ambientales","2025-04-14","Correo electrónico","2025-04-14",null,"",null,{"$f":"IFERROR(WORKDAY(N2692,Y2692,Hoja1!F2684:F2800),\"\")","v":""},"",null,"A TIEMPO",10,0,null,null,{"$f":"IFERROR(VLOOKUP(F2692,Hoja1!$A$50:$C$63,2),\"\")","v":5},{"$f":"IFERROR(VLOOKUP(F2692,Hoja1!$A$50:$C$63,3),\"\")","v":5}]
[2683,20259910053164,"2025-03-31","Persona jurídica","Virtual - Correo electrónico","Petición entre autoridades","Bosques",null,"Subdirección de Ecosistemas e Información Ambiental","2025-04-11","Correo electrónico","2025-04-14",null,"",null,{"$f":"IFERROR(WORKDAY(N2693,Y2693,Hoja1!F2685:F2801),\"\")","v":""},"",null,"A TIEMPO",9,0,null,null,{"$f":"IFERROR(VLOOKUP(F2693,Hoja1!$A$50:$C$63,2),\"\")","v":10},{"$f":"IFERROR(VLOOKUP(F2693,Hoja1!$A$50:$C$63,3),\"\")","v":10}]
[2684,20259910053084,"2025-03-31","Persona natural","Virtual - Correo electrónico","Solicitud de documentos o información","Administrativa",null,"Oficina Asesora Jurídica","2025-04-04","Correo electrónico","2025-04-14",null,"",null,{"$f":"IFERROR(WORKDAY(N2694,Y2694,Hoja1!F2686:F2802),\"\")","v":""},"",null,"A TIEMPO",4,0,null,null,{"$f":"IFERROR(VLOOKUP(F2694,Hoja1!$A$50:$C$63,2),\"\")","v":5},{"$f":"IFERROR(VLOOKUP(F2694,Hoja1!$A$50:$C$63,3),\"\")","v":5}]
[2685,20259910053184,"2025-03-31","Persona jurídica","Virtual - Correo electrónico","Solicitud de documentos o información","Registros ambientales",null,"Subdirección de Estudios Ambientales","2025-04-14","Correo electrónico","2025-04-14",null,"",null,{"$f":"IFERROR(WORKDAY(N2695,Y2695,Hoja1!F2687:F2803),\"\")","v":""},"",null,"A TIEMPO",10,0,null,null,{"$f":"IFERROR(VLOOKUP(F2695,Hoja1!$A$50:$C$63,2),\"\")","v":5},{"$f":"IFERROR(VLOOKUP(F2695,Hoja1!$A$50:$C$63,3),\"\")","v":5}]
[2686,20259910053194,"2025-03-31","Persona jurídica","Virtual - Correo electrónico","Solicitud de documentos o información","Registros ambientales",null,"Subdirección de Estudios Ambientales","2025-04-03","Correo electrónico","2025-04-14",null,"",null,{"$f":"IFERROR(WORKDAY(N2696,Y2696,Hoja1!F2688:F2804),\"\")","v":""},"",null,"A TIEMPO",3,0,null,null,{"$f":"IFERROR(VLOOKUP(F2696,Hoja1!$A$50:$C$63,2),\"\")","v":5},{"$f":"IFERROR(VLOOKUP(F2696,Hoja1!$A$50:$C$63,3),\"\")","v":5}]
[2687,20259910053204,"2025-03-31","Persona jurídica","Virtual - Correo electrónico","Solicitud de documentos o información","Registros ambientales",null,"Subdirección de Estudios Ambientales","2025-04-14","Correo electrónico","2025-04-14",null,"",null,{"$f":"IFERROR(WORKDAY(N2697,Y2697,Hoja1!F2689:F2805),\"\")","v":""},"",null,"A TIEMPO",10,0,null,null,{"$f":"IFERROR(VLOOKUP(F2697,Hoja1!$A$50:$C$63,2),\"\")","v":5},{"$f":"IFERROR(VLOOKUP(F2697,Hoja1!$A$50:$C$63,3),\"\")","v":5}]
[2688,20259050053214,"2025-03-31","Persona jurídica","Virtual - Formulario PQRSDF","Petición entre autoridades","Solicitud de información hidrometeorológica",null,"Grupo de Servicio al Ciudadano","2025-04-08","Correo electrónico","2025-04-14",null,"",null,{"$f":"IFERROR(WORKDAY(N2698,Y2698,Hoja1!F2690:F2806),\"\")","v":""},{"$f":"+IF(N2698=\"\",\"\",IF(O2698=\"\",\"SIN RESPUESTA\",(IF(O2698<=P2698,\"A TIEMPO\",\"FUERA DE TIEMPO\"))))","v":""},null,"A TIEMPO",6,0,null,null,{"$f":"IFERROR(VLOOKUP(F2698,Hoja1!$A$50:$C$63,2),\"\")","v":10},{"$f":"IFERROR(VLOOKUP(F2698,Hoja1!$A$50:$C$63,3),\"\")","v":10}]
[2689,20259050053224,"2025-03-31","Persona natural","Virtual - Formulario PQRSDF","Solicitud de documentos o información","Solicitud de información hidrometeorológica",null,"Grupo de Servicio al Ciudadano","2025-04-08","Correo electrónico","2025-04-14",null,"",null,{"$f":"IFERROR(WORKDAY(N2699,Y2699,Hoja1!F2691:F2807),\"\")","v":""},"",null,"A TIEMPO",6,0,null,null,{"$f":"IFERROR(VLOOKUP(F2699,Hoja1!$A$50:$C$63,2),\"\")","v":5},{"$f":"IFERROR(VLOOKUP(F2699,Hoja1!$A$50:$C$63,3),\"\")","v":5}]
[2690,20259910053524,"2025-03-31","Persona jurídica","Virtual - Correo electrónico","Solicitud de documentos o información","Registros ambientales",null,"Subdirección de Estudios Ambientales","2025-04-14","Correo electrónico","2025-04-14",null,"",null,{"$f":"IFERROR(WORKDAY(N2700,Y2700,Hoja1!F2692:F2808),\"\")","v":""},"",null,"A TIEMPO",10,0,null,null,{"$f":"IFERROR(VLOOKUP(F2700,Hoja1!$A$50:$C$63,2),\"\")","v":5},{"$f":"IFERROR(VLOOKUP(F2700,Hoja1!$A$50:$C$63,3),\"\")","v":5}]
[2691,20259910053264,"2025-03-31","Persona jurídica","Virtual - Correo electrónico","Petición entre entidades","Registros ambientales",null,"Subdirección de Estudios Ambientales","2025-04-07","Correo electrónico","2025-04-14",null,"",null,{"$f":"IFERROR(WORKDAY(N2701,Y2701,Hoja1!F2693:F2809),\"\")","v":""},"",null,"A TIEMPO",5,0,null,null,{"$f":"IFERROR(VLOOKUP(F2701,Hoja1!$A$50:$C$63,2),\"\")","v":10},{"$f":"IFERROR(VLOOKUP(F2701,Hoja1!$A$50:$C$63,3),\"\")","v":10}]
[2692,20259910053294,"2025-03-31","Persona jurídica","Virtual - Correo electrónico","Solicitud de bienes y/o servicios","Sistema de información del recurso hídrico",null,"Grupo de Servicio al Ciudadano","2025-04-08","Correo electrónico","2025-04-23",null,"",null,{"$f":"IFERROR(WORKDAY(N2702,Y2702,Hoja1!F2694:F2810),\"\")","v":""},"",null,"A TIEMPO",6,0,null,null,{"$f":"IFERROR(VLOOKUP(F2702,Hoja1!$A$50:$C$63,2),\"\")","v":5},{"$f":"IFERROR(VLOOKUP(F2702,Hoja1!$A$50:$C$63,3),\"\")","v":5}]
[2693,20259910053314,"2025-03-31","Persona natural","Virtual - Correo electrónico","Solicitud de documentos o información","Registros ambientales",null,"Subdirección de Estudios Ambientales","2025-04-14","Correo electrónico","2025-04-14",null,"",null,{"$f":"IFERROR(WORKDAY(N2703,Y2703,Hoja1!F2695:F2811),\"\")","v":""},"",null,"A TIEMPO",10,0,null,null,{"$f":"IFERROR(VLOOKUP(F2703,Hoja1!$A$50:$C$63,2),\"\")","v":5},{"$f":"IFERROR(VLOOKUP(F2703,Hoja1!$A$50:$C$63,3),\"\")","v":5}]
[2694,20259910053334,"2025-03-31","Persona jurídica","Virtual - Correo electrónico","Solicitud judicial","Administrativa",null,"Oficina Asesora de Planeación","2025-04-08","Correo electrónico","2025-04-07",null,"",null,{"$f":"IFERROR(WORKDAY(N2704,Y2704,Hoja1!F2696:F2812),\"\")","v":""},"",null,{"$f":"+IF(C2704=\"\",\"\",IF(J2704=\"\",\"SIN RESPUESTA\",(IF(J2704<=L2704,\"A TIEMPO\",\"FUERA DE TIEMPO\"))))","v":"FUERA DE TIEMPO"},6,1,null,null,{"$f":"IFERROR(VLOOKUP(F2704,Hoja1!$A$50:$C$63,2),\"\")","v":5},{"$f":"IFERROR(VLOOKUP(F2704,Hoja1!$A$50:$C$63,3),\"\")","v":5}]
[{"$f":"IF(B2705<>\"\",A2704+1,\"\")","v":2695},20259910053354,"2025-03-31","Persona jurídica","Virtual - Correo electrónico","Solicitud de documentos o información","Registros ambientales",null,"Subdirección de Estudios Ambientales","2025-04-14","Correo electrónico","2025-04-14",null,"",null,{"$f":"IFERROR(WORKDAY(N2705,Y2705,Hoja1!F2697:F2813),\"\")","v":""},"",null,"A TIEMPO",10,0,null,null,{"$f":"IFERROR(VLOOKUP(F2705,Hoja1!$A$50:$C$63,2),\"\")","v":5},{"$f":"IFERROR(VLOOKUP(F2705,Hoja1!$A$50:$C$63,3),\"\")","v":5}]
[2696,20259910053494,"2025-03-31","Persona jurídica","Virtual - Correo electrónico","Solicitud de documentos o información","Registros ambientales",null,"Subdirección de Estudios Ambientales","2025-04-14","Correo electrónico","2025-04-14",null,"",null,{"$f":"IFERROR(WORKDAY(N2706,Y2706,Hoja1!F2698:F2814),\"\")","v":""},"",null,"A TIEMPO",10,0,null,null,{"$f":"IFERROR(VLOOKUP(F2706,Hoja1!$A$50:$C$63,2),\"\")","v":5},{"$f":"IFERROR(VLOOKUP(F2706,Hoja1!$A$50:$C$63,3),\"\")","v":5}]
[2697,20259910053384,"2025-03-31","Persona jurídica","Virtual - Correo electrónico","Petición entre autoridades","Bosques",null,"Subdirección de Ecosistemas e Información Ambiental","2025-04-11","Correo electrónico","2025-04-14",null,"",null,{"$f":"IFERROR(WORKDAY(N2707,Y2707,Hoja1!F2699:F2815),\"\")","v":""},"",null,"A TIEMPO",9,0,null,null,{"$f":"IFERROR(VLOOKUP(F2707,Hoja1!$A$50:$C$63,2),\"\")","v":10},{"$f":"IFERROR(VLOOKUP(F2707,Hoja1!$A$50:$C$63,3),\"\")","v":10}]
[2698,20259910053424,"2025-03-31","Persona jurídica","Virtual - Correo electrónico","Solicitud judicial","Certificaciones del tiempo y clima",null,"Subdirección de Meteorología","2025-04-04","Correo electrónico","2025-04-07",null,"",null,{"$f":"IFERROR(WORKDAY(N2708,Y2708,Hoja1!F2700:F2816),\"\")","v":""},"",null,"A TIEMPO",4,0,null,null,{"$f":"IFERROR(VLOOKUP(F2708,Hoja1!$A$50:$C$63,2),\"\")","v":5},{"$f":"IFERROR(VLOOKUP(F2708,Hoja1!$A$50:$C$63,3),\"\")","v":5}]
[2699,20259910053474,"2025-03-31","Persona jurídica","Virtual - Correo electrónico","Petición entre autoridades","Bosques",null,"Subdirección de Ecosistemas e Información Ambiental","2025-04-04","Correo electrónico","2025-04-14",null,"",null,{"$f":"IFERROR(WORKDAY(N2709,Y2709,Hoja1!F2701:F2817),\"\")","v":""},"",null,"A TIEMPO",4,0,null,null,{"$f":"IFERROR(VLOOKUP(F2709,Hoja1!$A$50:$C$63,2),\"\")","v":10},{"$f":"IFERROR(VLOOKUP(F2709,Hoja1!$A$50:$C$63,3),\"\")","v":10}]
[2700,20259910053404,"2025-03-31","Persona jurídica","Virtual - Correo electrónico","Petición entre autoridades","Bosques",null,"Subdirección de Ecosistemas e Información Ambiental","2025-04-07","Correo electrónico","2025-04-14",null,"",null,{"$f":"IFERROR(WORKDAY(N2710,Y2710,Hoja1!F2702:F2818),\"\")","v":""},"",null,"A TIEMPO",5,0,null,null,{"$f":"IFERROR(VLOOKUP(F2710,Hoja1!$A$50:$C$63,2),\"\")","v":10},{"$f":"IFERROR(VLOOKUP(F2710,Hoja1!$A$50:$C$63,3),\"\")","v":10}]
[2701,20259910053534,"2025-03-31","Persona natural","Virtual - Correo electrónico","Solicitud de documentos o información","Solicitud de información hidrometeorológica",null,"Subdirección de Meteorología","2025-04-07","Correo electrónico","2025-04-14",null,"",null,{"$f":"IFERROR(WORKDAY(N2711,Y2711,Hoja1!F2703:F2819),\"\")","v":""},"",null,"A TIEMPO",5,0,null,null,{"$f":"IFERROR(VLOOKUP(F2711,Hoja1!$A$50:$C$63,2),\"\")","v":5},{"$f":"IFERROR(VLOOKUP(F2711,Hoja1!$A$50:$C$63,3),\"\")","v":5}]

{"sheet":"Control de cambios ","index":2,"n_rows":7,"n_cols":8,"rows_kept":7,"cut":false,"hidden":false,"merged":[[4,2,4,8],[5,2,5,8],[6,2,6,8],[0,0,2,1],[0,2,1,6],[0,7,0,8],[1,7,1,8],[2,2,2,6],[2,7,2,8]]}
[null,null,"Proceso: Gestión del Servicio al Ciudadano",null,null,null,null,"Código: SGC-F012"]
[null,null,null,null,null,null,null,"Versión: 04"]
[null,null,"Seguimiento y control PQRSDF",null,null,null,null,"Vigencia: 12/09/2024"]
["CONTROL DE CAMBIOS"]
["Versión","Fecha","Cambios Realizados "]
[3,"2022-05-11","Modificación del formato"]
[4,"2024-09-12","Modificación del formato.  \nModificación de código, colores y accesibilidad según el  SGI-P001 Procedimiento para la elaboración y control de documentos"]